{"text_format":"1","workbook":"xlsx","n_sheets":115,"sheets":["PRESENTACION","ESTADÍSTICAS BÁSICAS","PRIMERA INFANCIA E INICIAL "," II-1.1.1","II-1.1.2","II-1.2.1","II-1.2.2","II-1.2.3","II-1.2.4","II-1.2.5","II-1.2.6","II-1.2.7","II-1.3.1","II-1.3.2","II-1.3.3 "," PRIMARIA ","II-2.1.1"," II-2.1.2","II-2.1.3","II-2.1.4","II-2.2.1","II-2.2.2","II-2.2.3","II-2.2.4","II-2.2.5","II-2.2.6","II-2.2.7","II-2.2.8","II-2.2.9","II-2.2.10","II-2.2.11","II-2.2.12","II-2.2.13","II-2.2.14","II-2.2.15","II-2.2.16","II-2.2.17","II-2.2.18","II-2.3.1 ","II-2.3.2 ","MEDIA BASICA ","II-3.1.1 ","II-3.1.2 ","II-3.2.1","II-3.2.2","II-3.2.3","II-3.2.4","II-3.2.5","II-3.2.6","II-3.2.7","II-3.2.8 ","II-3.3.1","II-3.3.2","II-3.4.1","MEDIA SUPERIOR ","II-4.1.1 ","II-4.2.1","II-4.2.2 ","II-4.2.3 ","II-4.2.4 ","II-4.2.5","II-4.2.6","II-4.2.7","II-4.2.8","II-4.2.9","II-4.2.10","II-4.2.11","II-4.3.1","II-4.3.2","II-4.4.1","TERCIARIA NO UNIVERSITARIA","II-5.1.1  ","II-5.2.1","II-5.2.2","II-5.3.1","II-5.3.2","FORMACIÓN EN EDUCACIÓN  ","II-6.1.1","II-6.2.1","II-6.2.2","II-6.3.1","II-6.3.2","II-6.3.3","EDUCACIÓN UNIVERSITARIA","II-7.1.1  ","II-7.2.2 ","II-7.2.3 ","II-7.2.4","II-7.2.5","II-7.2.6 ","II-7.2.7 ","II-7.2.8 ","II-7.2.9","II-7.2.10 ","II-7.2.11 ","EDUCACIÓN DE JÓVENES Y ADUL "," II-8.1.1"," II-8.1.2","II-8.1.3","II-8.1.4","II-8.1.5.","II-8.1.6","II-8.1.7","II-8.1.8","II-8.1.9 ","II-8.1.10","II-8.2.1","ll-8.2.2","II-8.3.1  ","II-8.4.1  ","II-8.4.2 ","CONTROL","CONTROL ","CONTROL Media Básica","CONTROL Media Superior"],"not_rendered":{"charts":0,"images":10,"macros":1,"external_links":1,"defined_names":465,"comments":0,"pivot_tables":0},"unopened":[],"bounds":{"document_bytes":16777216,"sheet_cells":100000,"rows_first":2000,"rows_last":500,"rows_between":2000,"halvings":0,"cell_chars":16384,"cell_head_chars":4096},"cells_cut":0,"cells_raw":0,"read":"whole","date_system":"1900"}

{"sheet":"PRESENTACION","index":0,"n_rows":31,"n_cols":7,"rows_kept":31,"cut":false,"hidden":false,"merged":[[19,0,19,2],[20,0,20,2],[26,0,26,2],[21,0,21,2],[22,0,22,2],[23,0,23,2],[24,0,24,2],[25,0,25,2],[16,0,16,2],[16,4,17,6],[18,4,18,6],[17,0,17,2],[18,0,18,2]]}
[]
[]
[]
[]
[]
[]
[]
[]
[]
[]
[]
[]
[]
[]
[]
[]
["Autoridades:",null,null,null,"Esta publicación ha sido elaborada por los Integrantes del Departamento de Estadística Educativa y de las Secciones de Reportes Internacionales e Investigación Educativa de la División de  Investigación y Estadística de la Dirección de Educación:"]
["Dr. Tabaré Vázquez"]
["Presidente de la República",null,null,null,"Mag. Gabriel Gómez (Director) "]
["Dra. María Julia Muñoz",null,null,null,"Departamento de Investigación Educativa ",null,"Departamento de Estadística Educativa"]
["Ministra de Educación y Cultura",null,null,null,"Mag. Leandro Pereira (Encargado) ",null,"Lic. Daniel Zoppis (Encargado) "]
["Mag. Edith Moraes",null,null,null,"Lic. Paola Cazulo ",null,"Lic. Mariana Yozzi "]
["Subsecretaria de Educación y Cultura",null,null,null,"Lic. Daniel Velázquez ",null,"Departamento de Reportes Internacionales"]
["Dra. Ana Gabriela González Gargano",null,null,null,"Mag. Richard Ferreira ",null,"Lic. Carla Orós (Encargada) "]
["Directora General de Secretaría",null,null,null,"Departamento de Comunicación y Publicaciones: ",null,"Lic. Daniel Manber"]
["Mag. Rosita Inés Angelo",null,null,null,"Nathalia Ascué (Encargada)"]
["Directora de Educación",null,null,null,"Corrección :",null,"Pilar Barreiro"]
[]
[null,null,null,null,null,null,"Departamento de Comunicación "]
[null,null,null,null,null,null,"y Publicaciones"]
[null,null,null,null,null,null,"Nathalia Ascué (Encargada)"]

{"sheet":"ESTADÍSTICAS BÁSICAS","index":1,"n_rows":16,"n_cols":6,"rows_kept":16,"cut":false,"hidden":false,"merged":[[15,5,15,7],[2,1,4,7],[11,2,11,3],[13,2,13,3],[15,2,15,3],[9,2,9,4],[9,5,9,7],[11,5,11,7],[13,5,13,7]]}
[]
[]
[null,"ESTADÍSTICAS BÁSICAS"]
[]
[]
[]
[]
[]
[]
[null,null,"PRIMERA INFANCIA E INICIAL",null,null,"TERCIARIA NO UNIVERSITARIA"]
[]
[null,null,"PRIMARIA",null,null,"FORMACIÓN EN EDUCACIÓN"]
[]
[null,null,"MEDIA BÁSICA",null,null,"EDUCACIÓN UNIVERSITARIA"]
[]
[null,null,"MEDIA SUPERIOR",null,null,"EDUCACIÓN DE JÓVENES Y ADULTOS"]

{"sheet":"PRIMERA INFANCIA E INICIAL ","index":2,"n_rows":33,"n_cols":2,"rows_kept":33,"cut":false,"hidden":false,"merged":[]}
[]
[]
[]
[]
[]
[]
[null,"ESTABLECIMIENTOS"]
["Cuadro Nº II-1.1.1  ","CANTIDAD DE ESTABLECIMIENTOS DE EDUCACIÓN EN LA PRIMERA INFANCIA E INICIAL DEL CEIP POR FORMA DE ADMINISTRACIÓN Y MODALIDAD SEGÚN DEPARTAMENTO. AÑO 2015"]
[""]
["Cuadro Nº  II-1.1.2 ","CANTIDAD DE ESTABLECIMIENTOS DE PRIMERA INFANCIA E INICIAL DEL MEC E INAU POR FORMA DE ADMINISTRACIÓN SEGÚN DEPARTAMENTO. AÑO 2015. "]
[""]
[""]
["Cuadro Nº II-1.2.1  ","ALUMNOS MATRICULADOS EN EDUCACIÓN EN LA PRIMERA INFANCIA E INICIAL POR FORMA DE ADMINISTRACIÓN, MODALIDAD Y SEXO SEGÚN DEPARTAMENTO. AÑO 2015."]
[""]
["Cuadro Nº II-1.2.2  ","ALUMNOS MATRICULADOS EN EDUCACIÓN PÚBLICA EN LA PRIMERA INFANCIA E INICIAL DEL CEIP POR  MODALIDAD Y EDAD SEGÚN DEPARTAMENTO. AÑO 2015."]
[""]
["Cuadro Nº II-1.2.3  "," ALUMNOS MATRICULADOS EN EDUCACIÓN EN LA PRIMERA INFANCIA E INICIAL PRIVADA POR MODALIDAD Y NIVEL SEGÚN DEPARTAMENTO. AÑO 2015."]
[""]
["Cuadro Nº II-1.2.4  ","ALUMNOS MATRICULADOS EN EDUCACIÓN EN LA PRIMERA INFANCIA E INICIAL  POR FORMA DE ADMINISTRACIÓN Y SEXO SEGÚN DEPARTAMENTO. AÑO 2015."]
[""]
["Cuadro Nº II-1.2.5  "," ALUMNOS MATRICULADOS EN EDUCACIÓN EN LA PRIMERA INFANCIA E INICIAL  POR FORMA DE ADMINISTRACIÓN SEGÚN EDAD. AÑO 2015."]
[""]
["Cuadro Nº II-1.2.6  "," ALUMNOS MATRICULADOS EN EDUCACIÓN EN LA PRIMERA INFANCIA E INICIAL PÚBLICA DEL CEIP POR ÁREA DEMOGRÁFICA SEGÚN DEPARTAMENTO. AÑO 2015."]
[""]
["Cuadro Nº II-1.2.7  "," ALUMNOS MATRICULADOS EN EDUCACIÓN EN LA PRIMERA INFANCIA E INICIAL  EN CENTROS PRIVADOS HABILITADOS POR EL MEC POR EDAD SEGÚN DEPARTAMENTO. AÑO 2015."]
[""]
[""]
["Cuadro Nº II-1.3.1  "," PERSONAL DOCENTE DE EDUCACIÓN EN LA PRIMERA INFANCIA E INICIAL  PÚBLICA DEL CEIP SEGÚN DEPARTAMENTO. AÑO 2015."]
[""]
["Cuadro Nº II-1.3.2  ","PERSONAL DOCENTE DE EDUCACIÓN EN LA PRIMERA INFANCIA E INICIAL PRIVADA SEGÚN DEPARTAMENTO. AÑO 2015."]
[""]
["Cuadro Nº II-1.3.3  "," PERSONAL DOCENTE EN EDUCACIÓN EN LA PRIMERA INFANCIA PRIVADA SUPERVISADA POR EL MEC SEGÚN FUNCIÓN Y DEPARTAMENTO. AÑO 2015.   "]
[""]

{"sheet":" II-1.1.1","index":3,"n_rows":35,"n_cols":9,"rows_kept":35,"cut":false,"hidden":false,"merged":[[7,7,9,7],[7,8,9,8],[0,6,1,8],[4,0,4,8],[5,0,9,0],[5,1,9,1],[5,2,5,8],[6,2,6,6],[7,2,9,2],[7,3,9,3],[7,5,9,5],[7,6,9,6],[7,4,9,4]]}
["CONSEJO DE EDUCACIÓN INICIAL Y PRIMARIA",null,null,null,null,null,"ESTABLECIMIENTOS"]
[]
["Cuadro Nº II-1.1.1",null,null,null,null,null,null,null,"VOLVER"]
[]
["CANTIDAD DE ESTABLECIMIENTOS DE EDUCACIÓN EN LA PRIMERA INFANCIA E INICIAL DEL CEIP POR FORMA DE ADMINISTRACIÓN Y MODALIDAD SEGÚN DEPARTAMENTO. AÑO 2015."]
["DEPARTAMENTO","TOTAL","FORMA DE ADMINISTRACIÓN"]
[null,null,"PÚBLICA",null,null,null,null,null,"PRIVADA"]
[null,null,"Total Público","Jardines de Infantes","Aprender","JICI","CEPI*","Jardines de Tiempo Completo","Jardines de Infantes"]
[]
[]
["TOTAL",{"$f":"+B12+B13","v":243},{"$f":"+C12+C13","v":191},{"$f":"SUM(D12:D13)","v":121},{"$f":"E12+E13","v":10},{"$f":"SUM(F12:F13)","v":6},{"$f":"SUM(G12:G13)","v":1},{"$f":"SUM(H12:H13)","v":53},{"$f":"SUM(I12:I13)","v":52}]
["MONTEVIDEO",{"$f":"+C12+I12","v":94},{"$f":"+D12++E12+F12+G12+H12","v":64},37,5,3,1,18,30]
["RESTO DEL PAÍS",{"$f":"+C13+I13","v":149},{"$f":"+D13+E13+F13+G13+H13","v":127},{"$f":"SUM(D15:D32)","v":84},5,3,0,35,22]
[]
["Artigas",{"$f":"+C15+I15","v":3},{"$f":"+D15+E15+F15+G15+H15","v":3},2,1,0,0,0,0]
["Canelones",{"$f":"+C16+I16","v":39},{"$f":"+D16+E16+F16+G16+H16","v":33},25,2,1,0,5,6]
["Cerro Largo",8,7,2,1,1,0,3,1]
["Colonia",7,6,6,0,0,0,0,1]
["Durazno",5,5,3,0,0,0,2,0]
["Flores",2,2,1,0,0,0,1,0]
["Florida",5,4,2,0,0,0,2,1]
["Lavalleja",7,7,5,0,0,0,2,0]
["Maldonado",10,7,7,0,0,0,0,3]
["Paysandú",5,4,2,0,0,0,2,1]
["Río Negro",6,6,3,0,0,0,3,0]
["Rivera",7,7,3,0,0,0,4,0]
["Rocha",7,7,5,0,0,0,2,0]
["Salto",9,4,3,0,0,0,1,5]
["San José",7,6,4,1,0,0,1,1]
["Soriano",6,5,4,0,0,0,1,1]
["Tacuarembó",{"$f":"+C31+I31","v":11},9,6,0,0,0,3,2]
["Treinta y Tres",{"$f":"+C32+I32","v":5},5,1,0,1,0,3,0]
["Fuente: Procesamiento propio en base a datos proporcionados por el D.E.E. — C.E.I.P."]
["Nota: * Centro Educativo de Primera Infancia.  Refiere a Guarderias en Anuarios Anteriores. "]
["           Privados habilitados y supervisados por ANEP"]

{"sheet":"II-1.1.2","index":4,"n_rows":36,"n_cols":5,"rows_kept":36,"cut":false,"hidden":false,"merged":[[0,4,1,5],[1,0,1,2],[5,0,5,4],[6,0,9,0],[6,2,6,4],[7,1,9,1],[7,2,9,2],[7,3,9,3],[7,4,9,4]]}
["MINISTERIO DE EDUCACIÓN Y CULTURA",null,null,null,"Establecimientos"]
["Dirección de Educación "]
[]
["Cuadro Nº  II-1.1.2"]
[]
["CANTIDAD DE ESTABLECIMIENTOS DE PRIMERA INFANCIA E INICIAL DEL MEC E INAU POR FORMA DE ADMINISTRACIÓN SEGÚN DEPARTAMENTO. AÑO 2015."]
["DEPARTAMENTO"]
[null,"TOTAL","CAIF","DIURNOS-INAU","PRIVADOS"]
[]
[]
["TOTAL",{"$f":"C11+D11+E11","v":829},{"$f":"C12+C13","v":390},{"$f":"D12+D13","v":37},{"$f":"E12+E13","v":402}]
["MONTEVIDEO",330,80,9,241]
["RESTO DEL PAÍS",{"$f":"C13+D13+E13","v":499},{"$f":"SUM(C15:C32)","v":310},{"$f":"SUM(D15:D32)","v":28},{"$f":"SUM(E15:E32)","v":161}]
[]
["Artigas",{"$f":"C15+D15+E15","v":20},16,2,2]
["Canelones",129,62,2,65]
["Cerro Largo",22,19,1,2]
["Colonia",29,13,2,14]
["Durazno",19,15,2,2]
["Flores",7,5,1,1]
["Florida",30,20,2,8]
["Lavalleja",13,6,2,5]
["Maldonado",31,12,2,17]
["Paysandú",32,24,1,7]
["Río Negro",15,12,1,2]
["Rivera",23,15,1,7]
["Rocha",20,14,1,5]
["Salto",30,22,1,7]
["San José",21,13,2,6]
["Soriano",25,14,2,9]
["Tacuarembó",20,16,2,2]
["Treinta y Tres",13,12,1,0]
["Fuente: Procesamiento propio en base a datos proporcionados por:"]
["Registro Nacional de Centros Educativos en la Primera Infancia. MEC"]
["Nota:  Privados supervisados por el MEC"]
["Para CAIF Y CENTROS DIURNOS: SIPI de INAU."]

{"sheet":"II-1.2.1","index":5,"n_rows":37,"n_cols":20,"rows_kept":37,"cut":false,"hidden":false,"merged":[[7,16,7,17],[7,18,7,19],[8,16,8,17],[8,18,8,19],[0,16,1,19],[4,0,4,19],[5,0,8,0],[5,1,5,19],[6,1,7,3],[6,4,6,14],[6,15,6,19],[7,4,9,4],[7,5,7,6],[7,7,7,8],[8,13,8,14],[7,9,7,10],[7,11,7,12],[7,13,7,14],[7,15,9,15],[8,1,9,1],[8,2,8,3],[8,5,8,6],[8,7,8,8],[8,11,8,12]]}
["CONSEJO DE EDUCACIÓN INICIAL Y PRIMARIA",null,null,null,null,null,null,null,null,null,null,null,null,null,null,null,"ALUMNOS MATRICULADOS"]
[]
["Cuadro Nº II-1.2.1"]
[]
["ALUMNOS MATRICULADOS EN EDUCACIÓN EN LA PRIMERA INFANCIA E INICIAL POR FORMA DE ADMINISTRACIÓN, MODALIDAD Y SEXO SEGÚN DEPARTAMENTO. AÑO 2015."]
["DEPARTAMENTO","FORMA DE ADMINISTRACIÓN"]
[null,"TOTAL",null,null,"PÚBLICA",null,null,null,null,null,null,null,null,null,null,"PRIVADA"]
[null,null,null,null,"Total Público","Inicial en Escuelas*",null,"Jardines de Infantes",null,"Jardín Aprender",null,"JICI**",null,"CEPI***",null,"Total Privada","Jardines de Infantes",null,"Inicial en Colegios"]
[null,"TOTAL","SEXO",null,null,"SEXO",null,"SEXO",null,null,null,"SEXO",null,"SEXO",null,null,"SEXO",null,"SEXO"]
[null,null,"M","F",null,"M","F","M","F","M","F","M","F","M","F",null,"M","F","M","F"]
["TOTAL",{"$f":"+B12+B13","v":112917},{"$f":"+C12+C13","v":50884},{"$f":"+D12+D13","v":48992},{"$f":"+E12+E13","v":82982},{"$f":"F12+F13","v":24140},{"$f":"G12+G13","v":23168},{"$f":"+H12+H13","v":16197},{"$f":"I12+I13","v":15454},{"$f":"J13+J12","v":1144},{"$f":"K12+K13","v":1158},{"$f":"L12+L13","v":760},{"$f":"M12+M13","v":773},{"$f":"+N12+N13","v":94},{"$f":"O12+O13","v":94},{"$f":"+P12+P13","v":29935},{"$f":"+Q12+Q13","v":2462},{"$f":"+R12+R13","v":2450},{"$f":"+S12+S13","v":12602},{"$f":"+T12+T13","v":12421}]
["MONTEVIDEO",{"$f":"E12+P12","v":43691},{"$f":"+F12+H12+L12+N12+Q12+S12","v":21661},{"$f":"+G12+I12+M12+O12+R12+T12","v":20769},{"$f":"SUM(F12:O12)","v":25536},6028,5744,5936,5524,620,641,434,421,94,94,{"$f":"+Q12+R12+S12+T12","v":18155},1592,1527,7577,7459]
["RESTO DEL PAÍS",{"$f":"SUM(B15:B32)","v":69226},29223,28223,{"$f":"SUM(F13:O13)","v":57446},{"$f":"SUM(F15:F32)","v":18112},17424,10261,9930,524,517,326,{"$f":"SUM(M15:M32)","v":352},0,0,11780,{"$f":"SUM(Q15:Q32)","v":870},{"$f":"SUM(R15:R32)","v":923},5025,4962]
[]
["Artigas",{"$f":"E15+P15","v":2628},{"$f":"F15+H15+J15+L15+N15","v":1255},{"$f":"G15+I15+K15+M15+O15","v":1185},{"$f":"SUM(F15:O15)","v":2440},938,881,239,225,78,79,0,0,0,0,{"$f":"+Q15+R15+S15+T15","v":188},0,0,81,107]
["Canelones",{"$f":"E16+P16","v":17360},{"$f":"F16+H16+J16+L16+N16","v":6921},{"$f":"G16+I16+K16+M16","v":6724},{"$f":"SUM(F16:O16)","v":13645},3549,3440,3068,2955,215,206,89,123,0,0,3715,296,302,1619,1498]
["Cerro Largo",2909,1382,{"$f":"G17+I17+K17+M17+O17","v":1209},{"$f":"SUM(F17:O17)","v":2591},837,726,296,238,140,134,109,111,0,0,318,40,43,110,125]
["Colonia",4370,1866,{"$f":"G18+I18+K18+M18","v":1861},{"$f":"SUM(F18:O18)","v":3727},1285,1324,581,537,0,0,0,0,0,0,643,75,67,242,259]
["Durazno",1892,847,809,1656,556,526,291,283,0,0,0,0,0,0,236,0,0,125,111]
["Flores",820,339,{"$f":"G20+I20+K20+M20","v":340},679,226,248,113,92,0,0,0,0,0,0,141,0,0,68,73]
["Florida",1960,941,877,1818,629,592,312,285,0,0,0,0,0,0,142,10,11,62,59]
["Lavalleja",1919,775,{"$f":"G22+I22+K22+M22","v":806},1581,360,371,415,435,0,0,0,0,0,0,338,0,0,171,167]
["Maldonado",6101,2066,2101,4167,1289,1309,777,792,0,0,0,0,0,0,1934,98,100,863,873]
["Paysandú",3945,1692,{"$f":"G24+I24+K24+M24","v":1680},3372,1312,1298,380,382,0,0,0,0,0,0,573,59,67,239,208]
["Río Negro",2227,972,953,1925,472,481,500,472,0,0,0,0,0,0,302,0,0,170,132]
["Rivera",3829,1720,{"$f":"G26+I26+K26+M26","v":1721},3441,1148,1119,572,602,0,0,0,0,0,0,388,0,0,193,195]
["Rocha",2551,1167,1084,2251,653,603,514,481,0,0,0,0,0,0,300,0,0,158,142]
["Salto",5280,2188,{"$f":"G28+I28+K28+M28","v":2051},4239,1639,1520,549,531,0,0,0,0,0,0,1041,154,146,367,374]
["San José",3761,1636,1537,3173,1089,1003,456,436,91,98,0,0,0,0,588,69,85,211,223]
["Soriano",2738,1286,{"$f":"G30+I30+K30+M30","v":1171},2457,913,793,373,378,0,0,0,0,0,0,281,17,22,99,143]
["Tacuarembó",3310,1378,1389,2767,794,826,584,563,0,0,0,0,0,0,543,52,80,190,221]
["Treinta y Tres",1626,792,{"$f":"G32+I32+K32+M32","v":725},1517,423,364,241,243,0,0,128,118,0,0,109,0,0,57,52]
["Fuente: Procesamiento propio en base a datos proporcionados por el D.E.E. — C.E.I.P."]
["Privados habilitados o autorizados por ANEP"]
["* Refiere a Clases Jardineras en Anuarios Anteriores. "]
["** Jardines de Infantes con Ciclo Inicial."]
["*** Centro Educativo de Primera Infancia.  Refiere a Guarderías en Anuarios Anteriores. "]

{"sheet":"II-1.2.2","index":6,"n_rows":36,"n_cols":24,"rows_kept":36,"cut":false,"hidden":false,"merged":[[5,0,8,0],[0,15,1,22],[4,0,4,23],[5,1,5,23],[6,1,8,1],[6,2,6,4],[6,6,6,9],[6,11,6,14],[6,15,6,18],[6,20,6,23],[7,2,7,4],[7,6,7,9],[7,11,7,14],[7,15,7,18],[7,20,7,23]]}
["CONSEJO DE EDUCACIÓN INICIAL Y PRIMARIA",null,null,null,null,null,null,null,null,null,null,null,null,null,null,"ALUMNOS MATRICULADOS"]
[]
["Cuadro Nº II-1.2.2"]
[null,null,null,null,null,null,null,null,null,null,null,null,null,null,null,null,null,null,"VOLVER"]
["ALUMNOS MATRICULADOS EN EDUCACIÓN PÚBLICA EN LA PRIMERA INFANCIA E INICIAL DEL CEIP POR  MODALIDAD Y EDAD SEGÚN DEPARTAMENTO. AÑO 2015."]
["DEPARTAMENTO","PÚBLICA"]
[null,"Total Público","Inicial en Escuelas*",null,null,null,"Jardines de Infantes**",null,null,null,null,"Jardín Aprender",null,null,null,"JICI***",null,null,null,null,"CEPI****"]
[null,null,"AÑOS",null,null,null,"AÑOS",null,null,null,null,"AÑOS",null,null,null,"AÑOS",null,null,null,null,"AÑOS"]
[null,null,3,4,5,null,"<= 2 ",3,4,5,null,"<= 2 ",3,4,5,"<= 2 ",3,4,5,null,"<= 2 ",3,4,5]
["TOTAL",{"$f":"+B11+B12","v":82982},{"$f":"C11+C12","v":1159},{"$f":"D11+D12","v":21639},{"$f":"E11+E12","v":24510},null,{"$f":"+G11+G12","v":70},{"$f":"H11+H12","v":8591},{"$f":"I11+I12","v":12097},{"$f":"J11+J12","v":10893},null,{"$f":"L12+L11","v":0},{"$f":"M12+M11","v":347},{"$f":"N12+N11","v":993},{"$f":"O12+O11","v":962},{"$f":"P11+P12","v":0},{"$f":"Q11+Q12","v":370},{"$f":"R11+R12","v":594},{"$f":"S11+S12","v":569},null,{"$f":"+U11+U12","v":61},{"$f":"+V11+V12","v":66},{"$f":"+W11+W12","v":61},{"$f":"+X11+X12","v":0}]
["MONTEVIDEO",{"$f":"SUM(C11:X11)","v":25536},137,5262,6373,null,70,2966,4262,4162,null,0,203,542,516,0,200,334,321,null,61,66,61,0]
["RESTO DEL PAÍS",{"$f":"SUM(B14:B31)","v":57446},{"$f":"SUM(C14:C31)","v":1022},{"$f":"SUM(D14:D31)","v":16377},{"$f":"SUM(E14:E31)","v":18137},null,{"$f":"SUM(G14:G31)","v":0},{"$f":"SUM(H14:H31)","v":5625},7835,6731,null,{"$f":"SUM(L14:L31)","v":0},{"$f":"SUM(M14:M31)","v":144},451,446,0,170,{"$f":"SUM(R14:R31)","v":260},{"$f":"SUM(S14:S31)","v":248},null,0,0,0,0]
[]
["Artigas",{"$f":"SUM(C14:X14)","v":2440},18,861,940,null,0,145,164,155,null,0,23,54,80,0,0,0,0,null,0,0,0,0]
["Canelones",{"$f":"SUM(C15:X15)","v":13645},118,3287,3584,null,0,1415,2386,2222,null,0,73,172,176,0,45,89,78,null,0,0,0,0]
["Cerro Largo",2591,81,739,743,null,0,105,225,204,null,0,48,125,101,0,65,76,79,null,0,0,0,0]
["Colonia",3727,150,1213,1246,null,0,388,400,330,null,0,0,0,0,0,0,0,0,null,0,0,0,0]
["Durazno",{"$f":"SUM(C18:X18)","v":1656},53,470,559,null,0,134,231,209,null,0,0,0,0,0,0,0,0,null,0,0,0,0]
["Flores",679,27,209,238,null,0,50,81,74,null,0,0,0,0,0,0,0,0,null,0,0,0,0]
["Florida",1818,3,572,646,null,0,183,260,154,null,0,0,0,0,0,0,0,0,null,0,0,0,0]
["Lavalleja",1581,43,317,371,null,0,252,301,297,null,0,0,0,0,0,0,0,0,null,0,0,0,0]
["Maldonado",4167,6,1183,1409,null,0,503,580,486,null,0,0,0,0,0,0,0,0,null,0,0,0,0]
["Paysandú",3372,188,1216,1206,null,0,209,280,273,null,0,0,0,0,0,0,0,0,null,0,0,0,0]
["Río Negro",1925,9,432,512,null,0,273,368,331,null,0,0,0,0,0,0,0,0,null,0,0,0,0]
["Rivera",3441,35,1017,1215,null,0,324,467,383,null,0,0,0,0,0,0,0,0,null,0,0,0,0]
["Rocha",2251,7,490,759,null,0,278,443,274,null,0,0,0,0,0,0,0,0,null,0,0,0,0]
["Salto",4239,117,1496,1546,null,0,360,420,300,null,0,0,0,0,0,0,0,0,null,0,0,0,0]
["San José",3173,91,1021,980,null,0,250,303,339,null,0,0,100,89,0,0,0,0,null,0,0,0,0]
["Soriano",2457,34,772,900,null,0,260,282,209,null,0,0,0,0,0,0,0,0,null,0,0,0,0]
["Tacuarembó",2767,24,700,896,null,0,370,483,294,null,0,0,0,0,0,0,0,0,null,0,0,0,0]
["Treinta y Tres",1517,18,382,387,null,0,126,161,197,null,0,0,0,0,0,60,95,91,null,0,0,0,0]
["Fuente: Procesamiento propio en base a datos proporcionados por el D.E.E. — C.E.I.P."]
["* Refiere a Clases Jardineras en Anuarios Anteriores. "]
["** Jardines de Infantes incluye Jardines de Infantes comunes y Tiempo Completo. "]
["*** Jardines de Infantes con Ciclo Inicial."]
["**** Centro Educativo de Primera Infancia.  Refiere a Guarderías en Anuarios Anteriores. "]

{"sheet":"II-1.2.3","index":7,"n_rows":34,"n_cols":14,"rows_kept":34,"cut":false,"hidden":false,"merged":[[0,11,1,13],[4,0,4,13],[5,0,9,0],[5,3,5,13],[6,3,6,7],[6,9,6,13],[7,1,9,1],[7,3,7,7],[7,9,7,13],[8,2,9,2],[8,13,9,13],[8,3,9,3],[8,4,9,4],[8,5,9,5],[8,6,9,6],[8,7,9,7],[8,12,9,12],[8,8,9,8],[8,9,9,9],[8,10,9,10],[8,11,9,11]]}
["CONSEJO DE EDUCACIÓN INICIAL Y PRIMARIA",null,null,null,null,null,null,null,null,null,null,"ALUMNOS MATRICULADOS"]
[]
["Cuadro Nº II-1.2.3"]
[]
["ALUMNOS MATRICULADOS EN EDUCACIÓN EN LA PRIMERA INFANCIA E INICIAL PRIVADA POR MODALIDAD Y NIVEL SEGÚN DEPARTAMENTO. AÑO 2015."]
["DEPARTAMENTO",null,null,"MODALIDAD"]
[null,null,null,"JARDINES PRIVADOS",null,null,null,null,null,"INICIAL EN COLEGIOS"]
[null,"TOTAL",null,"NIVEL",null,null,null,null,null,"NIVEL"]
[null,null,"Total","Nursery","2 años","3 años","4 años","5 años","Total","Nursery","2 años","3 años","4 años","5 años"]
[]
["TOTAL",{"$f":"+B12+B13","v":29935},{"$f":"+C12+C13","v":4912},{"$f":"SUM(D12:D13)","v":806},1242,1194,973,697,{"$f":"+I12+I13","v":25023},{"$f":"SUM(J12:J13)","v":1450},{"$f":"SUM(K12:K13)","v":3634},{"$f":"SUM(L12:L13)","v":5077},{"$f":"SUM(M12:M13)","v":6959},{"$f":"SUM(N12:N13)","v":7903}]
["MONTEVIDEO",{"$f":"+C12+I12","v":18155},{"$f":"SUM(D12:H12)","v":3119},565,798,770,566,420,{"$f":"SUM(J12:N12)","v":15036},898,2014,2970,4237,4917]
["RESTO DEL PAÍS",{"$f":"SUM(B15:B32)","v":11780},{"$f":"SUM(C15:C32)","v":1793},241,444,424,407,277,9987,552,1620,2107,2722,2986]
[]
["Artigas",{"$f":"+C15+I15","v":188},{"$f":"SUM(D15:H15)","v":0},0,0,0,0,0,{"$f":"+J15+K15+L15+M15+N15","v":188},26,48,53,34,27]
["Canelones",3715,598,59,114,138,166,121,3117,142,427,676,866,1006]
["Cerro Largo",318,83,0,38,24,21,0,235,0,16,51,86,82]
["Colonia",643,142,28,35,33,25,21,501,56,116,107,104,118]
["Durazno",236,0,0,0,0,0,0,236,17,30,62,59,68]
["Flores",141,0,0,0,0,0,0,141,5,27,32,44,33]
["Florida",142,21,10,5,5,1,0,121,0,19,14,33,55]
["Lavalleja",338,0,0,0,0,0,0,338,31,55,86,92,74]
["Maldonado",1934,198,15,46,44,50,43,1736,69,326,382,448,511]
["Paysandú",573,126,32,22,22,29,21,447,10,13,23,206,195]
["Río Negro",302,0,0,0,0,0,0,302,9,56,55,86,96]
["Rivera",388,0,0,0,0,0,0,388,18,75,83,100,112]
["Rocha",300,0,0,0,0,0,0,300,31,65,73,71,60]
["Salto",1041,300,43,112,82,39,24,741,80,127,137,183,214]
["San José",588,154,30,27,33,39,25,434,12,72,113,116,121]
["Soriano",281,39,11,14,13,1,0,242,0,42,51,66,83]
["Tacuarembó",543,132,13,31,30,36,22,411,46,81,79,99,106]
["Treinta y Tres",109,0,0,0,0,0,0,109,0,25,30,29,25]
["Fuente: Procesamiento propio en base a datos proporcionados por el D.E.E. — C.E.I.P."]
["Nota: Se refiere a centros privados habilitados o autorizados  por ANEP"]

{"sheet":"II-1.2.4","index":8,"n_rows":42,"n_cols":9,"rows_kept":42,"cut":false,"hidden":false,"merged":[[39,0,39,7],[0,8,2,9],[7,0,7,7],[8,0,12,0],[8,4,8,7],[9,1,10,3],[9,4,10,5],[9,6,10,7],[11,1,12,1],[11,2,11,3],[11,4,11,7]]}
["MINISTERIO DE EDUCACIÓN Y CULTURA",null,null,null,null,null,null,null,"Alumnos Matriculados "]
["Dirección de Educación – Área de Educación en la Primera Infancia"]
["INAU-CAIF"]
[]
[]
["Cuadro Nº II-1.2.4"]
[]
["ALUMNOS MATRICULADOS EN EDUCACIÓN EN LA PRIMERA INFANCIA E INICIAL  POR FORMA DE ADMINISTRACIÓN Y SEXO SEGÚN DEPARTAMENTO. AÑO 2015."]
["  DEPARTAMENTO",null,null,null,"FORMA DE ADMINISTRACIÓN"]
[null,"TOTAL",null,null,"CAIF Y CENTROS DIURNOS",null,"Centros Privados"]
[]
[null,"TOTAL","SEXO",null,"SEXO"]
[null,null,"M","F","M","F","M","F"]
["TOTAL",{"$f":"+B15+B16","v":72580},{"$f":"E14+G14","v":36989},35591,{"$f":"E15+E16","v":26647},{"$f":"F15+F16","v":25808},{"$f":"G15+G16","v":10342},{"$f":"H15+H16","v":9783}]
["MONTEVIDEO",{"$f":"+C15+D15","v":24802},12831,11971,6234,5806,6597,6165]
["RESTO DEL PAÍS",{"$f":"+C16+D16","v":47778},24158,23620,{"$f":"SUM(E17:E35)","v":20413},{"$f":"SUM(F17:F35)","v":20002},{"$f":"SUM(G17:G35)","v":3745},{"$f":"SUM(H17:H35)","v":3618}]
[]
["Artigas",{"$f":"+C18+D18","v":2521},{"$f":"E18+G18","v":1252},{"$f":"F18+H18","v":1269},1195,1192,57,77]
["Canelones",10728,{"$f":"E19+G19","v":5429},5299,4033,3897,1396,1402]
["Cerro Largo",2871,1412,1459,1366,1410,46,49]
["Colonia",2359,1207,1152,927,907,280,245]
["Durazno",2213,1126,1087,985,987,141,100]
["Flores",817,406,411,370,364,36,47]
["Florida",1795,891,904,676,670,215,234]
["Lavalleja",1063,521,542,436,465,85,77]
["Maldonado",2358,1176,1182,776,800,400,382]
["Paysandú",3683,1886,1797,1678,1594,208,203]
["Río Negro",1491,772,719,719,669,53,50]
["Rivera",3038,1497,1541,1246,1333,251,208]
["Rocha",2055,1037,1018,969,951,68,67]
["Salto",3445,1776,1669,1591,1508,185,161]
["San José",2041,1048,993,898,850,150,143]
["Soriano",1810,926,884,776,733,150,151]
["Tacuarembó",2255,1139,1116,1115,1094,24,22]
["Treinta y Tres",1235,657,578,657,578,0,0]
["Fuente: Procesamiento propio en base a datos proporcionados por:"]
["        Registro Nacional de Centros de Educación Infantil Privados. MEC"]
["        Para CAIF Y CENTROS DIURNOS: SIPI de INAU."]
["Nota: Privados supervisados por el MEC"]
["Los centros pertenecientes al Proyecto  Nuestros Niños de la Intendencia Municipal de Montevideo, se encuentran incluidos en la matrícula de Centros Privados, en tanto los mismos son supervisados por el MEC.  "]
["CAIF y Centros Diurnos incluyen para este año la matrícula de Experiencia Oportuna. "]
["(0 a 1 año) que en el anuario 2012 solo se incluía en el cuadro II"]

{"sheet":"II-1.2.5","index":9,"n_rows":23,"n_cols":7,"rows_kept":23,"cut":false,"hidden":false,"merged":[[21,0,21,8],[0,6,1,7],[0,8,1,9],[1,0,1,5],[4,0,4,6],[5,2,5,6],[6,0,7,0],[6,1,7,1],[6,2,7,2],[6,3,7,3],[6,4,7,4],[6,5,7,5],[6,6,7,6],[10,1,12,1],[10,2,12,2],[10,3,11,3],[22,0,22,7],[23,0,23,7],[24,0,24,6],[25,0,25,6],[26,0,26,6]]}
["MINISTERIO DE EDUCACIÓN Y CULTURA",null,null,null,null,null,"ALUMNOS MATRICULADOS"]
["Dirección de Educación – Área de Educación en la Primera Infancia"]
[]
["Cuadro Nº II-1.2.5"]
["ALUMNOS MATRICULADOS EN EDUCACIÓN EN LA PRIMERA INFANCIA E INICIAL  POR FORMA DE ADMINISTRACIÓN SEGÚN EDAD. AÑO 2015."]
[null,null,"FORMA DE ADMINISTRACIÓN"]
["EDAD",null,"CEIP- PÚBLICOS","CEIP-PRIVADOS (Habilitados y Autorizados) ","CAIF","DIURNOS","PRIVADOS MEC"]
[]
[]
["TOTAL",{"$f":"C10+D10+E10+F10+G10","v":185497},{"$f":"C11+C14+C15+C16+C17","v":82982},{"$f":"SUM(D11:D17)","v":29935},{"$f":"SUM(E11:E17)","v":50477},1978,20125]
["0 a 11 meses",{"$f":"C11+D11+D13+E11+E12+E13+F11+F12+F13+G11+G12+G13","v":54231},131,2256,7252,110,690]
["1 año",null,null,null,13945,490,3757]
["2 años",null,null,4876,13975,662,6087]
["3 años",{"$f":"C14+D14+E14+F14+G14","v":35574},10533,6271,12668,499,5603]
["4 años",{"$f":"C15+D15+E15+F15+G15","v":48575},35384,7932,2516,111,2632]
["5 años",{"$f":"C16+D16+E16+F16+G16","v":46936},36934,8600,106,21,1275]
["6 años",{"$f":"C17+D17+E17+F17+G17","v":181},0,0,15,85,81]
["Fuente: Procesamiento propio en base a datos proporcionados por:"]
["        Registro Nacional de Centros de Educación Infantil Privados. MEC"]
["        Para CAIF Y CENTROS DIURNOS: SIPI de INAU."]
["Programa Nuestros Niños: IMM. Se encuentran incluidos dentro de la matricula privada. "]
["Nota: En los Centros de Educación Infantil Privados MEC se incluyen 364 niñas y niños que tienen más de 5 años."]
["Para CAIF las edades de 0 y 1 año corresponden a la modalidad Experiencia Oportuna."]

{"sheet":"II-1.2.6","index":10,"n_rows":33,"n_cols":4,"rows_kept":33,"cut":false,"hidden":false,"merged":[[0,3,1,4],[4,0,4,3],[5,0,6,0],[5,1,6,1],[5,2,5,3]]}
["CONSEJO DE EDUCACIÓN INICIAL Y PRIMARIA",null,null,"ALUMNOS MATRICULADOS"]
[]
["Cuadro Nº II-1.2.6"]
[]
["ALUMNOS MATRICULADOS EN EDUCACIÓN EN LA PRIMERA INFANCIA E INICIAL PÚBLICA DEL CEIP POR ÁREA DEMOGRÁFICA SEGÚN DEPARTAMENTO. AÑO 2015."]
["DEPARTAMENTO","TOTAL","ÁREA DEMOGRÁFICA"]
[null,null,"URBANA","RURAL"]
["TOTAL ",{"$f":"SUM(C8+D8)","v":82982},{"$f":"SUM(C9:C10)","v":79227},{"$f":"SUM(D9:D10)","v":3755}]
["MONTEVIDEO",{"$f":"+C9+D9","v":25536},25536,0]
["RESTO DEL PAÍS",{"$f":"+C10+D10","v":57446},{"$f":"SUM(C12:C29)","v":53691},{"$f":"SUM(D12:D29)","v":3755}]
[]
["Artigas",2440,2266,174]
["Canelones",13645,13009,636]
["Cerro Largo",2591,2373,218]
["Colonia",3727,3437,290]
["Durazno",1656,1536,120]
["Flores",679,607,72]
["Florida",1818,1629,189]
["Lavalleja",1581,1459,122]
["Maldonado",4167,4030,137]
["Paysandú",3372,3161,211]
["Río Negro",1925,1776,149]
["Rivera",3441,3183,258]
["Rocha",2251,2152,99]
["Salto",4239,3944,295]
["San José",3173,2875,298]
["Soriano",2457,2304,153]
["Tacuarembó",2767,2528,239]
["Treinta y Tres",1517,1422,95]
["Fuente: Procesamiento propio en base a datos proporcionados "]
["        por el D.E.E. — C.E.I.P."]
["Nota: En los años 2012 y 2013 el presente cuadro considera la matrícula total de Educación en la Primera Infancia e Inicial Pública. "]
["Años anteriores solo consideraban la matrícula de Educación Inicial en Escuelas. "]

{"sheet":"II-1.2.7","index":11,"n_rows":33,"n_cols":10,"rows_kept":33,"cut":false,"hidden":false,"merged":[[10,9,11,11],[33,0,33,7],[36,0,36,7],[0,9,1,10],[5,0,5,7],[6,0,8,0],[7,1,8,1],[7,2,8,2],[7,3,8,3],[7,4,8,4],[7,5,8,5],[7,6,8,6],[7,8,8,8],[6,2,6,8],[7,7,8,7]]}
["MINISTERIO DE EDUCACIÓN Y CULTURA",null,null,null,null,null,null,null,null,"ALUMNOS MATRICULADOS"]
["Dirección de Educación – Área de Educación en la Primera Infancia"]
[]
["Cuadro Nº II-1.2.7"]
[]
["ALUMNOS MATRICULADOS EN EDUCACIÓN EN LA PRIMERA INFANCIA E INICIAL  EN CENTROS PRIVADOS HABILITADOS POR EL MEC POR EDAD SEGÚN DEPARTAMENTO. AÑO 2015."]
["DEPARTAMENTO",null,"E D A D"]
[null,"TOTAL","0 a 11 meses","1 año","2 años","3 años","4 años","5 años","6 años"]
[]
["TOTAL",{"$f":"+B11+B12","v":20125},690,3757,6087,5603,2632,1275,50]
["MONTEVIDEO",{"$f":"+C11+D11+E11+F11+G11+H11+I11","v":12762},566,2377,3818,3577,1663,711,50]
["RESTO DEL PAÍS",{"$f":"SUM(B14:B31)","v":7363},124,1380,2269,2026,969,564]
[]
["Artigas",{"$f":"+C14+D14+E14+F14+G14+H14+I14","v":134},1,16,41,33,29,10,4]
["Canelones",{"$f":"+C15+D15+E15+F15+G15+H15+I15","v":2798},62,485,816,764,408,256,7]
["Cerro Largo",95,0,27,37,31,0,0,0]
["Colonia",525,4,114,251,155,1,0,0]
["Durazno",241,0,40,49,63,42,47,0]
["Flores",83,0,1,15,28,24,11,4]
["Florida",449,9,96,157,115,56,15,1]
["Lavalleja",162,6,41,51,53,11,0,0]
["Maldonado",782,9,111,177,233,154,87,11]
["Paysandú",411,17,107,116,98,37,36,0]
["Río Negro",103,0,28,46,14,9,6,0]
["Rivera",459,2,108,131,109,77,32,0]
["Rocha",135,4,23,43,31,13,17,4]
["Salto",346,4,85,111,102,29,15,0]
["San José",293,4,29,103,104,36,17,0]
["Soriano",301,2,64,110,75,40,10,0]
["Tacuarembó",46,0,5,15,18,3,5,0]
["Treinta y Tres",0,0,0,0,0,0,0,0]
["Fuente: Procesamiento propio en base a datos proporcionados por:"]
["        Registro Nacional de Centros de Educación Infantil Privados. MEC"]

{"sheet":"II-1.3.1","index":12,"n_rows":33,"n_cols":4,"rows_kept":33,"cut":false,"hidden":false,"merged":[[0,3,1,4],[4,0,4,1],[5,0,6,0],[5,1,6,1],[30,0,30,4]]}
["CONSEJO DE EDUCACIÓN INICIAL Y PRIMARIA",null,null,"PERSONAL DOCENTE"]
[]
["Cuadro Nº II-1.3.1"]
[]
["PERSONAL DOCENTE DE EDUCACIÓN EN LA PRIMERA INFANCIA E INICIAL  PÚBLICA DEL CEIP SEGÚN DEPARTAMENTO. AÑO 2015."]
["DEPARTAMENTO","DOCENTES"]
[]
["TOTAL",{"$f":"SUM(B9:B10)","v":2947}]
["MONTEVIDEO",1007]
["RESTO DEL PAÍS",1940]
[]
["Artigas",81]
["Canelones",466]
["Cerro Largo",89]
["Colonia",107]
["Durazno",53]
["Flores",27]
["Florida",73]
["Lavalleja",62]
["Maldonado",155]
["Paysandú",100]
["Río Negro",70]
["Rivera",112]
["Rocha",77]
["Salto",129]
["San José",103]
["Soriano",84]
["Tacuarembó",97]
["Treinta y Tres",59]
["Fuente: D.E.E. - C.E.I.P"]
["Nota: Personal docente solo considera maestro/a de clase. "]
["        "]
["        "]

{"sheet":"II-1.3.2","index":13,"n_rows":35,"n_cols":5,"rows_kept":35,"cut":false,"hidden":false,"merged":[[32,0,32,4],[0,4,1,5],[4,0,4,4],[5,0,8,0],[5,2,6,3],[7,1,8,1],[7,2,8,2],[7,3,8,3],[7,4,8,4]]}
["CONSEJO DE EDUCACIÓN INICIAL Y PRIMARIA",null,null,null,"PERSONAL DOCENTE"]
[]
["Cuadro Nº II-1.3.2."]
[]
["PERSONAL DOCENTE DE EDUCACIÓN EN LA PRIMERA INFANCIA E INICIAL PRIVADA SEGÚN DEPARTAMENTO. AÑO 2015."]
["DEPARTAMENTO",null,"DOCENTES"]
[]
[null,"TOTAL","Colegios Habilitados","Colegios Autorizados","Jardines de Infantes Autorizados"]
[]
["TOTAL",{"$f":"SUM(B11:B12)","v":1793},{"$f":"SUM(C11:C12)","v":1435},{"$f":"SUM(D11:D12)","v":73},{"$f":"SUM(E11:E12)","v":285}]
["MONTEVIDEO",{"$f":"+C11+D11+E11","v":1058},804,58,196]
["RESTO DEL PAÍS",{"$f":"+C12+D12+E12","v":735},{"$f":"SUM(C14:C31)","v":631},{"$f":"SUM(D14:D31)","v":15},{"$f":"SUM(E14:E31)","v":89}]
[]
["Artigas",{"$f":"+C14+D14","v":4},4,0,0]
["Canelones",203,191,12,29]
["Cerro Largo",15,15,0,5]
["Colonia",39,39,0,0]
["Durazno",13,13,0,0]
["Flores",12,12,0,0]
["Florida",10,10,0,3]
["Lavalleja",22,22,0,0]
["Maldonado",107,107,0,14]
["Paysandú",42,42,0,7]
["Río Negro",25,23,2,0]
["Rivera",18,18,0,0]
["Rocha",21,21,0,0]
["Salto",38,38,0,16]
["San José",27,26,1,4]
["Soriano",14,14,0,4]
["Tacuarembó",30,30,0,7]
["Treinta y Tres",6,6,0,0]
["Fuente: D.E.E. — C.E.P.","C.E.I.P"]
["Nota: Personal docente solo considera maestro/a de clase. "]
["        Centros privados habilitados o autorizados por ANEP"]
["        "]

{"sheet":"II-1.3.3 ","index":14,"n_rows":37,"n_cols":7,"rows_kept":37,"cut":false,"hidden":false,"merged":[[0,4,1,5],[4,0,5,6],[6,2,6,3],[7,0,8,0],[7,1,8,1],[7,2,8,2],[7,3,8,3],[7,4,8,4],[7,5,8,5],[7,6,8,6]]}
["CONSEJO DE EDUCACIÓN INICIAL Y PRIMARIA",null,null,null,"PERSONAL DOCENTE"]
[]
["Cuadro Nº II-1.3.3."]
[]
["PERSONAL DOCENTE EN EDUCACIÓN EN LA PRIMERA INFANCIA PRIVADA SUPERVISADA POR EL MEC SEGÚN FUNCIÓN Y DEPARTAMENTO. AÑO 2015."]
[]
[null,null,"FUNCIÓN"]
["DEPATAMENTO","TOTAL","Director responsable técnico","Educadores","Otros especialistas","Profesores especiales","Responsable legal"]
[]
["TOTAL",{"$f":"SUM(C10:G10)","v":4197},{"$f":"C12+C11","v":437},{"$f":"D11+D12","v":2634},237,456,{"$f":"G11+G12","v":433}]
["MONTEVIDEO",{"$f":"SUM(C11:G11)","v":2453},274,1739,172,8,260]
["RESTO DEL PAIS",{"$f":"SUM(C12:G12)","v":1744},{"$f":"SUM(C14:C31)","v":163},{"$f":"SUM(D14:D31)","v":895},{"$f":"SUM(E14:E31)","v":65},{"$f":"SUM(F14:F31)","v":448},{"$f":"SUM(G14:G31)","v":173}]
[]
["Artigas",{"$f":"SUM(C14:G14)","v":87},2,20,0,63,2]
["Canelones ",{"$f":"SUM(C15:G15)","v":500},65,345,22,1,67]
["Cerro Largo",24,2,12,4,4,2]
["Colonia",97,14,61,3,4,15]
["Durazno",38,3,30,2,1,2]
["Flores",22,1,8,1,11,1]
["Florida",83,8,53,11,2,9]
["Lavalleja",77,5,24,1,41,6]
["Maldonado",431,18,102,9,281,21]
["Paysandú",69,7,49,3,2,8]
["Rio Negro",28,2,7,2,14,3]
["Rivera",75,7,58,1,2,7]
["Rocha",31,5,17,0,4,5]
["Salto ",60,7,42,1,3,7]
["San José",53,6,27,1,12,7]
["Soriano",59,9,34,4,3,9]
["Tacuarembó",10,2,6,0,0,2]
["Treinta y Tres",0,0,0,0,0,0]
["Fuente: Procesamiento propio en base a datos proporcionados por:   Registro Nacional de Centros de Educación Infantil Privados. MEC"]
["Nota:"]
["Director responsable técnico: art 4. 268/014"]
["Educadores: Son aquellos que la tarea de docencia directa, ya sea de carácter de docente propiamente dicho o de auxiliar. Informe Primer censo nacional de centros de Educaciòn Infanti Privados."]
["Otros especialistas: Se refiere a profesionales que apoyan la tarea de los educadores sin ejercer educaciòn directa. En esta categorìa entran psicologo, psicomotrisistas, trabajadores sociales, nutricionistas, medico pediatra y otros especialistas."]
["Profesores especiales: Son docentes que se especializan en un área en particular. Esta categoría incluye profesores de computación, inglés, plastica, eduaciòn musical u artistica. "]

{"sheet":" PRIMARIA ","index":15,"n_rows":200,"n_cols":2,"rows_kept":200,"cut":false,"hidden":false,"merged":[]}
[]
[]
[]
[]
[]
[]
["Cuadro Nº II-2.1.1  "," ESTABLECIMIENTOS DE EDUCACIÓN PRIMARIA POR FORMA DE ADMINISTRACIÓN Y TIPO DE EDUCACIÓN SEGÚN DEPARTAMENTO. AÑO 2015. "]
[""]
["Cuadro Nº II-2.1.2  ","ESTABLECIMIENTOS DE EDUCACIÓN PRIMARIA PÚBLICA COMÚN POR ÁREA DEMOGRÁFICA Y CATEGORÍA SEGÚN DEPARTAMENTO. AÑO 2015. "]
[""]
["Cuadro Nº II-2.1.3  ","ESTABLECIMIENTOS DE EDUCACIÓN PRIMARIA PÚBLICA ESPECIAL POR TIPO DE DISCAPACIDAD SEGÚN DEPARTAMENTO. AÑO 2015."]
[""]
["Cuadro Nº II-2.1.4  ","ESTABLECIMIENTOS DE EDUCACIÓN PRIMARIA PRIVADA POR TIPO DE EDUCACIÓN SEGÚN DEPARTAMENTO. AÑO 2015."]
[""]
[""]
["Cuadro Nº II-2.2.1  ","ALUMNOS MATRICULADOS EN EDUCACIÓN PRIMARIA COMÚN POR FORMA DE ADMINISTRACIÓN Y SEXO SEGÚN DEPARTAMENTO. AÑO 2015. "]
[""]
["Cuadro Nº II-2.2.2  ","ALUMNOS MATRICULADOS EN EDUCACIÓN PRIMARIA PÚBLICA POR TIPO DE EDUCACIÓN Y SEXO SEGÚN DEPARTAMENTO. AÑO 2015. "]
[""]
["Cuadro Nº II-2.2.3  "," ALUMNOS MATRICULADOS EN EDUCACIÓN PRIMARIA PÚBLICA COMÚN POR ÁREA DEMOGRÁFICA Y CATEGORÍA SEGÚN DEPARTAMENTO. AÑO 2015. "]
[""]
["Cuadro Nº II-2.2.4  "," ALUMNOS MATRICULADOS EN EDUCACIÓN PRIMARIA PÚBLICA ESPECIAL POR TIPO DE DISCAPACIDAD SEGÚN DEPARTAMENTO. AÑO 2015. "]
[""]
["Cuadro Nº II-2.2.5  "," ALUMNOS MATRICULADOS EN EDUCACIÓN ESPECIAL PÚBLICA POR EDADES SIMPLES Y SEXO SEGÚN DEPARTAMENTO. AÑO 2015. "]
[""]
["Cuadro Nº II-2.2.6  "," ALUMNOS MATRICULADOS EN EDUCACIÓN PRIMARIA PRIVADA POR TIPO DE EDUCACIÓN SEGÚN DEPARTAMENTO. AÑO 2015. "]
[""]
["Cuadro Nº II-2.2.7  "," ALUMNOS MATRICULADOS EN EDUCACIÓN ESPECIAL PRIVADA POR EDADES SIMPLES Y SEXO SEGÚN DEPARTAMENTO. AÑO 2015. "]
[""]
["Cuadro Nº II-2.2.8  "," ALUMNOS MATRICULADOS EN EDUCACIÓN PRIMARIA COMÚN POR GRADO Y FORMA DE ADMINISTRACIÓN SEGÚN EDAD. AÑO 2015. "]
[""]
["Cuadro Nº II-2.2.9  ","ALUMNOS MATRICULADOS EN EDUCACIÓN PRIMARIA COMÚN PÚBLICA POR GRADO Y SEXO SEGÚN EDAD. AÑO 2015. "]
[""]
["Cuadro Nº II-2.2.10 ","ALUMNOS MATRICULADOS EN EDUCACIÓN PRIMARIA COMÚN PRIVADA POR GRADO Y SEXO SEGÚN EDAD. AÑO 2015. "]
[""]
["Cuadro Nº II-2.2.11 "," ALUMNOS MATRICULADOS EN EDUCACIÓN PRIMARIA COMÚN POR GRADO Y FORMA DE ADMINISTRACIÓN SEGÚN DEPARTAMENTO. AÑO 2015. "]
[""]
["Cuadro Nº II-2.2.12 ","RENDIMIENTO ESCOLAR EDUCACIÓN PRIMARIA COMÚN PÚBLICA POR ÁREA DEMOGRÁFICA SEGÚN GRADO. AÑO 2015. "]
[""]
["Cuadro Nº II-2.2.13 ","RENDIMIENTO ESCOLAR EN EDUCACIÓN PRIMARIA COMÚN PÚBLICA POR  ÁREA DEMOGRÁFICA SEGÚN DEPARTAMENTO. AÑO 2015. "]
[""]
["Cuadro Nº II-2.2.14 ","RENDIMIENTO ESCOLAR  EN EDUCACIÓN PRIMARIA COMÚN PÚBLICA POR SEXO SEGÚN DEPARTAMENTO. AÑO 2015."]
[""]
["Cuadro Nº II-2.2.15 ","RENDIMIENTO ESCOLAR EN EDUCACIÓN PRIMARIA COMÚN PRIVADA POR SEXO SEGÚN DEPARTAMENTO. AÑO 2015. "]
[""]
["Cuadro Nº II-2.2.16 ","RENDIMIENTO ESCOLAR DE EDUCACIÓN PRIMARIA COMÚN PÚBLICA POR ÁREA DEMOGRÁFICA SEGÚN DEPARTAMENTO. AÑO 2015. "]
[""]
["Cuadro Nº II-2.2.17 ","RENDIMIENTO ESCOLAR DE EDUCACIÓN PRIMARIA COMÚN POR FORMA DE ADMINISTRACIÓN SEGÚN DEPARTAMENTO. AÑO 2015. "]
[""]
["Cuadro Nº II-2.2.18 ","ASISTENCIA INSUFICIENTE Y ABANDONO INTERMITENTE DE 1º GRADO Y 1º A 6º GRADO EN EDUCACIÓN COMÚN PÚBLICA SEGÚN DEPARTAMENTO. AÑO 2015. "]
[""]
[""]
["Cuadro Nº II-2.3.1  ","PERSONAL DOCENTE DE EDUCACIÓN PRIMARIA PÚBLICA POR TIPO DE DESEMPEÑO DOCENTE SEGÚN DEPARTAMENTO. AÑO 2015. "]
[""]
["Cuadro Nº II-2.3.2  ","PERSONAL DOCENTE DE EDUCACIÓN PRIMARIA PRIVADA POR TIPO DE ESTABLECIMIENTO Y TIPO DE DESEMPEÑO DOCENTE SEGÚN DEPARTAMENTO. AÑO 2015. "]
[""]
[""]
[""]
[""]
[""]
[""]
[""]
[""]
[""]
[""]
[""]
[""]
[""]
[""]
[""]
[""]
[""]
[""]
[""]
[""]
[""]
[""]
[""]
[""]
[""]
[""]
[""]
[""]
[""]
[""]
[""]
[""]
[""]
[""]
[""]
[""]
[""]
[""]
[""]
[""]
[""]
[""]
[""]
[""]
[""]
[""]
[""]
[""]
[""]
[""]
[""]
[""]
[""]
[""]
[""]
[""]
[""]
[""]
[""]
[""]
[""]
[""]
[""]
[""]
[""]
[""]
[""]
[""]
[""]
[""]
[""]
[""]
[""]
[""]
[""]
[""]
[""]
[""]
[""]
[""]
[""]
[""]
[""]
[""]
[""]
[""]
[""]
[""]
[""]
[""]
[""]
[""]
[""]
[""]
[""]
[{"$f":"MID(B101, 1,20)","v":""}]
[""]
[""]
[""]
[""]
[""]
[""]
[""]
[""]
[""]
[""]
[""]
[""]
[""]
[""]
[""]
[""]
[""]
[""]
[""]
[""]
[""]
[""]
[""]
[""]
[""]
[""]
[""]
[""]
[""]
[""]
[""]
[""]
[""]
[""]
[{"$f":"MID(B136, 1,20)","v":""}]
[""]
[""]
[""]
[""]
[""]
[""]
[""]
[""]
[""]
[""]
[""]
[""]
[""]
[""]

{"sheet":"II-2.1.1","index":16,"n_rows":32,"n_cols":6,"rows_kept":32,"cut":false,"hidden":false,"merged":[[7,4,8,4],[7,5,8,5],[30,0,30,7],[0,4,1,6],[3,0,3,5],[4,0,8,0],[4,2,4,5],[5,1,8,1],[5,2,5,5],[6,2,6,3],[6,4,6,5],[7,2,8,2],[7,3,8,3]]}
["CONSEJO DE EDUCACIÓN PRIMARIA",null,null,null,"ESTABLECIMIENTOS"]
[]
["Cuadro Nº II-2.1.1"]
["ESTABLECIMIENTOS DE EDUCACIÓN PRIMARIA POR FORMA DE ADMINISTRACIÓN Y TIPO DE EDUCACIÓN SEGÚN DEPARTAMENTO. AÑO 2015."]
["DEPARTAMENTO",null,"FORMA DE ADMINISTRACIÓN"]
[null,"TOTAL","TIPO DE EDUCACIÓN"]
[null,null,"PÚBLICA",null,"PRIVADA"]
[null,null,"Común","Especial","Común","Especial"]
[]
["TOTAL",{"$f":"+C10+D10+E10+F10","v":2535},{"$f":"SUM(C11:C12)","v":2038},{"$f":"SUM(D11:D12)","v":79},{"$f":"SUM(E11,E12)","v":345},{"$f":"SUM(F11:F12)","v":73}]
["MONTEVIDEO",{"$f":"+C11+D11+E11+F11","v":490},250,26,173,41]
["RESTO DEL PAÍS",2045,{"$f":"SUM(C13:C30)","v":1788},{"$f":"SUM(D13:D30)","v":53},{"$f":"SUM(E13:E30)","v":172},{"$f":"SUM(F13:F30)","v":32}]
["Artigas",84,78,2,2,2]
["Canelones",305,230,10,59,6]
["Cerro Largo",124,115,3,6,0]
["Colonia",141,126,4,9,2]
["Durazno",86,80,2,4,0]
["Flores",38,34,1,3,0]
["Florida",103,97,2,3,1]
["Lavalleja",92,83,2,7,0]
["Maldonado",111,79,4,25,3]
["Paysandú",122,105,2,10,5]
["Río Negro",70,60,2,7,1]
["Rivera",135,121,4,8,2]
["Rocha",80,71,3,4,2]
["Salto",114,100,3,7,4]
["San José",117,107,3,7,0]
["Soriano",110,99,3,4,4]
["Tacuarembó",141,133,2,6,0]
["Treinta y Tres",72,70,1,1,0]
["Fuente: Procesamiento propio en base a datos proporcionados por el D.E.E. — C.E.I.P."]
["Nota: Pública no incluye JICI"]

{"sheet":" II-2.1.2","index":17,"n_rows":32,"n_cols":13,"rows_kept":32,"cut":false,"hidden":false,"merged":[[8,4,9,4],[8,5,9,5],[8,6,9,6],[8,8,9,8],[8,9,9,9],[8,11,9,11],[8,12,9,12],[0,11,1,12],[4,0,4,12],[5,0,9,0],[5,1,9,1],[5,2,5,12],[6,3,6,9],[6,11,6,12],[7,2,9,2],[7,3,7,9],[7,10,9,10],[7,11,7,12],[8,3,9,3],[8,7,9,7]]}
["CONSEJO DE EDUCACIÓN PRIMARIA",null,null,null,null,null,null,null,null,null,null,"ESTABLECIMIENTOS"]
[]
["Cuadro Nº II-2.1.2"]
[]
["ESTABLECIMIENTOS DE EDUCACIÓN PRIMARIA PÚBLICA COMÚN POR ÁREA DEMOGRÁFICA Y CATEGORÍA SEGÚN DEPARTAMENTO. AÑO 2015."]
["DEPARTAMENTO","TOTAL","ÁREA DEMOGRÁFICA"]
[null,null,null,"URBANA",null,null,null,null,null,null,null,"RURAL"]
[null,null,"Total Urbana","CATEGORÍA",null,null,null,null,null,null,"Total Rural","CATEGORÍA"]
[null,null,null,"Común","De Práctica","Tiempo Completo","Aprender","Tiempo Extendido","Habilitada de Práctica","JICI",null,"Común","Internado Rural"]
[]
["TOTAL",{"$f":"+C11+K11","v":2044},{"$f":"SUM(D11:J11)","v":945},{"$f":"SUM(D12:D13)","v":306},{"$f":"SUM(E12:E13)","v":62},204,257,{"$f":"H12+H13","v":37},73,6,{"$f":"SUM(K12:K13)","v":1099},1094,5]
["MONTEVIDEO",253,{"$f":"SUM(D12:J12)","v":253},86,18,47,86,7,6,3,0,0,0]
["RESTO DEL PAÍS",1791,{"$f":"SUM(D13:J13)","v":692},{"$f":"SUM(D14:D31)","v":220},44,157,171,{"$f":"SUM(H14:H31)","v":30},67,3,1099,1094,5]
["Artigas",78,{"$f":"SUM(D14:J14)","v":31},5,2,9,10,1,4,0,{"$f":"+L14+M14","v":47},46,1]
["Canelones",231,{"$f":"SUM(D15:J15)","v":136},38,6,28,44,6,13,1,{"$f":"+L15+M15","v":95},95,0]
["Cerro Largo",116,30,3,2,9,8,3,4,1,86,86,0]
["Colonia",126,43,20,4,6,6,3,4,0,83,83,0]
["Durazno",80,25,6,2,7,6,0,4,0,55,55,0]
["Flores",34,10,3,1,4,0,1,1,0,24,23,1]
["Florida",97,29,11,2,8,1,4,3,0,68,68,0]
["Lavalleja",83,24,11,2,6,3,1,1,0,59,59,0]
["Maldonado",79,43,18,2,12,5,1,5,0,36,35,1]
["Paysandú",105,47,16,3,9,15,0,4,0,58,56,2]
["Río Negro",60,22,11,2,5,2,0,2,0,38,38,0]
["Rivera",121,41,9,3,8,17,0,4,0,80,80,0]
["Rocha",71,32,12,2,9,7,0,2,0,39,39,0]
["Salto",100,40,6,3,12,13,2,4,0,60,60,0]
["San José",107,38,19,2,6,5,3,3,0,69,69,0]
["Soriano",99,36,15,2,7,10,0,2,0,63,63,0]
["Tacuarembó",133,42,9,2,7,16,4,4,0,91,91,0]
["Treinta y Tres",71,23,8,2,5,3,1,3,1,48,48,0]
["Fuente: Procesamiento propio en base a datos proporcionados por el DEE — CEIP",null,null,null,null,"D.E.E.-C.E.I.P."]

{"sheet":"II-2.1.3","index":18,"n_rows":35,"n_cols":5,"rows_kept":35,"cut":false,"hidden":false,"merged":[[30,0,30,4],[0,3,1,4],[4,0,4,4],[5,0,7,0],[5,1,7,1],[5,2,5,4],[6,2,7,2],[6,3,7,3],[6,4,7,4]]}
["CONSEJO DE EDUCACIÓN PRIMARIA",null,null,"Establecimientos"]
[]
["Cuadro Nº II-2.1.3"]
[]
["ESTABLECIMIENTOS DE EDUCACIÓN PRIMARIA PÚBLICA ESPECIAL POR TIPO DE DISCAPACIDAD SEGÚN DEPARTAMENTO. AÑO 2015."]
["DEPARTAMENTO","TOTAL","DISCAPACIDAD"]
[null,null,"Intelectual","Auditiva","Visual"]
[]
["TOTAL",{"$f":"+B10+B11","v":79},{"$f":"SUM(C10:C11)","v":73},{"$f":"SUM(D10:D11)","v":4},{"$f":"SUM(E10:E11)","v":2}]
["MONTEVIDEO",{"$f":"+C10+D10+E10","v":26},23,1,2]
["RESTO DEL PAÍS",{"$f":"SUM(B12:B29)","v":53},{"$f":"SUM(C12:C29)","v":50},{"$f":"SUM(D12:D29)","v":3},{"$f":"SUM(E12:E29)","v":0}]
["Artigas",{"$f":"+C12+D12+E12","v":2},2,0,0]
["Canelones",10,10,0,0]
["Cerro Largo",3,3,0,0]
["Colonia",4,4,0,0]
["Durazno",2,2,0,0]
["Flores",1,1,0,0]
["Florida",2,2,0,0]
["Lavalleja",2,2,0,0]
["Maldonado",4,3,1,0]
["Paysandú",2,2,0,0]
["Río Negro",2,2,0,0]
["Rivera",4,3,1,0]
["Rocha",3,3,0,0]
["Salto",3,2,1,0]
["San José",3,3,0,0]
["Soriano",3,3,0,0]
["Tacuarembó",2,2,0,0]
["Treinta y Tres",1,1,0,0]
["Fuente: DEE — CEIP"]
["Nota: Los establecimientos que atienden discapacidades intelectuales, además de atender niños con disfunciones clásicamente tipificadas como “Intelectuales”, atienden a los niños con discapacidades de orden motriz o de carácter, lo que implica que la matrícula correspondiente los agrupa."]
["        "]
["        "]
["       "]
["        "]

{"sheet":"II-2.1.4","index":19,"n_rows":31,"n_cols":6,"rows_kept":31,"cut":false,"hidden":false,"merged":[[6,8,6,15],[7,3,8,3],[7,4,8,4],[7,8,7,15],[11,8,12,9],[11,10,12,10],[11,11,11,13],[0,4,1,5],[4,0,4,5],[5,0,8,0],[5,1,8,1],[5,3,5,5],[6,2,8,2],[6,3,6,4],[6,5,8,5]]}
["CONSEJO DE EDUCACIÓN PRIMARIA",null,null,null,"ESTABLECIMIENTOS"]
[]
["Cuadro Nº II-2.1.4"]
[]
["ESTABLECIMIENTOS DE EDUCACIÓN PRIMARIA PRIVADA POR TIPO DE EDUCACIÓN SEGÚN DEPARTAMENTO. AÑO 2015."]
["DEPARTAMENTO","TOTAL",null,"TIPO DE EDUCACIÓN"]
[null,null,"Total","EDUCACIÓN COMÚN",null,"EDUCACIÓN ESPECIAL"]
[null,null,null,"Habilitados","Autorizados"]
[]
["TOTAL DEL PAÍS",{"$f":"+C10+F10","v":418},{"$f":"+D10+E10","v":345},{"$f":"SUM(D11:D12)","v":327},{"$f":"SUM(E11:E12)","v":18},{"$f":"SUM(F11:F12)","v":73}]
["MONTEVIDEO",{"$f":"+C11+F11","v":214},{"$f":"+D11+E11","v":173},163,10,41]
["RESTO DEL PAÍS",204,172,{"$f":"SUM(D13:D30)","v":164},{"$f":"SUM(E13:E30)","v":8},{"$f":"SUM(F13:F30)","v":32}]
["Artigas",4,2,2,0,2]
["Canelones",65,59,55,4,6]
["Cerro Largo",6,6,6,0,0]
["Colonia",11,9,9,0,2]
["Durazno",4,4,4,0,0]
["Flores",3,3,3,0,0]
["Florida",4,3,3,0,1]
["Lavalleja",7,7,7,0,0]
["Maldonado",28,25,25,0,3]
["Paysandú",15,10,9,1,5]
["Río Negro",8,7,5,2,1]
["Rivera",10,8,8,0,2]
["Rocha",6,4,4,0,2]
["Salto",11,7,7,0,4]
["San José",7,7,6,1,0]
["Soriano",8,4,4,0,4]
["Tacuarembó",6,6,6,0,0]
["Treinta y Tres",1,1,1,0,0]
["Fuente: Procesamiento propio en base a datos proporcionados por el D.E.E. — C.E.I.P."]

{"sheet":"II-2.2.1","index":20,"n_rows":31,"n_cols":10,"rows_kept":31,"cut":false,"hidden":false,"merged":[[6,7,7,7],[6,8,6,9],[30,0,30,9],[0,7,1,9],[3,0,3,9],[4,0,7,0],[4,1,7,1],[4,2,4,9],[5,2,6,3],[5,4,5,6],[5,7,5,9],[6,4,7,4],[6,5,6,6]]}
["CONSEJO DE EDUCACIÓN PRIMARIA",null,null,null,null,null,null,"ALUMNOS MATRICULADOS"]
[]
["Cuadro Nº II-2.2.1"]
["ALUMNOS MATRICULADOS EN EDUCACIÓN PRIMARIA COMÚN POR FORMA DE ADMINISTRACIÓN Y SEXO SEGÚN DEPARTAMENTO. AÑO 2015"]
["DEPARTAMENTO","TOTAL","FORMA DE ADMINISTRACIÓN"]
[null,null,"TOTAL",null,"PÚBLICA",null,null,"PRIVADA"]
[null,null,null,null,"TOTAL","SEXO",null,"TOTAL","SEXO"]
[null,null,"M","F",null,"M","F",null,"M","F"]
["TOTAL",{"$f":"E9+H9","v":303737},{"$f":"+F9+I9","v":156234},{"$f":"+G9+J9","v":147503},{"$f":"+F9+G9","v":250160},{"$f":"SUM(F10:F11)","v":129042},{"$f":"SUM(G10:G11)","v":121118},{"$f":"+I9+J9","v":53577},{"$f":"SUM(I10:I11)","v":27192},{"$f":"SUM(J10:J11)","v":26385.000000000004}]
["MONTEVIDEO",{"$f":"E10+H10","v":110310},{"$f":"+F10+I10","v":56755},53555,{"$f":"+F10+G10","v":77371},40024,37347,{"$f":"+I10+J10","v":32939},16731,16208.000000000004]
["RESTO DEL PAÍS",193427,99479,93948,{"$f":"SUM(E12:E29)","v":172789},{"$f":"SUM(F12:F29)","v":89018},{"$f":"SUM(G12:G29)","v":83771},{"$f":"+I11+J11","v":20638},{"$f":"SUM(I12:I29)","v":10461},{"$f":"SUM(J12:J29)","v":10177}]
["Artigas",7655,4044,3611,{"$f":"+F12+G12","v":7471},3938,3533,{"$f":"+I12+J12","v":184},106,78]
["Canelones",49805,25688,24117,{"$f":"+F13+G13","v":42321},21857,20464,7483.9999999999982,3830.9999999999991,3652.9999999999991]
["Cerro Largo",8731,4399,4332,8104,4094,4010,627,305,322]
["Colonia",11147,5680,5467,10385,5292,5093,762,388,374]
["Durazno",5518,2799,2719,4902,2513,2389,616,286,330]
["Flores",2257,1097,1160,1982,963,1019,275,134,141]
["Florida",6033,3132,2901,5777,2995,2782,256,137,119]
["Lavalleja",5075,2589,2486,4430,2262,2168,645,327,318]
["Maldonado",16697,8443,8254,12853,6491,6362,3844,1952,1891.9999999999998]
["Paysandú",11914,6137,5777,10693,5510,5183,1221,627,594]
["Río Negro",5900,3051,2849,5362,2768,2594,538,283,255]
["Rivera",10801,5628,5173,10206,5320,4886,595,308.00000000000006,287]
["Rocha",6635,3363,3272,6283,3198,3085,352,165,187]
["Salto",13536,7014,6522,12340,6442,5898,1196,572,624.00000000000011]
["San José",10348,5320,5028,9587,4967,4620,761,352.99999999999994,408]
["Soriano",8248,4280,3968,7787,4028,3759,461,252,209]
["Tacuarembó",8829,4579,4250,8172,4236,3936,657,343,314]
["Treinta y Tres",4298,2236,2062,4134,2144,1990,164,92,72]
["Fuente: Procesamiento propio en base a datos proporcionados por el DEE — CEIP."]
["Nota: Pública no incluye JICI."]

{"sheet":"II-2.2.2","index":21,"n_rows":32,"n_cols":12,"rows_kept":32,"cut":false,"hidden":false,"merged":[[9,141,9,142],[9,143,9,144],[9,145,9,146],[9,147,9,148],[32,0,32,9],[9,139,9,140],[34,0,34,9],[7,10,7,11],[8,4,9,4],[8,5,8,6],[8,8,8,9],[8,10,8,11],[0,7,1,9],[4,0,4,11],[5,0,9,0],[5,1,9,1],[5,2,8,3],[5,4,5,11],[6,4,7,6],[6,7,6,11],[7,7,9,7],[7,8,7,9]]}
["CONSEJO DE EDUCACIÓN PRIMARIA",null,null,null,null,null,null,"ALUMNOS MATRICULADOS"]
[]
["Cuadro Nº II-2.2.2"]
[]
["ALUMNOS MATRICULADOS EN EDUCACIÓN PRIMARIA PÚBLICA POR TIPO DE EDUCACIÓN Y SEXO SEGÚN DEPARTAMENTO. AÑO 2015."]
["DEPARTAMENTO","TOTAL","TOTAL SEXO",null,"TIPO DE EDUCACIÓN "]
[null,null,null,null,"COMÚN ",null,null,"ESPECIAL "]
[null,null,null,null,null,null,null,"Total","ESCUELAS\nESPECIALES",null,"CLASES ESPECIALES EN ESCUELAS COMUNES"]
[null,null,null,null,"Total","SEXO",null,null,"SEXO",null,"SEXO"]
[null,null,"M","F",null,"M","F",null,"M","F","M","F"]
["TOTAL",{"$f":"+C11+D11","v":256746},{"$f":"+F11+I11+K11","v":133106},{"$f":"+G11+J11+L11","v":123640},{"$f":"+F11+G11","v":250160},{"$f":"SUM(F12:F13)","v":129042},{"$f":"SUM(G12:G13)","v":121118},{"$f":"+I11+J11+K11+L11","v":6586},{"$f":"SUM(I12:I13)","v":3988},{"$f":"SUM(J12:J13)","v":2474},{"$f":"SUM(K12:K13)","v":76},{"$f":"SUM(L12:L13)","v":48}]
["MONTEVIDEO",{"$f":"+C12+D12","v":79986},{"$f":"+F12+I12+K12","v":41623},38363,{"$f":"+F12+G12","v":77371},40024,37347,{"$f":"+I12+J12+K12+L12","v":2615},1599,1016,0,0]
["RESTO DEL PAÍS",176760,91483,85277,{"$f":"+F13+G13","v":172789},{"$f":"SUM(F14:F31)","v":89018},83771,3971,2389,1458,76,48]
["Artigas",7650,4051,3599,{"$f":"+F14+G14","v":7471},3938,3533,179,109,62,4,4]
["Canelones",43032,22305,20727,42321,21857,20464,711,425,252,23,11]
["Cerro Largo",8341,4239,4102,8104,4094,4010,237,136,89,9,3]
["Colonia",10596,5424,5172,10385,5292,5093,211,128,76,4,3]
["Durazno",5032,2597,2435,4902,2513,2389,130,80,42,4,4]
["Flores",2025,992,1033,1982,963,1019,43,29,13,0,1]
["Florida",5922,3083,2839,5777,2995,2782,145,85,55,3,2]
["Lavalleja",4585,2361,2224,4430,2262,2168,155,99,54,0,2]
["Maldonado",13146,6661,6485,12853,6491,6362,293,170,123,0,0]
["Paysandú",10937,5665,5272,10693,5510,5183,244,142,81,13,8]
["Río Negro",5526,2873,2653,5362,2768,2594,164,103,57,2,2]
["Rivera",10397,5436,4961,10206,5320,4886,191,116,75,0,0]
["Rocha",6526,3350,3176,6283,3198,3085,243,151,89,1,2]
["Salto",12684,6654,6030,12340,6442,5898,344,211,129,1,3]
["San José",9791,5098,4693,9587,4967,4620,204,125,73,6,0]
["Soriano",7986,4150,3836,7787,4028,3759,199,120,77,2,0]
["Tacuarembó",8352,4349,4003,8172,4236,3936,180,110,65,3,2]
["Treinta y Tres",4232,2195,2037,4134,2144,1990,98,50,46,1,1]
["Fuente: Procesamiento propio en base a datos proporcionados por el D.E.E. — C.E.I.P."]

{"sheet":"II-2.2.3","index":22,"n_rows":32,"n_cols":16,"rows_kept":32,"cut":false,"hidden":false,"merged":[[8,4,9,4],[8,5,9,5],[8,6,9,6],[8,7,9,7],[8,9,9,9],[8,11,9,11],[8,13,9,13],[0,10,1,13],[4,0,4,13],[5,0,9,0],[5,1,9,1],[5,2,5,13],[6,2,6,9],[6,11,6,13],[7,2,9,2],[7,3,7,9],[7,10,9,10],[7,11,7,13],[8,3,9,3],[8,12,9,12],[8,8,9,8]]}
["CONSEJO DE EDUCACIÓN PRIMARIA",null,null,null,null,null,null,null,null,null,"ALUMNOS MATRICULADOS"]
[]
["Cuadro Nº II-2.2.3"]
[]
["ALUMNOS MATRICULADOS EN EDUCACIÓN PRIMARIA PÚBLICA COMÚN POR ÁREA DEMOGRÁFICA Y CATEGORÍA SEGÚN DEPARTAMENTO. AÑO 2015.",null,null,null,null,null,null,null,null,null,null,null,null,null,null,"VOLVER"]
["DEPARTAMENTO","TOTAL","ÁREA DEMOGRÁFICA"]
[null,null,"URBANA",null,null,null,null,null,null,null,null,"RURAL"]
[null,null,"Total Urbana","CATEGORÍA",null,null,null,null,null,null,"Total Rural","CATEGORÍA"]
[null,null,null,"Común","De Práctica","Tiempo Completo","Aprender","Tiempo Extendido","Unidocente","JICI",null,"con Maestro a cargo","Unidocente","Internado Rural"]
[]
["TOTAL",{"$f":"+C11+K11","v":250483},{"$f":"+D11+E11+F11+G11+H11+I11+J11","v":236014},{"$f":"SUM(D12:D13)","v":81164},45227,35786,67893.000000000015,5583,38,323,{"$f":"L11+M11+N11","v":14469.000000000002},{"$f":"SUM(L12:L13)","v":9757.0000000000018},{"$f":"SUM(M12:M13)","v":4562},{"$f":"SUM(N12:N13)","v":150}]
["MONTEVIDEO",{"$f":"+C12+K12","v":77552},{"$f":"+D12+E12+F12+G12+H12+I12+J12","v":77552},28392.999999999993,6946.9999999999991,10758,29519.000000000011,1754,0,181,{"$f":"+L12+N12","v":0},0,0,0]
["RESTO DEL PAÍS",{"$f":"+C13+K13","v":172931},158462,{"$f":"SUM(D14:D31)","v":52771},38280,25028,38374,3829,38,142,{"$f":"L13+M13+N13","v":14469.000000000002},{"$f":"SUM(L14:L31)","v":9757.0000000000018},{"$f":"SUM(M14:M31)","v":4562},{"$f":"SUM(N14:N31)","v":150}]
["Artigas",{"$f":"C14+K14","v":7471},{"$f":"SUM(D14:J14)","v":6869},1403,1803,1376.9999999999998,2182,104,0,0,{"$f":"SUM(L14:N14)","v":602},448.00000000000006,116,38]
["Canelones",{"$f":"C15+K15","v":42366},{"$f":"SUM(D15:J15)","v":39901},12826,7731,5246,13507,546,0,45,{"$f":"SUM(L15:N15)","v":2465.0000000000005},2130.0000000000005,335,0]
["Cerro Largo",8153,7312,1005,2298,1559,1830.9999999999998,570,0,49,841.00000000000011,499,342.00000000000011,0]
["Colonia",10385,9324,4677.9999999999991,2626,1157,334,529,0,0,1061,659,402,0]
["Durazno",4902,4468,649,1819,903,1097,0,0,0,434,116,318,0]
["Flores",1982,1793,683,515,493,0,102,0,0,189,69,101,19]
["Florida",5777,4939,1809,1484,921,330,395,0,0,838.00000000000011,536.00000000000011,302,0]
["Lavalleja",4430,4034,1746.0000000000002,1274,851,0,144,19,0,396,197,199,0]
["Maldonado",12853,12370,5849.0000000000009,2899,1517,1838,267,0,0,483,337,131,15]
["Paysandú",10693,9746,3010,2682,1521,2533,0,0,0,947.00000000000011,628.00000000000011,280,39]
["Río Negro",5362,4852,2789,1160,684,219,0,0,0,509.99999999999989,333.99999999999994,136.99999999999997,39]
["Rivera",10206,9303,2333,2163,1357,3450.0000000000005,0,0,0,903,601,302.00000000000006,0]
["Rocha",6283,5980,2617,1033,1161,1169,0,0,0,303.00000000000006,102,201.00000000000006,0]
["Salto",12340,11068,1802,3088,2441.9999999999995,3529,207,0,0,1272.0000000000005,1057.0000000000005,214.99999999999997,0]
["San José",9587,8442,4052,1194,1269,1602,306,19,0,1145,803.99999999999989,341.00000000000006,0]
["Soriano",7787,7136,2639,1575,1003.9999999999999,1918.0000000000005,0,0,0,651,344,306.99999999999994,0]
["Tacuarembó",8172.0000000000009,7066.0000000000009,1580,1433,974,2593.0000000000009,486,0,0,1106,744,362,0]
["Treinta y Tres",4182,3859,1301,1503,592,242,173,0,48,323,152,171,0]
["Fuente: Procesamiento propio en base a datos proporcionados por el D.E.E .— C.E.I.P."]

{"sheet":"II-2.2.4","index":23,"n_rows":33,"n_cols":6,"rows_kept":33,"cut":false,"hidden":false,"merged":[[32,0,32,5],[0,4,1,5],[4,0,4,5],[5,0,7,1],[5,2,7,2],[5,3,5,5],[6,3,7,3],[6,4,7,4],[6,5,7,5]]}
["CONSEJO DE EDUCACIÓN PRIMARIA",null,null,null,"Alumnos matriculados"]
[]
["Cuadro Nº II-2.2.4"]
[]
["ALUMNOS MATRICULADOS EN EDUCACIÓN PRIMARIA PÚBLICA ESPECIAL POR TIPO DE DISCAPACIDAD SEGÚN DEPARTAMENTO. AÑO 2015."]
["DEPARTAMENTO",null,"TOTAL","DISCAPACIDAD"]
[null,null,null,"Intelectual","Auditiva","Visual"]
[]
["TOTAL",null,{"$f":"+C11+C12","v":6586},{"$f":"SUM(D11:D12)","v":6174},{"$f":"SUM(E11:E12)","v":296},{"$f":"SUM(F11:F12)","v":116}]
[]
["MONTEVIDEO",null,{"$f":"+D11+E11+F11","v":2615},2420,106,89]
["RESTO DEL PAÍS",null,{"$f":"SUM(C13:C30)","v":3971},{"$f":"SUM(D13:D30)","v":3754},{"$f":"SUM(E13:E30)","v":190},{"$f":"SUM(F13:F30)","v":27}]
["Artigas",null,{"$f":"+D13+E13+F13","v":179},171,8,0]
["Canelones",null,711,677,25,9]
["Cerro Largo",null,237,225,12,0]
["Colonia",null,211,204,7,0]
["Durazno",null,130,122,6,2]
["Flores",null,43,42,1,0]
["Florida",null,145,140,5,0]
["Lavalleja",null,155,153,2,0]
["Maldonado",null,293,265,28,0]
["Paysandú",null,244,223,15,6]
["Río Negro",null,164,160,4,0]
["Rivera",null,191,176,15,0]
["Rocha",null,293,240,50,3]
["Salto",null,294,290,0,4]
["San José",null,204,198,6,0]
["Soriano",null,199,197,2,0]
["Tacuarembó",null,180,175,2,3]
["Treinta y Tres",null,98,96,2,0]
["Fuente: D.E.E. — C.E.P."]
["Nota:  Incluyen Escuelas Especiales y Clases Especiales en Escuelas Comunes."]
["Para el interior del país las clases orientadas a discapacitados visuales y para Personas sordas y con alteraciones del lenguaje se realizan en Escuelas Comunes, excepto en Maldonado, Rivera y Salto donde funcionan Escuelas para personas sordas y con alteraciones del lenguaje."]

{"sheet":"II-2.2.5","index":24,"n_rows":32,"n_cols":44,"rows_kept":32,"cut":false,"hidden":false,"merged":[[8,40,9,40],[8,41,9,41],[8,42,9,42],[8,43,9,43],[8,34,9,34],[8,35,9,35],[8,36,9,36],[8,37,9,37],[8,38,9,38],[8,39,9,39],[8,20,9,20],[8,33,9,33],[8,22,9,22],[8,23,9,23],[8,24,9,24],[8,25,9,25],[8,26,9,26],[8,27,9,27],[8,28,9,28],[8,29,9,29],[8,30,9,30],[8,31,9,31],[8,32,9,32],[8,4,9,4],[8,5,9,5],[8,6,9,6],[8,7,9,7],[8,8,9,8],[8,9,9,9],[6,34,6,35],[6,36,6,37],[6,38,6,39],[6,40,6,41],[8,21,9,21],[8,10,9,10],[8,11,9,11],[8,12,9,12],[8,13,9,13],[8,14,9,14],[8,15,9,15],[8,16,9,16],[8,17,9,17],[8,18,9,18],[8,19,9,19],[6,30,6,31],[6,32,6,33],[6,10,6,11],[6,12,6,13],[6,14,6,15],[6,16,6,17],[6,18,6,19],[6,20,6,21],[0,13,1,17],[4,0,4,15],[5,0,9,0],[5,1,9,1],[5,2,9,2],[5,3,9,3],[5,4,5,43],[6,4,6,5],[6,6,6,7],[6,8,6,9],[6,42,6,43],[7,4,7,43],[6,22,6,23],[6,24,6,25],[6,26,6,27],[6,28,6,29]]}
["CONSEJO DE EDUCACIÓN PRIMARIA",null,null,null,null,null,null,null,null,null,null,null,null,"ALUMNOS MATRICULADOS"]
[]
["Cuadro Nº II-2.2.5"]
[]
["ALUMNOS MATRICULADOS EN EDUCACIÓN ESPECIAL PÚBLICA POR EDADES SIMPLES Y SEXO SEGÚN DEPARTAMENTO. AÑO 2015."]
["DEPARTAMENTO","TOTAL GENERAL","TOTAL MASCULINO","TOTAL FEMENINO","EDAD"]
[null,null,null,null,"Menos de 3 años",null,"3 años",null,"4 años",null,"5 años",null,"6 años",null,"7 años",null,"8 años",null,"9 años",null,"10 años",null,"11 años",null,"12 años",null,"13 años",null,"14 años",null,"15 años",null,"16 años",null,"17 años",null,"18 años",null,"19 años",null,"20 años",null,"21 años"]
[null,null,null,null,"SEXO"]
[null,null,null,null,"M","F","M","F","M","F","M","F","M","F","M","F","M","F","M","F","M","F","M","F","M","F","M","F","M","F","M","F","M","F","M","F","M","F","M","F","M","F","M","F"]
[]
["TOTAL",{"$f":"C11+D11","v":6586},{"$f":"E11+G11+I11+K11+M11+O11+Q11+S11+U11+W11+Y11+AA11+AC11+AE11+AG11+AI11+AK11+AM11+AO11+AQ11","v":4064},{"$f":"F11+H11+J11+L11+N11+P11+R11+T11+V11+X11+Z11+AB11+AD11+AF11+AH11+AJ11+AL11+AN11+AP11+AR11","v":2522},{"$f":"SUM(E12:E13)","v":6},3,15,9,43,16,56,43,133,88,257,141,{"$f":"SUM(Q12:Q13)","v":329},209,375,215,465,271,427,299,494,292,474,283,400,241,231,161,161,114,99,58,40,33,34,24,18,8,7,14]
["MONTEVIDEO",{"$f":"C12+D12","v":2615},{"$f":"E12+G12+I12+K12+M12+O12+Q12+S12+U12+W12+Y12+AA12+AC12+AE12+AG12+AI12+AK12+AM12+AO12+AQ12","v":1599},1016,3,2,8,7,17,6,21,24,47,32,83,41,118,89,123,79,184,100,155,119,197,126,190,96,144,97,105,62,80,54,53,28,28,24,26,15,12,5,5,10]
["RESTO DEL PAÍS",3971,2465,1506,{"$f":"SUM(E14:E31)","v":3},1,7,2,26,10,35,19,86,56,174,100,211,120,252,136,281,171,272,180,297,166,284,187,256,144,126,99,81,60,46,30,12,9,8,9,6,3,2,4]
["Artigas",179,113,66,0,0,0,0,1,1,1,0,2,2,3,6,14,1,6,5,16,11,13,7,16,2,9,13,16,7,5,6,10,5,1,0,0,0,0,0,0,0,0,0]
["Canelones",711,448,263,0,0,2,0,5,2,5,5,19,9,33,24,34,22,45,22,65,35,58,35,47,36,57,28,41,14,15,12,11,12,7,5,0,0,0,1,2,1,2,0]
["Cerro Largo",237,145,92,0,0,1,0,0,0,4,1,6,4,13,5,8,7,15,8,19,8,14,9,23,8,14,18,11,7,5,4,8,5,0,4,2,1,2,3,0,0,0,0]
["Colonia",211,132,79,0,1,0,0,2,1,4,1,5,9,4,5,5,6,14,5,10,8,17,5,12,11,21,8,19,7,11,4,5,5,2,1,0,1,1,0,0,0,0,1]
["Durazno",130,84,46,0,0,0,0,0,0,0,0,1,1,9,3,6,3,3,4,9,3,9,4,8,10,13,3,11,10,2,1,4,0,5,2,0,0,1,0,3,2,0,0]
["Flores",43,29,14,0,0,0,0,0,0,0,0,1,0,2,0,2,2,5,2,1,2,4,2,1,0,2,1,5,1,3,4,1,0,1,0,1,0,0,0,0,0,0,0]
["Florida",145,88,57,0,0,0,0,0,0,2,0,3,1,8,5,6,2,5,6,14,10,16,7,10,9,14,9,7,3,2,1,0,1,0,2,1,0,0,0,0,0,0,1]
["Lavalleja",155,99,56,0,0,0,0,1,0,3,2,1,2,3,2,9,1,7,7,12,5,3,7,8,4,11,5,10,7,11,3,8,5,10,4,1,2,1,0,0,0,0,0]
["Maldonado",293,170,123,2,0,3,0,6,1,2,2,7,2,13,7,15,7,24,16,16,21,14,16,22,14,18,13,12,10,8,8,3,2,3,1,2,1,0,1,0,0,0,1]
["Paysandú",244,155,89,0,0,1,0,1,1,2,2,10,3,9,4,21,13,30,8,18,7,14,11,17,11,12,6,9,11,9,8,1,1,1,2,0,0,0,1,0,0,0,0]
["Río Negro",164,105,59,0,0,0,0,0,0,0,0,4,3,12,5,16,5,13,6,16,3,6,9,12,6,10,8,7,5,7,5,2,2,0,1,0,1,0,0,0,0,0,0]
["Rivera",191,116,75,0,0,0,0,0,1,1,0,2,2,6,5,6,9,12,8,9,10,18,9,22,9,15,13,14,5,3,3,4,1,2,0,1,0,1,0,0,0,0,0]
["Rocha",243,152,91,0,0,0,0,1,1,3,0,8,4,17,5,16,11,14,8,14,14,20,17,22,5,10,7,10,6,5,3,3,3,3,2,3,3,2,2,1,0,0,0]
["Salto",344,212,132,1,0,0,2,7,1,5,5,5,5,16,11,20,10,19,8,17,8,18,12,22,11,23,14,37,20,17,19,4,4,1,2,0,0,0,0,0,0,0,0]
["San José",204,131,73,0,0,0,0,0,0,0,0,2,2,6,2,6,6,15,8,16,7,17,7,20,9,24,17,17,9,4,5,2,1,2,0,0,0,0,0,0,0,0,0]
["Soriano",199,122,77,0,0,0,0,1,1,2,1,5,2,8,4,12,5,12,5,12,5,13,13,16,13,10,8,17,11,7,7,3,0,3,1,1,0,0,0,0,0,0,1]
["Tacuarembó",180,113,67,0,0,0,0,1,0,1,0,3,4,10,3,11,6,10,9,11,5,12,4,14,8,10,12,8,8,11,0,7,5,4,3,0,0,0,0,0,0,0,0]
["Treinta y Tres",98,51,47,0,0,0,0,0,0,0,0,2,1,2,4,4,4,3,1,6,9,6,6,5,0,11,4,5,3,1,6,5,8,1,0,0,0,0,1,0,0,0,0]
["Fuente: Procesamiento propio en base a datos proporcionados por el DEE — CEIP"]

{"sheet":"II-2.2.6","index":25,"n_rows":126,"n_cols":46,"rows_kept":126,"cut":false,"hidden":false,"merged":[[0,4,1,5],[4,0,4,5],[5,0,8,0],[5,1,5,5],[6,1,8,1],[6,2,6,4],[6,5,8,5],[7,2,8,2],[7,3,8,3],[7,4,8,4]]}
["CONSEJO DE EDUCACIÓN PRIMARIA",null,null,null,"ALUMNOS MATRICULADOS"]
[]
["Cuadro Nº II-2.2.6"]
[]
["ALUMNOS MATRICULADOS EN EDUCACIÓN PRIMARIA PRIVADA POR TIPO DE EDUCACIÓN SEGÚN DEPARTAMENTO. AÑO 2015."]
["DEPARTAMENTO","TIPO DE EDUCACIÓN"]
[null,"TOTAL","EDUCACIÓN COMÚN",null,null,"EDUCACIÓN ESPECIAL"]
[null,null,"Total","Habilitados","Autorizados"]
[]
["TOTAL DEL PAÍS",{"$f":"SUM(B11:B12)","v":56982},{"$f":"+D10+E10","v":53577},{"$f":"D11+D12","v":50969},{"$f":"E11+E12","v":2608},{"$f":"F11+F12","v":3405}]
["MONTEVIDEO",{"$f":"+C11+F11","v":35214},{"$f":"+D11+E11","v":32939},30776,2163,2275,null,null,null,null,null,null,null,null,null,null,null,null,null,null,null,null,null,null,null,null,null,null,null,null,null,null,null,null,null,null,null,null,null,null,null,null,null,null,null,"MONTEVIDEO"]
["RESTO DEL PAÍS",{"$f":"+C12+F12","v":21768},{"$f":"+D12+E12","v":20638},{"$f":"SUM(D13:D30)","v":20193},{"$f":"SUM(E13:E30)","v":445},{"$f":"SUM(F13:F30)","v":1130},null,null,null,null,null,null,null,null,null,null,null,null,null,null,null,null,null,null,null,null,null,null,null,null,null,null,null,null,null,null,null,null,null,null,null,null,null,null,null,"RESTO DEL PAÍS"]
["Artigas",{"$f":"+C13+F13","v":314},{"$f":"+D13+E13","v":184},184,0,130,null,null,null,null,null,null,null,null,null,null,null,null,null,null,null,null,null,null,null,null,null,null,null,null,null,null,null,null,null,null,null,null,null,null,null,null,null,null,null,"Artigas"]
["Canelones",7591,{"$f":"+D14+E14","v":7484},7072,412,107,null,null,null,null,null,null,null,null,null,null,null,null,null,null,null,null,null,null,null,null,null,null,null,null,null,null,null,null,null,null,null,null,null,null,null,null,null,null,null,"Canelones"]
["Cerro Largo",627,627,627,0,0,null,null,null,null,null,null,null,null,null,null,null,null,null,null,null,null,null,null,null,null,null,null,null,null,null,null,null,null,null,null,null,null,null,null,null,null,null,null,null,"Cerro Largo"]
["Colonia",772,762,762,0,10,null,null,null,null,null,null,null,null,null,null,null,null,null,null,null,null,null,null,null,null,null,null,null,null,null,null,null,null,null,null,null,null,null,null,null,null,null,null,null,"Colonia"]
["Durazno",616,616,616,0,0,null,null,null,null,null,null,null,null,null,null,null,null,null,null,null,null,null,null,null,null,null,null,null,null,null,null,null,null,null,null,null,null,null,null,null,null,null,null,null,"Durazno"]
["Flores",275,275,275,0,0,null,null,null,null,null,null,null,null,null,null,null,null,null,null,null,null,null,null,null,null,null,null,null,null,null,null,null,null,null,null,null,null,null,null,null,null,null,null,null,"Flores"]
["Florida",347,256,256,0,91,null,null,null,null,null,null,null,null,null,null,null,null,null,null,null,null,null,null,null,null,null,null,null,null,null,null,null,null,null,null,null,null,null,null,null,null,null,null,null,"Florida"]
["Lavalleja",645,645,645,0,0,null,null,null,null,null,null,null,null,null,null,null,null,null,null,null,null,null,null,null,null,null,null,null,null,null,null,null,null,null,null,null,null,null,null,null,null,null,null,null,"Lavalleja"]
["Maldonado",3939,3844,3844,0,95,null,null,null,null,null,null,null,null,null,null,null,null,null,null,null,null,null,null,null,null,null,null,null,null,null,null,null,null,null,null,null,null,null,null,null,null,null,null,null,"Maldonado"]
["Paysandú",1310,1221,1221,0,89,null,null,null,null,null,null,null,null,null,null,null,null,null,null,null,null,null,null,null,null,null,null,null,null,null,null,null,null,null,null,null,null,null,null,null,null,null,null,null,"Paysandú"]
["Río Negro",679,538,518,20,141,null,null,null,null,null,null,null,null,null,null,null,null,null,null,null,null,null,null,null,null,null,null,null,null,null,null,null,null,null,null,null,null,null,null,null,null,null,null,null,"Río Negro"]
["Rivera",595,595,595,0,0,null,null,null,null,null,null,null,null,null,null,null,null,null,null,null,null,null,null,null,null,null,null,null,null,null,null,null,null,null,null,null,null,null,null,null,null,null,null,null,"Rivera"]
["Rocha",352,352,352,0,0,null,null,null,null,null,null,null,null,null,null,null,null,null,null,null,null,null,null,null,null,null,null,null,null,null,null,null,null,null,null,null,null,null,null,null,null,null,null,null,"Rocha"]
["Salto",1450,1196,1196,0,254.00000000000003,null,null,null,null,null,null,null,null,null,null,null,null,null,null,null,null,null,null,null,null,null,null,null,null,null,null,null,null,null,null,null,null,null,null,null,null,null,null,null,"Salto"]
["San José",761,761,748,13,0,null,null,null,null,null,null,null,null,null,null,null,null,null,null,null,null,null,null,null,null,null,null,null,null,null,null,null,null,null,null,null,null,null,null,null,null,null,null,null,"San José"]
["Soriano",674,461,461,0,213,null,null,null,null,null,null,null,null,null,null,null,null,null,null,null,null,null,null,null,null,null,null,null,null,null,null,null,null,null,null,null,null,null,null,null,null,null,null,null,"Soriano"]
["Tacuarembó",657,657,657,0,0,null,null,null,null,null,null,null,null,null,null,null,null,null,null,null,null,null,null,null,null,null,null,null,null,null,null,null,null,null,null,null,null,null,null,null,null,null,null,null,"Tacuarembó"]
["Treinta y Tres",164,164,164,0,0,null,null,null,null,null,null,null,null,null,null,null,null,null,null,null,null,null,null,null,null,null,null,null,null,null,null,null,null,null,null,null,null,null,null,null,null,null,null,null,"Treinta y Tres"]
["Fuente: Procesamiento propio en base a datos proporcionados por el D.E.E. — C.E.I.P."]
["Nota: Especial incluye la matrícula de clases especiales en escuelas comunes, "]
["      Instrucción Temprana, Educación Inicial, Preparatorio y Talleres"]
[]
[]
[]
[]
[]
[]
[]
[]
[]
[]
[]
[]
[]
[]
[]
[]
[]
[]
[]
[]
[]
[]
[]
[]
[]
[]
[]
[]
[]
[]
[]
[]
[]
[]
[]
[]
[]
[]
[]
[]
[]
[]
[]
[]
[]
[]
[]
[]
[]
[]
[]
[]
[]
[]
[]
[]
[]
[]
[]
[]
[]
[]
[]
[]
[]
[]
[]
[]
[]
[]
[]
[]
[]
["30025 "," 2163",2209]
[19484,397,1758]
[92,0,162]
[6669,344,0]
[615,0,0]
[724,0,0]
[634,0,0]
[361,0,7]
[296,0,62]
[615,0,0]
[3879,0,141]
[1175,0,276]
[428,33,149]
[673,0,7]
[413,0,87]
[1089,0,208]
[556,20,0]
[435,0,659]
[643,0,0]
[187,0,0]

{"sheet":"II-2.2.7","index":26,"n_rows":32,"n_cols":44,"rows_kept":32,"cut":false,"hidden":false,"merged":[[8,40,9,40],[8,41,9,41],[8,42,9,42],[8,43,9,43],[8,34,9,34],[8,35,9,35],[8,36,9,36],[8,37,9,37],[8,38,9,38],[8,39,9,39],[8,20,9,20],[8,33,9,33],[8,22,9,22],[8,23,9,23],[8,24,9,24],[8,25,9,25],[8,26,9,26],[8,27,9,27],[8,28,9,28],[8,29,9,29],[8,30,9,30],[8,31,9,31],[8,32,9,32],[8,4,9,4],[8,5,9,5],[8,6,9,6],[8,7,9,7],[8,8,9,8],[8,9,9,9],[6,34,6,35],[6,36,6,37],[6,38,6,39],[6,40,6,41],[8,21,9,21],[8,10,9,10],[8,11,9,11],[8,12,9,12],[8,13,9,13],[8,14,9,14],[8,15,9,15],[8,16,9,16],[8,17,9,17],[8,18,9,18],[8,19,9,19],[6,30,6,31],[6,32,6,33],[6,10,6,11],[6,12,6,13],[6,14,6,15],[6,16,6,17],[6,18,6,19],[6,20,6,21],[4,0,4,17],[0,13,1,20],[5,0,9,0],[5,1,9,1],[5,2,9,2],[5,3,9,3],[5,4,5,43],[6,4,6,5],[6,6,6,7],[6,8,6,9],[6,42,6,43],[7,4,7,43],[6,22,6,23],[6,24,6,25],[6,26,6,27],[6,28,6,29]]}
["CONSEJO DE EDUCACIÓN PRIMARIA",null,null,null,null,null,null,null,null,null,null,null,null,"ALUMNOS MATRICULADOS"]
[]
["Cuadro Nº II-2.2.7"]
[]
["ALUMNOS MATRICULADOS EN EDUCACIÓN ESPECIAL PRIVADA POR EDADES SIMPLES Y SEXO SEGÚN DEPARTAMENTO. AÑO 2015."]
["DEPARTAMENTO","TOTAL GENERAL","TOTAL MASCULINO","TOTAL FEMENINO","EDAD"]
[null,null,null,null,"Menos de 3 años",null,"3 años",null,"4 años",null,"5 años",null,"6 años",null,"7 años",null,"8 años",null,"9 años",null,"10 años",null,"11 años",null,"12 años",null,"13 años",null,"14 años",null,"15 años",null,"16 años",null,"17 años",null,"18 años",null,"19 años",null,"20 años",null,"21 años"]
[null,null,null,null,"SEXO"]
[null,null,null,null,"M","F","M","F","M","F","M","F","M","F","M","F","M","F","M","F","M","F","M","F","M","F","M","F","M","F","M","F","M","F","M","F","M","F","M","F","M","F","M","F"]
[]
["TOTAL",{"$f":"C11+D11","v":3405},{"$f":"E11+G11+I11+K11+M11+O11+Q11+S11+U11+W11+Y11+AA11+AC11+AE11+AG11+AI11+AK11+AM11+AO11+AQ11","v":1854},{"$f":"F11+H11+J11+L11+N11+P11+R11+T11+V11+X11+Z11+AB11+AD11+AF11+AH11+AJ11+AL11+AN11+AP11+AR11","v":1551},{"$f":"SUM(E12:E13)","v":16},13,29,7,21,24.999999999999996,43,21.999999999999993,96.000000000000043,29.999999999999996,110,64.000000000000014,114,56,110.99999999999999,62.000000000000021,101,68,123.00000000000003,68,74.999999999999986,55,65,43,67,57,68,42,68,50,65,46,51,42,48,93,34,158.99999999999997,549,549]
["MONTEVIDEO",{"$f":"C12+D12","v":2275},{"$f":"E12+G12+I12+K12+M12+O12+Q12+S12+U12+W12+Y12+AA12+AC12+AE12+AG12+AI12+AK12+AM12+AO12+AQ12","v":1238.0000000000002},{"$f":"F12+H12+J12+L12+N12+P12+R12+T12+V12+X12+Z12+AB12+AD12+AF12+AH12+AJ12+AL12+AN12+AP12+AR12","v":1037},1.0000000000000004,3.0000000000000004,11,3.0000000000000004,15.999999999999998,16.999999999999996,29.999999999999996,17.999999999999993,75.000000000000043,20.999999999999996,89,46.000000000000014,87,33,87.999999999999986,41.000000000000021,74,44,94.000000000000028,51,53.999999999999986,31.999999999999996,36,24.000000000000004,32.999999999999993,30.000000000000004,28.000000000000004,18,26.999999999999996,15,30.999999999999996,25.999999999999996,36,24,20.000000000000004,63.999999999999993,10.000000000000002,136.99999999999997,398.00000000000006,390.00000000000006]
["RESTO DEL PAÍS",1130,616,514,{"$f":"SUM(E14:E31)","v":15},{"$f":"SUM(F14:F31)","v":10},18,4,5,8,13,{"$f":"SUM(L14:L31)","v":4},21,9,21,18,27,23,23,21,27,24,29,17,21,23,29,19,34,27,40,24,41,35,34,20,15,18,28,29,24,22,151,159]
["Artigas",130,71,59,0,0,0,0,0,0,0,0,0,0,1,0,0,0,1,0,2,1,1,1,0,0,2,2,3,3,3,1,12,3,7,2,4,2,4,3,2,2,29,39]
["Canelones",107,61,46,3,2,3,2,0,0,3,2,0,0,1,0,1,1,0,0,0,1,0,0,0,0,1,0,2,1,4,5,3,5,5,2,2,1,4,3,5,3,24,18]
["Cerro Largo",0,0,0,0,0,0,0,0,0,0,0,0,0,0,0,0,0,0,0,0,0,0,0,0,0,0,0,0,0,0,0,0,0,0,0,0,0,0,0,0,0,0,0]
["Colonia",10,5,5,0,0,0,0,0,0,0,0,0,0,0,0,0,0,0,0,0,0,0,0,0,0,0,0,0,0,1,1,0,0,1,0,0,1,1,0,0,0,2,3]
["Durazno",0,0,0,0,0,0,0,0,0,0,0,0,0,0,0,0,0,0,0,0,0,0,0,0,0,0,0,0,0,0,0,0,0,0,0,0,0,0,0,0,0,0,0]
["Flores",0,0,0,0,0,0,0,0,0,0,0,0,0,0,0,0,0,0,0,0,0,0,0,0,0,0,0,0,0,0,0,0,0,0,0,0,0,0,0,0,0,0,0]
["Florida",91,48,43,3,4,6,0,0,2,3,0,3,1,4,1,2,1,3,1,3,4,1,2,1,2,2,2,0,1,2,3,1,1,2,1,0,0,0,2,1,0,11,15]
["Lavalleja",0,0,0,0,0,0,0,0,0,0,0,0,0,0,0,0,0,0,0,0,0,0,0,0,0,0,0,0,0,0,0,0,0,0,0,0,0,0,0,0,0,0,0]
["Maldonado",95,51,44,1,1,0,0,0,1,1,0,0,1,0,2,2,2,1,2,0,0,2,1,2,4,2,2,6,2,4,2,4,3,3,2,2,2,4,5,4,3,13.000000000000002,9]
["Paysandú",89,55,34,0,0,0,0,0,0,0,0,0,0,0,0,2,1,0,0,2,1,4,2,6,1,7,2,5,1,8,2,6,6,1,1,0,2,0,3,0,3,14,9]
["Río Negro",141,83,58,8,3,9,2,3,3,2,1,10,5,7,11,8,7,11,8,12,10,9,5,4,3,0,0,0,0,0,0,0,0,0,0,0,0,0,0,0,0,0,0]
["Rivera",0,0,0,0,0,0,0,0,0,0,0,0,0,0,0,0,0,0,0,0,0,0,0,0,0,0,0,0,0,0,0,0,0,0,0,0,0,0,0,0,0,0,0]
["Rocha",0,0,0,0,0,0,0,0,0,0,0,0,0,0,0,0,0,0,0,0,0,0,0,0,0,0,0,0,0,0,0,0,0,0,0,0,0,0,0,0,0,0,0]
["Salto",254,135,119,0,0,0,0,2,2,4,1,8,2,8,4,12,11,7,10,8,7,12,6,8,12,12,9,14,13,10,7,4,6,8,7,4,5,4,6,3,2,7,9]
["San José",0,0,0,0,0,0,0,0,0,0,0,0,0,0,0,0,0,0,0,0,0,0,0,0,0,0,0,0,0,0,0,0,0,0,0,0,0,0,0,0,0,0,0]
["Soriano",213,107,106,0,0,0,0,0,0,0,0,0,0,0,0,0,0,0,0,0,0,0,0,0,1,3,2,4,6,8,3,11,11,7,5,3,5,11,7,9,9,51,57]
["Tacuarembó",0,0,0,0,0,0,0,0,0,0,0,0,0,0,0,0,0,0,0,0,0,0,0,0,0,0,0,0,0,0,0,0,0,0,0,0,0,0,0,0,0,0,0]
["Treinta y Tres",0,0,0,0,0,0,0,0,0,0,0,0,0,0,0,0,0,0,0,0,0,0,0,0,0,0,0,0,0,0,0,0,0,0,0,0,0,0,0,0,0,0,0]
["Fuente: Procesamiento propio en base a datos proporcionados por el DEE — CEIP"]

{"sheet":"II-2.2.8","index":27,"n_rows":22,"n_cols":15,"rows_kept":22,"cut":false,"hidden":false,"merged":[[6,11,7,12],[6,13,7,14],[8,3,8,14],[0,12,1,14],[2,0,3,1],[4,0,4,14],[5,0,9,0],[5,3,5,14],[6,1,8,2],[6,3,7,4],[6,5,7,6],[6,7,7,8],[6,9,7,10]]}
["CONSEJO DE EDUCACIÓN PRIMARIA",null,null,null,null,null,null,null,null,null,null,null,"ALUMNOS MATRICULADOS"]
[]
["Cuadro Nº II-2.2.8"]
[]
["ALUMNOS MATRICULADOS EN EDUCACIÓN PRIMARIA COMÚN POR GRADO Y FORMA DE ADMINISTRACIÓN SEGÚN EDAD. AÑO 2015."]
["EDAD",null,null,"GRADO"]
[null,"TOTAL",null,"Primero",null,"Segundo",null,"Tercero",null,"Cuarto",null,"Quinto",null,"Sexto"]
[]
[null,null,null,"FORMA DE ADMINISTRACIÓN"]
[null,"Pública","Privada","Pública","Privada","Pública","Privada","Pública","Privada","Pública","Privada","Pública","Privada","Pública","Privada"]
["TOTAL",{"$f":"SUM(B12:B20)","v":250160},{"$f":"SUM(C12:C20)","v":53577},{"$f":"SUM(D12:D20)","v":43216},{"$f":"SUM(E12:E20)","v":9352},{"$f":" SUM(F12:F20)","v":40912},{"$f":"SUM(G12:G20)","v":8845},{"$f":"SUM(H12:H20)","v":40936},9105,{"$f":"SUM(J12:J20)","v":40202},8745,{"$f":"SUM(L12:L20)","v":42421},8824,{"$f":"SUM(N12:N20)","v":42473},8706]
["6  años",{"$f":"+D12+F12+H12+J12+L12+N12","v":37061},{"$f":"+E12","v":8004},37061,8004,0,0,0,0,0,0,0,0,0,0]
["7  años",37082,{"$f":"+E13+G13","v":8734},5608,1299,31474,7435,0,0,0,0,0,0,0,0]
["8  años",37285,{"$f":"+E14+G14+I14","v":8987},444,42,7641,1344,29200,7601,0,0,0,0,0,0]
["9  años",39177,{"$f":"+E15+G15+I15+K15","v":8754},59,4,1527,53,9045,1410,28546,7287,0,0,0,0]
["10 años",40035,{"$f":"+E16+G16+I16+K16+M16","v":8758},9,2,172,7,2100,84,7807,1350,29947,7315,0,0]
["11 años",40196,{"$f":"+E17+G17+I17+K17+M17+O17","v":8538},18,0,50,6,397,7,2597,88,7685,1409,29449,7028]
["12 años",11591,{"$f":"+E18+G18+I18+K18+M18+O18","v":1637},2,0,22,0,121,2,748,11,2728,77,7970,1547]
["13 años",4474,{"$f":"+E19+G19+I19+K19+M19+O19","v":117},2,0,20,0,52,0,308,1,1263,19,2829,97]
["14 años y más",3259,{"$f":"+E20+G20+I20+K20+M20+O20","v":48},13,1,6,0,21,1,196,8,798,4,2225,34]
["Fuente: Procesamiento propio en base a datos proporcionados por el D.E.E .— C.E.I.P."]
["Nota:   Primaria Pública no incluye la matrícula correspondiente a JICI "]

{"sheet":"II-2.2.9","index":28,"n_rows":20,"n_cols":16,"rows_kept":20,"cut":false,"hidden":false,"merged":[[5,14,5,15],[6,4,6,15],[0,12,1,15],[3,0,3,15],[4,0,7,0],[4,4,4,15],[5,2,6,3],[5,4,5,5],[5,6,5,7],[5,8,5,9],[5,10,5,11],[5,12,5,13]]}
["CONSEJO DE EDUCACIÓN PRIMARIA",null,null,null,null,null,null,null,null,null,null,null,"ALUMNOS MATRICULADOS"]
[]
["Cuadro Nº II-2.2.9"]
["ALUMNOS MATRICULADOS EN EDUCACIÓN PRIMARIA COMÚN PÚBLICA POR GRADO Y SEXO SEGÚN EDAD. AÑO 2015."]
["EDAD",null,null,null,"GRADO"]
[null,null,"TOTAL SEXO",null,"Primero",null,"Segundo",null,"Tercero",null,"Cuarto",null,"Quinto",null,"Sexto"]
[null,null,null,null,"SEXO"]
[null,"TOTAL","M","F","M","F","M","F","M","F","M","F","M","F","M","F"]
["TOTAL",{"$f":"+C9+D9","v":250160},{"$f":"SUM(E9+G9+I9+K9+M9+O9)","v":129042},{"$f":"+F9+H9+J9+L9+N9+P9","v":121118},{"$f":"SUM(E10:E18)","v":22765},20451,20903,20009,21001,19935,20691,19511,{"$f":"SUM(M10:M18)","v":21979},{"$f":"SUM(N10:N18)","v":20442},21703,20770]
["6  años",{"$f":"+C10+D10","v":37061},{"$f":"SUM(E10+G10+I10+K10+M10+O10)","v":18950},{"$f":"+F10+H10+J10+L10+N10+P10","v":18111},18950,18111,0,0,0,0,0,0,0,0,0,0]
["7  años",{"$f":"+C11+D11","v":37082},{"$f":"SUM(E11+G11+I11+K11+M11+O11)","v":18813},{"$f":"+F11+H11+J11+L11+N11+P11","v":18269},3474,2134,15339,16135,0,0,0,0,0,0,0,0]
["8  años",37285,18964,18321,286,158,4488,3153,14190,15010,0,0,0,0,0,0]
["9  años",{"$f":"+C13+D13","v":39177},{"$f":"SUM(E13+G13+I13+M13+K13+O13)","v":19959},{"$f":"+F13+H13+J13+N13+L13+P13","v":19218},31,28,923,604,5157,3888,13848,14698,0,0,0,0]
["10 años",40035,{"$f":"SUM(E14+G14+I14+M14+K14+O14)","v":20657},{"$f":"+F14+H14+J14+N14+L14+P14","v":19378},6,3,94,78,1284,816,4572,3235,14701,15246,0,0]
["11 años",40196,20543,{"$f":"+F15+H15+J15+N15+L15+P15","v":19653},10,8,32,18,261,136,1541,1056,4504,3181,14195,15254]
["12 años",11591,6758,4833,1,1,15,7,70,51,425,323,1633,1095,4614,3356]
["13 años",4474,2661,1813,1,1,9,11,32,20,184,124,716,547,1719,1110]
["14 años y más",3259,1737,1522,6,7,3,3,7,14,121,75,425,373,1175,1050]
["Fuente: Procesamiento propio en base a datos proporcionados por el D.E.E. — C.E.I.P."]
["Nota:   Primaria Pública no incluye la matrícula correspondiente a JICI "]

{"sheet":"II-2.2.10","index":29,"n_rows":19,"n_cols":16,"rows_kept":19,"cut":false,"hidden":false,"merged":[[5,12,5,13],[5,14,5,15],[6,4,6,15],[0,12,1,15],[2,0,2,2],[3,0,3,15],[4,0,7,0],[4,4,4,15],[5,1,6,3],[5,4,5,5],[5,6,5,7],[5,8,5,9],[5,10,5,11]]}
["CONSEJO DE EDUCACIÓN PRIMARIA",null,null,null,null,null,null,null,null,null,null,null,"ALUMNOS MATRICULADOS"]
[]
["Cuadro Nº II-2.2.10"]
["ALUMNOS MATRICULADOS EN EDUCACIÓN PRIMARIA COMÚN PRIVADA POR GRADO Y SEXO SEGÚN EDAD. AÑO 2015."]
["EDAD",null,null,null,"GRADO"]
[null,"TOTAL SEXO",null,null,"Primero",null,"Segundo",null,"Tercero",null,"Cuarto",null,"Quinto",null,"Sexto"]
[null,null,null,null,"SEXO"]
[null,"TOTAL","M","F","M","F","M","F","M","F","M","F","M","F","M","F"]
["TOTAL",{"$f":"C9+D9","v":53577},{"$f":"SUM(C10:C18)","v":27192},{"$f":"SUM(D10:D18)","v":26385},4865,4487,4464,4381,4614,4491,4437,4308,4406,4418,4406,4300]
["6  años",{"$f":"C10+D10","v":8004},{"$f":"E10+G10+I10+K10+M10+O10","v":4106},{"$f":"F10+H10+J10+L10+N10+P10","v":3898},4106,3898,0,0,0,0,0,0,0,0,0,0]
["7  años",8734,{"$f":"E11+G11+I11+K11+M11+O11","v":4430},4304,725,574,3705,3730,0,0,0,0,0,0,0,0]
["8  años",8987,4582,4405,28,14,722,622,3832,3769,0,0,0,0,0,0]
["9  años",8754,4426,4328,4,0,30,23,729,681,3663,3624,0,0,0,0]
["10 años",8758,4353,4405,2,0,4,3,47,37,705,645,3595,3720,0,0]
["11 años",8538,4309,4229,0,0,3,3,4,3,57,31,744,665,3501,3527]
["12 años",1637,890,747,0,0,0,0,2,0,7,4,49,28,832,715]
["13 años",117,73,44,0,0,0,0,0,0,1,0,17,2,55,42]
["14 años y más",48,23,25,0,1,0,0,0,1,4,4,1,3,18,16]
["Fuente: Procesamiento propio en base a datos proporcionados por el D.E.E. — C.E.I.P."]

{"sheet":"II-2.2.11","index":30,"n_rows":33,"n_cols":15,"rows_kept":33,"cut":false,"hidden":false,"merged":[[8,9,9,9],[8,10,9,10],[8,11,9,11],[8,12,9,12],[8,13,9,13],[8,4,9,4],[8,5,9,5],[8,6,9,6],[8,7,9,7],[8,8,9,8],[0,12,1,14],[4,0,4,14],[5,0,9,0],[5,1,5,14],[6,1,7,2],[6,3,6,4],[6,5,6,6],[6,7,6,8],[6,9,6,10],[6,11,6,12],[8,14,9,14],[6,13,6,14],[7,3,7,14],[8,1,9,1],[8,2,9,2],[8,3,9,3]]}
["CONSEJO DE EDUCACIÓN PRIMARIA",null,null,null,null,null,null,null,null,null,null,null,"ALUMNOS MATRICULADOS"]
[]
["Cuadro Nº II-2.2.11"]
[]
["ALUMNOS MATRICULADOS EN EDUCACIÓN PRIMARIA COMÚN POR GRADO Y FORMA DE ADMINISTRACIÓN SEGÚN DEPARTAMENTO. AÑO 2015."]
["DEPARTAMENTO","GRADO"]
[null,"TOTAL",null,"Primero",null,"Segundo",null,"Tercero",null,"Cuarto",null,"Quinto",null,"Sexto"]
[null,null,null,"FORMA DE ADMINISTRACIÓN"]
[null,"Pública","Privada","Pública","Privada","Pública","Privada","Pública","Privada","Pública","Privada","Pública","Privada","Pública","Privada"]
[]
["TOTAL",{"$f":"SUM(B12:B13)","v":250160},53577.000000000007,43216,9352.0000000000018,40912,8844.9999999999982,40936,9104.9999999999982,40202,8745.0000000000036,42421,8823.9999999999964,42473,8706.0000000000036]
["MONTEVIDEO",{"$f":"+D12+F12+H12+J12+L12+N12","v":77371},{"$f":"+E12+G12+I12+K12+M12+O12","v":32939.000000000007},14148,5768.0000000000018,13034,5460.9999999999982,12798,5596.9999999999982,12342,5375.0000000000036,12472,5417.9999999999973,12577,5320.0000000000045]
["RESTO DEL PAÍS",{"$f":"SUM(B14:B31)","v":172789},{"$f":"SUM(C14:C31)","v":20638},29068,3584,27878,3383.9999999999995,28138,3507.9999999999995,27860,3369.9999999999995,29949,3405.9999999999995,29896,3386]
["Artigas",{"$f":"+D14+F14+H14+J14+L14+N14","v":7471},{"$f":"+E14+G14+I14+K14+M14+O14","v":184},1269,34,1236,42,1120,29,1221,27,1276,30,1349,22]
["Canelones",{"$f":"+D15+F15+H15+J15+L15+N15","v":42321},{"$f":"+E15+G15+I15+K15+M15+O15","v":7483.9999999999982},7226,1326.9999999999998,6872,1261.9999999999995,7044,1265.9999999999998,6838,1222.9999999999995,7186,1197.9999999999998,7155,1208.0000000000002]
["Cerro Largo",{"$f":"+D16+F16+H16+J16+L16+N16","v":8104},627,1360,117.99999999999999,1237,81,1303,132,1314,98,1467,107,1423,91]
["Colonia",{"$f":"+D17+F17+H17+J17+L17+N17","v":10385},762,1763,142,1660,119.00000000000001,1685,138,1717,136,1775,116,1785,111]
["Durazno",4902,616,769,86,779,97,758,115,777,91,925,116,894,111]
["Flores",1982,275,300,40,324,41,305,39,303,56,374,44,376,55]
["Florida",5777,256,963,44,941,33,939,44,919,38,1034,56,981,41]
["Lavalleja",4430,645,653,111.99999999999999,691,99,766,96.999999999999986,750,114.99999999999999,777,110,793,112]
["Maldonado",12853,3844,2133,659,2067,608.99999999999989,2126,623.99999999999989,2055,632.00000000000011,2225,678.99999999999989,2247,641]
["Paysandú",10693,1221,1708,212.00000000000003,1777,212.00000000000003,1769,198.00000000000006,1739,180.00000000000003,1860,204.00000000000003,1840,215]
["Río Negro",5362,538,958,103.99999999999999,863,86,897,88.000000000000014,830,80,913,87,901,93]
["Rivera",10206,595,1783,98.000000000000014,1570,100,1655,101,1623,114.99999999999999,1747,96.000000000000014,1828,85]
["Rocha",6283,352,1094,59,1031,48,975,54,996,49,1090,72,1097,70]
["Salto",12340,1196,2179,220.00000000000003,2019,197,2064,188,2022,214,2065,192,1991,185]
["San José",9587,761,1629,129,1622,130,1554,144.99999999999997,1536,119,1601,114.00000000000001,1645,124]
["Soriano",7787,461,1279,75,1294,68,1254,89,1248,76,1367,68,1345,85]
["Tacuarembó",8172,657,1332,105,1288,138,1253,118,1297,92,1514,94,1488,110.00000000000001]
["Treinta y Tres",4134,164,670,20,607,22,671,43,675,29,753,23,758,27]
["Fuente: Procesamiento propio en base a datos proporcionados por el DEE — CEIP"]
["Nota:   Primaria Pública no incluye la matrícula correspondiente a JICI "]

{"sheet":"II-2.2.12","index":31,"n_rows":20,"n_cols":7,"rows_kept":20,"cut":false,"hidden":false,"merged":[[19,0,19,6],[0,5,1,6],[4,0,4,6],[5,0,9,0],[5,1,5,6],[6,1,6,3],[6,4,6,6],[7,1,9,1],[7,2,7,3],[7,4,9,4],[7,5,7,6],[8,2,9,2],[8,3,9,3],[8,5,9,5],[8,6,9,6]]}
["CONSEJO DE EDUCACIÓN PRIMARIA",null,null,null,null,"RENDIMIENTO ESCOLAR"]
[]
["Cuadro Nº II-2.2.12"]
[]
["RENDIMIENTO ESCOLAR EN EDUCACIÓN PRIMARIA COMÚN PÚBLICA POR ÁREA DEMOGRÁFICA SEGÚN GRADO. AÑO 2015."]
["GRADO","RENDIMIENTO ESCOLAR"]
[null,"PROMOVIDOS",null,null,"NO PROMOVIDOS"]
[null,"TOTAL","ÁREA DEMOGRÁFICA",null,"TOTAL","ÁREA DEMOGRÁFICA"]
[null,null,"Urbana","Rural",null,"Urbana","Rural"]
[]
["TOTAL",{"$f":"+C11+D11","v":237611},{"$f":"SUM(C12:C17)","v":224666},{"$f":"SUM(D12:D17)","v":12945},{"$f":"+F11+G11","v":12549},{"$f":"SUM(F12:F17)","v":12108},{"$f":"SUM(G12:G17)","v":441}]
["Primero",{"$f":"+C12+D12","v":37620},35640,1980,{"$f":"+F12+G12","v":5596},5415,181]
["Segundo",38264,36279,1985,2648,2563,85]
["Tercero",39112,36973,2139,1824,1747,77]
["Cuarto",39097,36936,2161,1105,1061,44]
["Quinto",41525,39156,2369,896,866,30]
["Sexto",41993,39682,2311,480,456,24]
[]
["Fuente: Procesamiento propio en base a datos proporcionados por el D.E.E .— C.E.I.P."]
["Notas:\n- No incluye datos correspondientes a JICI\n- No se presenta información para la Educación Primaria Privada porque no existen establecimientos privados en el área demográfica rural"]

{"sheet":"II-2.2.13","index":32,"n_rows":34,"n_cols":7,"rows_kept":34,"cut":false,"hidden":false,"merged":[[33,0,33,6],[0,5,1,6],[4,0,4,6],[5,0,9,0],[5,1,5,6],[6,1,6,3],[6,5,6,6],[7,1,9,1],[7,2,7,3],[7,4,9,4],[7,5,7,6],[8,2,9,2],[8,3,9,3],[8,5,9,5],[8,6,9,6],[32,0,32,6]]}
["CONSEJO DE EDUCACIÓN PRIMARIA",null,null,null,null,"RENDIMIENTO ESCOLAR"]
[]
["Cuadro Nº II-2.2.13"]
[]
["RENDIMIENTO ESCOLAR EN EDUCACIÓN PRIMARIA COMÚN PÚBLICA POR  ÁREA DEMOGRÁFICA SEGÚN DEPARTAMENTO. AÑO 2015."]
["DEPARTAMENTO","RENDIMIENTO ESCOLAR"]
[null,"PROMOVIDOS",null,null,null,"NO PROMOVIDOS"]
[null,"TOTAL","ÁREA DEMOGRÁFICA",null,"TOTAL","ÁREA DEMOGRÁFICA"]
[null,null,"Urbana","Rural",null,"Urbana","Rural"]
[]
["TOTAL",{"$f":"+C11+D11","v":237611},{"$f":"SUM(C12:C13)","v":224666},{"$f":"SUM(D12:D13)","v":12945},{"$f":"+F11+G11","v":12549},{"$f":"SUM(F12:F13)","v":12108},{"$f":"SUM(G12:G13)","v":441}]
["MONTEVIDEO",{"$f":"+C12+D12","v":71620},71620,0,{"$f":"+F12+G12","v":5751},5751,0]
["RESTO DEL PAÍS",{"$f":"+C13+D13","v":165991},{"$f":"SUM(C14:C31)","v":153046},{"$f":"SUM(D14:D31)","v":12945},{"$f":"+F13+G13","v":6798},{"$f":"SUM(F14:F31)","v":6357},{"$f":"SUM(G14:G31)","v":441}]
["Artigas",{"$f":"+C14+D14","v":7344},6784,560,{"$f":"+F14+G14","v":127},123,4]
["Canelones",39836,37555,2281,2485,2405,80]
["Cerro Largo",7744,6950,794,360,313,47]
["Colonia",10062,9065,997,323,289,34]
["Durazno",4849,4437,412,53,51,2]
["Flores",1963,1778,185,19,15,4]
["Florida",5613,4923,690,164,140,24]
["Lavalleja",4332,3947,385,98,87,11]
["Maldonado",12401,11948,453,452,437,15]
["Paysandú",10243,9518,725,450,431,19]
["Río Negro",5133,4648,485,229,204,25]
["Rivera",9973,9081,892,233,222,11]
["Rocha",6085,5790,295,198,190,8]
["Salto",11780,10768,1012,560,500,60]
["San José",9109,8133,976,478,444,34]
["Soriano",7511,6888,623,276,248,28]
["Tacuarembó",7970,7095,875,202,176,26]
["Treinta y Tres",4043,3738,305,91,82,9]
["Fuente: Procesamiento propio en base a datos proporcionados por el D.E.E .— C.E.I.P."]
["Notas:  No incluye datos correspondientes a JICI"]
["           No se presenta información para la Educación Primaria Privada porque no existen establecimientos privados en el área demográfica rural"]

{"sheet":"II-2.2.14","index":33,"n_rows":32,"n_cols":7,"rows_kept":32,"cut":false,"hidden":false,"merged":[[31,0,31,6],[0,5,1,6],[4,0,4,6],[5,0,8,0],[5,1,5,6],[6,1,6,3],[6,4,6,6],[7,2,7,3],[7,5,7,6]]}
["CONSEJO DE EDUCACIÓN PRIMARIA",null,null,null,null,"RENDIMIENTOS ESCOLAR"]
[]
["Cuadro Nº II-2.2.14"]
[]
["RENDIMIENTO ESCOLAR EN EDUCACIÓN PRIMARIA COMÚN PÚBLICA POR SEXO SEGÚN DEPARTAMENTO. AÑO 2015."]
["DEPARTAMENTO","RENDIMIENTO ESCOLAR"]
[null,"PROMOVIDOS",null,null,"NO PROMOVIDOS"]
[null,"TOTAL","SEXO",null,"TOTAL","SEXO"]
[null,null,"M","F",null,"M","F"]
["TOTAL",{"$f":"+C10+D10","v":237611},{"$f":"SUM(C11:C12)","v":121364},{"$f":"SUM(D11:D12)","v":116247},{"$f":"+F10+G10","v":12549},{"$f":"SUM(F11:F12)","v":7678},{"$f":"SUM(G11:G12)","v":4871}]
["MONTEVIDEO",{"$f":"+C11+D11","v":71620},36595,35025,{"$f":"+F11+G11","v":5751},3429,2322]
["RESTO DEL PAÍS",165991,{"$f":"SUM(C13:C30)","v":84769},{"$f":"SUM(D13:D30)","v":81222},6798,{"$f":"SUM(F13:F30)","v":4249},{"$f":"SUM(G13:G30)","v":2549}]
["Artigas",7344,3854,3490,127,84,43]
["Canelones",39836,20333,19503,2485,1524,961]
["Cerro Largo",7744,3851,3893,360,243,117]
["Colonia",10062,5082,4980,323,210,113]
["Durazno",4849,2482,2367,53,31,22]
["Flores",1963,951,1012,19,12,7]
["Florida",5613,2885,2728,164,110,54]
["Lavalleja",4332,2200,2132,98,62,36]
["Maldonado",12401,6221,6180,452,270,182]
["Paysandú",10243,5229,5014,450,281,169]
["Río Negro",5133,2626,2507,229,142,87]
["Rivera",9973,5161,4812,233,159,74]
["Rocha",6085,3081,3004,198,117,81]
["Salto",11780,6090,5690,560,352,208]
["San José",9109,4671,4438,478,296,182]
["Soriano",7511,3859,3652,276,169,107]
["Tacuarembó",7970,4106,3864,202,130,72]
["Treinta y Tres",4043,2087,1956,91,57,34]
["Fuente: Procesamiento propio en base a datos proporcionados por el D.E.E. — C.E.I.P."]
["Nota: No incluye datos correspondientes a JICI ."]

{"sheet":"II-2.2.15","index":34,"n_rows":31,"n_cols":7,"rows_kept":31,"cut":false,"hidden":false,"merged":[[0,5,1,6],[4,0,4,6],[5,0,8,0],[5,1,5,6],[6,1,6,3],[6,4,6,6],[7,1,8,1],[7,2,7,3],[7,4,8,4],[7,5,7,6]]}
["CONSEJO DE EDUCACIÓN PRIMARIA",null,null,null,null,"RENDIMIENTO ESCOLAR"]
[]
["Cuadro Nº II-2.2.15"]
[]
["RENDIMIENTO ESCOLAR EN EDUCACIÓN PRIMARIA COMÚN PRIVADA POR SEXO SEGÚN DEPARTAMENTO. AÑO 2015."]
["DEPARTAMENTO","RENDIMIENTO ESCOLAR"]
[null,"PROMOVIDOS",null,null,"NO PROMOVIDOS"]
[null,"TOTAL","SEXO",null,"TOTAL","SEXO"]
[null,null,"M","F",null,"M","F"]
["TOTAL",{"$f":"+C10+D10","v":53003.999999999993},{"$f":"SUM(C11:C12)","v":26830.999999999993},{"$f":"SUM(D11:D12)","v":26173},{"$f":"+F10+G10","v":573},{"$f":"SUM(F11:F12)","v":361},{"$f":"SUM(G11:G12)","v":212}]
["MONTEVIDEO",{"$f":"+C11+D11","v":32551.999999999993},16495.999999999993,16056.000000000002,{"$f":"+F11+G11","v":387},235,152]
["RESTO DEL PAÍS",20452,{"$f":"SUM(C13:C30)","v":10335},{"$f":"SUM(D13:D30)","v":10117},186,{"$f":"SUM(F13:F30)","v":126.00000000000001},{"$f":"SUM(G13:G30)","v":60}]
["Artigas",184,106,78,0,0,0]
["Canelones",7397.0000000000009,3768.0000000000005,3629.0000000000005,87.000000000000014,63.000000000000014,24]
["Cerro Largo",622,303,319,5,2,3]
["Colonia",757,385,372,5,3,2.0000000000000004]
["Durazno",613,284,329,3,2,1]
["Flores",272,134,138,3,0,3]
["Florida",251,134,117,5,3,2]
["Lavalleja",643,326,317,2.0000000000000004,1.0000000000000002,1.0000000000000002]
["Maldonado",3817,1932.9999999999998,1884,27,18.999999999999996,8.0000000000000018]
["Paysandú",1213,625.99999999999989,587,8,1.0000000000000002,7]
["Río Negro",535,280,255,3,3,0]
["Rivera",588,302,286.00000000000006,7,6,1]
["Rocha",351,164,187,1,1,0]
["Salto",1183,562,621,13,10,3]
["San José",752,347.00000000000006,405,9,6,3]
["Soriano",459,250,209,2,2,0]
["Tacuarembó",651,339,312,6,4,2]
["Treinta y Tres",164,92,72,0,0,0]
["Fuente: Procesamiento propio en base a datos proporcionados por el D.E.E. — C.E.I.P."]

{"sheet":"II-2.2.16","index":35,"n_rows":34,"n_cols":5,"rows_kept":34,"cut":false,"hidden":false,"merged":[[31,0,31,3],[0,4,1,5],[4,0,4,3],[5,0,8,0],[5,2,6,3],[6,1,8,1],[7,2,8,2],[7,3,8,3]]}
["CONSEJO DE EDUCACIÓN PRIMARIA",null,null,null,"RENDIMIENTO ESCOLAR"]
[]
["Cuadro Nº II-2.2.16"]
[]
["ESTUDIANTES MATRICULADOS EGRESADOS DE EDUCACIÓN PRIMARIA COMÚN PÚBLICA POR ÁREA DEMOGRÁFICA SEGÚN DEPARTAMENTO. AÑO 2015."]
["DEPARTAMENTO",null,"ÁREA DEMOGRÁFICA"]
[null,"TOTAL"]
[null,null,"Urbana","Rural"]
[]
["TOTAL",{"$f":"+C10+D10","v":41992.999999999993},{"$f":"SUM(C11:C12)","v":39681.999999999993},{"$f":"SUM(D11:D12)","v":2311}]
["MONTEVIDEO",{"$f":"C11+D11","v":12398.999999999995},12398.999999999995,0]
["RESTO DEL PAÍS",{"$f":"+C12+D12","v":29594},{"$f":"SUM(C13:C30)","v":27283},{"$f":"SUM(D13:D30)","v":2311}]
["Artigas",{"$f":"+C13+D13","v":1342},1253,89.000000000000028]
["Canelones",7047.9999999999982,6626.9999999999982,420.99999999999994]
["Cerro Largo",1403,1267,136.00000000000003]
["Colonia",1772.9999999999998,1599.9999999999998,172.99999999999991]
["Durazno",891.99999999999989,814.99999999999989,76.999999999999986]
["Flores",375.99999999999994,341.99999999999994,34]
["Florida",976.99999999999989,870.99999999999989,106.00000000000001]
["Lavalleja",789,713,76.000000000000028]
["Maldonado",2228.9999999999995,2145.9999999999995,83.000000000000028]
["Paysandú",1821.0000000000005,1686.0000000000005,135.00000000000003]
["Río Negro",899,818,81]
["Rivera",1817.0000000000002,1644.0000000000002,172.99999999999997]
["Rocha",1091,1049,42]
["Salto",1949.9999999999998,1763.9999999999998,186]
["San José",1627.9999999999995,1448.9999999999995,179]
["Soriano",1332.0000000000002,1220.0000000000002,112.00000000000001]
["Tacuarembó",1475.9999999999998,1313.9999999999998,162.00000000000003]
["Treinta y Tres",751,705,46.000000000000021]
["Fuente: Procesamiento propio en base a datos proporcionados por el D.E.E .— C.E.I.P."]
["Nota: No se presenta información para Montevideo Rural por que no existen establecimientos en  el área demográfica rural."]
["        "]
["        "]

{"sheet":"II-2.2.17","index":36,"n_rows":30,"n_cols":9,"rows_kept":30,"cut":false,"hidden":false,"merged":[[0,6,1,8],[4,0,4,8],[5,0,7,0],[5,1,7,1],[5,2,5,5],[5,6,5,8],[6,2,7,2],[6,3,6,5],[6,6,7,6],[6,7,6,8]]}
["CONSEJO DE EDUCACIÓN PRIMARIA",null,null,null,null,null,"RENDIMIENTO ESCOLAR"]
[]
["Cuadro Nº II-2.2.17"]
[]
["ESTUDIANTES MATRICULADOS EGRESADOS DE EDUCACIÓN PRIMARIA COMÚN POR FORMA DE ADMINISTRACIÓN SEGÚN DEPARTAMENTO. AÑO 2015."]
["DEPARTAMENTO","TOTAL","PÚBLICA",null,null,null,"PRIVADA"]
[null,null,"TOTAL","SEXO",null,null,"TOTAL","SEXO"]
[null,null,null,"M","M","F",null,"M","F"]
["TOTAL",{"$f":"+C9+G9","v":50678},{"$f":"+E9+F9","v":41993},null,{"$f":"SUM(E10:E11)","v":21437},{"$f":"SUM(F10:F11)","v":20556},{"$f":"+H9+I9","v":8685},{"$f":"SUM(H10,H11)","v":4393},{"$f":"SUM(I10,I11)","v":4292}]
["MONTEVIDEO",{"$f":"+C10+G10","v":17705},{"$f":"+E10+F10","v":12399},6560,6259,6140,{"$f":"+H10+I10","v":5306},2695,2611]
["RESTO DEL PAÍS",{"$f":"+C11+G11","v":32973},29594,null,{"$f":"SUM(E12:E29)","v":15178},{"$f":"SUM(F12:F29)","v":14416},3379,{"$f":"SUM(H12:H29)","v":1697.9999999999998},{"$f":"SUM(I12:I29)","v":1681}]
["Artigas",{"$f":"+C12+G12","v":1364},1342,765,722,620,22,9,13]
["Canelones",8253,7048,3826,3618,3430,1204.9999999999995,610.99999999999966,594]
["Cerro Largo",1494,1403,802,718,685,91,50,41]
["Colonia",1884,1773,891,880,893,111,60,51]
["Durazno",1003,892,502,471,421,111,49,62]
["Flores",430,376,192,175,201,54,30,24]
["Florida",1018,977,502,504,473,41,23,18]
["Lavalleja",901,789,426,412,377,112,53.999999999999993,58.000000000000007]
["Maldonado",2870,2229,1183,1077,1152,641,318.00000000000006,323]
["Paysandú",2036,1821,976,949,872,215,113,102.00000000000001]
["Río Negro",992,899,501,466,433,93,57.999999999999993,35]
["Rivera",1901,1817,995,949,868,84,42,42]
["Rocha",1160,1091,603,548,543,69,31,38]
["Salto",2135,1950,1191,1021,929,185,75.999999999999986,109.00000000000001]
["San José",1752,1628,824,835,793,124,59,65]
["Soriano",1417,1332,717,693,639,85,42,43]
["Tacuarembó",1585,1476,845,751,725,109,56,52.999999999999993]
["Treinta y Tres",778,751,443,389,362,27,17,10]
["Fuente: Procesamiento propio en base a datos proporcionados por el D.E.E. — C.E.I.P."]

{"sheet":"II-2.2.18","index":37,"n_rows":34,"n_cols":5,"rows_kept":34,"cut":false,"hidden":false,"merged":[[30,0,30,4],[0,3,1,4],[4,0,4,4],[5,0,6,0],[5,1,5,2],[5,3,5,4],[29,0,29,4]]}
["CONSEJO DE EDUCACIÓN PRIMARIA",null,null,"RENDIMIENTO ESCOLAR"]
[]
["Cuadro Nº II-2.2.18"]
[]
["ASISTENCIA INSUFICIENTE Y ABANDONO INTERMITENTE DE 1º GRADO Y 1º A 6º GRADO EN EDUCACIÓN COMÚN PÚBLICA SEGÚN DEPARTAMENTO. AÑO 2015."]
["DEPARTAMENTO","ASISTENCIA INSUFICIENTE",null,"ABANDONO INTERMITENTE"]
[null,"Sólo\n1.er año","1.º a 6.º  años","Sólo\n1.er año","1.º a 6.º  años"]
["TOTAL",{"$f":"SUM(B9:B10)","v":4961},{"$f":"SUM(C9:C10)","v":21146},{"$f":"SUM(D9:D10)","v":209},{"$f":"SUM(E9:E10)","v":974}]
["MONTEVIDEO",2920,12408,125,543]
["RESTO DEL PAÍS",{"$f":"SUM(B11:B28)","v":2041},{"$f":"SUM(C11:C28)","v":8738},{"$f":"SUM(D11:D28)","v":84},{"$f":"SUM(E11:E28)","v":431}]
["Artigas",138,640,1,16]
["Canelones",759,3239,42,161]
["Cerro Largo",100,363,0,12]
["Colonia",57,204,6,19]
["Durazno",54,317,2,12]
["Flores",10,44,2,4]
["Florida",36,159,0,12]
["Lavalleja",32,137,1,10]
["Maldonado",140,506,13,34]
["Paysandú",86,395,1,17]
["Río Negro",51,209,0,8]
["Rivera",121,542,5,22]
["Rocha",50,194,1,11]
["Salto",193,868,4,39]
["San José",69,307,2,19]
["Soriano",68,311,1,11]
["Tacuarembó",54,183,1,12]
["Treinta y Tres",23,120,2,12]
["Fuente: Procesamiento propio en base a datos proporcionados por el D.E.E. — C.E.I.P."]
["Nota: No incluye datos correspondientes a JICI ."]
[]
[]
[]
["       "]

{"sheet":"II-2.3.1 ","index":38,"n_rows":96,"n_cols":9,"rows_kept":96,"cut":false,"hidden":false,"merged":[[6,7,7,7],[6,8,7,8],[31,0,31,8],[32,0,32,8],[0,6,1,7],[4,0,4,8],[5,0,7,0],[5,2,5,8],[6,1,7,1],[6,2,7,2],[6,3,7,3],[6,4,7,4],[6,5,7,5],[6,6,7,6]]}
["CONSEJO DE EDUCACIÓN PRIMARIA",null,null,null,null,null,"PERSONAL DOCENTE"]
[]
["Cuadro Nº II-2.3.1"]
[]
["PERSONAL DOCENTE DE EDUCACIÓN PRIMARIA PÚBLICA POR TIPO DE DESEMPEÑO DOCENTE SEGÚN DEPARTAMENTO. AÑO 2015."]
["DEPARTAMENTO",null,"TIPO DE DESEMPEÑO DOCENTE"]
[null,"TOTAL","Inspección","Educación Común","Educación en Colonias","Educación Especial","Servicios Docentes Especiales","Profesores Especiales","Coordinación Apoyo"]
[]
["TOTAL",{"$f":"SUM(B11:B12)","v":19776},279,15249,39,982,124,3010,93]
[]
["MONTEVIDEO",{"$f":"SUM(C11:I11)","v":5761},110,4188,14,401,74,961,13]
["RESTO DEL PAÍS",{"$f":"SUM(B14:B31)","v":14015},169,11061,25,581,{"$f":"SUM(G14:G31)","v":50},2049,80]
[]
["Artigas",{"$f":"SUM(C14:I14)","v":674},7,517,0,24,0,122,4]
["Canelones",2801,31,2278,0,113,11,355,13]
["Cerro Largo",734,9,565,0,34,4,118,4]
["Colonia",834,9,661,0,39,3,118,4]
["Durazno",475,7,381,0,22,0,61,4]
["Flores",213,3,159,0,9,0,39,3]
["Florida",542,7,408,0,26,4,93,4]
["Lavalleja",444,6,349,0,20,4,61,4]
["Maldonado",864,11,664,15,41,7,122,4]
["Paysandú",867,10,707,0,38,4,104,4]
["Río Negro",464,5,369,0,21,0,65,4]
["Rivera",898,11,680,0,31,1,171,4]
["Rocha",553,7,421,0,29,2,90,4]
["Salto",962,12,751,9,38,2,145,5]
["San José",768,9,631,0,30,0,94,4]
["Soriano",664,9,532,0,28,2,89,4]
["Tacuarembó",834,10,663,1,23,6,128,3]
["Treinta y Tres",424,6,325,0,15,0,74,4]
["Fuente: DEE — CEIP Listado de cargos de la División Hacienda a Julio 2013"]
[]
["        "]
["        "]
[]
[]
[]
[]
[]
[]
[]
[]
[]
[]
[]
[]
[]
[]
[]
[]
[]
[]
[]
[]
[]
[]
[]
[]
[]
[]
[]
[]
[]
[]
[]
[]
[]
[]
[]
[]
[]
[]
[{"$f":"SUM(A76:A77)","v":147}]
[]
[92]
[{"$f":"SUM(A79:A96)","v":55}]
[]
[0]
[14]
[4]
[3]
[0]
[0]
[5]
[4]
[7]
[5]
[0]
[1]
[3]
[2]
[0]
[2]
[5]
[0]

{"sheet":"II-2.3.2 ","index":39,"n_rows":32,"n_cols":11,"rows_kept":32,"cut":false,"hidden":false,"merged":[[52,20,53,20],[52,21,53,21],[52,22,53,22],[49,17,49,22],[50,11,53,12],[50,13,50,22],[51,13,51,15],[51,17,53,17],[51,18,51,22],[52,13,52,14],[52,15,53,15],[52,18,53,18],[52,19,53,19],[48,20,48,22],[6,11,8,12],[6,13,6,22],[7,5,8,5],[7,6,8,6],[7,7,8,7],[7,8,8,8],[7,9,8,9],[7,10,8,10],[7,13,7,16],[7,17,8,17],[7,18,7,22],[8,13,8,14],[30,0,30,10],[42,11,42,22],[45,11,45,22],[0,9,1,10],[4,0,4,10],[5,0,8,1],[5,2,8,2],[5,3,8,3],[5,4,8,4],[5,5,5,10],[6,5,6,7],[6,8,6,10]]}
["CONSEJO DE EDUCACIÓN PRIMARIA",null,null,null,null,null,null,null,null,"PERSONAL DOCENTE"]
[]
["Cuadro Nº II-2.3.2"]
[]
["PERSONAL DOCENTE DE EDUCACIÓN PRIMARIA PRIVADA POR TIPO DE ESTABLECIMIENTO Y TIPO DE DESEMPEÑO DOCENTE SEGÚN DEPARTAMENTO. AÑO 2015."]
["  DEPARTAMENTO",null,"TOTAL","MAESTROS","PROFESORES","ESTABLECIMIENTOS"]
[null,null,null,null,null,"HABILITADOS",null,null,"AUTORIZADOS"]
[null,null,null,null,null,"Total","Maestros","Profesores","Total","Maestros","Profesores"]
[]
["TOTAL",null,{"$f":"+D10+E10","v":7167},{"$f":"+G10+J10","v":2599},{"$f":"+H10+K10","v":4568},{"$f":"+G10+H10","v":6741},{"$f":"SUM(G11:G12)","v":2475},{"$f":"SUM(H11:H12)","v":4266},{"$f":"+J10+K10","v":426},{"$f":"SUM(J11:J12)","v":124},{"$f":"SUM(K11:K12)","v":302}]
["MONTEVIDEO",null,{"$f":"+D11+E11","v":4202},{"$f":"G11+J11","v":1500},{"$f":"H11+K11","v":2702},{"$f":"+G11+H11","v":3837},1403,2434,{"$f":"+J11+K11","v":365},97,268]
["RESTO DEL PAÍS",null,{"$f":"+D12+E12","v":2965},{"$f":"G12+J12","v":1099},{"$f":"H12+K12","v":1866},{"$f":"+G11+H11","v":3837},{"$f":"SUM(G13:G30)","v":1072},{"$f":"SUM(H13:H30)","v":1832},{"$f":"+J12+K12","v":61},{"$f":"SUM(J13:J30)","v":27},{"$f":"SUM(K13:K30)","v":34}]
["Artigas",null,{"$f":"+F13+I13","v":18},5,13,{"$f":"+G13+H13","v":18},5,13,0,0,0]
["Canelones",null,1051,403,648,994,378,616,57,25,32]
["Cerro Largo",null,76,28,48,76,28,48,0,0,0]
["Colonia",null,168,48,120,168,48,120,0,0,0]
["Durazno",null,67,34,33,67,34,33,0,0,0]
["Flores",null,54,20,34,54,20,34,0,0,0]
["Florida",null,45,18,27,45,18,27,0,0,0]
["Lavalleja",null,98,38,60,98,38,60,0,0,0]
["Maldonado",null,503,187,316,503,187,316,0,0,0]
["Paysandú",null,153,71,82,153,71,82,0,0,0]
["Río Negro",null,120,34,86,118,33,85,2,1,1]
["Rivera",null,42,27,15,42,27,15,0,0,0]
["Rocha",null,67,22,45,67,22,45,0,0,0]
["Salto",null,154,52,102,154,52,102,0,0,0]
["San José",null,129,41,88,127,40,87,2,1,1]
["Soriano",null,73,23,50,73,23,50,0,0,0]
["Tacuarembó",null,129,40,89,129,40,89,0,0,0]
["Treinta y Tres",null,18,8,10,18,8,10,0,0,0]
["Fuente: DEE — CEIP Planillas enviadas por las Inspecciones Departamentales a abril de 2011."]
["NOTA: El personal docente incluye exclusivamente docencia directa "]

{"sheet":"MEDIA BASICA ","index":40,"n_rows":118,"n_cols":2,"rows_kept":118,"cut":false,"hidden":false,"merged":[]}
[]
[]
[]
[]
[]
["Cuadro Nº II-3.1.1","ESTABLECIMIENTOS DE EDUCACIÓN MEDIA BÁSICA POR MODALIDAD Y FORMA DE ADMINISTRACIÓN SEGÚN DEPARTAMENTO. AÑO 2015."]
[""]
["Cuadro Nº II-3.1.2","ESTABLECIMIENTOS FÍSICOS DE EDUCACIÓN MEDIA POR FORMA DE ADMINISTRACIÓN SEGÚN DEPARTAMENTO. AÑO 2015."]
[""]
[""]
["Cuadro Nº II-3.2.1","ALUMNOS MATRICULADOS EN EDUCACION MEDIA BÁSICA GENERAL POR GRADO SEGÚN GRANDES ÁREAS Y FORMA DE ADMINISTRACIÓN. AÑO 2015. "]
[""]
["Cuadro Nº II-3.2.2","ALUMNOS MATRICULADOS EN EL CETP EN EDUCACIÓN MEDIA BÁSICA TECNOLÓGICA POR TIPO DE CURSO SEGÚN  GRANDES ÁREAS, DEPARTAMENTO Y SEXO. AÑO 2015. "]
[""]
["Cuadro Nº II-3.2.3","ALUMNOS MATRICULADOS EN SÉPTIMO, OCTAVO Y NOVENO GRADO DE CICLO BÁSICO RURAL POR SEXO SEGÚN DEPARTAMENTO. AÑO 2015. "]
[""]
["Cuadro Nº II-3.2.4","ALUMNOS MATRICULADOS DE EDUCACIÓN MEDIA BÁSICA GENERAL  POR GRADO Y FORMA DE ADMINISTRACIÓN SEGÚN DEPARTAMENTO AÑO 2015."]
[""]
["Cuadro Nº II-3.2.5","ALUMNOS MATRICULADOS DE EDUCACIÓN MEDIA BÁSICA PRIVADA  POR GRADO Y SEXO SEGÚN DEPARTAMENTO. AÑO 2015."]
[""]
["Cuadro Nº II-3.2.6","ALUMNOS MATRICULADOS DE EDUCACIÓN MEDIA BÁSICA PÚBLICA  POR GRADO Y SEXO SEGÚN DEPARTAMENTO. AÑO 2015."]
[""]
["Cuadro Nº II-3.2.7","ALUMNOS MATRICULADOS EN EDUCACIÓN TÉCNICA MEDIA BÁSICA POR TIPO DE CURSO SEGÚN EDAD. AÑO 2015."]
[""]
["Cuadro Nº II-3.2.8"," ALUMNOS MATRICULADOS EN EL CETP EN EDUCACIÓN MEDIA BÁSICA POR TIPO DE CURSO SEGÚN SECTORES DE ESTUDIO. AÑO 2015."]
[""]
[""]
["Cuadro Nº II-3.3.1","PERSONAL DOCENTE Y HORAS DOCENTES DEL CES EN EDUACIÓN MEDIA BÁSICA GENERAL POR TITULACIÓN SEGÚN ASIGNATURAS. AÑO 2015. "]
[""]
["Cuadro Nº II-3.3.2","PERSONAL DOCENTE DEL CETP EN EDUCACIÓN MEDIA BÁSICA TECNOLÓGICA POR TIPO DE CURSO. AÑO 2015. "]
[]
[""]
["Cuadro Nº II-3.4.1","GRUPOS DEL CES EN EDUCACIÓN MEDIA BÁSICA GENERAL  COMPARADOS CON EL TOTAL DE GRUPOS EN EDUCACIÓN MEDIA GENERAL SEGÚN GRANDES ÁREAS Y FORMA DE ADMINISTRACIÓN. AÑO 2015. "]
[""]
[""]
[""]
[""]
[""]
[""]
[""]
[""]
[""]
[""]
[""]
[""]
[""]
[""]
[""]
[""]
[""]
[""]
[""]
[""]
[""]
[""]
[""]
[""]
[""]
[""]
[""]
[""]
[""]
[""]
[""]
[""]
[""]
[""]
[""]
[""]
[""]
[""]
[""]
[""]
[""]
[""]
[""]
[""]
[""]
[""]
[""]
[""]
[""]
[""]
[""]
[""]
[""]
[""]
[""]
[""]
[""]
[{"$f":"MID(B63,1,20)","v":""}]
[""]
[""]
[""]
[""]
[""]
[""]
[""]
[""]
[{"$f":"MID(B72,1,20)","v":""}]
[""]
[""]
[""]
[""]
[""]
[""]
[""]
[""]
[""]
[""]
[""]
[""]
[""]
[""]
[""]
[""]
[""]
[""]

{"sheet":"II-3.1.1 ","index":41,"n_rows":38,"n_cols":14,"rows_kept":38,"cut":false,"hidden":false,"merged":[[9,10,14,10],[9,11,14,11],[11,3,13,4],[11,5,13,6],[37,0,42,10],[0,9,2,10],[5,0,5,10],[6,0,14,0],[6,3,6,13],[7,1,14,1],[7,2,14,2],[7,3,7,9],[7,12,7,13],[8,3,8,13],[9,3,10,6],[10,12,13,13],[9,7,14,7],[9,8,13,9]]}
["CONSEJO DE EDUCACIÓN INICIAL Y PRIMARIA (CEIP), ",null,null,null,null,null,null,null,null,"ESTABLECIMIENTOS"]
["CONSEJO DE EDUCACIÓN SECUNDARIA (CES) Y CONSEJO DE EDUCACIÓN TÉCNICO PROFESIONAL (UTU)"]
[]
["Cuadro Nº II-3.1.1"]
[]
["ESTABLECIMIENTOS DE EDUCACIÓN MEDIA BÁSICA POR MODALIDAD Y FORMA DE ADMINISTRACIÓN SEGÚN DEPARTAMENTO. AÑO 2015."]
["DEPARTAMENTO",null,null,"MODALIDAD"]
[null,"TOTAL GENERAL","TOTAL LICEOS PÚBLICOS","CES",null,null,null,null,null,null,"CEIP",null,"CETP"]
[null,null,null,"FORMA DE ADMINISTRACIÓN"]
[null,null,null,"LICEOS PÚBLICOS",null,null,null,"TOTAL LICEOS PRIVADOS","Liceos Privados",null,"Escuelas con Ciclo Básico Rural","TOTAL ESCUELAS DE CBT Y TÈCNICA"]
[null,null,null,null,null,null,null,null,null,null,null,null,"Escuelas de CBT y Técnica."]
[null,null,null,"Diurnos Oficiales",null,"Extra Edad Oficiales (Nocturno Y Diurno)"]
[]
[]
[null,null,null,"Ciclo Básico","C.Básico y Bachillerato","Ciclo Básico","C.Básico y Bachillerato",null,"Ciclo Básico","C.Básico y Bachillerato",null,null,"Escuelas de CBT y Técnica","Reparticiones"]
["TOTAL",{"$f":"C16+H16+L16","v":757},{"$f":"SUM(C17,C18)","v":322},{"$f":"D17+D18","v":109},{"$f":"E17+E18","v":144},{"$f":"F17+F18","v":6},{"$f":"G17+G18","v":63},{"$f":"SUM(I16:K16)","v":242},{"$f":"I17+I18","v":21},{"$f":"J17+J18","v":161},{"$f":"K17+K18","v":60},{"$f":"M16+N16","v":193},{"$f":"M17+M18","v":102},{"$f":"N17+N18","v":91}]
["MONTEVIDEO",{"$f":"C17+H17+L17","v":205},{"$f":"SUM(D17:G17)","v":72},50,5,1,16,{"$f":"SUM(I17:K17)","v":102},9,93,0,{"$f":"M17+N17","v":31},16,15]
["RESTO DEL PAÍS",552,{"$f":"SUM(C19:C36)","v":250},{"$f":"SUM(D19:D36)","v":59},{"$f":"SUM(E19:E36)","v":139},{"$f":"SUM(F19:F36)","v":5},{"$f":"SUM(G19:G36)","v":47},{"$f":"SUM(I18:K18)","v":140},{"$f":"SUM(I19:I36)","v":12},{"$f":"SUM(J19:J36)","v":68},{"$f":"SUM(K19:K36)","v":60},162,{"$f":"SUM(M19:M36)","v":86},{"$f":"SUM(N19:N36)","v":76}]
["Artigas",23,{"$f":"SUM(D19:G19)","v":11},3,7,0,1,{"$f":"SUM(I19:K19)","v":4},0,1,3,8,4,4]
["Canelones",120,60,14,29,3,14,{"$f":"SUM(I20:K20)","v":25},4,21,0,35,16,19]
["Cerro Largo",26,10,2,6,0,2,7,0,3,4,9,5,4]
["Colonia*",35,17,2,10,0,5,8,1,1,6,10,9,1]
["Durazno",19,8,2,5,0,1,3,0,2,1,8,3,5]
["Flores",11,4,1,2,0,1,3,0,2,1,4,2,2]
["Florida",24,12,2,9,0,1,4,0,2,2,8,2,6]
["Lavalleja",19,9,2,6,1,0,4,1,1,2,6,2,4]
["Maldonado",39,15,5,6,0,4,16,1,11,4,8,5,3]
["Paysandú",33,13,5,7,0,1,14,1,3,10,6,4,2]
["Río Negro",20,9,3,4,0,2,7,0,2,5,4,3,1]
["Rivera",34,13,4,7,1,1,10,4,2,4,11,5,6]
["Rocha",24,13,3,7,0,3,5,0,2,3,6,5,1]
["Salto",29,11,1,9,0,1,6,0,5,1,12,4,8]
["San José",29,13,3,5,0,5,10,0,3,7,6,5,1]
["Soriano",19,11,3,5,0,3,2,0,1,1,6,6,0]
["Tacuarembó",29,13,3,9,0,1,8,0,4,4,8,2,6]
["Treinta y Tres",19,8,1,6,0,1,4,0,2,2,7,4,3]
["Fuente: D.E.- C.E.S ."]
["Notas:\n1- Los establecimientos considerados en el Tipo de Educación Escuelas con Ciclo Básico Rural ya fueron considerados en los totales de establecimientos de Educación Primaria por lo cual, si bien se presentan en la columna  correspondiente, no participan en el “Total” del presente cuadro.\n2- En un mismo establecimiento de UTU coexisten  ofertas educativas de diferentes niveles. Los establecimientos que se consideraron en este cuadro son aquellos en los que se dictan cursos clasificados como de EDUCACIÓN MEDIA BÁSICA."]

{"sheet":"II-3.1.2 ","index":42,"n_rows":33,"n_cols":7,"rows_kept":33,"cut":false,"hidden":false,"merged":[[31,0,31,5],[32,0,32,5],[0,6,0,7],[4,0,4,5],[5,0,8,0],[5,2,5,5],[6,1,8,1],[6,2,6,3],[7,2,7,5]]}
["CONSEJO DE EDUCACIÓN INICIAL Y PRIMARIA (CEIP), ",null,null,null,null,null,"ESTABLECIMIENTOS"]
["CONSEJO DE EDUCACIÓN SECUNDARIA (CES) Y CONSEJO DE EDUCACIÓN TÉCNICO PROFESIONAL (UTU)"]
["Cuadro Nº II-3.1.2"]
[]
["ESTABLECIMIENTOS FÍSICOS DE EDUCACIÓN MEDIA POR FORMA DE ADMINISTRACIÓN SEGÚN DEPARTAMENTO. AÑO 2015."]
["DEPARTAMENTO",null,"MODALIDAD"]
[null,"TOTAL GENERAL","CES",null,"CEIP","CETP"]
[]
[null,null,"LICEOS PÚBLICOS","LICEOS PRIVADOS","Escuelas con Ciclo Básico Rural","Escuelas de CBT y Técnica."]
["TOTAL",{"$f":"B11+B12","v":832},{"$f":"C11+C12","v":298},{"$f":"D11+D12","v":191},{"$f":"E11+E12","v":61},{"$f":"F11+F12","v":282}]
["MONTEVIDEO",{"$f":"SUM(C11:F11)","v":243},75,107,1,60]
["RESTO DEL PAÍS",{"$f":"SUM(C12:F12)","v":589},{"$f":"SUM(C13:C30)","v":223},{"$f":"SUM(D13:D30)","v":84},{"$f":"SUM(E13:E30)","v":60},222]
["Artigas",{"$f":"C13+D13+E13+F13","v":32},12,1,3,16]
["Canelones",126,51,26,0,49]
["Cerro Largo",26,8,2,4,12]
["Colonia",39,14,2,6,17]
["Durazno",20,8,2,1,9]
["Flores",10,3,2,1,4]
["Florida",24,12,2,2,8]
["Lavalleja",21,8,3,2,8]
["Maldonado",39,12,14,4,9]
["Paysandú",41,14,4,10,13]
["Río Negro",22,8,2,5,7]
["Rivera",35,13,7,4,11]
["Rocha",22,11,2,3,6]
["Salto",30,11,5,1,13]
["San José",32,9,3,7,13]
["Soriano",19,9,1,1,8]
["Tacuarembó",34,13,4,4,13]
["Treinta y Tres",17,7,2,2,6]
["Fuente: C.E.S  - CETP- CEIP"]
["Nota: 1- A diferencia del cuadro anterior II-3.1.1, el presente consolida la cantidad de establecimientos físicos con independencia del nivel educativo al cual son dirigidos los programas de estudios impartidos. En el caso del CETP debe considerarse que además de Educación Media se dictan programas dirigidos a Educación Terciaria No Universitaria y Educación de Jóvenes y Adultos. "]
["2- Dentro de la cantidad de establecimientos declarados por UTU en este apartado se encuentran 156 reparticiones (Montevideo=33; Interior del País=123). Son localizaciones en las cuales se imparten cursos administrados por el CETP-UTU. Estos locales no forman parte de los activos de ANEP. "]

{"sheet":"II-3.2.1","index":43,"n_rows":27,"n_cols":5,"rows_kept":27,"cut":false,"hidden":false,"merged":[[24,0,24,4],[0,3,1,5],[4,0,4,4],[5,0,7,0],[5,2,6,4],[6,1,7,1]]}
["CONSEJO DE EDUCACIÓN SECUNDARIA",null,null,"ALUMNOS MATRICULADOS"]
[]
["Cuadro Nº II-3.2.1"]
[]
["ALUMNOS MATRICULADOS EN EDUCACION MEDIA BÁSICA GENERAL POR GRADO SEGÚN GRANDES ÁREAS Y FORMA DE ADMINISTRACIÓN. AÑO 2015."]
["GRANDES ÁREAS Y FORMA DE ADMINISTRACIÓN",null,"GRADO"]
[null,"TOTAL"]
[null,null,"PRIMERO","SEGUNDO","TERCERO"]
["TOTAL DEL PAÍS",{"$f":"C9+D9+E9","v":147165},{"$f":"C14+C19","v":52415},47137,47613]
["MEDIA BÁSICA PÚBLICA",120749,43834,38178,38737]
["  Diurna",107392,{"$f":"C16+C21","v":41067},34447,{"$f":"E16+E21","v":31878}]
["  Nocturna",13357,{"$f":"C17+C22","v":2767},{"$f":"D17+D22","v":3731},{"$f":"E17+E22","v":6859}]
["MEDIA BÁSICA PRIVADA",26416,8581,8959,8876]
["TOTAL MONTEVIDEO",54183,{"$f":"C15+C18","v":19360},{"$f":"D15+D18","v":17403},{"$f":"E15+E18","v":17420}]
["MEDIA BÁSICA PÚBLICA",37356,{"$f":"C16+C17","v":13874},{"$f":"D16+D17","v":11757},11725]
["  Diurna",{"$f":"C16+D16+E16","v":32462},12895,10370,9197]
["  Nocturna",{"$f":"C17+D17+E17","v":4894},979,1387,2528]
["MEDIA BÁSICA PRIVADA",{"$f":"C18+D18+E18","v":16827},5486,5646,5695]
["TOTAL RESTO DEL PAÍS",92982,{"$f":"C20+C23","v":33055},{"$f":"D20+D23","v":29734},{"$f":"E20+E23","v":30193}]
["MEDIA  BÁSICA PÚBLICA",83393,{"$f":"C21+C22","v":29960},{"$f":"D21+D22","v":26421},{"$f":"E21+E22","v":27012}]
["  Diurna",74930,28172,24077,22681]
["  Nocturna",{"$f":"C22+D22+E22","v":8463},1788,2344,4331]
["MEDIA BÁSICA PRIVADA",9589,3095,3313,3181]
["Fuente: D.E. — C.E.S."]
["Nota: La referencia \"Privada\", (incluye los Habilitados \"Liceo Naval\" y \"Liceo Militar\"), se corresponde con la de \"Liceos Habilitados\" presente en ediciones anteriores del Anuario Estadístico del MEC."]
[]
["        "]

{"sheet":"II-3.2.2","index":44,"n_rows":35,"n_cols":14,"rows_kept":35,"cut":false,"hidden":false,"merged":[[10,12,10,13],[11,3,12,3],[11,4,12,4],[11,6,12,6],[11,7,12,7],[11,9,12,9],[11,10,12,10],[11,12,12,12],[11,13,12,13],[0,7,1,9],[5,0,6,8],[8,0,12,0],[8,1,12,1],[8,3,8,13],[9,2,12,2],[9,3,9,4],[9,5,12,5],[9,6,9,7],[9,8,12,8],[9,9,9,10],[9,11,12,11],[9,12,9,13],[10,3,10,4],[10,6,10,7],[10,9,10,10]]}
["CONSEJO DE EDUCACIÓN TÉCNICO PROFESIONAL (U.T.U.)",null,null,null,null,null,null,"ALUMNOS MATRICULADOS"]
[]
[]
[]
["Cuadro II-3.2.2."]
["ALUMNOS MATRICULADOS EN EL CETP EN EDUCACIÓN MEDIA BÁSICA TECNOLÓGICA POR TIPO DE CURSO SEGÚN  GRANDES ÁREAS, DEPARTAMENTO Y SEXO. AÑO 2015."]
[]
[]
["GRANDES ÁREAS,DEPARTAMENTO  Y SEXO ","TOTAL ",null,"EDUCACIÓN MEDIA BÁSICA TECNOLÓGICA "]
[null,null,"TOTAL ","Articulación Ed.Media Básica",null,"TOTAL","C. B. T. Agrario",null,"TOTAL","Ciclo Básico Tecnológico",null,"TOTAL ","Formación Profesional Básica 2007"]
[null,null,null,"Sexo",null,null,"Sexo",null,null,"Sexo",null,null,"Sexo"]
[null,null,null,"M","F",null,"M","F",null,"M","F",null,"M","F"]
[]
["TOTAL ",{"$f":"+C14+F14+I14+L14","v":31687},{"$f":"SUM(C15:C16)","v":1542},585,957,1746,{"$f":"G15+G16","v":1251},{"$f":"H15+H16","v":495},16987,9943,7044,11412,7006,4406]
["Montevideo",{"$f":"C15+F15+I15+L15","v":6389},{"$f":"+D15+E15","v":390},166,224,{"$f":"+G15+H15","v":114},77,37,{"$f":"+J15+K15","v":2575},1586,989,{"$f":"+M15+N15","v":3310},1980,1330]
["Resto del País ",{"$f":"+C16+F16+I16+L16","v":25298},{"$f":"SUM(C17:C34)","v":1152},419,733,1632,1174,458,14412,8357,6055,8102,5026,3076]
["Artigas",1238,{"$f":"+D17+E17","v":75},28,47,{"$f":"+G17+H17","v":34},26,8,{"$f":"+J17+K17","v":794},475,319,{"$f":"+M17+N17","v":335},173,162]
["Canelones",5810,335,127,208,92,56,36,2758,1574,1184,2625,1611,1014]
["Cerro Largo",1584,73,22,51,109,75,34,992,567,425,410,274,136]
["Colonia",1609,57,21,36,97,77,20,1183,737,446,272,177,95]
["Durazno",1303,0,0,0,155,109,46,838,473,365,310,191,119]
["Flores",272,0,0,0,0,0,0,150,86,64,122,81,41]
["Florida",746,79,29,50,20,13,7,299,156,143,348,202,146]
["Lavalleja",487,0,0,0,98,68,30,161,94,67,228,134,94]
["Maldonado",1496,0,0,0,52,38,14,1073,649,424,371,229,142]
["Paysandú",1766,23,11,12,300,214,86,830,523,307,613,395,218]
["Rio Negro",732,18,11,7,22,19,3,454,274,180,238,164,74]
["Rivera",1158,50,19,31,174,140,34,551,338,213,383,276,107]
["Rocha",798,48,18,30,55,39,16,447,242,205,248,136,112]
["Salto",1449,182,55,127,158,97,61,772,418,354,337,206,131]
["San José",1617,120,45,75,64,49,15,1178,653,525,255,154,101]
["Soriano",1570,50,13,37,96,79,17,1010,552,458,414,259,155]
["Tacuarembó",1075,29,13,16,26,16,10,588,343,245,432,249,183]
["Treinta y Tres",588,13,7,6,80,59,21,334,203,131,161,115,46]
["Fuente: Procesamiento propio en base a datos proporcionados por el D.E. - CETP  (U.T.U) ."]

{"sheet":"II-3.2.3","index":45,"n_rows":36,"n_cols":13,"rows_kept":36,"cut":false,"hidden":false,"merged":[[0,8,1,13],[5,0,5,12],[6,0,11,0],[6,1,9,3],[6,4,6,12],[7,4,7,12],[8,4,8,6],[8,7,8,9],[8,10,8,12],[9,4,9,6],[10,1,11,1],[10,2,11,2],[10,3,11,3],[10,12,11,12],[9,7,9,9],[9,10,9,12],[10,4,11,4],[10,5,11,5],[10,9,11,9],[10,10,11,10],[10,11,11,11],[10,6,11,6],[10,7,11,7],[10,8,11,8]]}
["CONSEJO DE EDUCACIÓN PRIMARIA",null,null,null,null,null,null,null,"ALUMNOS MATRICULADOS"]
[]
["Cuadro Nº II-3.2.3"]
[]
[]
["ALUMNOS MATRICULADOS EN SÉPTIMO, OCTAVO Y NOVENO GRADO DE CICLO BÁSICO RURAL POR SEXO SEGÚN DEPARTAMENTO. AÑO 2015."]
["DEPARTAMENTO","TOTAL",null,null,"CICLO BÁSICO RURAL"]
[null,null,null,null,"GRADO"]
[null,null,null,null,"SÉPTIMO",null,null,"OCTAVO",null,null,"NOVENO"]
[null,null,null,null,"SEXO",null,null,"SEXO",null,null,"SEXO"]
[null,"T","M","F","T","M","F","T","M","F","T","M","F"]
[]
["TOTAL",{"$f":"B14+B15","v":1730},{"$f":"F13+I13+L13","v":0},0,{"$f":"F13+G13","v":0},{"$f":"F14+F15","v":0},{"$f":"G14+G15","v":0},{"$f":"I13+J13","v":0},{"$f":"I14+I15","v":0},{"$f":"J14+J15","v":0},{"$f":"L13+M13","v":0},{"$f":"L14+L15","v":0},{"$f":"M14+M15","v":0}]
["MONTEVIDEO",0,0,0]
["RESTO DEL PAÍS",1730,0,0,{"$f":"SUM(E16:E33)","v":623},0,0,576,0,0,531,0,0]
["Artigas",132,0,0,38,"s/d","s/d",62,"s/d","s/d",32,"s/d","s/d"]
["Canelones",{"$f":"E17+H17+K17","v":0},{"$f":"F17+I17+L17","v":0},{"$f":"G17+J17+M17","v":0},0,"s/d","s/d",0,"s/d","s/d",0,"s/d","s/d"]
["Cerro Largo",92,0,0,35,"s/d","s/d",25,"s/d","s/d",32,"s/d","s/d"]
["Colonia",168,0,0,58,"s/d","s/d",62,"s/d","s/d",48,"s/d","s/d"]
["Durazno",28,0,0,9,"s/d","s/d",9,"s/d","s/d",10,"s/d","s/d"]
["Flores",11,0,0,3,"s/d","s/d",4,"s/d","s/d",4,"s/d","s/d"]
["Florida",64,0,0,20,"s/d","s/d",23,"s/d","s/d",21,"s/d","s/d"]
["Lavalleja",66,0,0,22,"s/d","s/d",23,"s/d","s/d",21,"s/d","s/d"]
["Maldonado",97,0,0,27,"s/d","s/d",30,"s/d","s/d",40,"s/d","s/d"]
["Paysandú",328,0,0,132,"s/d","s/d",99,"s/d","s/d",97,"s/d","s/d"]
["Río Negro",107,0,0,33,"s/d","s/d",35,"s/d","s/d",39,"s/d","s/d"]
["Rivera",121,0,0,38,"s/d","s/d",45,"s/d","s/d",38,"s/d","s/d"]
["Rocha",68,0,0,33,"s/d","s/d",16,"s/d","s/d",19,"s/d","s/d"]
["Salto",19,0,0,9,"s/d","s/d",6,"s/d","s/d",4,"s/d","s/d"]
["San José",192,0,0,65,"s/d","s/d",63,"s/d","s/d",64,"s/d","s/d"]
["Soriano",56,0,0,27,"s/d","s/d",13,"s/d","s/d",16,"s/d","s/d"]
["Tacuarembó",118,0,0,52,"s/d","s/d",37,"s/d","s/d",29,"s/d","s/d"]
["Treinta y Tres",63,0,0,22,"s/d","s/d",24,"s/d","s/d",17,"s/d","s/d"]
["Fuente: DE — CES"]
[]
["Nota: No se tienen datos por sexo"]

{"sheet":"II-3.2.4","index":46,"n_rows":33,"n_cols":7,"rows_kept":33,"cut":false,"hidden":false,"merged":[[0,4,1,6],[4,0,4,6],[6,0,9,0],[6,1,6,6],[7,1,7,2],[7,3,7,4],[7,5,7,6],[8,1,8,6]]}
["CONSEJO DE EDUCACIÓN SECUNDARIA",null,null,null,"ALUMNOS MATRICULADOS"]
[]
["Cuadro Nº II-3.2.4"]
[]
["ALUMNOS MATRICULADOS DE EDUCACIÓN MEDIA BÁSICA GENERAL  POR GRADO Y FORMA DE ADMINISTRACIÓN SEGÚN DEPARTAMENTO. AÑO 2015."]
[]
["DEPARTAMENTO","GRADO"]
[null,"PRIMERO",null,"SEGUNDO",null,"TERCERO"]
[null,"FORMA DE ADMINISTRACIÓN"]
[null,"Públicos","Privados","Públicos","Privados","Públicos","Privados"]
["TOTAL",{"$f":"B12+B13","v":43834},8581,38178,8959,38737,8876]
["MONTEVIDEO",13874,5486,11757,5646,11725,5695]
["RESTO DEL PAÍS",{"$f":"SUM(B14:B31)","v":29960},3095,26421,3313,27012,3181]
["Artigas",1208,15,1165,20,1174,17]
["Canelones",7766,1069,6803,1186,7008,1202]
["Cerro Largo",1174,107,1131,120,1198,107]
["Colonia",1529,41,1465,31,1531,26]
["Durazno",869,101,749,104,690,73]
["Flores",378,59,318,44,334,42]
["Florida",949,67,797,86,797,102]
["Lavalleja",876,56,748,47,806,53]
["Maldonado",2415,450,2166,485,2089,482]
["Paysandú",1494,220,1353,262,1431,220]
["Río Negro",787,44,736,53,822,51]
["Rivera",2095,113,1744,136,1794,113]
["Rocha",1124,69,1009,66,1001,74]
["Salto ",2070,263,1772,241,1790,214]
["San José",1455,161,1205,144,1277,137]
["Soriano",1267,68,1082,68,1079,71]
["Tacuarembó",1655,109,1469,128,1441,118]
["Treinta y Tres",849,83,709,92,750,79]
["Fuente: DE — CES"]
["Nota: Incluye la matrícula correspondiente a los liceos de cuarto turno (nocturnos). "]

{"sheet":"II-3.2.5","index":47,"n_rows":31,"n_cols":7,"rows_kept":31,"cut":false,"hidden":false,"merged":[[3,0,3,6],[5,0,8,0],[5,1,5,6],[6,1,6,2],[6,3,6,4],[6,5,6,6],[7,1,7,6]]}
["CONSEJO DE EDUCACIÓN SECUNDARIA"]
["Cuadro Nº II-3.2.5"]
[]
["ALUMNOS MATRICULADOS DE EDUCACIÓN MEDIA BÁSICA PRIVADA  POR GRADO Y SEXO SEGÚN DEPARTAMENTO. AÑO 2015."]
[]
["DEPARTAMENTO","GRADO"]
[null,"PRIMERO",null,"SEGUNDO",null,"TERCERO"]
[null,"SEXO"]
[null,"Mujeres","Varones","Mujeres","Varones","Mujeres","Varones"]
["TOTAL",{"$f":"B11+B12","v":4328},4253,4530,4429,4498,4378]
["MONTEVIDEO",2738,2748,2824,2822,2886,2809]
["RESTO DEL PAÍS",{"$f":"SUM(B13:B30)","v":1590},1505,1706,1607,1612,1569]
["Artigas",8,7,13,7,9,8]
["Canelones",533,536,610,576,602,600]
["Cerro Largo",58,49,59,61,47,60]
["Colonia",26,15,15,16,21,5]
["Durazno",52,49,51,53,38,35]
["Flores",39,20,22,22,17,25]
["Florida",41,26,49,37,53,49]
["Lavalleja",24,32,22,25,27,26]
["Maldonado",217,233,237,248,231,251]
["Paysandú",115,105,125,137,129,91]
["Río Negro",21,23,31,22,30,21]
["Rivera",54,59,69,67,59,54]
["Rocha",40,29,35,31,36,38]
["Salto ",139,124,136,105,109,105]
["San José",86,75,77,67,74,63]
["Soriano",39,29,42,26,38,33]
["Tacuarembó",50,59,69,59,53,65]
["Treinta y Tres",48,35,44,48,39,40]
["Fuente: DE — CES"]

{"sheet":"II-3.2.6","index":48,"n_rows":33,"n_cols":7,"rows_kept":33,"cut":false,"hidden":false,"merged":[[3,0,3,6],[5,0,8,0],[5,1,5,6],[6,1,6,2],[6,3,6,4],[6,5,6,6],[7,1,7,6]]}
["CONSEJO DE EDUCACIÓN SECUNDARIA"]
["Cuadro Nº II-3.2.6"]
[]
["ALUMNOS MATRICULADOS DE EDUCACIÓN MEDIA BÁSICA PÚBLICA  POR GRADO Y SEXO SEGÚN DEPARTAMENTO. AÑO 2015."]
[]
["DEPARTAMENTO","GRADO"]
[null,"PRIMERO",null,"SEGUNDO",null,"TERCERO"]
[null,"SEXO"]
[null,"Mujeres","Varones","Mujeres","Varones","Mujeres","Varones"]
["TOTAL",{"$f":"B11+B12","v":20650},20153,18097,16116,16709,14933]
["MONTEVIDEO",6537,6303,5477,4872,4806,4376]
["RESTO DEL PAÍS",{"$f":"SUM(B13:B30)","v":14113},13850,12620,11244,11903,10557]
["Artigas",613,571,588,535,573,508]
["Canelones",3560,3638,3161,2876,2974,2646]
["Cerro Largo",579,525,542,462,529,462]
["Colonia",732,691,706,585,634,601]
["Durazno",402,386,377,271,291,258]
["Flores",198,180,164,128,139,124]
["Florida",471,461,387,385,391,330]
["Lavalleja",415,422,356,342,383,325]
["Maldonado",1076,1102,1005,946,863,902]
["Paysandú",748,688,727,550,704,553]
["Río Negro",394,363,371,297,322,338]
["Rivera",915,980,792,736,768,724]
["Rocha",532,517,468,482,435,432]
["Salto ",983,999,849,834,853,744]
["San José",700,648,533,486,514,407]
["Soriano",605,529,554,399,488,393]
["Tacuarembó",797,774,717,654,710,562]
["Treinta y Tres",393,376,323,276,332,248]
["Fuente: DE — CES"]
["Nota: No incluye la matrícula correspondiente a los liceos de cuarto turno (nocturnos)"]
[" No incluye 734 estudiantes que no hay datos sobre sexo"]

{"sheet":"II-3.2.7","index":49,"n_rows":21,"n_cols":6,"rows_kept":21,"cut":false,"hidden":false,"merged":[[20,0,20,4],[0,4,1,5],[4,0,4,3],[6,0,7,0],[6,1,7,1],[6,2,6,5]]}
["CONSEJO DE EDUCACIÓN TÉCNICO PROFESIONAL (U.T.U.)",null,null,null,"ALUMNOS MATRICULADOS"]
[]
["Cuadro Nº II-3.2.7"]
[]
["ALUMNOS MATRICULADOS EN EDUCACIÓN TÉCNICA MEDIA BÁSICA POR TIPO DE CURSO SEGÚN EDAD. AÑO 2015."]
[]
["EDAD","TOTAL","TIPO DE CURSO"]
[null,null,"C.T.B Agrario","Ciclo Básico Tecnológico","Formación Profesional Básica\nPlan 2007","Articulación Educación Media Básica"]
["TOTAL",{"$f":"SUM(B10:B20)","v":31687},{"$f":"SUM(C10:C20)","v":1542},{"$f":"SUM(D10:D20)","v":1746},{"$f":"SUM(E10:E20)","v":16987},{"$f":"SUM(F10:F20)","v":11412}]
["11 y 12 años ",{"$f":"SUM(C10:F10)","v":4508},0,521,3983,4]
["13 años ",{"$f":"SUM(C11:F11)","v":6217},22,419,4766,1010]
["14 años ",5659,0,554,5068,37]
["15 años ",5047,67,174,2049,2757]
["16 años ",4112,66,54,814,3178]
["17 años ",2753,79,17,259,2398]
["18 años ",1117,103,5,28,981]
["19 años ",420,65,1,8,346]
["20 a 24 años ",715,316,1,8,390]
["25 a 29 años ",297,177,0,2,118]
["30 años y más ",842,647,0,2,193]
["Fuente : Procesamiento propio en base a datos proporcionados por el D.E.-CETP (U.T.U.) "]

{"sheet":"II-3.2.8 ","index":50,"n_rows":31,"n_cols":6,"rows_kept":31,"cut":false,"hidden":false,"merged":[[0,2,1,3],[31,0,31,3],[6,1,7,1],[6,2,6,4],[5,0,5,5]]}
["CONSEJO DE EDUCACIÓN TÉCNICO PROFESIONAL (U.T.U.)",null,"ALUMNOS MATRICULADOS"]
[]
[]
["Cuadro Nº II-3.2.8."]
[]
["ALUMNOS MATRICULADOS EN EL CETP EN EDUCACIÓN MEDIA BÁSICA POR TIPO DE CURSO SEGÚN SECTORES DE ESTUDIO. AÑO 2015."]
["SECTORES DE ESTUDIO","TOTAL","TIPO DE CURSO"]
[null,null,"Ciclo Básico Tecnológico","Formación Profesional Básica Plan 2007","CTB AGRARIO ","Articulación Educación Media"]
[]
["Prog. Ciclo Básico. Educación Media",{"$f":"+C10+D10+E10+F10","v":31687},{"$f":"SUM(C11:C31)","v":1542},{"$f":"SUM(D11:D31)","v":1746},{"$f":"SUM(E11:E31)","v":16987},{"$f":"SUM(F11:F31)","v":11412}]
["Agropecuario",{"$f":"+C11+D11+E11+F11","v":225},0,0,0,225]
["Comunicación",29,0,0,0,29]
["Construcción y Arquitectura",245,0,0,0,245]
["Deportes y afines",381,0,0,0,381]
["Electricidad y Electrónica",1138,0,0,0,1138]
["Gastronomía",1390,3,0,0,1387]
["Gráficos",1854,9,0,0,1845]
["Hípica",54,0,0,0,54]
["Hortifruticultura y Jardinería",114,0,0,0,114]
["Informática",117,0,0,0,117]
["Madera y Muebles",1282,0,0,0,1282]
["Mantenimiento y Rep. de Vehículos",1013,3,0,0,1010]
["Metal - Mecánica",1189,0,0,0,1189]
["Producción de Alimentos",507,0,0,0,507]
["Programa Articulación Rumbo y Otras",57,0,0,0,57]
["Programa Ciclo Básico Agrario",1523,1523,0,0,0]
["Programa Educación Media Básica",1746,0,1746,0,0]
["Química, Termodinámica y Agroener.",16987,0,0,16987,0]
["Robótica",116,0,0,0,116]
["Servicios Personales",1426,0,0,0,1426]
["Textil y Confección de Vestimenta",294,4,0,0,290]

{"sheet":"II-3.3.1","index":51,"n_rows":77,"n_cols":7,"rows_kept":77,"cut":false,"hidden":false,"merged":[[0,5,1,6],[4,0,4,6],[6,0,7,0],[6,1,7,1],[6,2,6,3],[6,4,7,4],[6,5,6,6]]}
["CONSEJO DE EDUCACIÓN SECUNDARIA",null,null,null,null,"PERSONAL DOCENTE"]
[]
["Cuadro Nº II-3.3.1."]
[]
["PERSONAL DOCENTE Y HORAS DOCENTES DEL CES EN EDUACIÓN MEDIA BÁSICA GENERAL POR TITULACIÓN SEGÚN ASIGNATURAS. AÑO 2015."]
[]
["ASIGNATURAS","TOTAL DOCENTES","PERSONAL DOCENTE",null,"TOTAL HORAS ","HORAS DOCENTES"]
[null,null,"Titulados","No Titulados",null,"Titulados","No Titulados"]
["TOTAL",{"$f":"SUM(C9:D9)","v":19477},{"$f":"SUM(C10:C75)","v":11367},{"$f":"SUM(D10:D75)","v":8110},{"$f":"SUM(F9:G9)","v":257559},{"$f":"SUM(F10:F75)","v":156580},{"$f":"SUM(G10:G75)","v":100979}]
["ASTRONOMÍA",{"$f":"SUM(C10:D10)","v":197},60,137,{"$f":"SUM(F10:G10)","v":2370},574,1796]
["BIOLOGÍA",1373,1096,277,17465,14987,2478]
["CONTABILIDAD",2,0,2,9,0,9]
["DIBUJO",816,490,326,12616,8796,3820]
["EDUCACIÓN FÍSICA",1097,936,161,16114,14325,1789]
["EDUCACIÓN MUSICAL",591,158,433,8802,2628,6174]
["ED.SOCIAL Y CÍVICA DERECHO",531,437,94,4462,3881,581]
["FILOSOFÍA",435,321,114,4701,3580,1121]
["FÍSICA",649,303,346,8135,4096,4039]
["FRANCÉS",53,13,40,1152,330,822]
["GEOGRAFÍA",879,667,212,12975,10714,2261]
["HISTORIA",1540,1277,263,19749,17305,2444]
["IDIOMA ESPAÑOL",1133,810,323,19193,14328,4865]
["INGLÉS",1354,528,826,23201,10163,13038]
["ITALIANO",66,23,43,1207,432,775]
["LITERATURA",835,679,156,10606,9050,1556]
["CIENCIAS FÍSICO - QUÍMICAS",863,481,382,9805,5709,4096]
["MATEMÁTICA",1575,628,947,28145,12770,15375]
["QUÍMICA",776,511,265,8340,6025,2315]
["REC.NATUR.Y PAISAJE AGRARIO",0,0,0,0,0,0]
["GEOLOGÍA",1,0,1,1,0,1]
["DIRECTOR DE COROS",143,72,71,1620,864,756]
["PIANISTA ACOMPAÑANTE",111,48,63,1091,472,619]
["COORDINADOR PLAN 96 EXTRAEDAD",311,208,103,666,489,177]
["COORDINADOR HIPOACUSICOS",18,2,16,51,7,44]
["AP.AL LABORATORIO (curricular)",4,3,1,37,25,12]
["COORDINADOR INFOART",1,0,1,4,0,4]
["INFORMÁTICA",990,170,820,15613,2279,13334]
["COORDINADOR ECE",229,107,122,468,214,254]
["COORDINADOR INAU",0,0,0,0,0,0]
["COORDINADOR PAC",231,75,156,568,190,378]
["COORDINADOR CECAP",39,25,14,77,49,28]
["LENG.COM.Y MED.AUDIOVISUALES",9,1,8,83,20,63]
["COORDINADOR PEDAGOGICO",173,163,10,3619,3424,195]
["ESTUDIOS ECONÓMICOS Y SOCIALES",0,0,0,0,0,0]
["LABORATORIO DE INFORMÁTICA",{"$f":"SUM(C45:D45)","v":410},63,347,7136,1040,6096]
["TUTORES",{"$f":"SUM(C46:D46)","v":824},587,237,4299,3039,1260]
["ALEMÁN",7,0,7,122,0,122]
["A.P.T.E.",18,15,3,265,215,50]
["REFERENTE TUTOR",0,0,0,0,0,0]
["JUNTA MÉDICA",57,44,13,1288,991,297]
["TEATRO",0,0,0,0,0,0]
["PORTUGUÉS",79,30,49,1245,500,745]
["EXPRESIÓN CORPORAL Y TEATRO",0,0,0,0,0,0]
["EXPRESIÓN CORPORAL Y DANZA",0,0,0,0,0,0]
["ACTIVIDAD DOCENTE RURAL",55,15,40,845,197,648]
["REFERENTE PAC",30,14,16,680,300,380]
["COARTICULADORES",22,1,21,267,12,255]
["ACT.ADAPTADAS AL MEDIO AMBIENT",57,9,48,606,63,543]
["ECONOMÍA",0,0,0,0,0,0]
["HORAS DE APOYO AL FIN AÑO LECT",52,28,24,751,378,373]
["APOYO PROYECTOS",6,6,0,69,69,0]
["APOYO BIBLIOTECA",5,1,4,60,22,38]
["APOYO A LA DIRECCIÓN",15,10,5,292,206,86]
["TALLERISTA",11,1,10,106,10,96]
["APOYO A ADSCRIPCIÓN",21,10,11,311,177,134]
["MÉDICO CERTIFICADOR",1,0,1,28,0,28]
["EDUCADOR PARA LA SEXUALIDAD",46,36,10,490,380,110]
["DOC EFECT C/DÉFICIT ART.15.3",3,0,3,48,0,48]
["ESPACIO CURRICULAR ABIERTO",687,200,487,4983,1168,3815]
["INTÉRPRETE",28,1,27,436,4,432]
["PSICÓLOGO",1,1,0,30,30,0]
["TALLER DE ARTES PLÁSTICAS",1,1,0,10,10,0]
["LENGUA DE SEÑAS",15,2,13,{"$f":"SUM(F73:G73)","v":237},43,194]
["APOYO AL LABORATORIO",1,0,1,10,0,10]
["ACTIVIDADES ESPECIALES",0,0,0,0,0,0]
["Fuente: Departamento de Estadística — C.E.S."]
["Nota: Los docentes que dictan más de una asignatura son considerados como personas distintas en cada asignatura."]

{"sheet":"II-3.3.2","index":52,"n_rows":14,"n_cols":5,"rows_kept":14,"cut":false,"hidden":false,"merged":[[0,4,1,5],[4,0,4,3],[5,0,6,0],[5,1,6,1]]}
["CONSEJO DE EDUCACIÓN TÉCNICO PROFESIONAL (U.T.U.)",null,null,null,"PERSONAL DOCENTE"]
[]
["Cuadro Nº II-3.3.2."]
[]
["PERSONAL DOCENTE DEL CETP EN EDUCACIÓN MEDIA BÁSICA TECNOLÓGICA POR TIPO DE CURSO. AÑO 2015."]
["EDUCACIÓN MEDIA BÁSICA","TOTAL"]
[]
[]
["TOTAL",{"$f":"SUM(B10:B13)","v":7216}]
["Ciclo Básico Tecnológico",3952]
["Ciclo Básico Tecnológico Agrario","S/D"]
["Formación Profesional Básica Plan 2007",2854]
["Articulación Educ.Media Básica",410]
["Fuente: U.T.U. División Informática."]

{"sheet":"II-3.4.1","index":53,"n_rows":26,"n_cols":4,"rows_kept":26,"cut":false,"hidden":false,"merged":[[26,0,26,2],[0,3,1,4],[4,0,4,2],[5,0,8,0],[5,1,6,2],[7,1,8,1],[7,2,8,2],[7,3,8,3]]}
["CONSEJO DE EDUCACIÓN SECUNDARIA",null,null,"GRUPOS"]
[]
["Cuadro Nº II-3.4.1."]
[]
["GRUPOS DEL CES EN EDUCACIÓN MEDIA BÁSICA GENERAL  COMPARADOS CON EL TOTAL DE GRUPOS EN EDUCACIÓN MEDIA GENERAL SEGÚN GRANDES ÁREAS Y FORMA DE ADMINISTRACIÓN. AÑO 2015."]
["GRANDES ÁREAS Y FORMA DE ADMINISTRACIÓN","FORMA DE ADMINISTRACIÓN"]
[]
[null,"Grupos en Educación Media Básica General ","Total de grupos en Educación Media General","Promedio alumnos por grupo de Media Básica"]
[]
["TOTAL DEL PAÍS",{"$f":"B15+B20","v":5624},{"$f":"C15+C20","v":10189},26.2]
["MEDIA BÁSICA PÚBLICA",{"$f":"B12+B13","v":4504},{"$f":"C12+C13","v":7837},26.8]
["  Diurna",{"$f":"B17+B22","v":4074},{"$f":"C17+C22","v":6771},26.4]
["  Cuarto Turno",430,{"$f":"C18+C23","v":1066},31.1]
["MEDIA BÁSICA PRIVADA",1120,2352,23.6]
["TOTAL MONTEVIDEO",{"$f":"B16+B19","v":2024},{"$f":"C16+C19","v":3789},26.8]
["MEDIA BÁSICA PÚBLICA",{"$f":"B17+B18","v":1336},{"$f":"C17+C18","v":2234},28]
["  Diurna",1188,1841,27.3]
["  Cuarto Turno",148,393,33.1]
["MEDIA BÁSICA  PRIVADA",688,1555,24.5]
["TOTAL RESTO DEL PAÍS",{"$f":"B21+B24","v":3600},{"$f":"C21+C24","v":6400},25.8]
["MEDIA BÁSICA PÚBLICA",{"$f":"B22+B23","v":3168},{"$f":"C22+C23","v":5603},26.3]
["  Diurna",2886,4930,26]
["  Cuarto Turno",282,673,30]
["MEDIA  BÁSICA PRIVADA",432,797,22.2]
[]
["Fuente: D.E. — C.E.S."]

{"sheet":"MEDIA SUPERIOR ","index":54,"n_rows":143,"n_cols":2,"rows_kept":143,"cut":false,"hidden":false,"merged":[]}
[]
[]
[]
[]
[]
[]
[]
["Cuadro Nº II-4.1.1","ESTABLECIMIENTOS DE EDUCACIÓN MEDIA SUPERIOR POR MODALIDAD Y FORMA DE ADMINISTRACIÓN SEGÚN DEPARTAMENTO. AÑO 2015. "]
[""]
[""]
["Cuadro Nº II-4.2.1","ALUMNOS MATRICULADOS  DEL CES  EN EDUCACIÓN MEDIA SUPERIOR  GENERAL POR GRADO SEGÚN GRANDES ÁREAS Y FORMA DE ADMINISTRACIÓN. AÑO 2015. "]
[""]
["Cuadro Nº II-4.2.2","ALUMNOS MATRICULADOS EN EL CETP EN EDUCACIÓN MEDIA SUPERIOR TECNOLÓGICA POR TIPO DE CURSO SEGÚN GRANDES ÁREAS, DEPARTAMENTO Y SEXO. AÑO 2015. "]
[""]
["Cuadro Nº II-4.2.3","ALUMNOS MATRICULADOS EN EL CETP EN EDUCACIÓN MEDIA SUPERIOR POR TIPO DE CURSO SEGÚN EDAD. AÑO 2015. "]
[""]
["Cuadro Nº II-4.2.4","ALUMNOS MATRICULADOS EN EL CETP EN EDUCACIÓN MEDIA SUPERIOR TECNOLÓGICA POR TIPO DE CURSO SEGÚN SECTORES DE ESTUDIO. AÑO 2015. "]
[""]
["Cuadro Nº II-4.2.5","ALUMNOS MATRICULADOS EN EL CES EN EDUCACIÓN MEDIA SUPERIOR GENERAL POR GRADO Y FORMA DE ADMINISTRACIÓN SEGÚN DEPARTAMENTO. AÑO 2015. "]
[""]
["Cuadro Nº II-4.2.6","ALUMNOS MATRICULADOS EN EL CES EN QUINTO GRADO DE EDUCACIÓN MEDIA GENERAL PÚBLICA POR PLAN Y ORIENTACIÓN SEGÚN DEPARTAMENTO. AÑO 2015. "]
[""]
["Cuadro Nº II-4.2.7","ALUMNOS MATRICULADOS EN EL CES EN QUINTO GRADO DE EDUCACIÓN MEDIA SUPERIOR DE EDUCACIÓN SECUNDARIA PRIVADA POR ORIENTACIÓN SEGÚN DEPARTAMENTO. AÑO 2015. "]
[""]
["Cuadro Nº II-4.2.8","ALUMNOS MATRICULADOS EN EL CES EN SEXTO GRADO DE EDUCACIÓN MEDIA GENERAL PÚBLICA POR PLAN Y OPCIÓN SEGÚN DEPARTAMENTO. AÑO 2015. "]
[""]
["Cuadro Nº II-4.2.9","ALUMNOS MATRICULADOS EN EL CES EN SEXTO GRADO DE EDUCACIÓN MEDIA GENERAL PRIVADA POR OPCIÓN SEGÚN DEPARTAMENTO. AÑO 2015."]
[""]
["Cuadro Nº II-4.2.10","ALUMNOS MATRICULADOS DE EDUCACIÓN MEDIA SUPERIOR PRIVADA  POR GRADO Y SEXO SEGÚN DEPARTAMENTO. AÑO 2015"]
[""]
["Cuadro Nº II-4.2.11","ALUMNOS MATRICULADOS DE EDUCACIÓN MEDIA SUPERIOR PRIVADA  POR GRADO Y SEXO SEGÚN DEPARTAMENTO. AÑO 2015."]
[""]
[""]
["Cuadro Nº II-4.3.1","PERSONAL DOCENTE Y HORAS DOCENTES DEL CES EN EDUCACIÓN MEDIA SUPERIOR GENERAL PÚBLICA POR CONDICIÓN DE TITULACIÓN. AÑO 2015."]
[""]
["Cuadro Nº II-4.3.2","PERSONAL DOCENTE DEL CETP EN EDUCACIÓN MEDIA SUPERIOR TECNOLÓGICA POR TIPO DE CURSO. AÑO 2015."]
[""]
[""]
["Cuadro Nº II-4.4.1","GRUPOS DE EDUCACIÓN MEDIA SUPERIOR GENERAL COMPARADOS CON EL TOTAL DE AMBOS CICLOS SEGÚN GRANDES ÁREAS Y FORMA DE ADMINISTRACIÓN. AÑO 2015."]
[""]
[""]
[""]
[""]
[""]
[""]
[""]
[""]
[""]
[""]
[""]
[""]
[""]
[""]
[""]
[""]
[""]
[""]
[""]
[""]
[""]
[""]
[""]
[""]
[""]
[""]
[""]
[""]
[""]
[""]
[""]
[""]
[""]
[""]
[""]
[""]
[""]
[""]
[""]
[""]
[""]
[""]
[""]
[""]
[""]
[""]
[""]
[""]
[""]
[""]
[""]
[""]
[""]
[""]
[""]
[""]
[""]
[""]
[""]
[""]
[""]
[""]
[""]
[""]
[""]
[""]
[""]
[{"$f":"MID(B70,1,20)","v":""}]
[""]
[""]
[""]
[""]
[""]
[""]
[""]
[""]
[""]
[""]
[""]
[""]
[""]
[""]
[""]
[""]
[""]
[""]
[""]
[""]
[""]
[""]
[""]
[""]
[""]
[""]
[""]
[""]
[""]
[""]
[""]
[""]
[""]
[""]
[""]
[""]

{"sheet":"II-4.1.1 ","index":55,"n_rows":39,"n_cols":13,"rows_kept":39,"cut":false,"hidden":false,"merged":[[0,7,1,9],[4,0,4,10],[5,0,13,0],[5,2,5,12],[6,1,13,1],[6,3,6,9],[6,10,6,12],[7,3,7,10],[8,2,13,2],[8,3,9,6],[37,0,37,12],[38,0,39,12],[8,7,13,7],[8,8,12,9],[8,10,13,10],[9,11,12,12],[10,3,12,4],[10,5,12,6]]}
["CONSEJO DE EDUCACIÓN SECUNDARIA (CES) Y CONSEJO DE EDUCACIÓN TÉCNICO PROFESIONAL (UTU)",null,null,null,null,null,null,"ESTABLECIMIENTOS"]
[]
["Cuadro Nº II-4.1.1"]
[]
["ESTABLECIMIENTOS DE EDUCACIÓN MEDIA SUPERIOR POR MODALIDAD Y FORMA DE ADMINISTRACIÓN SEGÚN DEPARTAMENTO. AÑO 2015."]
["DEPARTAMENTO",null,"MODALIDAD"]
[null,"TOTAL GENERAL",null,"CES",null,null,null,null,null,null,"CETP"]
[null,null,null,"FORMA DE ADMINISTRACIÓN"]
[null,null,"TOTAL LICEOS PÚBLICOS","LICEOS PÚBLICOS",null,null,null,"TOTAL LICEOS PRIVADOS","Liceos Privados",null,"TOTAL ESCUELAS DE CBT Y TÉCNICA"]
[null,null,null,null,null,null,null,null,null,null,null,"Escuelas de CBT y Técnica."]
[null,null,null,"Diurnos Oficiales",null,"Extra Edad Oficiales (Nocturno Y Diurno)"]
[]
[]
[null,null,null,"Bachillerato","C.Básico y Bachillerato","Bachillerato","C.Básico y Bachillerato",null,"Bachillerato","C.Básico y Bachillerato",null,"Escuelas de CBT y Técnica.","Reparticiones"]
["TOTAL",{"$f":"C15+H15+K15","v":604},{"$f":"SUM(D15:G15)","v":284},{"$f":"D16+D17","v":42},{"$f":"E16+E17","v":144},{"$f":"F16+F17","v":35},{"$f":"G16+G17","v":63},{"$f":"SUM(I15:J15)","v":170},{"$f":"I16+I17","v":9},{"$f":"J16+J17","v":161},{"$f":"L15+M15","v":150},{"$f":"L16+L17","v":123},{"$f":"M16+M17","v":27}]
["MONTEVIDEO",{"$f":"C16+H16+K16","v":184},{"$f":"SUM(D16:G16)","v":53},17,5,15,16,99,6,93,{"$f":"L16+M16","v":32},29,3]
["RESTO DEL PAÍS",420,{"$f":"SUM(C18:C35)","v":231},{"$f":"SUM(D18:D35)","v":25},{"$f":"SUM(E18:E35)","v":139},{"$f":"SUM(F18:F35)","v":20},{"$f":"SUM(G18:G35)","v":47},71,{"$f":"SUM(I18:I35)","v":3},{"$f":"SUM(J18:J35)","v":68},118,{"$f":"SUM(L18:L35)","v":94},{"$f":"SUM(M18:M35)","v":24}]
["Artigas",18,{"$f":"SUM(D18:G18)","v":11},2,7,1,1,1,0,1,6,4,2]
["Canelones",103,56,8,29,5,14,23,2,21,24,18,6]
["Cerro Largo",17,8,0,6,0,2,3,0,3,6,5,1]
["Colonia",34,20,2,10,3,5,1,0,1,13,10,3]
["Durazno",15,9,1,5,2,1,2,0,2,4,3,1]
["Flores",9,4,0,2,1,1,2,0,2,3,2,1]
["Florida",18,12,1,9,1,1,2,0,2,4,3,1]
["Lavalleja",12,7,0,6,1,0,1,0,1,4,3,1]
["Maldonado",30,11,1,6,0,4,12,1,11,7,7,0]
["Paysandú",21,11,2,7,1,1,3,0,3,7,4,3]
["Río Negro",14,8,1,4,1,2,2,0,2,4,3,1]
["Rivera",19,11,2,7,1,1,2,0,2,6,5,1]
["Rocha",19,12,1,7,1,3,2,0,2,5,5,0]
["Salto",23,12,1,9,1,1,5,0,5,6,4,2]
["San José",20,11,1,5,0,5,3,0,3,6,6,0]
["Soriano",17,10,1,5,1,3,1,0,1,6,6,0]
["Tacuarembó",19,11,1,9,0,1,4,0,4,4,3,1]
["Treinta y Tres",12,7,0,6,0,1,2,0,2,3,3,0]
[]
["Fuente: D.E.- C.E.S ."]
["Nota: 1- Los establecimientos considerados en el Tipo de Educación Escuelas con Ciclo Básico Rural” ya fueron considerados en los totales de establecimientos de Educación Primaria por lo cual, si bien se presentan en la columna  correspondiente, no participan en el “Total” del presente cuadro."]
["2- En un mismo establecimiento del CETP coexisten cursos de distintos nivel edcuativo. En este cuadro se exponen las escuelas que dictan cursos de EDUCACIÓN MEDIA SUPERIOR. Se incluyeron reparticiones (localizaciones) que no son establecimientos de activos de ANEP. "]

{"sheet":"II-4.2.1","index":56,"n_rows":29,"n_cols":5,"rows_kept":29,"cut":false,"hidden":false,"merged":[[24,0,24,4],[0,2,1,4],[0,7,1,7],[4,0,4,4],[5,0,7,0],[5,1,7,1],[5,2,6,4]]}
["CONSEJO DE EDUCACIÓN SECUNDARIA",null,"ALUMNOS MATRICULADOS"]
[]
["Cuadro Nº II-4.2.1"]
[]
["ALUMNOS MATRICULADOS  DEL CES  EN EDUCACIÓN MEDIA SUPERIOR  GENERAL POR GRADO SEGÚN GRANDES ÁREAS Y FORMA DE ADMINISTRACIÓN. AÑO 2015."]
["GRANDES ÁREAS Y FORMA DE ADMINISTRACIÓN","TOTAL","GRADO"]
[]
[null,null,"CUARTO","QUINTO","SEXTO"]
["TOTAL DEL PAÍS",{"$f":"C9+D9+E9","v":116793},{"$f":"C10+C13","v":42553},{"$f":"D10+D13","v":40998},{"$f":"E10+E13","v":33242}]
["MEDIA SUPERIOR PÚBLICA ",{"$f":"C10+D10+E10","v":99617},{"$f":"C11+C12","v":35719},{"$f":"D11+D12","v":35606},{"$f":"E11+E12","v":28292}]
["  Diurna",{"$f":"C11+D11+E11","v":67519},{"$f":"C16+C21","v":26724},22801,17994]
["  Cuarto Turno",32098,8995,12805,10298]
["MEDIA SUPERIOR PRIVADA",17176,6834,5392,4950]
["TOTAL MONTEVIDEO",45742,{"$f":"C15+C18","v":15706},{"$f":"D15+D18","v":16341},{"$f":"E15+E18","v":13695}]
["MEDIA SUPERIOR PÚBLICA ",33364,{"$f":"C16+C17","v":11086},{"$f":"D16+D17","v":12330},{"$f":"E16+E17","v":9948}]
["  Diurna",18980,7554,6449,4977]
["  Cuarto Turno",14384,3532,5881,4971]
["MEDIA SUPERIOR PRIVADA ",12378,4620,4011,3747]
["TOTAL RESTO DEL PAÍS",71051,{"$f":"C20+C23","v":26847},{"$f":"D20+D23","v":24657},{"$f":"E20+E23","v":19547}]
["MEDIA SUPERIOR PÚBLICA ",66253,{"$f":"C21+C22","v":24633},{"$f":"D21+D22","v":23276},{"$f":"E21+E22","v":18344}]
["  Diurna",48539,19170,16352,13017]
["  Cuarto Turno",17714,5463,6924,5327]
["MEDIA SUPERIOR PRIVADA ",4798,2214,1381,1203]
["Fuente: DE — CES"]
["Nota: La referencia \"Privada\" (incluye los Habilitados \"Liceo Naval\" y \"Liceo Militar\"), se corresponde con la de \"Liceos Habilitados\" presente en ediciones anteriores del Anuario Estadístico del MEC"]
["       "]
["        "]
["        "]
["        "]

{"sheet":"II-4.2.2 ","index":57,"n_rows":39,"n_cols":31,"rows_kept":39,"cut":false,"hidden":false,"merged":[[34,0,34,19],[0,7,1,7],[0,10,0,13],[5,0,10,0],[5,1,10,1],[5,2,8,3],[7,4,10,4],[7,5,7,6],[8,8,8,9],[8,11,8,12],[4,0,4,21],[9,5,10,5],[9,6,10,6],[7,7,10,7],[7,8,7,9],[7,10,10,10],[5,4,5,21],[9,20,10,20],[9,21,10,21],[7,19,10,19],[7,20,7,21],[8,17,8,18],[8,20,8,21],[7,17,7,18],[9,17,10,17],[9,18,10,18],[7,13,10,13],[32,0,32,12],[8,5,8,6],[33,0,33,21],[6,4,6,21],[9,2,10,2],[9,3,10,3],[7,14,7,15],[8,14,8,15],[7,16,9,16],[7,11,7,12],[7,22,9,22],[7,23,7,24],[8,23,8,24],[9,23,10,23],[9,24,10,24],[7,25,9,25],[7,26,7,27],[8,26,8,27],[9,26,10,26],[9,27,10,27],[7,28,9,28],[7,29,7,30],[8,29,8,30],[9,29,10,29],[9,30,10,30]]}
["CONSEJO DE EDUCACIÓN TÉCNICO PROFESIONAL (U.T.U.)",null,null,null,null,null,null,null,null,null,"ALUMNOS MATRICULADOS"]
[]
["Cuadro Nº II-4.2.2"]
[]
["ALUMNOS MATRICULADOS EN EL CETP EN EDUCACIÓN MEDIA SUPERIOR TECNOLÓGICA POR TIPO DE CURSO SEGÚN GRANDES ÁREAS, DEPARTAMENTO Y SEXO. AÑO 2015"]
["GRANDES ÁREAS,DEPARTAMENTO Y SEXO ","TOTAL","TOTAL ",null,"Tipo de curso"]
[null,null,null,null,"EDUACIÓN MEDIA SUPERIOR TECONOLOGICA "]
[null,null,null,null,"TOTAL ","Bachillerato Figari",null,"TOTAL ","Bachillerato Profesional",null,"TOTAL ","Curso Técnico",null,"TOTAL ","E. M. P. Especialización",null,"TOTAL ","Educación Media Profesional",null,"TOTAL","Educación Media Tecnológica",null,"TOTAL","Tecnologica Finest",null,"TOTAL","Formación Profesional Superior",null,"TOTAL","ARTICULACION E. M. S."]
[null,null,null,null,null,"Sexo",null,null,"Sexo",null,null,"Sexo",null,null,"Sexo",null,null,"Sexo",null,null,"Sexo",null,null,"Sexo",null,null,"Sexo",null,null,"Sexo"]
[null,null,"F","M",null,"F","M",null,"F","M",null,"F","M",null,"F","M",null,"F","M",null,"F","M"]
[null,null,null,null,null,null,null,null,"Count","Count",null,"Count","Count",null,null,null,null,"Count","Count",null,"Count","Count"]
["TOTAL ",{"$f":"C12+D12","v":43478},{"$f":"C13+C14","v":18314},{"$f":"D13+D14","v":25164},{"$f":"F12+G12","v":289},{"$f":"F13+F14","v":178},{"$f":"G13+G14","v":111},{"$f":"I12+J12","v":1158},{"$f":"I13+I14","v":247},{"$f":"J13+J14","v":911},{"$f":"L12+M12","v":352},{"$f":"L13+L14","v":332},{"$f":"M13+M14","v":20},{"$f":"O12+P12","v":68},{"$f":"O13+O14","v":12},{"$f":"P13+P14","v":56},{"$f":"R12+S12","v":14160},{"$f":"R13+R14","v":6397},{"$f":"S13+S14","v":7763},{"$f":"U12+V12","v":27179},{"$f":"U13+U14","v":11041},{"$f":"V13+V14","v":16138},{"$f":"X12+Y12","v":171},{"$f":"X13+X14","v":44},{"$f":"Y13+Y14","v":127},{"$f":"AA12+AB12","v":80},{"$f":"AA13+AA14","v":60},{"$f":"AB13+AB14","v":20},{"$f":"AD12+AE12","v":21},{"$f":"AD13+AD14","v":3},{"$f":"AE13+AE14","v":18}]
["Montevideo",{"$f":"C13+D13","v":18058},{"$f":"F13+I13+L13+O13+R13+U13+X13+AA13+AD13","v":6931},{"$f":"G13+J13+M13+P13+S13+V13+Y13+AB13+AE13","v":11127},{"$f":"F13+G13","v":246},147,99,{"$f":"I13+J13","v":483},90,393,{"$f":"L13+M13","v":352},332,20,{"$f":"O13+P13","v":68},12,56,{"$f":"R13+S13","v":5985},2617,3368,{"$f":"U13+V13","v":10799},3667,7132,{"$f":"X13+Y13","v":45},6,39,{"$f":"AA13+AB13","v":80},60,20,{"$f":"AD13+AE13","v":0}]
["RESTO DEL PAÍS",25420,{"$f":"F14+I14+L14+O14+R14+U14+X14+AA14+AD14","v":11383},{"$f":"G14+J14+M14+P14+S14+V14+Y14+AB14+AE14","v":14037},{"$f":"SUM(E15:E32)","v":43},31,12,675,157,518,0,0,0,0,0,0,8175,3780,4395,{"$f":"SUM(T15:T32)","v":16380},{"$f":"SUM(U15:U32)","v":7374},{"$f":"SUM(V15:V32)","v":9006},{"$f":"SUM(W15:W32)","v":126},{"$f":"SUM(X15:X32)","v":38},{"$f":"SUM(Y15:Y32)","v":88},{"$f":"SUM(Z15:Z32)","v":0},{"$f":"SUM(AA15:AA32)","v":0},{"$f":"SUM(AB15:AB32)","v":0},{"$f":"SUM(AC15:AC32)","v":21},{"$f":"SUM(AD15:AD32)","v":3},{"$f":"SUM(AE15:AE32)","v":18}]
["Artigas",{"$f":"C15+D15","v":1566},{"$f":"F15+I15+L15+O15+R15+U15+X15+AA15+AD15","v":842},{"$f":"G15+J15+M15+P15+S15+V15+Y15+AB15+AE15","v":724},10,6,4,30,0,30,0,0,0,0,0,0,690,381,309,836,455,381,0,0,0,0,0,0,0,0,0]
["Canelones",{"$f":"C16+D16","v":5245},2550,2695,0,0,0,136,49,87,0,0,0,0,0,0,1815,976,839,3267,1518,1749,27,7,20,0,0,0,0,0,0]
["Cerro Largo",1182,535,647,0,0,0,13,0,13,0,0,0,0,0,0,338,163,175,831,372,459,0,0,0,0,0,0,0,0,0]
["Colonia",1645,706,939,0,0,0,41,14,27,0,0,0,0,0,0,514,240,274,1069,449,620,0,0,0,0,0,0,21,3,18]
["Durazno",564,247,317,0,0,0,0,0,0,0,0,0,0,0,0,69,19,50,495,228,267,0,0,0,0,0,0,0,0,0]
["Flores",324,159,165,0,0,0,0,0,0,0,0,0,0,0,0,87,28,59,237,131,106,0,0,0,0,0,0,0,0,0]
["Florida",756,371,385,0,0,0,0,0,0,0,0,0,0,0,0,121,75,46,586,276,310,49,20,29,0,0,0,0,0,0]
["Lavalleja",629,317,312,0,0,0,35,14,21,0,0,0,0,0,0,338,166,172,256,137,119,0,0,0,0,0,0,0,0,0]
["Maldonado",2245,898,1347,0,0,0,105,19,86,0,0,0,0,0,0,977,419,558,1138,453,685,25,7,18,0,0,0,0,0,0]
["Paysandú",1892,715,1177,0,0,0,72,22,50,0,0,0,0,0,0,299,142,157,1521,551,970,0,0,0,0,0,0,0,0,0]
["Rio Negro",825,334,491,0,0,0,15,1,14,0,0,0,0,0,0,170,66,104,640,267,373,0,0,0,0,0,0,0,0,0]
["Rivera",1231,565,666,33,25,8,6,3,3,0,0,0,0,0,0,215,121,94,977,416,561,0,0,0,0,0,0,0,0,0]
["Rocha",598,291,307,0,0,0,30,1,29,0,0,0,0,0,0,261,105,156,307,185,122,0,0,0,0,0,0,0,0,0]
["Salto",2151,879,1272,0,0,0,82,8,74,0,0,0,0,0,0,738,308,430,1306,559,747,25,4,21,0,0,0,0,0,0]
["San José",1176,538,638,0,0,0,33,13,20,0,0,0,0,0,0,528,204,324,615,321,294,0,0,0,0,0,0,0,0,0]
["Soriano",1412,596,816,0,0,0,0,0,0,0,0,0,0,0,0,417,158,259,995,438,557,0,0,0,0,0,0,0,0,0]
["Tacuarembó",1423,615,808,0,0,0,57,13,44,0,0,0,0,0,0,452,150,302,914,452,462,0,0,0,0,0,0,0,0,0]
["Treinta y Tres",556,225,331,0,0,0,20,0,20,0,0,0,0,0,0,{"$f":"R32+S32","v":146},59,87,390,166,224,0,0,0,0,0,0,0,0,0]
["Fuente : Procesamiento propio en base a datos proporcionados por el D.E. _ CETP (U.T.U. ) "]
["Nota: Los matriculados en Formación Profesional Superior, potencialmente son estudiantes de Educación Media Superior, ya que con el curso de Articulación correspondiente adquieren continuidad educativa a  nivel tericiario. "]
["En Educación Media Tecnológica se sumaron 4 mujeres y 13 hombres en Florida que corresponden al curso Educación Media Tecnológica Fines."]
[]
[]
[null,null,null,null,null,null,null,6931,11127]
[null,null,null,null,null,null,null,11383,14037]

{"sheet":"II-4.2.3 ","index":58,"n_rows":25,"n_cols":12,"rows_kept":25,"cut":false,"hidden":false,"merged":[[23,0,23,10],[0,11,1,12],[4,0,4,11],[5,0,8,0],[5,1,8,1],[5,2,6,10],[7,2,7,10]]}
["CONSEJO DE EDUCACIÓN TÉCNICO PROFESIONAL (U.T.U.)",null,null,null,null,null,null,null,null,null,null,"ALUMNOS MATRICULADOS"]
[]
["Cuadro Nº II-4.2.3"]
[]
["ALUMNOS MATRICULADOS EN EL CETP EN EDUCACIÓN MEDIA SUPERIOR POR TIPO DE CURSO SEGÚN EDAD. AÑO 2015."]
["EDAD ","TOTAL ","TIPO DE CURSO "]
[]
[null,null,"EDUCACIÓN MEDIA SUPERIOR TECNOLÓGICA "]
[null,null,"Articulación EMS ","Bachillerato Figari","Bachillerato Profesional","Curso Técnico","E. M. P. Especialización","Educación Media Profesional","Educación Media Tecnológica","Tecnologica Finest","Formación Profesional Superior"]
["TOTAL ",{"$f":"C10+D10+E10++F10+G10+H10+I10+J10+K10","v":43478},{"$f":"SUM(C11:C21)","v":21},{"$f":"SUM(D11:D21)","v":289},1158,352,68,14160,27179,{"$f":"SUM(J11:J21)","v":171},80]
["11 y 12 años ",{"$f":"C11+D11+E11++F11+G11+H11+I11+J11+K11","v":0},0,0,0,0,0,0,0,0,0]
["13 años ",357,0,1,0,1,1,64,290,0,0]
["14 años",0,0,0,0,0,0,0,0,0,0]
["15 años",4168,0,15,0,10,3,858,3280,0,2]
["16 años",6238,0,27,15,26,5,1574,4587,1,3]
["17 años",7175,0,30,169,40,9,1900,5016,4,7]
["18años",5426,0,20,173,63,10,1632,3495,17,16]
["19años",3915,0,25,136,39,9,1289,2392,13,12]
["20 a 24 años",8531,0,51,338,107,15,3242,4700,52,26]
["25 a 29 años",3607,0,37,119,34,6,1516,1864,23,8]
["30 años y más",4061,21,83,208,32,10,2085,1555,61,6]
[]
["Fuente: Procesamiento propio en base a datos proporcionados por el D.E. - CETP (U.T.U)"]
["Nota: Los cursos de Articulación no corresponden estrictamente a Educación Media Superior. El curso de Articulación brinda la posibilidad de adquirir el nivel educativo para Terciario. De esta manera se entiende que su inclusión en Educación Media Superior parece más apropiada que su inclusión en nivel terciario dentro de la oferta educativa del CEPT. "]
["En Educación Media Tecnológica se sumaron 17 estudiantes que corresponden al curso Educación Media Tecnológica Fines."]

{"sheet":"II-4.2.4 ","index":59,"n_rows":35,"n_cols":11,"rows_kept":35,"cut":false,"hidden":false,"merged":[[4,0,4,10],[5,0,6,0],[5,1,6,1],[5,2,5,8],[33,0,33,10]]}
["CONSEJO DE EDUCACIÓN TÉCNICO PROFESIONAL (U.T.U.)",null,null,null,null,null,null,null,null,"ALUMNOS MATRICULADOS"]
[]
["Cuadro Nº II-4.2.4."]
[]
["ALUMNOS MATRICULADOS EN EL CETP EN EDUCACIÓN MEDIA SUPERIOR TECNOLÓGICA POR TIPO DE CURSO SEGÚN SECTORES DE ESTUDIO. AÑO 2015."]
["SECTORES DE ESTUDIO ","TOTAL","EDUCACIÓN MEDIA SUPERIOR TECNOLÓGICA"]
[null,null,"Articulación EMS ","Bachillerato Figari","Bachillerato Profesional","Curso Técnico","E. M. P. Especialización","Educación Media Profesional","Educación Media Tecnológica","Tecnologica Finest","Formación Profesional Superior"]
["TOTAL",{"$f":"C8+D8+E8+F8+G8+H8+I8+J8+K8","v":43478},{"$f":"SUM(C9:C932)","v":21},{"$f":"SUM(D9:D932)","v":289},1158,352,68,14160,27179,171,80]
["Agropecuario",{"$f":"C9+D9+E9+F9+G9+H9+I9+J9+K9","v":2447},21,0,40,0,0,253,2133,0,0]
["Artes y Artesanías",253,0,253,0,0,0,0,0,0,0]
["Cerámica",36,0,36,0,0,0,0,0,0,0]
["Comercio y Administración",11571,0,0,0,0,0,3666,7905,0,0]
["Comunicación",91,0,0,0,0,0,0,91,0,0]
["Construcción y Arquitectura",2489,0,0,107,0,20,586,1776,0,0]
["Deporte y Afines",4158,0,0,0,0,0,160,3998,0,0]
["Electricidad y Electrónica",5237,0,0,373,0,0,1943,2921,0,0]
["Forestal",17,0,0,0,0,0,17,0,0,0]
["Gastronomía",2754,0,0,336,0,0,2418,0,0,0]
["Gráficos",89,0,0,0,0,0,0,70,0,19]
["Hortifruticultura y Jardinería",48,0,0,0,0,0,48,0,0,0]
["Hotelería",98,0,0,0,0,0,58,0,0,40]
["Informática",5958,0,0,16,0,0,351,5591,0,0]
["Madera y Muebles",779,0,0,48,0,0,731,0,0,0]
["Mant. Rep. y Serv. a la Producción",157,0,0,14,0,0,143,0,0,0]
["Mantenimiento y Rep. de Vehículos",1948,0,0,159,0,48,1381,360,0,0]
["Metal - Mecánica",1055,0,0,28,0,0,492,535,0,0]
["Nautica y Pesca",118,0,0,30,0,0,88,0,0,0]
["Protección al Medio Ambiente",40,0,0,7,0,0,33,0,0,0]
["Química, Termodinámica y Agroener.",745,0,0,0,0,0,146,428,171,0]
["Servicios Personales",1658,0,0,0,162,0,1496,0,0,0]
["Textil y Confección de Vestimenta",340,0,0,0,190,0,150,0,0,0]
["Turismo",1392,0,0,0,0,0,0,1371,0,21]
["Fuente: D.E.- CETP (U.T.U.) "]
["Nota: Los cursos de Articulación no corresponden estrictamente a Educación Media Superior. El curso de Articulación brinda la posibilidad de adquirir el nivel educativo para Terciario. De esta manera se entiende que su inclusión en Educación Media Superior parece más apropiada que su inclusión en nivel terciario dentro de la oferta educativa del CEPT. "]
["En Educación Media Tecnológica se sumaron 17 estudiantes que corresponden al curso Educación Media Tecnológica Fines y sector de estudio Química, Termodinámica y Agroenergía"]

{"sheet":"II-4.2.5","index":60,"n_rows":32,"n_cols":7,"rows_kept":32,"cut":false,"hidden":false,"merged":[[31,0,31,6],[0,4,1,6],[4,0,4,6],[5,0,8,0],[5,1,5,6],[6,1,6,2],[6,3,6,4],[6,5,6,6],[7,1,7,6]]}
["CONSEJO DE EDUCACIÓN SECUNDARIA",null,null,null,"ALUMNOS MATRICULADOS"]
[]
["Cuadro Nº II-4.2.5."]
[]
["ALUMNOS MATRICULADOS EN EL CES EN EDUCACIÓN MEDIA SUPERIOR GENERAL POR GRADO Y FORMA DE ADMINISTRACIÓN SEGÚN DEPARTAMENTO. AÑO 2015."]
["DEPARTAMENTO","GRADO"]
[null,"CUARTO",null,"QUINTO",null,"SEXTO"]
[null,"FORMA DE ADMINISTRACIÓN"]
[null,"Públicos","Privados","Públicos","Privados","Públicos","Privados"]
["TOTAL",{"$f":"SUM(B11:B12)","v":35719},6834,35606,5392,{"$f":"SUM(F11:F12)","v":28292},4950]
["MONTEVIDEO",11086,4620,12330,4011,9948,3747]
["RESTO DEL PAÍS",{"$f":"SUM(B13:B30)","v":24633},2214,23276,1381,{"$f":"SUM(F13:F30)","v":18344},1203]
["Artigas",975,12,1007,0,832,0]
["Canelones",6077,712,5653,614,4448,602]
["Cerro Largo",1258,87,1152,47,822,38]
["Colonia",1383,6,1290,0,1131,0]
["Durazno",698,55,626,17,530,8]
["Flores",308,44,309,0,284,0]
["Florida",784,55,739,19,605,33]
["Lavalleja",728,26,822,12,565,10]
["Maldonado",2108,450,2089,340,1558,271]
["Paysandú",1165,181,1104,102,1009,82]
["Río Negro",635,24,571,0,467,0]
["Rivera",1635,46,1482,25,1205,17]
["Rocha",1127,52,1002,0,651,0]
["Salto ",1514,167,1522,78,1289,50]
["San José",1198,95,1239,44,897,38]
["Soriano",996,48,987,0,755,0]
["Tacuarembó",1325,100,1086,83,873,54]
["Treinta y Tres",719,54,596,0,423,0]
["Fuente: DE — CES"]
["Nota:  La referencia \"Privados\" (incluye los Habilitados \"Liceo Naval\" y \"Liceo Militar\"), se corresponde con la de \"Liceos Habilitados\" presente en ediciones anteriores del Anuario Estadístico del MEC"]

{"sheet":"II-4.2.6","index":61,"n_rows":32,"n_cols":15,"rows_kept":32,"cut":false,"hidden":false,"merged":[[6,2,9,2],[6,9,9,9],[0,5,1,5],[0,10,1,13],[4,0,4,21],[5,0,9,0],[5,1,9,1],[5,3,5,14],[6,3,6,8],[6,10,6,14],[7,3,7,4],[7,5,7,6],[7,7,7,8],[8,3,9,3],[8,10,9,10],[8,12,9,12],[8,13,9,13],[8,14,9,14],[8,4,9,4],[8,5,9,5],[8,6,9,6],[8,7,9,7],[8,8,9,8],[8,11,9,11]]}
["CONSEJO DE EDUCACIÓN SECUNDARIA",null,null,null,null,null,null,null,null,null,"ALUMNOS MATRICULADOS"]
[]
["Cuadro Nº II-4.2.6"]
[]
["ALUMNOS MATRICULADOS EN EL CES EN QUINTO GRADO DE EDUCACIÓN MEDIA GENERAL PÚBLICA POR PLAN Y ORIENTACIÓN SEGÚN DEPARTAMENTO. AÑO 2015."]
["DEPARTAMENTO","TOTAL GENERAL"]
[null,null,"TOTAL PLAN 94","ORIENTACIÓN  PLAN / 94",null,null,null,null,null,"TOTAL PLAN 06","ORIENTACIÓN  PLAN / REFORMULACIÓN 2006"]
[null,null,null,"2º H",null,"2º B",null,"2º C"]
[null,null,null,"ANUAL","1ºSemestre","ANUAL","1ºSemestre","ANUAL","1ºSemestre",null,"Nucleo común","DivHum","DivBiol","DivCient","DivArt"]
[]
["TOTAL",{"$f":"SUM(C11+J11)","v":35445},{"$f":"SUM(D11:I11)","v":12689},{"$f":"SUM(D12:D13)","v":3368},3949,2709,1871,442,350,{"$f":"SUM(K11:O11)","v":22756},{"$f":"SUM(K12:K13)","v":0},{"$f":"SUM(L12:L13)","v":9024},{"$f":"SUM(M12:M13)","v":8598},{"$f":"SUM(N12:N13)","v":3231},{"$f":"SUM(O12:O13)","v":1903}]
["MONTEVIDEO",{"$f":"SUM(C12+J12)","v":12214},{"$f":"SUM(D12:I12)","v":5765},1351,1985,1002,893,229,305,{"$f":"SUM(K12:O12)","v":6449},0,2567,2064,1067,751]
["RESTO DEL PAÍS",23231,{"$f":"SUM(D13:I13)","v":6924},{"$f":"SUM(D14:D31)","v":2017},1964,1707,978,213,45,16307,{"$f":"SUM(K14:K31)","v":0},{"$f":"SUM(L14:L31)","v":6457},{"$f":"SUM(M14:M31)","v":6534},{"$f":"SUM(N14:N31)","v":2164},{"$f":"SUM(O14:O31)","v":1152}]
["Artigas",1007,249,65,104,0,80,0,0,758,0,335,307,65,51]
["Canelones",5653,2040,549,623,435,295,138,0,3613,0,1377,1267,616,353]
["Cerro Largo",1152,353,230,0,123,0,0,0,799,0,338,329,76,56]
["Colonia",1290,459,167,90,202,0,0,0,831,0,286,310,163,72]
["Durazno",626,153,0,107,46,0,0,0,473,0,173,195,70,35]
["Flores",309,92,47,0,45,0,0,0,217,0,56,97,46,18]
["Florida",739,182,113,0,69,0,0,0,557,0,223,225,72,37]
["Lavalleja",822,111,74,0,37,0,0,0,711,0,338,268,65,40]
["Maldonado",2089,614,31,309,22,206,1,45,1475,0,591,563,199,122]
["Paysandú",1104,247,0,117,0,123,7,0,857,0,278,430,107,42]
["Río Negro",571,193,105,12,62,14,0,0,378,0,130,162,45,41]
["Rivera",1482,328,49,156,31,75,17,0,1154,0,598,413,107,36]
["Rocha",1002,333,129,64,79,61,0,0,669,0,246,297,76,50]
["Salto ",1522,307,155,0,126,0,26,0,1215,0,522,543,103,47]
["San José",1239,546,168,86,144,124,24,0,693,0,221,290,131,51]
["Soriano",987,300,86,100,114,0,0,0,687,0,241,300,98,48]
["Tacuarembó",1041,249,49,100,100,0,0,0,792,0,330,344,80,38]
["Treinta y Tres",596,168,0,96,72,0,0,0,428,0,174,194,45,15]
["Fuente: DE — CES"]

{"sheet":"II-4.2.7","index":62,"n_rows":36,"n_cols":7,"rows_kept":36,"cut":false,"hidden":false,"merged":[[10,4,11,4],[10,5,11,5],[10,6,11,6],[0,5,1,7],[4,0,4,10],[6,0,6,7],[8,0,11,0],[8,1,11,1],[8,2,8,6],[8,9,11,10],[9,2,9,5],[10,2,11,2],[10,3,11,3]]}
["CONSEJO DE EDUCACIÓN SECUNDARIA",null,null,null,null,"ALUMNOS MATRICULADOS"]
[]
["Cuadro Nº II-4.2.7"]
[]
[]
[]
["ALUMNOS MATRICULADOS EN EL CES EN QUINTO GRADO DE EDUCACIÓN MEDIA SUPERIOR DE EDUCACIÓN SECUNDARIA PRIVADA POR ORIENTACIÓN SEGÚN DEPARTAMENTO. AÑO 2015."]
[]
["DEPARTAMENTO","TOTAL","QUINTO GRADO DE EDUCACIÓN MEDIA GENERAL"]
[null,null,"ORIENTACIÓN Planes 86+93+2006",null,null,null,"OTROS (*)"]
[null,null,"Humanística","Biológica","Científica","Artístico","BINT y/o BICUL"]
[]
["TOTAL",{"$f":"C13+D13+E13+F13+G13","v":5476},{"$f":"C14+C15","v":1880},{"$f":"D14+D15","v":1442},{"$f":"E14+E15","v":1674},{"$f":"F14+F15","v":325},{"$f":"G14+G15","v":155}]
["MONTEVIDEO",{"$f":"C14+D14+E14+F14+G14","v":4086},1438,903,1313,277,155]
["RESTO DEL PAÍS",1390,{"$f":"SUM(C16:C33)","v":442},{"$f":"SUM(D16:D33)","v":539},{"$f":"SUM(E16:E33)","v":361},{"$f":"SUM(F16:F33)","v":48},{"$f":"SUM(G16:G33)","v":0}]
["Artigas",0,0,0,0,0,0]
["Canelones",543,178,220,117,28,0]
["Cerro Largo",47,7,17,23,0,0]
["Colonia",0,0,0,0,0,0]
["Durazno",44,16,9,19,0,0]
["Flores",0,0,0,0,0,0]
["Florida",36,11,12,13,0,0]
["Lavalleja",9,9,0,0,0,0]
["Maldonado",345,120,129,76,20,0]
["Paysandú",124,40,45,39,0,0]
["Río Negro",0,0,0,0,0,0]
["Rivera",26,4,13,9,0,0]
["Rocha",0,0,0,0,0,0]
["Salto ",73,17,37,19,0,0]
["San José",64,16,28,20,0,0]
["Soriano",0,0,0,0,0,0]
["Tacuarembó",79,24,29,26,0,0]
["Treinta y Tres",0,0,0,0,0,0]
["Fuente: DE — CES"]
["Nota:   Otros (*) Corresponde a los cursos de Bachillerato Internacional y"]
["        Bachillerato Bicultural"]

{"sheet":"II-4.2.8","index":63,"n_rows":33,"n_cols":24,"rows_kept":33,"cut":false,"hidden":false,"merged":[[8,22,10,22],[9,7,10,7],[9,8,10,8],[5,2,5,23],[6,2,10,2],[8,17,10,17],[4,15,4,23],[8,3,8,4],[6,16,7,23],[8,23,10,23],[8,16,10,16],[9,11,10,11],[9,12,10,12],[9,13,10,13],[9,14,10,14],[6,15,10,15],[8,18,10,18],[9,9,10,9],[9,10,10,10],[8,19,10,19],[8,20,10,20],[8,21,10,21],[0,3,1,5],[6,0,10,0],[6,1,10,1],[6,3,7,14],[8,5,8,6],[8,7,8,8],[8,9,8,10],[8,11,8,12],[8,13,8,14],[9,3,10,3],[9,4,10,4],[9,5,10,5],[9,6,10,6]]}
["CONSEJO DE EDUCACIÓN SECUNDARIA",null,null,"ALUMNOS MATRICULADOS"]
[]
["Cuadro Nº II-4.2.8",null,"VOLVER"]
[]
["ALUMNOS MATRICULADOS EN EL CES EN SEXTO GRADO DE EDUCACIÓN MEDIA GENERAL PÚBLICA POR PLAN Y OPCIÓN SEGÚN DEPARTAMENTO. AÑO 2015."]
[null,null,"SEXTO GRADO"]
["DEPARTAMENTO","TOTAL GENERAL","TOTAL Plan 94","O P C I Ó N   P L A N /  94",null,null,null,null,null,null,null,null,null,null,null,"Total Plan Ref. 06","O P C I Ó N      P L A N  / R E F O R M U L A C I Ó N  2006"]
[]
[null,null,null,"3º DER",null,"3º ECO",null,"3º AGR",null,"3º MED",null,"3º ARQ",null,"3º ING",null,null,"Nucleo Común","Social Humanístico","Social Economía","Ciencias Agrarias","Ciencias Biológicas","Física Matemática","Matemática Diseño","Arte y Expresión"]
[null,null,null,"ANUAL","1ºSemestre","ANUAL","1ºSemestre","ANUAL","1ºSemestre","ANUAL","1ºSemestre","ANUAL","1ºSemestre","ANUAL","1ºSemestre"]
[]
["TOTAL",{"$f":"SUM(C12+P12)","v":28292},{"$f":"SUM(D12:O12)","v":10232},{"$f":"D13+D14","v":2408},2549,425,229,58,0,2513,1408,97,71,356,118,{"$f":"SUM(Q12:X12)","v":18060},{"$f":"Q13+Q14","v":0},{"$f":"R13+R14","v":5876},{"$f":"S13+S14","v":1984},611,5964,1465,741,1419]
["MONTEVIDEO",{"$f":"SUM(C13+P13)","v":9948},{"$f":"SUM(D13:O13)","v":4868},829,1429,223,227,24,0,879,738,83,71,247,118,{"$f":"SUM(Q13:X13)","v":5080},0,1554,700,68,1397,444,268,649]
["RESTO DEL PAÍS",{"$f":"SUM(C14+P14)","v":18344},{"$f":"SUM(D14:O14)","v":5364},{"$f":"SUM(D15:D32)","v":1579},1120,202,2,34,0,1634,670,14,0,109,{"$f":"SUM(O15:O32)","v":0},{"$f":"SUM(P15:P32)","v":12980},{"$f":"SUM(Q15:Q32)","v":0},{"$f":"SUM(R15:R32)","v":4322},{"$f":"SUM(S15:S32)","v":1284},543,4567,1021,473,770]
["Artigas",832,208,51,81,0,0,0,0,0,76,0,0,0,0,{"$f":"SUM(Q15:X15)","v":624},0,240,50,9,252,57,10,6]
["Canelones",4448,1623,361,447,94,0,13,0,437,214,0,0,57,0,{"$f":"SUM(Q16:X16)","v":2825},0,841,346,74,921,267,134,242]
["Cerro Largo",822,239,127,0,0,0,0,0,112,0,0,0,0,0,583,0,251,49,32,167,37,11,36]
["Colonia",1131,356,172,0,19,0,0,0,165,0,0,0,0,0,775,0,212,101,54,207,81,50,70]
["Durazno",530,143,0,79,0,0,0,0,64,0,0,0,0,0,387,0,134,37,20,141,23,18,14]
["Flores",284,86,42,0,0,0,0,0,44,0,0,0,0,0,198,0,60,20,5,74,22,12,5]
["Florida",605,161,86,0,0,0,0,0,75,0,0,0,0,0,444,0,172,44,12,148,28,21,19]
["Lavalleja",565,86,53,0,0,0,0,0,33,0,0,0,0,0,479,0,174,46,18,195,14,8,24]
["Maldonado",1558,406,161,32,52,0,0,0,121,26,14,0,0,0,1152,0,411,117,32,355,87,54,96]
["Paysandú",1009,254,0,88,8,0,7,0,0,151,0,0,0,0,755,0,219,74,57,309,39,21,36]
["Río Negro",467,165,80,12,0,2,0,0,71,0,0,0,0,0,302,0,95,23,21,107,36,0,20]
["Rivera",1205,269,37,113,0,0,0,0,35,68,0,0,16,0,936,0,388,77,39,324,51,15,42]
["Rocha",651,166,30,60,0,0,0,0,21,55,0,0,0,0,485,0,148,34,13,208,32,14,36]
["Salto ",1289,284,133,0,7,0,14,0,115,0,0,0,15,0,1005,0,349,49,29,447,63,28,40]
["San José",897,409,175,0,14,0,0,0,120,80,0,0,20,0,488,0,137,53,23,173,71,19,12]
["Soriano",755,207,52,81,8,0,0,0,65,0,0,0,1,0,548,0,143,59,42,190,46,36,32]
["Tacuarembó",873,191,19,56,0,0,0,0,116,0,0,0,0,0,682,0,235,86,43,241,43,12,22]
["Treinta y Tres",423,111,0,71,0,0,0,0,40,0,0,0,0,0,312,0,113,19,20,108,24,10,18]
["Fuente: DE — CES"]

{"sheet":"II-4.2.9","index":64,"n_rows":30,"n_cols":10,"rows_kept":30,"cut":false,"hidden":false,"merged":[[29,0,29,5],[30,0,30,5],[0,3,1,3],[0,4,1,5],[4,0,4,9],[5,0,6,0],[5,1,6,1],[5,2,5,8]]}
["CONSEJO DE EDUCACIÓN SECUNDARIA",null,null,null,"ALUMNOS MATRICULADOS"]
[]
["Cuadro Nº II-4.2.9"]
[]
["ALUMNOS MATRICULADOS EN EL CES EN SEXTO GRADO DE EDUCACIÓN MEDIA GENERAL PRIVADA POR OPCIÓN SEGÚN DEPARTAMENTO. AÑO 2015."]
["DEPARTAMENTO","TOTAL"," TODOS LOS PLANES OPCIÓN SEXTO GRADO",null,null,null,null,null,null,"Otros (*)"]
[null,null,"Social Humanístico","Social Economía","Ciencias Agrarias","Ciencias Biológicas","Física Matemática","Matemática Diseño","Arte y Expresión","B.INT.y/o BICUL."]
["TOTAL",{"$f":"SUM(C8:J8)","v":4950},{"$f":"C9+C10","v":1143},{"$f":"D9+D10","v":1030},175,1054,739,340,246,223]
["MONTEVIDEO",{"$f":"SUM(C9:J9)","v":3747},816,858,121,675,581,272,215,209]
["RESTO DEL PAÍS",1203,{"$f":"SUM(C11:C28)","v":327},{"$f":"SUM(D11:D28)","v":172},54,379,158,68,31,14]
["Artigas",0,0,0,0,0,0,0,0,0]
["Canelones",602,171,87,18,195,82,31,18,0]
["Cerro Largo",38,8,5,8,17,0,0,0,0]
["Colonia",0,0,0,0,0,0,0,0,0]
["Durazno",8,3,2,3,0,0,0,0,0]
["Flores",0,0,0,0,0,0,0,0,0]
["Florida",33,15,0,0,9,5,4,0,0]
["Lavalleja",10,10,0,0,0,0,0,0,0]
["Maldonado",271,75,36,12,75,32,14,13,14]
["Paysandú",82,11,15,0,34,14,8,0,0]
["Río Negro",0,0,0,0,0,0,0,0,0]
["Rivera",17,4,2,0,7,4,0,0,0]
["Rocha",0,0,0,0,0,0,0,0,0]
["Salto ",50,16,1,3,20,7,3,0,0]
["San José",38,6,7,3,16,6,0,0,0]
["Soriano",0,0,0,0,0,0,0,0,0]
["Tacuarembó",54,8,17,7,6,8,8,0,0]
["Treinta y Tres",0,0,0,0,0,0,0,0,0]
["Fuente D.E - CES"]
["Nota: Otros (*) Corresponde a los cursos de Bachillerato Internacional y Bachillerato Bicultural. "]

{"sheet":"II-4.2.10","index":65,"n_rows":32,"n_cols":7,"rows_kept":32,"cut":false,"hidden":false,"merged":[[4,0,4,6],[6,0,9,0],[6,1,6,6],[7,1,7,2],[7,3,7,4],[7,5,7,6],[8,1,8,6]]}
["CONSEJO DE EDUCACIÓN SECUNDARIA"]
[]
["Cuadro Nº II-4.2.10"]
[]
["ALUMNOS MATRICULADOS DE EDUCACIÓN MEDIA SUPERIOR PRIVADA  POR GRADO Y SEXO SEGÚN DEPARTAMENTO. AÑO 2015."]
[]
["DEPARTAMENTO","GRADO"]
[null,"CUARTO",null,"QUINTO",null,"SEXTO"]
[null,"SEXO"]
[null,"Mujeres","Varones","Mujeres","Varones","Mujeres","Varones"]
["TOTAL",{"$f":"B12+B13","v":1149},1065,732,649,642,561]
["MONTEVIDEO"]
["RESTO DEL PAÍS",{"$f":"SUM(B14:B31)","v":1149},1065,732,649,642,561]
["Artigas",4,8,0,0,0,0]
["Canelones",365,347,331,283,319,283]
["Cerro Largo",45,42,24,23,19,19]
["Colonia",2,4,0,0,0,0]
["Durazno",27,28,10,7,2,6]
["Flores",21,23,0,0,0,0]
["Florida",28,27,8,11,18,15]
["Lavalleja",9,17,6,6,6,4]
["Maldonado",235,215,168,172,144,127]
["Paysandú",96,85,56,46,50,32]
["Río Negro",10,14,0,0,0,0]
["Rivera",25,21,17,8,9,8]
["Rocha",24,28,0,0,0,0]
["Salto ",90,77,48,30,31,19]
["San José",47,48,22,22,17,21]
["Soriano",29,19,0,0,0,0]
["Tacuarembó",56,44,42,41,27,27]
["Treinta y Tres",36,18,0,0,0,0]
["Fuente: DE — CES"]

{"sheet":"II-4.2.11","index":66,"n_rows":33,"n_cols":7,"rows_kept":33,"cut":false,"hidden":false,"merged":[[4,0,4,6],[6,0,9,0],[6,1,6,6],[7,1,7,2],[7,3,7,4],[7,5,7,6],[8,1,8,6]]}
["CONSEJO DE EDUCACIÓN SECUNDARIA"]
[]
["Cuadro Nº II-4.2.11"]
[]
["ALUMNOS MATRICULADOS DE EDUCACIÓN MEDIA SUPERIOR PÚBLICA  POR GRADO Y SEXO SEGÚN DEPARTAMENTO. AÑO 2015."]
[]
["DEPARTAMENTO","GRADO"]
[null,"CUARTO",null,"QUINTO",null,"SEXTO"]
[null,"SEXO"]
[null,"Mujeres","Varones","Mujeres","Varones","Mujeres","Varones"]
["TOTAL",{"$f":"B12+B13","v":15592},11056,13812,8927,10980,6994]
["MONTEVIDEO",4349,3193,3944,2505,3039,1938]
["RESTO DEL PAÍS",{"$f":"SUM(B14:B31)","v":11243},7863,9868,6422,7941,5056]
["Artigas",514,321,470,288,383,241]
["Canelones",2648,1898,2151,1462,1722,1103]
["Cerro Largo",545,394,487,312,353,230]
["Colonia",585,421,514,317,467,308]
["Durazno",318,216,266,207,253,134]
["Flores",110,113,122,95,123,75]
["Florida",369,261,335,222,266,178]
["Lavalleja",383,247,407,304,273,206]
["Maldonado",904,686,899,576,678,474]
["Paysandú",669,360,583,274,475,280]
["Río Negro",295,195,243,135,191,111]
["Rivera",737,524,699,455,560,376]
["Rocha",468,406,358,311,308,177]
["Salto ",773,558,756,459,638,367]
["San José",523,330,409,284,311,177]
["Soriano",430,269,433,254,329,219]
["Tacuarembó",649,449,493,299,404,278]
["Treinta y Tres",323,215,243,168,207,122]
["Fuente: DE — CES"]
["Nota: No incluye la matrícula correspondiente a los liceos de cuarto turno (nocturnos)"]

{"sheet":"II-4.3.1","index":67,"n_rows":77,"n_cols":7,"rows_kept":77,"cut":false,"hidden":false,"merged":[[0,5,1,6],[0,7,1,7],[4,0,4,6],[6,0,7,0],[6,1,7,1],[6,2,6,3],[6,4,7,4],[6,5,6,6]]}
["CONSEJO DE EDUCACIÓN SECUNDARIA",null,null,null,null,"PERSONAL DOCENTE"]
[]
["Cuadro Nº II-4.3.1"]
[]
["PERSONAL DOCENTE Y HORAS DOCENTES DEL CES EN EDUCACIÓN MEDIA SUPERIOR GENERAL PÚBLICA POR CONDICIÓN DE TITULACIÓN. AÑO 2015."]
[]
["ASIGNATURAS","TOTAL DOCENTES","PERSONAL DOCENTE",null,"TOTAL HORAS ","HORAS DOCENTES"]
[null,null,"Titulados","No Titulados",null,"Titulados","No Titulados"]
["TOTAL",{"$f":"SUM(C9:D9)","v":8329},{"$f":"SUM(C10:C75)","v":5756},{"$f":"SUM(D10:D75)","v":2573},{"$f":"SUM(F9:G9)","v":101601},{"$f":"SUM(F10:F75)","v":74216},{"$f":"SUM(G10:G75)","v":27385}]
["ASTRONOMÍA",{"$f":"+C10+D10","v":18},6,12,{"$f":"+F10+G10","v":146},40,106]
["BIOLOGÍA",{"$f":"+C11+D11","v":667},553,114,{"$f":"+F11+G11","v":8431},7220,1211]
["CONTABILIDAD",166,16,150,1480,171,1309]
["DIBUJO",365,234,131,3464,2294,1170]
["EDUCACIÓN FÍSICA",180,159,21,1538,1422,116]
["EDUCACIÓN MUSICAL",101,44,57,845,334,511]
["ED.SOCIAL Y CÍVICA DERECHO",697,581,116,7711,6823,888]
["FILOSOFÍA",593,449,144,7172,5855,1317]
["FÍSICA",545,348,197,7985,5452,2533]
["FRANCÉS",5,4,1,58,38,20]
["GEOGRAFÍA",210,175,35,1757,1454,303]
["HISTORIA",704,618,86,8508,7701,807]
["IDIOMA ESPAÑOL",20,13,7,355,277,78]
["INGLÉS",550,238,312,7481,3571,3910]
["ITALIANO",83,27,56,1037,390,647]
["LITERATURA",671,554,117,7976,6798,1178]
["CIENCIAS FÍSICO - QUÍMICAS",22,6,16,255,76,179]
["MATEMÁTICA",1018,625,393,17645,11942,5703]
["QUÍMICA",532,402,130,7941,6355,1586]
["REC.NATUR.Y PAISAJE AGRARIO",44,29,15,102,64,38]
["GEOLOGÍA",5,1,4,14,2,12]
["DIRECTOR DE COROS",19,12,7,164,106,58]
["PIANISTA ACOMPAÑANTE",13,8,5,83,56,27]
["COORDINADOR PLAN 96 EXTRAEDAD",1,1,0,6,6,0]
["COORDINADOR HIPOACUSICOS",0,0,0,0,0,0]
["AP.AL LABORATORIO (curricular)",4,2,2,47,25,22]
["COORDINADOR INFOART",1,0,1,2,0,2]
["INFORMÁTICA",56,15,41,732,208,524]
["COORDINADOR ECE",15,5,10,58,28,30]
["COORDINADOR INAU",171,102,69,444,259,185]
["COORDINADOR PAC",0,0,0,0,0,0]
["COORDINADOR CECAP",2,2,0,100,100,0]
["LENG.COM.Y MED.AUDIOVISUALES",44,15,29,219,63,156]
["COORDINADOR PEDAGOGICO",9,7,2,100,70,30]
["ESTUDIOS ECONÓMICOS Y SOCIALES",220,194,26,1499,1334,165]
["LABORATORIO DE INFORMÁTICA",23,6,17,324,96,228]
["TUTORES",4,2,2,27,14,13]
["ALEMÁN",0,0,0,0,0,0]
["A.P.T.E.",0,0,0,0,0,0]
["REFERENTE TUTOR",1,0,1,15,0,15]
["JUNTA MÉDICA",33,25,8,673,528,145]
["TEATRO",49,9,40,307,64,243]
["PORTUGUÉS",0,0,0,0,0,0]
["EXPRESIÓN CORPORAL Y TEATRO",50,11,39,312,98,214]
["EXPRESIÓN CORPORAL Y DANZA",43,5,38,320,20,300]
["ACTIVIDAD DOCENTE RURAL",10,5,5,177,85,92]
["REFERENTE PAC",0,0,0,0,0,0]
["COARTICULADORES",2,1,1,40,30,10]
["ACT.ADAPTADAS AL MEDIO AMBIENT",0,0,0,0,0,0]
["ECONOMÍA",148,84,64,1015,477,538]
["HORAS DE APOYO AL FIN AÑO LECT",16,6,10,279,106,173]
["APOYO PROYECTOS",0,0,0,0,0,0]
["APOYO BIBLIOTECA",1,1,0,20,20,0]
["APOYO A LA DIRECCIÓN",3,2,1,68,28,40]
["TALLERISTA",0,0,0,0,0,0]
["APOYO A ADSCRIPCIÓN",9,5,4,185,107,78]
["MÉDICO CERTIFICADOR",1,0,1,2,0,2]
["EDUCADOR PARA LA SEXUALIDAD",165,144,21,2190,1903,287]
["DOC EFECT C/DÉFICIT ART.15.3",2,0,2,40,0,40]
["ESPACIO CURRICULAR ABIERTO",2,1,1,8,2,6]
["INTÉRPRETE",13,3,10,166,64,102]
["PSICÓLOGO",0,0,0,0,0,0]
["TALLER DE ARTES PLÁSTICAS",0,0,0,0,0,0]
["LENGUA DE SEÑAS",0,0,0,0,0,0]
["APOYO AL LABORATORIO",{"$f":"+C74+D74","v":1},0,1,{"$f":"+F74+G74","v":12},0,12]
["ACTIVIDADES ESPECIALES",2,1,1,66,40,26]
["Fuente: Departamento de Estadística — CES"]
["Nota: Los docentes que dictan más de una asignatura son considerados como personas distintas en cada asignatura"]

{"sheet":"II-4.3.2","index":68,"n_rows":20,"n_cols":5,"rows_kept":20,"cut":false,"hidden":false,"merged":[[0,4,1,5],[0,7,1,7],[4,0,4,3],[5,0,6,0],[5,1,6,1],[0,0,0,2]]}
["CONSEJO DE EDUCACIÓN TÉCNICO PROFESIONAL (U.T.U.)",null,null,null,"PERSONAL DOCENTE"]
[]
["Cuadro Nº II-4.3.2"]
[]
["PERSONAL DOCENTE DEL CETP EN EDUCACIÓN MEDIA SUPERIOR TECNOLÓGICA POR TIPO DE CURSO. AÑO 2015."]
["EDUCACIÓN MEDIA SUPERIOR TECNOLÓGICA","TOTAL"]
[]
["TOTAL",{"$f":"SUM(B9:B18)","v":14851}]
["Bachillerato Figari",150]
["Bachillerato Profesional",777]
["Educación Media Profesional",2948]
["Educación Media Prof. De Especialización",4]
["Educación Media Tecnológica",4802]
["EMS",6012]
["Articulación a Nivel Terciario",2]
["Curso Técnico",93]
["Tutorias",6]
["Educación Media Tecnológica Fin.",57]
["Fuente: U.T.U. División Informática."]
["Los cursos EMP Especialización, fueron reubicados en el  Nivel Superior de Formación Profesional.  "]

{"sheet":"II-4.4.1","index":69,"n_rows":28,"n_cols":4,"rows_kept":28,"cut":false,"hidden":false,"merged":[[0,2,1,3],[0,7,1,7],[4,0,4,2],[5,0,6,0],[23,0,23,2]]}
["CONSEJO DE EDUCACIÓN SECUNDARIA",null,"GRUPOS"]
[]
["Cuadro Nº II-4.4.1"]
[]
["GRUPOS DE EDUCACIÓN MEDIA SUPERIOR GENERAL COMPARADOS CON EL TOTAL DE AMBOS CICLOS SEGÚN GRANDES ÁREAS Y FORMA DE ADMINISTRACIÓN. AÑO 2015."]
[null,"FORMA DE ADMINISTRACIÓN"]
[null,"Grupos en Educación Media Superior General","Total de Grupos en Educación Media General","Promedio de alumnos por grupo de Media Superior"]
["TOTAL DEL PAÍS",{"$f":"B9+B12","v":4565},{"$f":"C9+C12","v":10189},25.6]
["EDUCACIÓN MEDIA SUPERIOR PÚBLICA",{"$f":"B10+B11","v":3333},{"$f":"C10+C11","v":7837},29.9]
["  Diurna",{"$f":"B15+B20","v":2697},6771,25]
["  Nocturna",636,1066,50.5]
["EDUCACIÓN MEDIA SUPERIOR PRIVADA",1232,2352,13.9]
["TOTAL MONTEVIDEO",{"$f":"B14+B17","v":1765},{"$f":"C14+C17","v":3789},17.2]
["EDUCACIÓN MEDIA SUPERIOR PÚBLICA",{"$f":"B15+B16","v":898},{"$f":"C15+C16","v":2234},37.200000000000003]
["  Diurna",653,1841,29.1]
["  Nocturna",245,393,58.7]
["EDUCACIÓN MEDIA SUPERIOR PRIVADA",867,1555,14.3]
["TOTAL RESTO DEL PAÍS",{"$f":"B19+B22","v":2800},{"$f":"C19+C22","v":6400},13.6]
["EDUCACIÓN MEDIA SUPERIOR PÚBLICA",{"$f":"B20+B21","v":2435},{"$f":"C20+C21","v":5603},27.2]
["  Diurna",2044,4930,23.7]
["  Nocturna",391,673,45.3]
["EDUCACIÓN MEDIA SUPERIOR PRIVADA",365,797,13.1]
["Fuente: DE — CES"]
["Nota: El “Total de ambos Ciclos” presenta de manera agregada la cantidad  total de grupos con que cuente Educación Secundaria y es el resultado de adicionar al total de Grupos del presente cuadro (Ciclo Superior de Educación Secundaria), el total de los grupos presentados en el Cuadro II-3.4.1 (Ciclo Básico de Educación Secundaria)"]
["       "]
["        "]
["        "]
["        "]

{"sheet":"TERCIARIA NO UNIVERSITARIA","index":70,"n_rows":112,"n_cols":2,"rows_kept":112,"cut":false,"hidden":false,"merged":[]}
[]
[]
[]
[]
[]
[]
[]
["Cuadro II-5.1.1","MATRÍCULA Y PERSONAL DOCENTE POR SEXO SEGÚN GRANDES ÁREAS, DEPARTAMENTOS E INSTITUCIONES. AÑO 2015. "]
[""]
[]
["Cuadro II-5.2.1","ALUMNOS INGRESADOS, MATRICULADOS Y EGRESADOS EN NIVEL TERCIARIO NO UNIVERSITARIO DEL ÁREA SEGURIDAD Y DEFENSA POR SEXO SEGÚN INSTITUCIÓN Y CARRERA. AÑO 2015. "]
[""]
["Cuadro II-5.2.2 ","ALUMNOS INGRESADOS, MATRICULADOS Y EGRESADOS EN OTRAS OFERTAS DE NIVEL TERCIARIO NO UNIVERSITARIO POR SEXO SEGÚN INSTITUCIÓN Y CARRERA. AÑO 2015. "]
[""]
[]
["Cuadro II-5.3.1","PERSONAL ACADÉMICO DE NIVEL TERCIARIO NO UNIVERSITARIO DEL ÁREA SEGURIDAD Y DEFENSA POR CARGA HORARIA, SEXO, SEGÚN INSTITUCIÓN Y FORMACIÓN. AÑO 2015. "]
[""]
["Cuadro II-5.3.2","PERSONAL ACADÉMICO DE NIVEL TERCIARIO NO UNIVERSITARIO POR CARGA HORARIA SEMANAL, SEXO, SEGÚN INSTITUCIÓN Y FORMACIÓN . AÑO 2015. "]
[]
[]
[]
[]
[]
[]
[]
[]
[]
[]
[]
[]
[{"$f":"MID(B19,1,20)","v":""}]
[""]
[""]
[""]
[""]
[""]
[""]
[""]
[""]
[""]
[""]
[""]
[""]
[""]
[""]
[""]
[""]
[""]
[""]
[""]
[""]
[""]
[""]
[""]
[""]
[""]
[""]
[""]
[""]
[""]
[""]
[""]
[""]
[""]
[""]
[""]
[""]
[""]
[""]
[""]
[""]
[""]
[""]
[""]
[""]
[""]
[""]
[""]
[""]
[""]
[""]
[""]
[""]
[""]
[{"$f":"MID(B73,1,20)","v":""}]
[""]
[""]
[""]
[""]
[""]
[""]
[""]
[""]
[""]
[""]
[""]
[""]
[""]
[""]
[""]
[""]
[""]
[""]
[""]
[""]
[""]
[""]
[""]
[""]
[""]
[""]
[""]

{"sheet":"II-5.1.1  ","index":71,"n_rows":51,"n_cols":7,"rows_kept":51,"cut":false,"hidden":false,"merged":[[53,0,54,5],[0,3,1,4],[4,0,4,4],[5,0,9,0],[5,1,9,1],[5,2,5,3],[5,4,9,4],[6,2,7,3],[8,2,9,2],[8,3,9,3],[50,0,50,4]]}
["OFERTAS TERCIARIAS NO UNIVERSITARIAS",null,null,"INSTITUCIONES"]
[]
["Cuadro Nº II-5.1.1"]
[]
["MATRÍCULA Y PERSONAL DOCENTE POR SEXO SEGÚN GRANDES ÁREAS, DEPARTAMENTOS E INSTITUCIONES. AÑO 2015."]
["GRANDES ÁREAS / DEPARTAMENTO / INSTITUCIÓN","TOTAL","MATRICULA",null,"DOCENTES"]
[null,null,"SEXO"]
[]
[null,null,"M","F"]
[]
["TOTAL",{"$f":"+B13+B22","v":11470},{"$f":"+C13+C22","v":6854},{"$f":"+D13+D22","v":4616},{"$f":"+E13+E22","v":2168}]
[]
["MONTEVIDEO",{"$f":"+C13+D13","v":7414},{"$f":"SUM(C15:C20)","v":4568},{"$f":"SUM(D15:D20)","v":2846},{"$f":"SUM(E15:E20)","v":1395}]
[]
["ESCUELA NAVAL",{"$f":"C15+D15","v":120},96,24,119,null,{"$f":"F13:I18","v":0}]
["ESCUELA NACIONAL DE POLICÍA*",{"$f":"C16+D16","v":323},250,73,67]
["ESCUELA MILITAR",184,164,20,87]
["ESCUELA MILITAR DE AERONÁUTICA",139,117,22,80]
["EMAD",149,34,115,60]
["UTU",{"$f":"+C20+D20","v":6499},3907,2592,982]
[]
["RESTO DEL PAÍS",{"$f":"SUM(B24:B41)","v":4056},{"$f":"SUM(C24:C41)","v":2286},{"$f":"SUM(D24:D41)","v":1770},{"$f":"SUM(E24:E41)","v":773}]
[]
["Artigas",{"$f":"C24+D24","v":82},31,51,38]
["Canelones",{"$f":"C25+D25","v":373},163,210,93]
["Cerro Largo",183,88,95,30]
["Colonia",160,76,84,64]
["Durazno",56,26,30,4]
["Flores",191,116,75,13]
["Florida",159,82,77,31]
["Maldonado",440,234,206,5]
["Paysandú",839,568,271,57]
["Río Negro",73,32,41,135]
["Rivera",503,279,224,31]
["Rocha",24,12,12,49]
["Salto",337,251,86,11]
["San José",137,72,65,101]
["Soriano",202,113,89,24]
["Tacuarembó",239,106,133,51]
["Treinta y Tres",58,37,21,27]
[null,null,null,null,9]
["Fuente: "]
["           D.E - UTU-"]
["           Secretaría General EMAD"]
["          Gestión Educativa - Escuela Naval"]
["          Jefatura de Estudios - Escuela Nacional de Policía "]
["          Escuela Militar"]
["          Departamento de Bedelía - Escuela Militar de Aeronáutica"]
["          Instituto Militar de Estudios Superiores"]
[]
["* Los datos corresponden al curso de Cadetes de 1°,2° y3°"]

{"sheet":"II-5.2.1","index":72,"n_rows":47,"n_cols":10,"rows_kept":47,"cut":false,"hidden":false,"merged":[[7,5,7,6],[7,8,7,9],[47,0,47,9],[48,0,48,9],[0,6,1,9],[4,0,4,9],[6,0,8,0],[6,1,8,1],[6,2,6,3],[6,4,8,4],[6,5,6,6],[6,7,8,7],[6,8,6,9],[7,2,7,3]]}
["OFERTAS TERCIARIAS NO UNIVERSITARIAS DEL ÁREA SEGURIDAD Y DEFENSA",null,null,null,null,null,"ALUMNOS MATRICULADOS"]
[]
["Cuadro Nº II-5.2.1"]
[]
["ALUMNOS INGRESADOS, MATRICULADOS Y EGRESADOS EN NIVEL TERCIARIO NO UNIVERSITARIO DEL ÁREA SEGURIDAD Y DEFENSA POR SEXO SEGÚN INSTITUCIÓN Y CARRERA. AÑO 2015."]
[]
["INSTITUCION / CARRERA","TOTAL","INGRESADOS",null,"TOTAL","MATRICULADOS",null,"TOTAL","EGRESADOS"]
[null,null,"SEXO",null,null,"SEXO",null,null,"SEXO"]
[null,null,"M","F",null,"M","F",null,"M","F"]
["TOTAL",{"$f":"D10+C10","v":393},{"$f":"+C12+C31+C34+C37","v":307},{"$f":"+D12+D31+D34+D37","v":86},{"$f":"G10+F10","v":766},{"$f":"+F12+F31+F34+F37","v":627},{"$f":"+G12+G31+G34+G37","v":139},{"$f":"J10+I10","v":256},{"$f":"+I12+I31+I34+I37","v":218},{"$f":"+J12+J31+J34+J37","v":38}]
[]
["ESCUELA NAVAL",{"$f":"SUM(B13:B29)","v":120},96,24,120,96,24,113,93,20]
["1º CUERPO COMUN MILITAR",{"$f":"SUM(C13:D13)","v":27},21,6,{"$f":"SUM(F13:G13)","v":27},21,6,{"$f":"SUM(I13:J13)","v":24},20,4]
["1º CUERPO COMUN MERCANTE",{"$f":"SUM(C14:D14)","v":14},13,1,{"$f":"SUM(F14:G14)","v":14},13,1,{"$f":"SUM(I14:J14)","v":14},13,1]
["2º CUERPO GENERAL",11,9,2,11,9,2,10,9,1]
["2º CUERPO ING. MAQ.",1,1,0,1,1,0,1,1,0]
["2º CUERPO PREFECTURA",3,2,1,3,2,1,3,2,1]
["2º PILOTO MERCANTE",8,8,0,8,8,0,7,7,0]
["2º INGENIERO MERCANTE",1,1,0,1,1,0,1,1,0]
["3º CUERPO GENERAL",6,3,3,6,3,3,6,3,3]
["3º CUERPO ING. MAQ.",3,1,2,3,1,2,2,1,1]
["3º CUERPO PREFECTURA",4,3,1,4,3,1,3,2,1]
["3º PILOTO MERCANTE",9,8,1,9,8,1,9,8,1]
["3º INGENIERO MERCANTE",4,4,0,4,4,0,4,4,0]
["4º CUERPO GENERAL",7,5,2,7,5,2,7,5,2]
["4º CUERPO ING. MAQ.",6,5,1,6,5,1,6,5,1]
["4º CUERPO PREFECTURA",5,3,2,5,3,2,5,3,2]
["4º PILOTO MERCANTE",8,6,2,8,6,2,8,6,2]
["4º INGENIERO MERCANTE",3,3,0,3,3,0,3,3,0]
[]
["ESCUELA NACIONAL DE POLICÍA",{"$f":"+C31+D31","v":119},{"$f":"+C32","v":90},{"$f":"+D32","v":29},{"$f":"+F31+G31","v":323},{"$f":"+F32","v":250},{"$f":"+G32","v":73},{"$f":"+I31+J31","v":82},{"$f":"+I32","v":73},{"$f":"+J32","v":9}]
["Curso de Cadetes (1º,2º y 3er.año)",{"$f":"SUM(C32:D32)","v":119},90,29,{"$f":"SUM(F32:G32)","v":323},250,73,{"$f":"SUM(I32:J32)","v":82},73,9]
[]
["ESCUELA MILITAR",{"$f":"SUM(C34:D34)","v":73},{"$f":"SUM(C35:C35)","v":54},{"$f":"SUM(D35:D35)","v":19},{"$f":"SUM(F34:G34)","v":184},{"$f":"SUM(F35:F35)","v":164},{"$f":"SUM(G35:G35)","v":20},{"$f":"SUM(I34:J34)","v":45},{"$f":"SUM(I35:I35)","v":40},{"$f":"SUM(J35:J35)","v":5}]
["Alférez del Ejército Nacional del Cuerpo Comando",{"$f":"+C35+D35","v":73},54,19,{"$f":"+F35+G35","v":184},164,20,{"$f":"SUM(I35:J35)","v":45},40,5]
[]
["ESCUELA MILITAR DE AERONÁUTICA ",{"$f":"SUM(C37:D37)","v":81},{"$f":"SUM(C38:C43)","v":67},{"$f":"SUM(D38:D43)","v":14},{"$f":"SUM(F37:G37)","v":139},{"$f":"SUM(F38:F43)","v":117},{"$f":"SUM(G38:G43)","v":22},{"$f":"SUM(I37:J37)","v":16},{"$f":"SUM(I38:I43)","v":12},{"$f":"SUM(J38:J43)","v":4}]
["Aspirantes",{"$f":"+C38+D38","v":81},67,14,{"$f":"+F38+G38","v":81},67,14,{"$f":"SUM(I38:J38)","v":0},0,0]
["Cadetes 1º",{"$f":"+C39+D39","v":0},0,0,{"$f":"+F39+G39","v":17},16,1,0,0,0]
["Cadetes 2º  (Aviadores)",0,0,0,19,18,1,0,0,0]
["Cadetes 2º  (Navegantes)",0,0,0,4,3,1,0,0,0]
["Cadetes 3º  (Aviadores)",0,0,0,11,11,0,10,10,0]
["Cadetes 3º  (Navegantes)",0,0,0,7,2,5,6,2,4]
[]
[]
["Fuentes: Escuela Nacional de Policía "]
["Dirección de Formación. Ministerio de Defensa Nacional"]

{"sheet":"II-5.2.2","index":73,"n_rows":96,"n_cols":10,"rows_kept":96,"cut":false,"hidden":false,"merged":[[7,8,8,8],[7,9,8,9],[0,6,1,9],[4,0,4,9],[5,0,8,0],[5,1,8,1],[5,2,5,3],[5,4,8,4],[5,5,5,6],[5,7,8,7],[5,8,5,9],[6,2,6,3],[6,5,6,6],[6,8,6,9],[7,2,8,2],[7,3,8,3],[7,5,8,5],[7,6,8,6]]}
["OTRAS OFERTAS TERCIARIAS NO UNIVERSITARIAS",null,null,null,null,null,"ALUMNOS MATRICULADOS"]
[]
["Cuadro Nº II-5.2.2"]
[]
["ALUMNOS INGRESADOS, MATRICULADOS Y EGRESADOS EN OTRAS OFERTAS DE NIVEL TERCIARIO NO UNIVERSITARIO POR SEXO SEGÚN INSTITUCIÓN Y CARRERA. AÑO 2015."]
["INSTITUCION / CARRERA","TOTAL","INGRESADOS",null,"TOTAL","MATRICULADOS",null,"TOTAL","EGRESADOS"]
[null,null,"SEXO",null,null,"SEXO",null,null,"SEXO"]
[null,null,"M","F",null,"M","F",null,"M","F"]
[]
["EMAD Margarita Xirgu",{"$f":"C10+D10","v":45},{"$f":"C11+C12","v":12},{"$f":"D11+D12","v":33},{"$f":"F10+G10","v":149},{"$f":"F11+F12","v":34},{"$f":"G11+G12","v":115},{"$f":"I10+J10","v":29},{"$f":"I11+I12","v":11},{"$f":"J11+J12","v":18}]
["Carrera de actuación",{"$f":"C11+D11","v":22},6,16,{"$f":"F11+G11","v":80},23,57,{"$f":"I11+J11","v":19},3,16]
["Carrera de diseño teatral",{"$f":"C12+D12","v":23},6,17,{"$f":"F12+G12","v":69},11,58,{"$f":"I12+J12","v":10},8,2]
[]
["CETP (UTU) ","-","-","-",{"$f":"+F14+G14","v":10555},{"$f":"SUM(F15:F96)","v":6193},{"$f":"SUM(G15:G96)","v":4362},"-","-","-"]
["ADMINISTRACION","-","-","-",{"$f":"+F15+G15","v":248},52,196,"-","-","-"]
["ADMINISTRACION DE PERSONAL","-","-","-",160,34,126,"-","-","-"]
["ADMINISTRACION HOTELERA","-","-","-",15,5,10,"-","-","-"]
["ADMINISTRACION PUBLICA","-","-","-",82,15,67,"-","-","-"]
["AERONAUTICA","-","-","-",21,20,1,"-","-","-"]
["AGRONICA ENFASIS AGRICOLA","-","-","-",16,16,0,"-","-","-"]
["ANALISTA EN MARKETING","-","-","-",170,75,95,"-","-","-"]
["AREA ELECTROTECNIA ELECTRONICA","-","-","-",223,209,14,"-","-","-"]
["AREA OPTATIVA D. GRAFICO COM.VISUAL","-","-","-",186,71,115,"-","-","-"]
["ARTICULACION TECNOLOGO QUIMICO","-","-","-",86,30,56,"-","-","-"]
["AUDIOVISUALES","-","-","-",105,66,39,"-","-","-"]
["AUTOTRONICA LAB. S. DE CONTROL","-","-","-",49,48,1,"-","-","-"]
["COM. SOCIAL OP. PRENSA","-","-","-",49,23,26,"-","-","-"]
["COM. SOCIAL OP. RADIODIFUSIO","-","-","-",75,40,35,"-","-","-"]
["COM. SOCIAL OP. RR.PP.","-","-","-",68,28,40,"-","-","-"]
["COM. SOCIAL OP.TELEVISION","-","-","-",38,20,18,"-","-","-"]
["COM.SOCIAL OP. PUBLICIDAD","-","-","-",75,32,43,"-","-","-"]
["COMPONENTE OPCIONAL CTT LOGISTICA","-","-","-",318,149,169,"-","-","-"]
["CONSERV. GESTION AREAS NATUR","-","-","-",44,24,20,"-","-","-"]
["CONSTRUCCION","-","-","-",155,113,42,"-","-","-"]
["CONTROL AMBIENTAL","-","-","-",206,67,139,"-","-","-"]
["CORREDOR DE SEGUROS","-","-","-",30,18,12,"-","-","-"]
["D. ITINERARIO TURISTICO SOSTENIBLE","-","-","-",58,13,45,"-","-","-"]
["DEPORTES NAUTICOS","-","-","-",35,27,8,"-","-","-"]
["DISEÑO GRAFICO EN COM. VISUAL","-","-","-",332,126,206,"-","-","-"]
["ELECTRONICA","-","-","-",303,296,7,"-","-","-"]
["ELECTROTECNIA","-","-","-",671,648,23,"-","-","-"]
["ENERGIA EOLICA","-","-","-",25,19,6,"-","-","-"]
["ENERGIA HIDROELECTRICA","-","-","-",8,8,0,"-","-","-"]
["ENERGIA SOLAR FOTOVOLTAICA","-","-","-",18,15,3,"-","-","-"]
["ENOLOGIA MODULO ENOLOGICO II","-","-","-",10,5,5,"-","-","-"]
["ENOLOGIA MODULO VITIVINICOLA","-","-","-",13,8,5,"-","-","-"]
["ENOLOGIA PASANTIA PROYECTO FINAL","-","-","-",7,4,3,"-","-","-"]
["FORESTAL","-","-","-",32,19,13,"-","-","-"]
["GASTRONOMIA - BINACIONAL","-","-","-",32,8,24,"-","-","-"]
["GESTION DE ALOJAMIENTO","-","-","-",22,6,16,"-","-","-"]
["GESTION EMPRESAS TURISTICAS","-","-","-",51,19,32,"-","-","-"]
["GUIA TEC. CIRC. TUR. SOST.SEMIPRESE","-","-","-",8,1,7,"-","-","-"]
["GUIA Y DISEÑO CIR.TUR.SOSTENIBLES","-","-","-",7,0,7,"-","-","-"]
["INDUSTRIAS LACTEAS","-","-","-",52,31,21,"-","-","-"]
["INFOGRAFIA DE ARQUITECTURA","-","-","-",71,23,48,"-","-","-"]
["INFORMATICA PARA INTERNET","-","-","-",106,68,38,"-","-","-"]
["INMOBILIARIO (OPERADOR)","-","-","-",134,72,62,"-","-","-"]
["INSTALACIONES ELECTRICAS","-","-","-",73,73,0,"-","-","-"]
["INSTALACIONES SANITARIAS","-","-","-",39,34,5,"-","-","-"]
["INSTRUMENTACION Y CONTROL","-","-","-",60,53,7,"-","-","-"]
["LOGISTICA","-","-","-",523,258,265,"-","-","-"]
["LOGISTICA - BINACIONAL","-","-","-",42,11,31,"-","-","-"]
["MANTENIMIENTO MECANICO INDUSTRIAL","-","-","-",40,40,0,"-","-","-"]
["MAQUINISTA NAVAL","-","-","-",133,132,1,"-","-","-"]
["MECATRONICA - AUTOM. Y CONTROL","-","-","-",3,3,0,"-","-","-"]
["MECATRONICA - MANT. ELECTROMECANICO","-","-","-",13,13,0,"-","-","-"]
["MOTORES DE COMBUSTION INTERNA","-","-","-",6,6,0,"-","-","-"]
["NAUTICA Y PESCA","-","-","-",10,10,0,"-","-","-"]
["OPTICO","-","-","-",134,57,77,"-","-","-"]
["ORGANIZACION DE EVENTOS","-","-","-",97,22,75,"-","-","-"]
["PEQUEÑA Y MEDIANA EMPRESA","-","-","-",26,12,14,"-","-","-"]
["PRE - CTT INSTALACIONES SANITARIAS","-","-","-",6,5,1,"-","-","-"]
["PREVENCIONISTA","-","-","-",658,344,314,"-","-","-"]
["PREVENCIONISTA  SEMIPRESENCIAL","-","-","-",142,57,85,"-","-","-"]
["PREVENCIONISTA EN SEG.INDUSTRIAL","-","-","-",1178,631,547,"-","-","-"]
["PROCESOS DE SOLDADURA Y ENSAYOS","-","-","-",18,18,0,"-","-","-"]
["PRODUCCION AGRICOLA GANADERA","-","-","-",230,162,68,"-","-","-"]
["PRODUCCION AGROPECUARIA FAMILIAR","-","-","-",23,9,14,"-","-","-"]
["PRODUCCION LECHERA","-","-","-",{"$f":"+F79+G79","v":6},2,4,"-","-","-"]
["PRODUCTOS EN GEMAS","-","-","-",28,9,19,"-","-","-"]
["RECREACION","-","-","-",220,80,140,"-","-","-"]
["REDES","-","-","-",168,150,18,"-","-","-"]
["REDES Y COMUNICACIONES OPTICAS","-","-","-",74,72,2,"-","-","-"]
["REMATADOR","-","-","-",74,45,29,"-","-","-"]
["REMATADOR - OP. INMOBILIARIO","-","-","-",161,98,63,"-","-","-"]
["S. P. ARROZ PASTURAS - BINACIONAL","-","-","-",29,19,10,"-","-","-"]
["SECRETARIADO BILINGÜE - INGLES","-","-","-",86,11,75,"-","-","-"]
["SISTEMAS DE PROD. ARROZ-PASTURAS","-","-","-",17,10,7,"-","-","-"]
["SISTEMAS ENERGIAS RENOVABLES","-","-","-",77,47,30,"-","-","-"]
["TECNICO EN COMUNICACION SOCIAL","-","-","-",346,135,211,"-","-","-"]
["TECNOLOGO CARNICO","-","-","-",31,17,14,"-","-","-"]
["TECNOLOGO EN INFORMATICA","-","-","-",526,460,66,"-","-","-"]
["TECNOLOGO MADERA","-","-","-",20,16,4,"-","-","-"]
["TECNOLOGO MECANICO","-","-","-",357,335,22,"-","-","-"]
["TECNOLOGO QUIMICO","-","-","-",427,128,299,"-","-","-"]
["TELECOMUNICACIONES","-","-","-",40,38,2,"-","-","-"]

{"sheet":"II-5.3.1","index":74,"n_rows":39,"n_cols":11,"rows_kept":39,"cut":false,"hidden":false,"merged":[[42,0,42,10],[0,4,1,6],[4,0,4,10],[5,0,8,0],[5,1,8,1],[5,2,5,10],[6,2,8,2],[6,3,6,4],[6,5,8,5],[6,6,6,7],[6,8,8,8],[6,9,6,10],[7,3,7,4],[7,6,7,7],[7,9,7,10],[41,0,41,10]]}
["OFERTAS TERCIARIAS NO UNIVERSITARIAS DEL ÁREA SEGURIDAD Y DEFENSA",null,null,null,"PERSONAL ACADÉMICO"]
[]
["Cuadro Nº II-5.3.1"]
[]
["PERSONAL ACADÉMICO DE NIVEL TERCIARIO NO UNIVERSITARIO DEL ÁREA SEGURIDAD Y DEFENSA POR CARGA HORARIA, SEXO, SEGÚN INSTITUCIÓN Y FORMACIÓN. AÑO 2015."]
["INSTITUCIONES / FORMACIÓN","TOTAL","HORAS SEMANALES"]
[null,null,"Total","20 horas o menos",null,"Total","Entre 21 y 30 horas",null,"Total","31 horas y más"]
[null,null,null,"SEXO",null,null,"SEXO",null,null,"SEXO"]
[null,null,null,"M","F",null,"M","F",null,"M","F"]
["TOTAL",{"$f":"C10+F10+I10","v":353},{"$f":"D10+E10","v":304},{"$f":"D12+D18+D24+D30","v":228},{"$f":"E12+E18+E24+E30","v":76},{"$f":"G10+H10","v":4},{"$f":"G12+G18+G24+G30","v":2},{"$f":"H12+H18+H24+H30","v":2},{"$f":"J10+K10","v":45},{"$f":"J12+J18+J24+J30","v":43},{"$f":"K12+K18+K24+K30","v":2}]
[]
["ESCUELA NAVAL",{"$f":"C12+F12+I12","v":119},{"$f":"D12+E12","v":116},{"$f":"SUM(D13:D16)","v":100},{"$f":"SUM(E13:E16)","v":16},{"$f":"G12+H12","v":3},{"$f":"SUM(G13:G16)","v":1},{"$f":"SUM(H13:H16)","v":2},{"$f":"J12+K12","v":0},{"$f":"SUM(J13:J16)","v":0},{"$f":"SUM(K13:K16)","v":0}]
["  Sin formación de grado completa",{"$f":"C13+F13+I13","v":0},{"$f":"D13+E13","v":0},0,0,{"$f":"G13+H13","v":0},0,0,{"$f":"J13+K13","v":0},0,0]
["  Con formación de grado",119,{"$f":"D14+E14","v":116},100,16,{"$f":"G14+H14","v":3},1,2,{"$f":"J14+K14","v":0},0,0]
["  Con postgrado de especialización o maestría",0,{"$f":"D15+E15","v":0},0,0,0,0,0,{"$f":"J15+K15","v":0},0,0]
["  Con doctorado",0,{"$f":"D16+E16","v":0},0,0,{"$f":"G16+H16","v":0},0,0,{"$f":"J16+K16","v":0},0,0]
[]
["ESCUELA NACIONAL DE POLICÍA",{"$f":"C18+F18+I18","v":67},{"$f":"D18+E18","v":67},{"$f":"SUM(D19:D22)","v":54},{"$f":"SUM(E19:E22)","v":13},{"$f":"G18+H18","v":0},{"$f":"SUM(G19:G22)","v":0},{"$f":"SUM(H19:H22)","v":0},{"$f":"J18+K18","v":0},{"$f":"SUM(J19:J22)","v":0},{"$f":"SUM(K19:K22)","v":0}]
["  Sin formación de grado completa",{"$f":"C19+F19+I19","v":0},{"$f":"D19+E19","v":0},0,0,{"$f":"G19+H19","v":0},0,0,{"$f":"J19+K19","v":0},0,0]
["  Con formación de grado",{"$f":"C20+F20+I20","v":67},{"$f":"D20+E20","v":67},54,13,{"$f":"G20+H20","v":0},0,0,{"$f":"J20+K20","v":0},0,0]
["  Con postgrado de especialización o maestría",{"$f":"C21+F21+I21","v":0},{"$f":"D21+E21","v":0},0,0,{"$f":"G21+H21","v":0},0,0,{"$f":"J21+K21","v":0},0,0]
["  Con doctorado",{"$f":"C22+F22+I22","v":0},{"$f":"D22+E22","v":0},0,0,{"$f":"G22+H22","v":0},0,0,{"$f":"J22+K22","v":0},0,0]
[]
["ESCUELA MILITAR",{"$f":"C24+F24+I24","v":87},{"$f":"D24+E24","v":41},{"$f":"SUM(D25:D28)","v":16},{"$f":"SUM(E25:E28)","v":25},{"$f":"G24+H24","v":1},{"$f":"SUM(G25:G28)","v":1},{"$f":"SUM(H25:H28)","v":0},{"$f":"J24+K24","v":45},{"$f":"SUM(J25:J28)","v":43},{"$f":"SUM(K25:K28)","v":2}]
["  Sin formación de grado completa",{"$f":"C25+F25+I25","v":13},{"$f":"D25+E25","v":13},3,10,{"$f":"G25+H25","v":0},0,0,{"$f":"J25+K25","v":0},0,0]
["  Con formación de grado",{"$f":"C26+F26+I26","v":69},{"$f":"D26+E26","v":24},11,13,{"$f":"G26+H26","v":0},0,0,{"$f":"J26+K26","v":45},43,2]
["  Con postgrado de especialización o maestría",5,4,2,2,{"$f":"G27+H27","v":1},1,0,{"$f":"J27+K27","v":0},0,0]
["  Con doctorado",0,0,0,0,{"$f":"G28+H28","v":0},0,0,{"$f":"J28+K28","v":0},0,0]
[]
["ESCUELA MILITAR DE AERONÁUTICA",{"$f":"C30+F30+I30","v":80},{"$f":"D30+E30","v":80},{"$f":"SUM(D31:D34)","v":58},{"$f":"SUM(E31:E34)","v":22},{"$f":"G30+H30","v":0},{"$f":"SUM(G31:G34)","v":0},{"$f":"SUM(H31:H34)","v":0},{"$f":"J30+K30","v":0},{"$f":"SUM(J31:J34)","v":0},{"$f":"SUM(K31:K34)","v":0}]
["  Sin formación de grado completa",{"$f":"C31+F31+I31","v":43},{"$f":"D31+E31","v":43},37,6,{"$f":"G31+H31","v":0},0,0,{"$f":"J31+K31","v":0},0,0]
["  Con formación de grado",37,37,21,16,0,0,0,0,0,0]
["  Con postgrado de especialización o maestría",0,0,0,0,0,0,0,0,0,0]
["  Con doctorado",0,0,0,0,0,0,0,0,0,0]
[]
[]
["Fuentes: Escuela Nacional de Policía "]
["Dirección de Formación. Ministerio de Defensa Nacional"]
["Nota:   La oferta de la Escuela de Policía:  Lic. Seguridad Pública fue incluida en el capítulo de Terciaria Universitaria."]

{"sheet":"II-5.3.2","index":75,"n_rows":16,"n_cols":11,"rows_kept":16,"cut":false,"hidden":false,"merged":[[6,9,6,10],[7,3,7,4],[7,6,7,7],[7,9,7,10],[0,2,1,4],[4,0,4,10],[5,0,8,0],[5,1,8,1],[5,2,5,10],[6,2,8,2],[6,3,6,4],[6,5,8,5],[6,6,6,7],[6,8,8,8]]}
["OTRAS OFERTAS TERCIARIAS NO UNIVERSITARIAS ",null,"PERSONAL ACADÉMICO"]
[]
["Cuadro Nº II-5.3.2"]
[]
["PERSONAL ACADÉMICO DE NIVEL TERCIARIO NO UNIVERSITARIO POR CARGA HORARIA SEMANAL, SEXO, SEGÚN INSTITUCIÓN Y FORMACIÓN. AÑO 2015."]
["INSTITUCIONES / FORMACIÓN","TOTAL","HORAS SEMANALES"]
[null,null,"Total","20 horas o menos",null,"Total","Entre 21 y 30 horas",null,"Total","31 horas y más"]
[null,null,null,"SEXO",null,null,"SEXO",null,null,"SEXO"]
[null,null,null,"M","F",null,"M","F",null,"M","F"]
["EMAD Margarita Xirgu",{"$f":"C10+F10+I10","v":60},{"$f":"D10+E10","v":60},{"$f":"SUM(D11:D14)","v":33},{"$f":"SUM(E11:E14)","v":27},{"$f":"G10+H10","v":0},{"$f":"SUM(G11:G14)","v":0},{"$f":"SUM(H11:H14)","v":0},{"$f":"J10+K10","v":0},{"$f":"SUM(J11:J14)","v":0},{"$f":"SUM(K11:K14)","v":0}]
["  Sin formación de grado completa",{"$f":"C11+F11+I11","v":38},{"$f":"D11+E11","v":38},22,16,{"$f":"G11+H11","v":0},0,0,{"$f":"J11+K11","v":0},0,0]
["  Con formación de grado",{"$f":"C12+F12+I12","v":22},{"$f":"D12+E12","v":22},11,11,{"$f":"G12+H12","v":0},0,0,{"$f":"J12+K12","v":0},0,0]
["  Con postgrado de especialización o maestría",{"$f":"C13+F13+I13","v":0},0,0,0,{"$f":"G13+H13","v":0},0,0,{"$f":"J13+K13","v":0},0,0]
["  Con doctorado",0,0,0,0,{"$f":"G14+H14","v":0},0,0,{"$f":"J14+K14","v":0},0,0]
["Fuente: "]
["          Secretaría General - EMAD"]

{"sheet":"FORMACIÓN EN EDUCACIÓN  ","index":76,"n_rows":43,"n_cols":2,"rows_kept":43,"cut":false,"hidden":false,"merged":[]}
[]
[]
[]
[]
[]
[]
[]
[]
["Cuadro II-6.1.1"," MATRÍCULA Y PERSONAL DOCENTE SEGÚN GRANDES ÁREAS, DEPARTAMENTOS E INSTITUCIONES. CFE. AÑO 2015. "]
[""]
[""]
["Cuadro II-6.2.1","ALUMNOS INGRESADOS, MATRICULADOS Y EGRESADOS EN FORMACIÓN EN EDUCACIÓN POR CARRERA SEGÚN DEPARTAMENTO Y ESTABLECIMIENTO. CFE. AÑO 2015. "]
["Cuadro II-6.2.2 ","ALUMNOS INGRESADOS, MATRICULADOS Y EGRESADOS EN FORMACIÓN EN EDUCACIÓN POR SEXO SEGÚN INSTITUCIÓN Y CARRERA.  TERCIARIAS NO UNIVERSITARIAS. AÑO 2015."]
[]
[]
[""]
["Cuadro II-6.3.1","PERSONAL DOCENTE DE LOS INSTITUTOS DE FORMACIÓN EN EDUCACIÓN Y CANTIDAD DE HORAS POR INSTITUCIÓN Y DEPARTAMENTO. AÑO 2015."]
["Cuadro II-6.3.2","PERSONAL DOCENTE DE FORMACIÓN EN EDUCACIÓN POR CARGA HORARIA SEMANAL, SEXO, SEGÚN INSTITUCIÓN Y FORMACIÓN. TERCIARIAS NO UNIVERSITARIAS. AÑO 2015."]
["Cuadro II-6.3.3","ESTUDIANTES INGRESADOS Y MATRICULADOS EN FORMACIÓN EN EDUCACIÓN SEGÚN ORIGEN GEOGRÁFICO. AÑO 2015."]
[""]
[""]
[""]
[""]
[""]
[""]
[""]
[""]
[""]
[""]
[""]
[""]
[""]
[{"$f":"MID(B22,1,20)","v":""}]
[""]
[""]
[""]
[""]
[""]
[""]
[""]
[""]
[""]
[""]

{"sheet":"II-6.1.1","index":77,"n_rows":40,"n_cols":3,"rows_kept":40,"cut":false,"hidden":false,"merged":[[45,0,46,3],[0,0,0,1],[0,2,1,3],[4,0,4,2],[5,0,9,0],[5,1,9,1],[5,2,9,2],[39,0,42,2]]}
["ANEP - CONSEJO DE FORMACIÓN EN EDUCACIÓN",null,"INSTITUCIONES"]
[]
["Cuadro Nº II-6.1.1"]
[]
["MATRÍCULA Y PERSONAL DOCENTE SEGÚN GRANDES ÁREAS, DEPARTAMENTOS E INSTITUCIONES. AÑO 2015."]
["GRANDES ÁREAS / DEPARTAMENTO / INSTITUCIÓN","TOTAL","DOCENTES"]
[]
[]
[]
[]
["TOTAL",{"$f":"+B13+B19","v":19716},{"$f":"+C13+C19","v":2665}]
[]
["MONTEVIDEO",{"$f":"SUM(B15:B17)","v":7936},{"$f":"SUM(C15:C17)","v":800}]
[]
["IINN",1288,499]
["IPA ",5573,171]
["INET",1075,130]
[]
["RESTO DEL PAÍS",{"$f":"SUM(B21:B38)","v":11780},{"$f":"SUM(C21:C38)+76","v":1865}]
[]
["Artigas",512,73]
["Canelones",2330,307]
["Cerro Largo",660,72]
["Colonia",686,163]
["Durazno",271,55]
["Flores",145,27]
["Florida",562,148]
["Lavalleja",311,42]
["Maldonado ",877,143]
["Paysandú",982,102]
["Río Negro",214,31]
["Rivera",1116,148]
["Rocha",300,42]
["Salto",1203,193]
["San José",292,49]
["Soriano",381,52]
["Tacuarembó",549,71]
["Treinta y Tres",389,71]
["Fuente: Informática - D.F.P.D. "]
["Nota: Para los docentes el último dato disponible es del año 2014. En matrícula docente del Resto del País se incluyen 76 estudiantes que cursan la modalidad semi-presencial y no tienen asignado un Departamento"]

{"sheet":"II-6.2.1","index":78,"n_rows":57,"n_cols":17,"rows_kept":57,"cut":false,"hidden":false,"merged":[[54,0,54,9],[8,12,9,12],[8,13,9,13],[8,14,9,14],[8,15,9,15],[8,16,9,16],[24,0,24,1],[6,14,7,16],[8,2,9,2],[8,3,9,3],[8,4,9,4],[8,5,9,5],[8,6,9,6],[8,7,9,7],[8,8,9,8],[8,9,9,9],[8,10,9,10],[0,0,0,2],[0,8,1,10],[4,0,4,9],[5,0,9,1],[5,2,7,4],[5,5,5,13],[6,5,7,7],[6,8,7,10],[6,11,7,13],[8,11,9,11]]}
["ANEP - CONSEJO DE FORMACIÓN EN EDUCACIÓN",null,null,null,null,null,null,null,"ALUMNOS MATRICULADOS"]
[]
["Cuadro Nº II-6.2.1"]
[]
["ALUMNOS INGRESADOS, MATRICULADOS Y EGRESADOS EN FORMACIÓN EN EDUCACIÓN POR CARRERA SEGÚN DEPARTAMENTO Y ESTABLECIMIENTO. AÑO 2015."]
["DEPARTAMENTO / ESTABLECIMIENTO",null,"TOTAL",null,null,"CARRERA"]
[null,null,null,null,null,"Magisterio",null,null,"Profesorado",null,null,"Educador Social",null,null,"Asistente técnico en Primera Infancia"]
[]
[null,null,"Ingr.","Matr.","Egr.","Ingr.","Matr.","Egr.","Ingr.","Matr.","Egr.","Ingr.","Matr.","Egr.","Ingr.","Matr.","Egr."]
[]
["TOTAL",null,"S/D",{"$f":"G11+J11+M11+P11","v":19716},{"$f":"E13+E18","v":1582},{"$f":"+F13+F18","v":0},{"$f":"+G13+G18","v":5084},{"$f":"H13+H18","v":712},{"$f":"+I13+I18","v":0},{"$f":"+J13+J18","v":12968},{"$f":"K13+K18","v":726},{"$f":"+L13+L18","v":0},{"$f":"+M13+M18","v":1090},{"$f":"N13+N18","v":0},{"$f":"+O13+O18","v":0},{"$f":"+P13+P18","v":574},{"$f":"Q13+Q18","v":144}]
[]
["MONTEVIDEO",null,"S/D",{"$f":"G13+J13+M13+P13","v":7936},{"$f":"SUM(E14:E17)","v":467},{"$f":"SUM(F14:F17)","v":0},{"$f":"SUM(G14:G17)","v":1032},{"$f":"SUM(H14:H17)","v":108},{"$f":"SUM(I14:I17)","v":0},6042,304,0,677,0,0,185,55]
["                  IINN",null,{"$f":"F14+I14+L14","v":0},{"$f":"G14+J14+M14+P14","v":1288},{"$f":"H14+K14+N14+Q13","v":171},"S/D",1032,99,"S/D",71,17,"N/C","N/C","N/C","N/C",185,55]
["                  IPA ",null,{"$f":"F15+I15+L15","v":0},{"$f":"G15+J15+M15+P15","v":5573},{"$f":"H15+K15+N15+Q15","v":253},"N/C","N/C","N/C","S/D",4896,253,"S/D",677,"S/D","S/D","N/C","S/D"]
["                  UM",null,{"$f":"F16+I16+L16","v":0},0,15,"N/C","N/C",9,"S/D","S/D",6,"N/C","N/C","N/C","N/C","N/C","N/C"]
["                  INET ",null,{"$f":"F17+I17+L17","v":0},1075,28,"N/C","N/C","N/C","S/D",1075,28,"N/C","N/C","N/C","N/C","N/C","N/C"]
["RESTO DEL PAÍS",null,{"$f":"SUM(C19:C53)","v":0},{"$f":"G18+J18+M18+P18","v":11780},1115,{"$f":"F19+F20+F27+F28+F33+F32+F34+F37+F38+F41+F42+F44+F46+F48+F50+F51+F52+F53","v":0},{"$f":"G19+G20+G27+G28+G32+G33+G34+G37+G38+G41+G42+G43+G46+G47+G50+G51+G52+G53","v":4052},{"$f":"H19+H20+H27+H28+H32+H33+H34+H37+H38+H41+H42+H43+H46+H47+H50+H51+H52+H53","v":604},{"$f":"I19+I20+I27+I28+I32+I33+I34+I37+I38+I41+I42+I43+I46+I47+I50+I51+I52+I53","v":0},6926,422,0,413,0,0,389,89]
["Artigas         Artigas",null,"S/D",512,54,"S/D",299,34,"S/D",177,20,"S/D",36,"S/D","S/D",0,"S/D"]
["Canelones",null,"S/D",{"$f":"G20+J20+M20+P20","v":2330},{"$f":"H20+K20+N20+Q20","v":230},"S/D",{"$f":"SUM(G21:G26)","v":753},{"$f":"SUM(H21:H26)","v":119},"S/D",{"$f":"SUM(J21:J26)","v":1211},{"$f":"K21+K22+K23+K24+K25+K26","v":62},"S/D",{"$f":"SUM(M21:M26)","v":136},"S/D","S/D",{"$f":"P21+P22+P23","v":230},{"$f":"Q22+Q23","v":49}]
["                  Canelones ",null,{"$f":"F21+I21+L21","v":0},595,{"$f":"H21+K21+N21+Q21","v":41},"S/D",248,32,"S/D",211,9,"S/D",136,"S/D","S/D",0,"S/D"]
["                  De la Costa ",null,{"$f":"F22+I22+L22","v":0},590,{"$f":"H22+K22+N22+Q22","v":49},"S/D",183,26,"S/D",269,6,"S/D",0,"S/D","S/D",138,17]
["                  Pando",null,0,490,{"$f":"H23+K23+N23+Q23","v":72},"S/D",204,34,"S/D",194,6,"S/D",0,"S/D","S/D",92,32]
["                  San Ramón ",null,0,194,{"$f":"H24+K24+N24+Q24","v":22},"S/D",118,21,"S/D",76,1,"S/D",0,"S/D","S/D",0,"S/D"]
["María Auxiliadora",null,null,null,6,null,null,6,null,null,0]
["Cerp Sur- Atlántida",null,0,461,40,"S/D",0,0,"S/D",461,40,"S/D",0,"S/D","S/D",0,"S/D"]
["Cerro Largo     Melo",null,"S/D",660,50,"S/D",258,40,"S/D",402,10,"S/D",0,"S/D","S/D",0,"S/D"]
["Colonia",null,"S/D",686,82,"S/D",{"$f":"G29+G30+G31","v":177},{"$f":"H29+H30+H31","v":40},"S/D",{"$f":"SUM(J29:J31)","v":509},{"$f":"K29+K30+K31","v":42},"S/D",0,"S/D","S/D",0,"S/D"]
["                Colonia",null,{"$f":"F29+I29+L29","v":0},300,{"$f":"H29+K29+M29+N29+Q29","v":32},"S/D",0,0,"S/D",300,32,"S/D",0,"S/D","S/D",0,"S/D"]
["                Carmelo",null,{"$f":"F30+I30+L30","v":0},175,{"$f":"H30+K30+N30+Q30","v":19},"S/D",74,14,"S/D",101,5,"S/D",0,"S/D","S/D",0,"S/D"]
["                Rosario",null,0,211,{"$f":"H31+K31+N31+Q31","v":31},"S/D",103,26,"S/D",108,5,"S/D",0,"S/D","S/D",0,"S/D"]
["Durazno   Durazno ",null,"S/D",271,{"$f":"H32+K32+N32+Q32","v":39},"S/D",151,38,"S/D",120,1,"S/D",0,"S/D","S/D",0,"S/D"]
["Flores       Trinidad",null,"S/D",145,5,"S/D",58,5,"S/D",87,0,"S/D",0,"S/D","S/D",0,"S/D"]
["Florida         ",null,"S/D",562,80,"S/D",{"$f":"G35+G36","v":174},{"$f":"H35+H36","v":30},"S/D",{"$f":"J35+J36","v":335},{"$f":"K35+K36","v":33},"S/D",0,"S/D","S/D",{"$f":"P35+P36","v":53},{"$f":"Q35+Q36","v":17}]
["                Florida",null,"S/D",231,59,"S/D",174,30,"S/D",4,12,"S/D",0,"S/D","S/D",53,17]
["                Cerp Centro - Florida",null,"S/D",331,21,"S/D",0,0,"S/D",331,21,"S/D",0,"S/D","S/D",0,"S/D"]
["Lavalleja       Minas",null,"S/D",311,33,"S/D",152,27,"S/D",159,6,"S/D",0,"S/D","S/D",0,"S/D"]
["Maldonado   ",null,"S/D",877,87,"S/D",{"$f":"G39+G40","v":282},{"$f":"H39+H40","v":38},"S/D",{"$f":"J39+J40","v":491},{"$f":"K39+K40","v":49},"S/D",{"$f":"M39+M40","v":104},"S/D","S/D",0,"S/D"]
["                 Maldonado",null,null,{"$f":"G39+J39+M39+P39","v":298},{"$f":"H39+K39+M39+Q39","v":42},null,282,38,"S/D",16,4,"S/D",0,"S/D","S/D",0]
["                 Cerp Este",null,null,579,{"$f":"H40+K40+N40+Q40","v":45},null,0,0,"S/D",475,45,"S/D",104,"S/D","S/D",0]
["Paysandú     Paysandú",null,"S/D",982,87,"S/D",287,45,"S/D",475,19,"S/D",114,"S/D","S/D",106,23]
["Río Negro     Fray Bentos",null,"S/D",214,17,"S/D",81,12,"S/D",133,5,"S/D",0,"S/D","S/D",0,"S/D"]
["Rivera",null,null,1116,117,null,{"$f":"G44+G45","v":322},{"$f":"H44+H45","v":33},"S/D",{"$f":"J44+J45","v":794},{"$f":"K44+K45","v":84},"S/D",0,"S/D","S/D",0]
["                  Rivera",null,"S/D",432,38,"S/D",322,33,"S/D",110,5,"S/D",0,"S/D","S/D",0,"S/D"]
["                  Cerp Norte",null,null,684,79,null,0,0,"S/D",684,79,"S/D",0,"S/D","S/D",0]
["Rocha          Rocha",null,"S/D",300,24,"S/D",108,17,"S/D",192,7,"S/D",0,"S/D","S/D",0,"S/D"]
["Salto ",null,null,1203,89,null,{"$f":"G48+G49","v":383},{"$f":"H48+H49","v":37},"S/D",{"$f":"J48+J49","v":820},{"$f":"K48+K49","v":52},"S/D",0,"S/D","S/D",0]
["                  Salto ",null,"S/D",9,39,"S/D",0,37,"S/D",9,2,"S/D",0,"S/D","S/D",0,"S/D"]
["                  Cerp Salto",null,"S/D",1194,50,"S/D",383,0,"S/D",811,50,"S/D",0,"S/D","S/D",0,"S/D"]
["San José      San José",null,"S/D",292,31,"S/D",134,26,"S/D",158,5,"S/D",0,"S/D","S/D",0,"S/D"]
["Soriano        Mercedes ",null,"S/D",381,{"$f":"H51+K51+N51+Q51","v":31},"S/D",141,23,"S/D",240,8,"S/D",0,"S/D","S/D",0,"S/D"]
["Tacuarembó      Tacuarembó ",null,"S/D",549,37,"S/D",189,25,"S/D",360,12,"S/D",0,"S/D","S/D",0,"S/D"]
["Treinta y Tres    Treinta y Tres",null,"S/D",389,{"$f":"H53+K53+N53+Q53","v":22},"S/D",103,15,"S/D",263,7,"S/D",23,"S/D","S/D",0,"S/D"]
["Fuente: Informática - DFPD "]
["Nota: No se dispone de datos de ingreso. "]
["Los matriculados en Profesorado del INET corresponden tanto al profesorado de Informática como a Maestros Técnicos."]
["La categoria profesora incluye a los maestros y profesores técnicos y a las certificaciones en lenguas extranejeras "]

{"sheet":"II-6.2.2","index":79,"n_rows":16,"n_cols":10,"rows_kept":16,"cut":false,"hidden":false,"merged":[[0,6,1,9],[4,0,4,9],[5,0,8,0],[5,1,8,1],[5,2,5,3],[5,4,8,4],[5,5,5,6],[5,7,8,7],[5,8,5,9],[6,2,6,3],[16,0,20,9],[6,5,6,6],[6,8,6,9],[7,2,8,2],[7,3,8,3],[7,5,8,5],[7,6,8,6],[7,8,8,8],[7,9,8,9]]}
["OTRAS TERCIARIAS NO UNIVERSITARIAS",null,null,null,null,null,"ALUMNOS MATRICULADOS"]
[]
["Cuadro Nº II-6.2.2"]
[]
["ALUMNOS INGRESADOS, MATRICULADOS Y EGRESADOS EN FORMACIÓN EN EDUCACIÓN POR SEXO SEGÚN INSTITUCIÓN Y CARRERA. AÑO 2015."]
["INSTITUCION / CARRERA","TOTAL","INGRESADOS",null,"TOTAL","MATRICULADOS",null,"TOTAL","EGRESADOS"]
[null,null,"SEXO",null,null,"SEXO",null,null,"SEXO"]
[null,null,"M","F",null,"M","F",null,"M","F"]
[]
["C.I.E.P",{"$f":"SUM(C10:D10)","v":28},{"$f":"SUM(C11:C11)","v":0},{"$f":"SUM(D11:D11)","v":28},{"$f":"SUM(F10:G10)","v":72},{"$f":"SUM(F11:F11)","v":1},{"$f":"SUM(G11:G11)","v":71},{"$f":"SUM(I10:J10)","v":28},{"$f":"SUM(I11:I11)","v":1},{"$f":"SUM(J11:J11)","v":27}]
["Educador Inicial",{"$f":"SUM(C11:D11)","v":28},0,28,{"$f":"SUM(F11:G11)","v":72},1,71,28,1,27]
["INAU – CENFORES",{"$f":"SUM(C12:D12)","v":100},{"$f":"+C13","v":2},{"$f":"+D13","v":98},168,4,164,12,1,11]
["Educación en Primera Infancia",{"$f":"SUM(C13:D13)","v":100},2,98,{"$f":"SUM(F13:G13)","v":168},4,164,12,1,11]
["Fuente:"]
["         CEN.FOR.ES - I.N.A.U. "]
["         C.I.E.P"]

{"sheet":"II-6.3.1","index":80,"n_rows":52,"n_cols":4,"rows_kept":52,"cut":false,"hidden":false,"merged":[[52,0,52,3],[0,3,1,4],[4,0,4,2],[5,0,7,0],[5,1,6,2],[51,0,51,3]]}
["ANEP - CONSEJO DE FORMACIÓN EN EDUCACIÓN",null,null,"FUNCIONARIOS"]
[]
["Cuadro Nº II-6.3.1"]
[]
["PERSONAL DOCENTE DE LOS INSTITUTOS DE FORMACIÓN EN EDUCACIÓN Y CANTIDAD DE HORAS POR INSTITUCIÓN Y DEPARTAMENTO. AÑO 2014."]
["DEPARTAMENTO / ESTABLECIMIENTO"]
[]
[null,"Cantidad de  Docentes","Cantidad de  Horas"]
["TOTAL",{"$f":"B11+B15","v":2665},{"$f":"C11+C15","v":49932}]
[]
["MONTEVIDEO",{"$f":"B12+B13+B14","v":800},{"$f":"C12+C13+C14","v":15938}]
["                IINN",499,10382]
["                IPA ",171,2948]
["                INET ",130,2608]
["RESTO DEL PAÍS",{"$f":"B16+B17+B23+B24+B28+B29+B30+B33+B34+B37+B38+B39+B42+B43+B46+B47+B48+B49+76","v":1865},{"$f":"C16+C17+C23+C24+C28+C29+C30+C33+C34+C37+C38+C39+C42+C43+C46+C47+C48+C49+2012","v":33994}]
["Artigas",73,1025]
["Canelones",307,5320]
["                IFD Canelones ",69,1039]
["                IFD de la Costa ",48,691]
["                IFD Pando",71,1113]
["                IFD San Ramón ",33,535]
["                CERP del Sur",86,1942]
["Cerro Largo",72,1181]
["Colonia",163,2957]
["                IFD Carmelo",33,466]
["                IFD Rosario ",41,565]
["                CERP del Suroeste",89,1926]
["Durazno ",55,754]
["Flores",27,484]
["Florida",148,2699]
["                IFD Florida",62,925]
["                CERP del Centro",86,1774]
["Lavalleja",42,691]
["Maldonado ",143,2805]
["                IFD Maldonado",57,812]
["                CERP del Centro",86,1993]
["Paysandú",102,1769]
["Río Negro",31,415]
["Rivera",148,3325]
["                IFD Rivera",66,1017]
["                CERP del Norte",82,2308]
["Rocha",42,678]
["Salto ",193,4116]
["                IFD Salto",67,954]
["                CERP del Litoral",126,3162]
["San José",49,707]
["Soriano ",52,654]
["Tacuarembó ",71,1051]
["Treinta y Tres",71,1351]
["Fuente: Contralor Docente - CFE"]
["Nota: Dato 2014 ultimo dato disponible"]
["Nota: En octubre del 2007 el CODICEN aprobó un Sistema Único Nacional de Formación Docente (SUNFD) y el nuevo Plan Integrado 2008, creándose además una estructura departamentalizada con el objetivo de fortalecer la labor de los IFD y promover las actividades de investigación y extensión en el espacio de formación en educación. Las horas de departamento representan horas de docencia indirecta destinadas a promover la producción académica de los docentes. Los Departamentos poseen alcance nacional. Su conducción está a cargo de un Coordinacionador/a Académico/a. "]

{"sheet":"II-6.3.2","index":81,"n_rows":22,"n_cols":11,"rows_kept":22,"cut":false,"hidden":false,"merged":[[6,9,6,10],[7,3,7,4],[7,6,7,7],[7,9,7,10],[0,2,1,4],[4,0,4,10],[5,0,8,0],[5,1,8,1],[5,2,5,10],[6,2,8,2],[6,3,6,4],[6,5,8,5],[6,6,6,7],[6,8,8,8]]}
["OTRAS TERCIARIAS NO UNIVERSITARIAS",null,"PERSONAL ACADÉMICO"]
[]
["Cuadro Nº II-6.3.2"]
[]
["PERSONAL DOCENTE DE FORMACIÓN EN EDUCACIÓN POR CARGA HORARIA SEMANAL, SEXO, SEGÚN INSTITUCIÓN Y FORMACIÓN. AÑO 2015."]
["INSTITUCIONES / FORMACIÓN","TOTAL","HORAS SEMANALES"]
[null,null,"Total","20 horas o menos",null,"Total","Entre 21 y 30 horas",null,"Total","31 horas y más"]
[null,null,null,"SEXO",null,null,"SEXO",null,null,"SEXO"]
[null,null,null,"M","F",null,"M","F",null,"M","F"]
["CIEP",{"$f":"C10+F10+I10","v":23},{"$f":"D10+E10","v":23},{"$f":"SUM(D11:D14)","v":4},{"$f":"SUM(E11:E14)","v":19},{"$f":"G10+H10","v":0},{"$f":"SUM(G11:G14)","v":0},{"$f":"SUM(H11:H14)","v":0},{"$f":"J10+K10","v":0},{"$f":"SUM(J11:J14)","v":0},{"$f":"SUM(K11:K14)","v":0}]
["Sin formación de grado completa",{"$f":"C11+F11+I11","v":0},{"$f":"D11+E11","v":0},0,0,{"$f":"G11+H11","v":0},0,0,{"$f":"J11+K11","v":0},0,0]
["Con formación de grado (incluye formación docente)",{"$f":"C12+F12+I12","v":19},{"$f":"D12+E12","v":19},2,17,{"$f":"G12+H12","v":0},0,0,{"$f":"J12+K12","v":0},0,0]
["Con posgrado de especialización o maestría",{"$f":"C13+F13+I13","v":3},{"$f":"D13+E13","v":3},2,1,{"$f":"G13+H13","v":0},0,0,{"$f":"J13+K13","v":0},0,0]
["Con doctorado",{"$f":"C14+F14+I14","v":1},{"$f":"D14+E14","v":1},0,1,{"$f":"G14+H14","v":0},0,0,{"$f":"J14+K14","v":0},0,0]
[]
["CENFORES -INAU ",{"$f":"C16+F16+I16","v":31},{"$f":"D16+E16","v":26},{"$f":"SUM(D17:D20)","v":4},{"$f":"SUM(E17:E20)","v":22},{"$f":"G16+H16","v":5},{"$f":"SUM(G17:G20)","v":1},{"$f":"SUM(H17:H20)","v":4},{"$f":"J16+K16","v":0},{"$f":"SUM(J17:J20)","v":0},{"$f":"SUM(K17:K20)","v":0}]
["Sin formación de grado completa",{"$f":"C17+F17+I17","v":0},{"$f":"D17+E17","v":0},0,0,{"$f":"G17+H17","v":0},0,0,{"$f":"J17+K17","v":0},0,0]
["Con formación de grado (incluye formación docente)",23,{"$f":"D18+E18","v":20},3,17,{"$f":"G18+H18","v":3},0,3,{"$f":"J18+K18","v":0},0,0]
["Con posgrado de especialización o maestría",7,{"$f":"D19+E19","v":5},1,4,{"$f":"G19+H19","v":2},1,1,{"$f":"J19+K19","v":0},0,0]
["Con doctorado",1,{"$f":"D20+E20","v":1},0,1,{"$f":"G20+H20","v":0},0,0,{"$f":"J20+K20","v":0},0,0]
["Fuente:  CENFORES - INAU"]
["            CIEP"]

{"sheet":"II-6.3.3","index":82,"n_rows":28,"n_cols":4,"rows_kept":28,"cut":false,"hidden":false,"merged":[[0,0,0,1],[0,3,1,4],[4,0,4,2],[5,0,6,0],[5,1,6,1],[5,2,6,2]]}
["ANEP - CONSEJO DE FORMACIÓN EN EDUCACIÓN",null,null,"ALUMNOS MATRICULADOS"]
[]
["Cuadro Nº II-6.3.3"]
[]
["ESTUDIANTES INGRESADOS Y MATRICULADOS EN FORMACIÓN EN EDUCACIÓN SEGÚN ORIGEN GEOGRÁFICO. AÑO 2015."]
["DEPARTAMENTO DONDE CURSÓ EL ÚLTIMO AÑO LICEAL","ESTUDIANTES INGRESADOS","ESTUDIANTES MATRICULADOS"]
[]
["TOTAL ","s/d",{"$f":"SUM(C9:C27)","v":19716}]
["Montevideo","s/d",7936]
["Artigas","s/d",512]
["Canelones","s/d",2330]
["Cerro Largo","s/d",660]
["Colonia","s/d",686]
["Durazno","s/d",271]
["Flores","s/d",145]
["Florida","s/d",562]
["Lavalleja","s/d",311]
["Maldonado","s/d",877]
["Paysandú","s/d",982]
["Río Negro","s/d",214]
["Rivera","s/d",1116]
["Rocha","s/d",300]
["Salto","s/d",1203]
["San José","s/d",292]
["Soriano","s/d",381]
["Tacuarembó","s/d",549]
["Treinta y Tres","s/d",389]
["Fuente: Institutos de Formación Docente"]

{"sheet":"EDUCACIÓN UNIVERSITARIA","index":83,"n_rows":69,"n_cols":2,"rows_kept":69,"cut":false,"hidden":false,"merged":[]}
[]
[]
[]
[]
[]
[]
["Cuadro II-7.1.1","ALUMNOS INGRESADOS, MATRICULADOS Y EGRESADOS EN PROGRAMAS DE GRADO POR SEXO SEGÚN GRANDES ÁREAS, DEPARTAMENTO E INSTITUCIÓN. AÑO 2015. "]
["Cuadro II-7.2.2","ALUMNOS INGRESADOS A CARRERAS 2015 Y EGRESADOS PRELIMINARES 2015 EN PROGRAMAS DE GRADO POR SEXO SEGÚN SERVICIO UNIVERSITARIO Y CARRERA. AÑO 2015."]
["Cuadro II-7.2.3","ALUMNOS INGRESADOS, MATRICULADOS Y EGRESADOS EN PROGRAMAS DE GRADO  EN UNIVERSIDADES PRIVADAS POR SEXO SEGÚN UNIVERSIDAD Y CARRERA. AÑO 2015. "]
["Cuadro II-7.2.4","ALUMNOS INGRESADOS, MATRICULADOS Y EGRESADOS EN PROGRAMAS DE GRADO DE INSTITUTOS UNIVERSITARIOS Y OFERTAS UNIVERSITAREAS DEL ÁREA SEGURIDAD Y DEFENSA POR SEXO SEGÚN INSTITUCIÓN Y CARRERA. AÑO 2015. "]
["Cuadro II-7.2.5","ALUMNOS INGRESADOS, MATRICULADOS Y EGRESADOS EN PROGRAMAS DE POSTGRADO POR SEXO SEGÚN INSTITUCIÓN. AÑO 2015. "]
["Cuadro II-7.2.6","ALUMNOS INGRESADOS 2015 Y EGRESADOS PRELIMINARES 2015 EN PROGRAMAS DE POSTGRADO DE LA UNIVERSIDAD DE LA REPÚBLICA POR SEXO SEGÚN SERVICIO UNIVERSITARIO Y ACREDITACIÓN. AÑO 2015."]
["Cuadro II-7.2.7","ALUMNOS INGRESADOS, MATRICULADOS Y EGRESADOS EN PROGRAMAS DE POSTGRADO DE UNIVERSIDADES PRIVADAS POR SEXO SEGÚN UNIVERSIDAD Y ACREDITACIÓN. AÑO 2015. "]
["Cuadro II-7.2.8","ALUMNOS INGRESADOS, MATRICULADOS Y EGRESADOS EN PROGRAMAS DE POSTGRADO DE INSTITUTOS UNIVERSITARIOS POR SEXO SEGÚN INSTITUTO UNIVERSITARIO Y ACREDITACIÓN. AÑO 2015. "]
["Cuadro II-7.2.9","EVOLUCIÓN DE LA MATRÍCULA DE LAS INSTITUCIONES UNIVERSITARIAS (2000 – 2015)"]
[""]
["Cuadro II-7.2.10","PERSONAL DOCENTE Y NO DOCENTE DE INSTITUCIONES UNIVERSITARIAS PUBLICAS Y PRIVADAS EXPRESADAS EN POSICIONES FUNCIONALES POR CARGA HORARIA SEMANAL SEGÚN INSTITUCIÓN, ACTIVIDAD Y SEXO. AÑO 2015. "]
["Cuadro II-7.2.11","ALUMNOS INGRESADOS Y MATRICULADOS DE GRADO EN UNIVERSIDADES E INSTITUTOS UNIVERSITARIOS, SEGÚN INSTITUCIÓN Y LUGAR DE ORIGEN. AÑO 2015. "]
[""]
[""]
[""]
[""]
[""]
[""]
[""]
[""]
[""]
[""]
[""]
[""]
[""]
[""]
[""]
[""]
[""]
[""]
[""]
[""]
[""]
[""]
[""]
[""]
[""]
[""]
[""]
[""]
[""]
[""]
[""]
[""]
[""]
[""]
[""]
[""]
[""]
[""]
[""]
[{"$f":"MID(B46,1,20)","v":""}]
[""]
[""]
[""]
[""]
[""]
[""]
[""]
[""]
[""]
[""]
[""]

{"sheet":"II-7.1.1  ","index":84,"n_rows":69,"n_cols":10,"rows_kept":69,"cut":false,"hidden":false,"merged":[[0,3,1,5],[4,0,4,10],[5,1,7,1],[5,2,5,3],[5,4,7,4],[5,5,5,6],[5,7,7,7],[5,8,5,9],[6,2,6,3],[6,5,6,6],[67,0,67,1],[6,8,6,9],[60,0,60,6],[61,0,61,6],[62,0,62,9],[64,0,64,9],[65,0,65,6]]}
["OFERTA UNIVERSITARIA DE GRADO",null,null,"INSTITUCIONES"]
[]
["Cuadro Nº II-7.1.1"]
[]
["ALUMNOS INGRESADOS, MATRICULADOS Y EGRESADOS EN PROGRAMAS DE GRADO POR SEXO SEGÚN GRANDES ÁREAS, DEPARTAMENTO E INSTITUCIÓN. AÑO 2015."]
["GRANDES ÁREAS / DEPARTAMENTO / INSTITUCIÓN","TOTAL","INGRESO",null,"TOTAL","MATRÍCULA ",null,"TOTAL","EGRESADOS "]
[null,null,"SEXO",null,null,"SEXO",null,null,"SEXO"]
[null,null,"M","F",null,"M","F",null,"M","F"]
["TOTAL PAÍS",{"$f":"+C9+D9","v":29808},{"$f":"+C13+C27","v":11367},{"$f":"+D13+D27","v":18441},{"$f":"+F9+G9","v":152610},{"$f":"+F13+F27","v":56967},{"$f":"+G13+G27","v":95643},{"$f":"+I9+J9","v":7804},{"$f":"+I13+I27","v":2713},{"$f":"+J13+J27","v":5091}]
["PÚBLICO",{"$f":"+C10+D10","v":26101},{"$f":"C14+C28","v":9607},{"$f":"D14+D28","v":16494},{"$f":"+F10+G10","v":131102},{"$f":"F14+F28","v":46124},{"$f":"G14+G28","v":84978},{"$f":"+I10+J10","v":6040},{"$f":"I14+I28","v":1953},{"$f":"J14+J28","v":4087}]
["PRIVADO",3707,{"$f":"C15+C29","v":1760},{"$f":"D15+D29","v":1947},21508,{"$f":"F15+F29","v":10843},{"$f":"G15+G29","v":10665},1764,{"$f":"I15+I29","v":760},{"$f":"J15+J29","v":1004}]
[]
["MONTEVIDEO",{"$f":"SUM(C13:D13)","v":25869},{"$f":"C14+C15","v":9915},{"$f":"D14+D15","v":15954},{"$f":"SUM(F13:G13)","v":143760},{"$f":"SUM(F16:F26)","v":53801},{"$f":"SUM(G16:G26)","v":89959},{"$f":"SUM(I13:J13)","v":7306},{"$f":"I14+I15","v":2525},{"$f":"J14+J15","v":4781}]
["PÚBLICO",22498,{"$f":"C16+C26","v":8291},{"$f":"D16+D26","v":14207},124200,{"$f":"F16+F26","v":43748},{"$f":"G16+G26","v":80452},5666,{"$f":"I16+I26","v":1817},{"$f":"J16+J26","v":3849}]
["PRIVADO",3371,{"$f":"SUM(C17:C25)","v":1624},{"$f":"SUM(D17:D25)","v":1747},19560,{"$f":"SUM(F17:F25)","v":10053},9507,1640,{"$f":"SUM(I17:I25)","v":708},932]
["UdelaR *",{"$f":"SUM(C16:D16)","v":22498},8291,14207,124200,43748,80452,5666,1817,3849]
["UCUDAL",1151,480,671,{"$f":"SUM(F17:G17)","v":6400},2655,3745,544,184,360]
["Universidad ORT Uruguay",1041,534,507,7485,4369,3116,545,262,283]
["Universidad de Montevideo",452,197,255,1922,913,1009,265,115,150]
["Universidad de la Empresa",453,279,174,3004,1692,1312,152,90,62]
["Inst Univ Asociación Cristiana de Jóvenes",180,110,70,520,347,173,101,51,50]
["Inst Metodista Univ Crandon ",29,1,28,30,1,29,0,0,0]
["Inst Univ Monseñor Mariano Soler ",14,14,0,70,66,4,3,3,0]
["Inst Univ CEDIIAP",37,2,35,86,1,85,22,1,21]
["Inst Univ CLAEH ",14,7,7,43,9,34,8,2,6]
["Escuela Nacional de Policía ***","-","-","-","-","-","-","-","-","-"]
["RESTO DEL PAÍS",{"$f":"+C27+D27","v":3939},{"$f":"C28+C29","v":1452},{"$f":"D28+D29","v":2487},{"$f":"+F27+G27","v":8850},{"$f":"F28+F29","v":3166},{"$f":"G28+G29","v":5684},{"$f":"+I27+J27","v":498},{"$f":"I28+I29","v":188},{"$f":"J28+J29","v":310}]
["PÚBLICO",{"$f":"C28+D28","v":3603},{"$f":"C31+C34+C36+C38+C44+C46+C48+C50+C52+C55+C57+C59","v":1316},{"$f":"D31+D34+D36+D38+D44+D46+D48+D50+D52+D55+D57+D59","v":2287},{"$f":"F28+G28","v":6902},{"$f":"F31+F34+F36+F38+F44+F46+F48+F50+F52+F55+F57+F59","v":2376},{"$f":"G31+G34+G36+G38+G44+G46+G48+G50+G52+G55+G57+G59","v":4526},{"$f":"I28+J28","v":374},{"$f":"I31+I34+I36+I38+I44+I46+I48+I50+I52+I55+I57+I59","v":136},{"$f":"J31+J34+J36+J38+J44+J46+J48+J50+J52+J55+J57+J59","v":238}]
["PRIVADO",{"$f":"C29+D29","v":336},{"$f":"C33+C39+C40+C41+C42+C53","v":136},{"$f":"D33+D39+D40+D41+D42+D53","v":200},{"$f":"F29+G29","v":1948},{"$f":"F33+F39+F40+F41+F42+F53","v":790},{"$f":"G33+G39+G40+G41+G42+G53","v":1158},{"$f":"I29+J29","v":124},{"$f":"I33+I39+I40+I41+I42+I53","v":52},{"$f":"J33+J39+J40+J41+J42+J53","v":72}]
["Artigas"]
["UdelaR ",{"$f":"SUM(C31:D31)","v":0},0,0,{"$f":"F31+G31","v":24},18,6,{"$f":"SUM(I31:J31)","v":0},0,0]
["Colonia",114,{"$f":"C33+C34","v":36},{"$f":"D33+D34","v":78},{"$f":"SUM(F32:G32)","v":244},{"$f":"F33+F34","v":74},{"$f":"G33+G34","v":170},0,{"$f":"I33+I34","v":0},{"$f":"J33+J34","v":0}]
["Universidad de la Empresa",71,16,55,162,38,124,0,0,0]
["UTEC **",43,20,23,82,36,46,0,0,0]
["Durazno"]
["UTEC **",63,46,17,63,46,17,0,0,0]
["Maldonado",{"$f":"SUM(C37:D37)","v":1027},{"$f":"SUM(C38:C42)","v":455},{"$f":"SUM(D38:D42)","v":572},2362,{"$f":"SUM(F38:F42)","v":1023},{"$f":"SUM(G38:G42)","v":1339},125,{"$f":"SUM(I38:I42)","v":56},{"$f":"SUM(J38:J42)","v":69}]
["UdelaR ",858,377,481,1113,523,590,36,16,20]
["UCUDAL",53,33,20,276,139,137,25,13,12]
["Inst Univ CLAEH ",64,24,40,495,182,313,43,20,23]
["Fundación Politécnico de Punta del Este",11,6,5,41,17,24,0,0,0]
["Inst Univ Francisco de Asís ",41,15,26,437,162,275,21,7,14]
["Paysandú"]
["UdelaR ",{"$f":"SUM(C44:D44)","v":792},239,553,1648,591,1057,164,78,86]
["Río Negro"]
["UTEC **",24,23,1,24,23,1,0,0,0]
["Rivera"]
["UdelaR ",70,32,38,406,105,301,40,7,33]
["Rocha"]
["UdelaR ",189,56,133,170,64,106,5,3,2]
["Salto",1211,{"$f":"C52+C53","v":407},{"$f":"D52+D53","v":804},3678,{"$f":"F52+F53","v":1161},{"$f":"G52+G53","v":2517},143,38,105]
["UdelaR ",1115,365,750,3141,909,2232,108,26,82]
["UCUDAL",96,42,54,537,252,285,35,12,23]
["San José"]
["UdelaR ",23,18,5,0,0,0,1,1,0]
["Tacuarembó"]
["UdelaR ",259,87,172,231,61,170,20,5,15]
["Treinta y Tres"]
["UdelaR ",167,53,114,0,0,0,0,0,0]
[]
["Fuente: Oficinas Productoras de cada una de las Instituciones. "]
["Nota: "]
["La expresión “Estudiantes” hace referencia a relaciones entre personas e instituciones y no al conteo de personas físicas. De manera que una persona puede ser estudiante de más de una institución o región, ostentando en cualquiera de ambas categorías inserciones múltiples y en cada caso será contada como personas diferentes."]
["Para UdelaR:"]
["Según Res. N°15 del CDC de fecha 23/10/12, se entiende por Generación de Ingreso a Carrera  a todos los estudiantes que ingresan por primera vez a una carrera terciaria y/o de grado, en un año dado. No se consideran los estudiantes que ingresan a la carrera a través de un CIO o de un ciclo básico común en años anteriores. No se incluyen los estudiantes provisorios por previas, ni los de intercambio. Se incluyen los estudiantes de cortesía diplomática."]
["* La matrícula de UdelaR corresponde al dato del VII Censo de estudiantes de grado 2012.  "]
["El dato de egreso 2015 es PRELIMINAR"]
["** La UTEC comenzó a dictar los cursos en el año 2014"]
["***  En 2015 la Licenciatura en Seguridad Pública no fue dictada."]

{"sheet":"II-7.2.2 ","index":85,"n_rows":418,"n_cols":7,"rows_kept":418,"cut":false,"hidden":false,"merged":[[415,0,415,6],[417,0,417,6],[0,4,1,5],[5,1,7,1],[5,2,5,3],[5,4,7,4],[5,5,5,6],[6,2,6,3],[6,5,6,6],[4,0,4,6],[414,0,414,6]]}
["UNIVERSIDADES PÚBLICAS: OFERTA DE GRADO",null,null,null,"ALUMNOS "]
[]
["Cuadro Nº II-7.2.2"]
[]
["UNIVERSIDADES PÚBLICAS:   ALUMNOS INGRESADOS A CARRERAS 2015 Y EGRESADOS PRELIMINARES 2015 EN PROGRAMAS DE GRADO POR SEXO,  SEGÚN SERVICIO UNIVERSITARIO Y CARRERA. "]
[null,"TOTAL","INGRESADOS (3)",null,"TOTAL","EGRESADOS (datos preliminares) (4)"]
["SERVICIO UNIVERSITARIO / CARRERA",null,"SEXO",null,null,"SEXO"]
[null,null,"M","F",null,"M","F"]
[]
["TOTAL UNIVERSIDADES PÚBLICAS",{"$f":"C10+D10","v":26101},{"$f":"C12+C22","v":9607},{"$f":"D12+D22","v":16494},{"$f":"F10+G10","v":6040},{"$f":"F12+F22","v":1953},{"$f":"G12+G22","v":4087}]
[]
["UNIVERSIDAD TECNOLÓGICA -UTEC *",{"$f":"C12+D12","v":130},{"$f":"C13+C18+C20","v":89},{"$f":"D13+D18+D20","v":41},{"$f":"F12+G12","v":0},{"$f":"F13+F18+F20","v":0},{"$f":"G13+G18+G20","v":0}]
["Colonia",{"$f":"C13+D13","v":43},{"$f":"C14+C15+C16","v":20},{"$f":"D14+D15+D16","v":23},{"$f":"F13+G13","v":0},{"$f":"F14+F15+F16","v":0},{"$f":"G14+G15+G16","v":0}]
["Licenciatura en Leche y Productos Lácteos",21,7,14,0,0,0]
["Tecnólogo en Manejo de Sistemas de Producción Lechera",9,6,3,0,0,0]
["Licenciatura en Leche y Productos Lácteos",13,7,6,0,0,0]
["Río Negro"]
["Tecnólogo en Mecatrónica ",24,23,1,0,0,0]
["Durazno"]
["Tecnicatura en Tecnologías de la Información",63,46,17,0,0,0]
[]
["TOTAL UDELAR",{"$f":"SUM(C22:D22)","v":25971},{"$f":"C24+C49+C57+C63+C86+C102+C128+C136+C148+C162+C171+C177+C194+C208+C215+C224+C230+C242+C274+C290+C304+C319+C323+C327+C335+C345+C349+C355+C358+C364+C376+C382+C386+C390+C394+C397+C400+C404","v":9518},{"$f":"D24+D49+D57+D63+D86+D102+D128+D136+D148+D162+D171+D177+D194+D208+D215+D224+D230+D242+D274+D290+D304+D319+D323+D327+D335+D345+D349+D355+D358+D364+D376+D382+D386+D390+D394+D397+D400+D404","v":16453},{"$f":"SUM(F22:G22)","v":6040},{"$f":"F24+F49+F57+F63+F86+F102+F128+F136+F148+F162+F171+F177+F194+F208+F215+F224+F230+F242+F274+F290+F304+F319+F323+F327+F335+F345+F349+F355+F358+F364+F376+F382+F386+F390+F394+F397+F400+F404","v":1953},{"$f":"G24+G49+G57+G63+G86+G102+G128+G136+G148+G162+G171+G177+G194+G208+G215+G224+G230+G242+G274+G290+G304+G319+G323+G327+G335+G345+G349+G355+G358+G364+G376+G382+G386+G390+G394+G397+G400+G404","v":4087}]
[]
["FACULTAD DE HUMANIDADES Y CIENCIAS DE LA EDUCACIÓN",{"$f":"SUM(C24:D24)","v":1308},{"$f":"C25+C36+C38+C40+C44+C46","v":453},{"$f":"D25+D36+D38+D40+D44+D46","v":855},{"$f":"SUM(F24:G24)","v":117},{"$f":"F25+F36+F38+F40+F44+F46","v":34},{"$f":"G25+G36+G38+G40+G44+G46","v":83}]
["Montevideo",1239,{"$f":"SUM(C26:C35)","v":427},{"$f":"SUM(D26:D35)","v":812},97,{"$f":"SUM(F26:F35)","v":31},{"$f":"SUM(G26:G35)","v":66}]
["Licenciado en Ciencias Antropológicas ",208,65,143,16,8,8]
["Licenciado en Ciencias de la Educación ",200,49,151,16,3,13]
["Licenciado en Historia ",136,79,57,0,0,0]
["Licenciado en Filosofía ",160,94,66,9,5,4]
["Licenciado en Letras ",190,68,122,8,4,4]
["Licenciado en Lingüística ",101,25,76,4,2,2]
["Técnico Universitario en Corrección de Estilo (Lengua Española)",244,47,197,11,0,11]
["Técnico Universitario en Interpretación LSU-ESP-LSU",0,0,0,2,0,2]
["Técnico Universitario en Museología",0,0,0,29,8,21]
["Licenciado en Ciencias Históricas",0,0,0,2,1,1]
["Maldonado",1,{"$f":"C37","v":1},{"$f":"D37","v":0},null,{"$f":"F37","v":2},{"$f":"G37","v":10}]
["Licenciado en Turismo",1,1,0,{"$f":"SUM(F37:G37)","v":12},2,10]
["Paysandú",16,{"$f":"C39","v":6},{"$f":"D39","v":10},0,{"$f":"F39","v":0},{"$f":"G39","v":0}]
["Técnico Universitario en Prom. Bienes Culturales ",{"$f":"SUM(C39:D39)","v":16},6,10,0,0,0]
["Salto",35,{"$f":"C41+C42+C43","v":11},{"$f":"D41+D42+D43","v":24},8,{"$f":"F41+F42+F43","v":1},{"$f":"G41+G42+G43","v":7}]
["Licenciado en Turismo ",35,11,24,3,1,2]
["Técnico Universitario en Interpretación LSU-ESP-LSU",0,0,0,3,0,3]
["Técnico Binacional en Turismo ",0,0,0,2,0,2]
["Tacuarembó",16,{"$f":"C45","v":8},{"$f":"D45","v":8},0,{"$f":"F45","v":0},{"$f":"G45","v":0}]
["Técnico Universitario en Prom. Bienes Culturales ",{"$f":"SUM(C45:D45)","v":16},8,8,0,0,0]
["Tacuarembó-Paysandú",{"$f":"SUM(C46:D46)","v":1},{"$f":"C47","v":0},{"$f":"D47","v":1},0,{"$f":"F47","v":0},{"$f":"G47","v":0}]
["Técnico Universitario en Prom. Bienes Culturales ",1,0,1,0,0,0]
[]
["FACULTAD DE AGRONOMÍA",{"$f":"SUM(C49:D49)","v":407},{"$f":"C50+C52+C54","v":248},{"$f":"D50+D52+D54","v":159},{"$f":"SUM(F49:G49)","v":180},{"$f":"F50+F52+F54","v":131},{"$f":"G50+G52+G54","v":49}]
["Montevideo",{"$f":"SUM(C50:D50)","v":320},{"$f":"C51","v":193},{"$f":"D51","v":127},{"$f":"SUM(F50:G50)","v":178},{"$f":"F51","v":131},{"$f":"G51","v":47}]
["Ingeniero Agrónomo",{"$f":"SUM(C51:D51)","v":320},193,127,{"$f":"SUM(F51:G51)","v":178},131,47]
["Salto",86,{"$f":"C53","v":54},{"$f":"D53","v":32},2,{"$f":"F53","v":0},{"$f":"G53","v":2}]
["Ingeniero Agrónomo ",86,54,32,2,0,2]
["Montevideo-Salto",1,{"$f":"C55","v":1},{"$f":"D55","v":0},0,{"$f":"F55","v":0},{"$f":"G55","v":0}]
["Ingeniero Agrónomo ",1,1,0,0,0,0]
[]
["FACULTAD DE ARQUITECTURA",{"$f":"SUM(C57:D57)","v":677},{"$f":"C58+C60","v":290},{"$f":"D58+D60","v":387},{"$f":"SUM(F57:G57)","v":310},{"$f":"F58+F60","v":124},{"$f":"G58+G60","v":186}]
["Montevideo",{"$f":"SUM(C58:D58)","v":644},{"$f":"C59","v":275},{"$f":"D59","v":369},{"$f":"SUM(F58:G58)","v":310},{"$f":"F59","v":124},{"$f":"G59","v":186}]
["Arquitecto",644,275,369,310,124,186]
["Salto",33,{"$f":"C61","v":15},{"$f":"D61","v":18},0,{"$f":"F61","v":0},{"$f":"G61","v":0}]
["Licenciatura en Diseño Integrado ",33,15,18,0,0,0]
[]
["FACULTAD DE CIENCIAS ECONÓMICAS Y ADMINISTRACIÓN",{"$f":"SUM(C63:D63)","v":4295},{"$f":"C64+C76+C78+C80+C82+C84","v":1780},{"$f":"D64+D76+D78+D80+D82+D84","v":2515},{"$f":"SUM(F63:G63)","v":1157},{"$f":"F64+F76+F78+F80+F82+F84","v":429},{"$f":"G64+G76+G78+G80+G82+G84","v":728}]
["Montevideo",{"$f":"C64+D64","v":3966},{"$f":"SUM(C65:C74)","v":1666},{"$f":"SUM(D65:D74)","v":2300},{"$f":"F64+G64","v":1150},{"$f":"SUM(F65:F74)","v":428},{"$f":"SUM(G65:G74)","v":722}]
["Contador Público (Plan 2012)",{"$f":"C65+D65","v":1944},822,1122,{"$f":"F65+G65","v":785},299,486]
["Licenciado en Economía (Plan 2012)",448,267,181,{"$f":"SUM(F66:G66)","v":108},52,56]
["Licenciado en Administración (Plan 2012)",479,207,272,{"$f":"SUM(F67:G67)","v":58},21,37]
["Técnico Universitario en Administración",1095,370,725,180,52,128]
["Contador Público (Plan 1980)",0,0,0,3,0,3]
["Contador Público (Plan 1990)",0,0,0,6,2,4]
["Licenciado en Economía (Plan 1990)",0,0,0,0,0,0]
["Licenciado en Administración - Contador (Plan 1990)",0,0,0,4,1,3]
["Técnico en Administración Pública",0,0,0,1,0,1]
["Licenciado en Estadística ",0,0,0,5,1,4]
["Maldonado"]
["Tecnólogo en Administración y Contabilidad (Plan 2012)",136,56,80,3,1,2]
["Rocha"]
["Tecnólogo en Administración y Contabilidad (Plan 2012) ",19,3,16,0,0,0]
["Tacuarembó"]
["Tecnólogo en Administración y Contabilidad (Plan 2012) ",108,31,77,4,0,4]
["Treinta y Tres"]
["Tecnólogo en Administración y Contabilidad (Plan 2012) ",65,24,41,0,0,0]
["Treinta y Tres-Tacuarembó"]
["Tecnólogo en Administración y Contabilidad (Plan 2012) ",1,0,1,0,0,0]
[]
["FACULTAD DE DERECHO",2895,{"$f":"+C87+C95+C100","v":916},{"$f":"+D87+D95+D100","v":1979},921,224,697]
["Montevideo",2754,{"$f":"SUM(C88:C94)","v":877},{"$f":"SUM(D88:D94)","v":1877},898,{"$f":"SUM(F88:F94)","v":217},{"$f":"SUM(G88:G94)","v":681}]
["Doctor en Derecho ",2,1,1,394,103,291]
["Escribano Público",1,0,1,288,56,232]
["Doctor en Derecho-Escribano Público (*)",1260,409,851,0,0,0]
["Licenciado en Relaciones Internacionales",685,260,425,126,39,87]
["Traductor Público",60,13,47,27,5,22]
["Licenciado en Relaciones Laborales",746,194,552,38,8,30]
["Técnico en Relaciones Laborales",0,0,0,25,6,19]
["Salto",140,{"$f":"SUM(C96:C98)","v":39},{"$f":"SUM(D96:D98)","v":101},23,{"$f":"SUM(F96:F98)","v":7},{"$f":"SUM(G96:G98)","v":16}]
["Escribano Público ",0,0,0,15,4,11]
["Doctor en Derecho  ",0,0,0,8,3,5]
["Doctor en Derecho-Escribano Público  (*)",140,39,101,0,0,0]
["Montevideo-Salto"]
["Doctor en Derecho-Escribano Público  (*)",1,0,1,0,0,0]
[]
["FACULTAD DE INGENIERÍA",{"$f":"+B103+B116+B117+B121+B122+B126+B127","v":1829},{"$f":"+C103+C116+C117+C121+C122+C126","v":1455},{"$f":"+D103+D116+D117+D121+D122+D126","v":374},{"$f":"+E103+E116+E117+E121+E122+E126+E127","v":325},{"$f":"+F103+F116+F117+F121+F122+F126","v":267},{"$f":"+G103+G116+G117+G121+G122+G126","v":58}]
["Montevideo",{"$f":"SUM(C103:D103)","v":1663},{"$f":"SUM(C104:C114)","v":1320},{"$f":"SUM(D104:D114)","v":343},{"$f":"SUM(F103:G103)","v":304},{"$f":"SUM(F104:F114)","v":250},{"$f":"SUM(G104:G114)","v":54}]
["Ingeniero Agrimensor",42,24,18,3,2,1]
["Ingeniero Civil",246,150,96,34,23,11]
["Ingeniero de Producción ",101,59,42,{"$f":"SUM(F106:G106)","v":0},0,0]
["Ingeniero Electricista",232,195,37,55,46,9]
["Ingeniero en Computación",621,524,97,109,91,18]
["Ingeniero Industrial Mecánico",197,165,32,63,57,6]
["Ingeniero Naval",29,23,6,0,0,0]
["Licenciado en Computación",8,7,1,0,0,0]
["Tecnólogo en Informática (1)",90,81,9,22,15,7]
["Tecnólogo Mecánico  (1)",97,92,5,17,15,2]
["Perito en Ingeniería Electrónica",0,0,0,1,1,0]
["Maldonado"]
["Tecnólogo en Informática (1) ",{"$f":"SUM(C116:D116)","v":36},28,8,{"$f":"SUM(F116:G116)","v":3},2,1]
["Paysandú",56,{"$f":"C118+C119","v":54},{"$f":"D118+D119","v":2},{"$f":"SUM(F117:G117)","v":16},{"$f":"F118+F119","v":13},{"$f":"G118+G119","v":3}]
["Tecnólogo en Informática   (1)",33,32,1,7,5,2]
["Tecnólogo Mecánico   (1)",23,22,1,9,8,1]
["Rocha"]
["Tecnólogo en Telecomunicaciones ",20,14,6,1,1,0]
["Salto",31,{"$f":"C123+C124","v":21},{"$f":"D123+D124","v":10},0,{"$f":"F123+F124","v":0},{"$f":"G123+G124","v":0}]
["Licenciado en Ciencias Hídricas Aplicadas ",24,17,7,0,0,0]
["Licenciado en  Ingeniería Biológica ",7,4,3,0,0,0]
["San José"]
["Tecnólogo en Informática (1) ",23,18,5,1,1,0]
[]
["FACULTAD DE MEDICINA",{"$f":"SUM(C128:D128)","v":1571},{"$f":"SUM(C130+C132+C134)","v":471},{"$f":"SUM(D130+D132+D134)","v":1100},{"$f":"SUM(F128:G128)","v":314},{"$f":"SUM(F130+F132+F134)","v":98},{"$f":"SUM(G130+G132+G134)","v":216}]
["Montevideo"]
["Doctor en Medicina",{"$f":"SUM(C130:D130)","v":1571},471,1100,{"$f":"SUM(F130:G130)","v":309},97,212]
["Paysandú"]
["Doctor en Medicina",{"$f":"SUM(C132:D132)","v":0},0,0,3,1,2]
["Salto"]
["Doctor en Medicina",{"$f":"SUM(C134:D134)","v":0},0,0,2,0,2]
[]
["FACULTAD DE ODONTOLOGÍA ",{"$f":"SUM(C136:D136)","v":562},{"$f":"C137+C143+C144","v":85},{"$f":"D137+D143+D144","v":477},{"$f":"SUM(F136:G136)","v":248},{"$f":"F137+F143+F144","v":35},{"$f":"G137+G143+G144","v":213}]
["Montevideo",538,{"$f":" SUM(C138:C141)","v":82},{"$f":" SUM(D138:D141)","v":456},{"$f":"SUM(F137:G137)","v":243},{"$f":" SUM(F138:F141)","v":35},{"$f":" SUM(G138:G141)","v":208}]
["Doctor en Odontología",266,45,221,122,25,97]
["Laboratorista en Odontología",104,25,79,44,8,36]
["Asistente en Odontología",93,5,88,45,0,45]
["Higienista en Odontología",75,7,68,32,2,30]
["Rivera"]
["Asistente en Odontología ",0,0,0,5,0,5]
["Salto",24,{"$f":"C145+C146","v":3},{"$f":"D145+D146","v":21},0,{"$f":"F145+F146","v":0},{"$f":"G145+G146","v":0}]
["Asistente en Odontología ",11,1,10,0,0,0]
["Higienista en Odontología ",13,2,11,0,0,0]
[]
["FACULTAD DE QUÍMICA",{"$f":"SUM(C148:D148)","v":413},{"$f":"+C149+C156+C157","v":117},{"$f":"+D149+D156+D157","v":296},{"$f":"SUM(F148:G148)","v":115},{"$f":"+F149+F156+F157","v":28},{"$f":"+G149+G156+G157","v":87}]
["Montevideo",{"$f":"SUM(C149:D149)","v":357},{"$f":"SUM(C150:C154)","v":105},{"$f":"SUM(D150:D154)","v":252},115,{"$f":"SUM(F150:F154)","v":28},{"$f":"SUM(G150:G154)","v":87}]
["Bioquímico Clínico",{"$f":"SUM(C150:D150)","v":85},23,62,14,2,12]
["Químico",50,19,31,7,0,7]
["Químico Farmacéutico ",149,43,106,55,11,44]
["Tecnólogo Químico   (1)",73,20,53,29,10,19]
["Licenciado en Química",0,0,0,10,5,5]
["Paysandú"]
["Tecnólogo Químico (1) ",40,11,29,0,0,0]
["Salto",16,{"$f":"C158+C159+C160","v":1},{"$f":"D158+D159+D160","v":15},0,{"$f":"F158+F159+F160","v":0},{"$f":"G158+G159+G160","v":0}]
["Bioquímico Clínico ",7,0,7,0,0,0]
["Químico ",5,0,5,0,0,0]
["Químico Farmacéutico ",3,1,3,0,0,0]
[]
["FACULTAD DE VETERINARIA ",{"$f":"SUM(C162:D162)","v":637},{"$f":"C164+C166+C168+C170","v":223},{"$f":"D164+D166+D168+D170","v":414},{"$f":"SUM(F162:G162)","v":134},{"$f":"F164+F166+F168+F170","v":65},{"$f":"G164+G166+G168+G170","v":69}]
["Montevideo"]
["Doctor en Ciencias Veterinarias",{"$f":"SUM(C164:D164)","v":536},174,362,{"$f":"SUM(F164:G164)","v":114},52,62]
["Paysandú"]
["Doctor en Ciencias Veterinarias ",{"$f":"SUM(C166:D166)","v":0},0,0,{"$f":"SUM(F166:G166)","v":13},9,4]
["Salto"]
["Doctor en Ciencias Veterinarias ",100,49,51,7,4,3]
["Montevideo-Salto"]
["Doctor en Ciencias Veterinarias ",{"$f":"SUM(C170:D170)","v":1},0,1,{"$f":"SUM(F170:G170)","v":0},0,0]
["FACULTAD DE INFORMACIÓN Y COMUNICACIÓN (F.I.C.) ",{"$f":"SUM(C171:D171)","v":832},{"$f":"SUM(C172:C175)","v":315},{"$f":"SUM(D172:D175)","v":517},{"$f":"SUM(F171:G171)","v":225},{"$f":"SUM(F172:F175)","v":64},{"$f":"SUM(G172:G175)","v":161}]
["Licenciado en Bibliotecología",78,19,59,30,4,26]
["Licenciado en Archivología ",47,9,38,0,0,0]
["Licenciado en Ciencias de la Comunicación",707,287,420,187,57,130]
["Archivólogo",0,0,0,8,3,5]
[]
["INSTITUTO ESCUELA NACIONAL DE BELLAS ARTES ",{"$f":"+C177+D177","v":752},{"$f":"C178+C188+C190+C192","v":233},{"$f":"D178+D188+D190+D192","v":519},{"$f":"+F177+G177","v":31},{"$f":"F178+F188+F190+F192","v":8},{"$f":"G178+G188+G190+G192","v":23}]
["Montevideo",{"$f":"+C178+D178","v":621},{"$f":"SUM(C179:C186)","v":188},{"$f":"SUM(D179:D186)","v":433},{"$f":"+F178+G178","v":27},{"$f":"SUM(F179:F186)","v":8},{"$f":"SUM(G179:G186)","v":19}]
["Licenciado en Artes ",583,170,413,0,0,0]
["Creador Plástico",0,0,0,16,5,11]
["Licenciado en Artes - Artes Plásticas y Visuales ",0,0,0,8,3,5]
["Licenciado en Artes - Dibujo y Pintura ",0,0,0,0,0,0]
["Licenciado en Artes - Cerámica",0,0,0,0,0,0]
["Licenciado en Artes - Diseño Gráfico ",0,0,0,3,0,3]
["Licenciado en Artes - Fotografía ",0,0,0,0,0,0]
["Licenciado en Arte Digital y Electrónico",38,18,20,0,0,0]
["Maldonado"]
["Licenciado en Lenguaje y Medios Audiovisuales ",79,31,48,0,0,0]
["Paysandú"]
["Técnico en Imagen Fotográfica ",26,4,22,4,0,4]
["Rocha"]
["Técnico en Artes Plásticas y Visuales ",26,10,16,0,0,0]
[]
["ESCUELA DE ENFERMERÍA ",{"$f":"SUM(C194:D194)","v":581},{"$f":"C196+C198+C200+C202+C204+C206","v":117},{"$f":"D196+D198+D200+D202+D204+D206","v":464},{"$f":"SUM(F194:G194)","v":255},{"$f":"F196+F198+F200+F202+F204+F206","v":42},{"$f":"G196+G198+G200+G202+G204+G206","v":213}]
["Montevideo"]
["Licenciado en Enfermería ",{"$f":"SUM(C196:D196)","v":446},95,351,193,29,164]
["Rivera"]
["Licenciado en Enfermería ",{"$f":"SUM(C198:D198)","v":2},0,2,{"$f":"SUM(F198:G198)","v":27},2,25]
["Rocha"]
["Licenciado en Enfermería ",47,8,39,{"$f":"SUM(F200:G200)","v":4},2,2]
["Salto"]
["Licenciado en Enfermería ",82,14,68,31,9,22]
["Montevideo-Rivera"]
["Licenciado en Enfermería ",{"$f":"SUM(C204:D204)","v":1},0,1,{"$f":"SUM(F204:G204)","v":0},0,0]
["Montevideo-Rocha"]
["Licenciado en Enfermería ",3,0,3,{"$f":"SUM(F206:G206)","v":0},0,0]
[]
["ESCUELA DE NUTRICIÓN ",445,{"$f":"+C210+C212","v":98},{"$f":"+D210+D212","v":347},{"$f":"+F208+G208","v":127},{"$f":"+F210+F212","v":8},{"$f":"+G210+G212","v":119}]
["Montevideo"]
["Licenciado en Nutrición ",423,95,328,{"$f":"+F210+G210","v":113},5,108]
["Tacuarembó"]
["Técnico Operador de Alimentos ",{"$f":"SUM(C212:D212)","v":22},3,19,{"$f":"SUM(F212:G212)","v":14},3,11]
[]
[]
["ESCUELA UNIVERSITARIA DE MÚSICA",{"$f":"SUM(C215:D215)","v":65},{"$f":"C216+C219","v":45},{"$f":"D216+D219","v":20},{"$f":"SUM(F215:G215)","v":13},{"$f":"F216+F219","v":9},{"$f":"G216+G219","v":4}]
["Montevideo",60,{"$f":"SUM(C217:C218)","v":43},{"$f":"SUM(D217:D218)","v":17},{"$f":"SUM(F216:G216)","v":8},{"$f":"SUM(F217:F218)","v":6},{"$f":"SUM(G217:G218)","v":2}]
["Licenciado en Música",30,21,9,2,1,1]
["Licenciado en Interpretación Musical",30,22,8,6,5,1]
["Salto",5,{"$f":"SUM(C220:C222)","v":2},{"$f":"SUM(D220:D222)","v":3},5,{"$f":"SUM(F220:F223)","v":3},{"$f":"SUM(G220:G223)","v":2}]
["Técnico en Interpretación opción Canto ",1,0,1,2,1,1]
["Técnico en Interpretación  opción Guitarra ",2,1,1,2,2,0]
["Técnico en Dirección de Coros ",2,1,1,1,0,1]
[]
["ESCUELA DE PARTERAS",{"$f":"SUM(C224:D224)","v":639},{"$f":"SUM(C226:C228)","v":60},{"$f":"SUM(D226:D228)","v":579},{"$f":"SUM(F224:G224)","v":50},{"$f":"SUM(F226:F228)","v":0},{"$f":"SUM(G226:G228)","v":50}]
["Montevideo"]
["Obstetra - Partera",{"$f":"SUM(C226:D226)","v":565},60,505,{"$f":"SUM(F226:G226)","v":33},0,33]
["Paysandú"]
["Obstetra - Partera (Paysandú - Entre Ríos)",{"$f":"SUM(C228:D228)","v":74},0,74,{"$f":"SUM(F228:G228)","v":17},0,17]
[]
["FACULTAD DE PSICOLOGÍA",{"$f":"SUM(C230:D230)","v":2047},{"$f":"C231+C236+C238+C240","v":514},{"$f":"D231+D236+D238+D240","v":1533},{"$f":"SUM(F230:G230)","v":578},{"$f":"F231+F236+F238+F240","v":105},{"$f":"G231+G236+G238+G240","v":473}]
["Montevideo",{"$f":"SUM(C231:D231)","v":1954},{"$f":"C232+C233+C234","v":498},{"$f":"D232+D233+D234","v":1456},{"$f":"SUM(F231:G231)","v":576},{"$f":"F232+F233+F234","v":104},{"$f":"G232+G233+G234","v":472}]
["Licenciado en Psicología",1954,498,1456,535,100,435]
["Licenciado en Psicología (Plan 1988)",0,0,0,40,4,36]
["Psicólogo (Plan 1977)",0,0,0,1,0,1]
["Paysandú",0,null,null,0]
["Licenciado en Psicología",23,4,19,1,0,1]
["Salto",0,null,null,0]
["Licenciado en Psicología",68,11,57,1,1,0]
["Montevideo-Salto",0,null,null,0]
["Licenciado en Psicología",2,1,1,0,0,0]
[]
["ESCUELA DE TECNOLOGÍA MEDICA",{"$f":"SUM(C242:D242)","v":1103},{"$f":"C243+C262","v":245},{"$f":"D243+D262","v":858},{"$f":"SUM(F242:G242)","v":279},{"$f":"F243+F262","v":46},{"$f":"G243+G262","v":233}]
["Montevideo",834,{"$f":"SUM(C244:C261)","v":184},{"$f":"SUM(D244:D261)","v":650},232,{"$f":"SUM(F244:F261)","v":38},{"$f":"SUM(G244:G261)","v":194}]
["Licenciado en Fisioterapia",99,48,51,23,6,17]
["Licenciado en Fonoaudiología",39,5,34,18,0,18]
["Licenciado en Imagenología",96,36,60,21,6,15]
["Licenciado en Instrumentación Quirúrgica",39,6,33,14,5,9]
["Licenciado en Neumocardiología",43,9,34,8,2,6]
["Licenciado en Neurofisiología Clínica",39,14,25,2,2,0]
["Licenciado en Oftalmología ",32,10,22,13,1,12]
["Licenciado en Psicomotricidad",52,1,51,19,0,19]
["Licenciado en Registros Médicos",67,10,57,4,1,3]
["Licenciado en Terapia Ocupacional",20,1,19,4,1,3]
["Licenciado en Laboratorio Clínico",94,13,81,56,3,53]
["Técnico en Anatomía Patológica",35,2,33,5,1,4]
["Técnico en Hemoterapia",40,7,33,27,8,19]
["Técnico en Podología",52,5,47,0,0,0]
["Técnico en Radioisótopos",27,8,19,2,0,2]
["Tecnólogo en Cosmetología Médica",35,2,33,9,0,9]
["Tecnólogo en Radioterapia",25,7,18,5,2,3]
["Técnico en Radiología",0,0,0,2,0,2]
["Paysandú",269,{"$f":"SUM(C263:C272)","v":61},{"$f":"SUM(D263:D272)","v":208},47,{"$f":"SUM(F263:F272)","v":8},{"$f":"SUM(G263:G272)","v":39}]
["Licenciado en Fisioterapia ",58,15,43,9,3,6]
["Licenciado en Imagenología ",45,18,27,11,2,9]
["Licenciado en Instrumentación Quirúrgica ",10,2,8,3,0,3]
["Licenciado en Psicomotricidad ",37,4,33,3,0,3]
["Licenciado en Laboratorio Clínico ",14,1,13,11,1,10]
["Tecnólogo en Salud Ocupacional ",32,10,22,1,1,0]
["Técnico en Anatomía Patológica ",10,0,10,2,1,1]
["Técnico en Hemoterapia ",20,3,17,5,0,5]
["Técnico en Podología  ",43,8,35,1,0,1]
["Tecnólogo en Radioterapia ",0,0,0,1,0,1]
[]
["FACULTAD DE CIENCIAS",{"$f":"SUM(C274:D274)","v":662},{"$f":"C275+C283+C284+C288","v":331},{"$f":"D275+D283+D284+D288","v":331},{"$f":"SUM(F274:G274)","v":122},{"$f":"F275+F283+F284+F288","v":45},{"$f":"G275+G283+G284+G288","v":77}]
["Montevideo",{"$f":"SUM(C275:D275)","v":518},{"$f":"SUM(C276:C281)","v":277},{"$f":"SUM(D276:D281)","v":241},119,{"$f":"SUM(F276:F281)","v":43},{"$f":"SUM(G276:G281)","v":76}]
["Licenciado en Bioquímica",{"$f":"SUM(C276:D276)","v":87},40,47,55,16,39]
["Licenciado en Ciencias Biológicas",208,92,116,49,15,34]
["Licenciado en Ciencias Física ",79,55,24,5,5,0]
["Licenciado en Geografía",21,14,7,1,1,0]
["Licenciado en Geología ",48,29,19,4,3,1]
["Licenciado en Matemática",75,47,28,5,3,2]
["Maldonado"]
["Licenciado en Gestión Ambiental  ",85,35,50,0,0,0]
["Rivera",35,{"$f":"C285+C286","v":13},{"$f":"D285+D286","v":22},3,{"$f":"F285+F286","v":2},{"$f":"G285+G286","v":1}]
["Licenciado en Gestión de Recursos Naturales ",35,13,22,1,1,0]
["Técnico en Gestión de Recursos Naturales ",0,0,0,2,1,1]
["Rocha"]
["Licenciado en Gestión Ambiental  ",24,6,18,0,0,0]
[]
["FACULTAD DE CIENCIAS SOCIALES",{"$f":"SUM(C290:D290)","v":1282},{"$f":"C291+C297+C302","v":327},{"$f":"D291+D297+D302","v":955},{"$f":"SUM(F290:G290)","v":220},{"$f":"F291+F297+F302","v":36},{"$f":"G291+G297+G302","v":184}]
["Montevideo",1130,{"$f":"SUM(C292:C296)","v":294},{"$f":"SUM(D292:D296)","v":836},192,{"$f":"SUM(F292:F296)","v":35},{"$f":"SUM(G292:G296)","v":157}]
["Estudios Iniciales en CCSS",1130,294,836,0,0,0]
["Licenciado en Ciencia Política",0,0,0,30,10,20]
["Licenciado en Sociología",0,0,0,40,9,31]
["Licenciado en Trabajo Social",0,0,0,115,12,103]
["Licenciado en Desarrollo",0,0,0,7,4,3]
["Salto",110,{"$f":"SUM(C298:C300)","v":21},{"$f":"SUM(D298:D300)","v":89},28,{"$f":"SUM(F298:F300)","v":1},{"$f":"SUM(G298:G300)","v":27}]
["Estudios Iniciales en CCSS ",110,21,89,0,0,0]
["Licenciado en Ciencias Sociales ",0,0,0,2,0,2]
["Licenciado en Trabajo Social  ",0,0,0,26,1,25]
["Tacuarembó"]
["Tec. Prom. en Desarrollo Regional ",42,12,30,0,0,0]
[]
["INSTITUTO SUPERIOR DE EDUCACIÓN FÍSICA",{"$f":"SUM(C304:D304)","v":777},{"$f":"C305+C308+C312+C315","v":434},{"$f":"D305+D308+D312+D315","v":343},{"$f":"SUM(F304:G304)","v":129},{"$f":"F305+F308+F312+F315","v":90},{"$f":"G305+G308+G312+G315","v":39}]
["Montevideo",{"$f":"SUM(C305:D305)","v":474},{"$f":"C306+C307","v":267},{"$f":"D306+D307","v":207},{"$f":"SUM(F305:G305)","v":50},{"$f":"F306+F307","v":31},{"$f":"G306+G307","v":19}]
["Licenciado en Educación Física",{"$f":"SUM(C306:D306)","v":408},206,202,37,18,19]
["Técnico Deportivo Sup. - Fútbol ",66,61,5,13,13,0]
["Maldonado",174,{"$f":"SUM(C309:C311)","v":98},{"$f":"SUM(D309:D311)","v":76},14,{"$f":"SUM(F309:F311)","v":10},{"$f":"SUM(G309:G311)","v":4}]
["Licenciado en Educación Física ",101,51,50,12,8,4]
["Técnico Deportivo Sup. -  Atletismo ",73,47,26,{"$f":"SUM(F310:G310)","v":1},1,0]
["Técnico Deportivo Sup. - Voleibol ",0,0,0,{"$f":"SUM(F311:G311)","v":1},1,0]
["Paysandú",128,{"$f":"C313+C314","v":68},{"$f":"D313+D314","v":60},63,{"$f":"F313+F314","v":47},{"$f":"G313+G314","v":16}]
["Licenciado en Educación Física ",100,49,51,60,45,15]
["Técnico Deportivo Sup. - Básquetbol ",28,19,9,3,2,1]
["Rivera",1,{"$f":"C316+C317","v":1},{"$f":"D316+D317","v":0},2,{"$f":"F316+F317","v":2},{"$f":"G316+G317","v":0}]
["Técnico Deportivo Sup. - Basquetbol  ",1,1,0,0,0,0]
["Técnico Deportivo Sup. - Fútbol ",0,0,0,2,2,0]
[]
["Escuela Universitaria Centro de Diseño",{"$f":"SUM(C319:D319)","v":254},{"$f":"SUM(C320:C321)","v":52},{"$f":"SUM(D320:D321)","v":202},{"$f":"SUM(F319:G319)","v":38},{"$f":"SUM(F320:F321)","v":11},{"$f":"SUM(G320:G321)","v":27}]
["Licenciado en Diseño Industrial Opción Producto",{"$f":"SUM(C320:D320)","v":131},45,86,{"$f":"SUM(F320:G320)","v":24},9,15]
["Licenciado en Diseño Industrial Opción Textil y Moda",{"$f":"SUM(C321:D321)","v":123},7,116,{"$f":"SUM(F321:G321)","v":14},2,12]
[]
["Área Salud",{"$f":"SUM(C323:D323)","v":153},{"$f":"SUM(C325:C325)","v":28},{"$f":"SUM(D325:D325)","v":125},{"$f":"SUM(F323:G323)","v":0},{"$f":"SUM(F325:F325)","v":0},{"$f":"SUM(G325:G325)","v":0}]
["Paysandú"]
["Ciclo Inicial Optativo - Área Salud ",{"$f":"SUM(C325:D325)","v":153},28,125,{"$f":"SUM(F325:G325)","v":0},0,0]
[]
["Área Ciencias y Tecnología",{"$f":"SUM(C327:D327)","v":137},{"$f":"SUM(C329:C333)","v":75},{"$f":"SUM(D329:D333)","v":62},{"$f":"SUM(F327:G327)","v":0},{"$f":"SUM(F329:F333)","v":0},{"$f":"SUM(G329:G333)","v":0}]
["Maldonado"]
["Ciclo Inicial Optativo - Área Ciencias y Tecnologías ",{"$f":"SUM(C329:D329)","v":34},22,12,{"$f":"SUM(F329:G329)","v":0},0,0]
["Rocha"]
["Ciclo Inicial Optativo - Área Ciencias y Tecnologías ",{"$f":"SUM(C331:D331)","v":16},8,8,{"$f":"SUM(F331:G331)","v":0},0,0]
["Salto"]
["Ciclo Inicial Optativo - Área Ciencias y Tecnologías ",{"$f":"SUM(C333:D333)","v":87},45,42,{"$f":"SUM(F333:G333)","v":0},0,0]
[]
["Área Social",{"$f":"SUM(C335:D335)","v":652},{"$f":"SUM(C337:C343)","v":186},{"$f":"SUM(D337:D343)","v":466},{"$f":"SUM(F335:G335)","v":0},{"$f":"SUM(F337:F343)","v":0},{"$f":"SUM(G337:G343)","v":0}]
["Maldonado"]
["Ciclo Inicial Optativo - Área Social ",{"$f":"SUM(C337:D337)","v":242},83,159,0,0,0]
["Rocha"]
["Ciclo Inicial Optativo - Área Social",{"$f":"SUM(C339:D339)","v":37},7,30,0,0,0]
["Salto"]
["Ciclo Inicial Optativo - Área Social",{"$f":"SUM(C341:D341)","v":285},73,212,{"$f":"SUM(F341:G341)","v":0},0,0]
["Treinta y Tres"]
["Ciclo Inicial Optativo - Área Social",{"$f":"SUM(C343:D343)","v":88},23,65,0,0,0]
[]
["Fac. Ingeniería y Fac. Ciencias",{"$f":"SUM(C345:D345)","v":67},{"$f":"C346+C347","v":37},{"$f":"D346+D347","v":30},{"$f":"SUM(F345:G345)","v":3},{"$f":"F346+F347","v":3},{"$f":"G346+G347","v":0}]
["Licenciado en Ciencias de la Atmósfera",{"$f":"SUM(C346:D346)","v":37},24,13,{"$f":"SUM(F346:G346)","v":0},0,0]
["Tecnólogo en Cartografía",{"$f":"SUM(C347:D347)","v":30},13,17,0,3,0]
[]
["Fac. Ingeniería y Fac. Química",{"$f":"SUM(C349:D349)","v":230},{"$f":"SUM(C350:C353)","v":104},{"$f":"SUM(D350:D353)","v":126},{"$f":"SUM(F349:G349)","v":69},{"$f":"SUM(F350:F353)","v":33},{"$f":"SUM(G350:G353)","v":36}]
["Montevideo"]
["Ingeniero Químico",{"$f":"SUM(C351:D351)","v":229},104,125,{"$f":"SUM(F351:G351)","v":69},33,36]
["Salto"]
["Ingeniero Químico ",{"$f":"SUM(C353:D353)","v":1},0,1,0,0,0]
[]
["Ciencias Económicas y Ciencias",{"$f":"SUM(C355:D355)","v":77},{"$f":"SUM(C356)","v":45},{"$f":"SUM(D356)","v":32},0,{"$f":"SUM(F356)","v":0},{"$f":"SUM(G356)","v":0}]
["Licenciado en Estadística ",{"$f":"SUM(C356:D356)","v":77},45,32,0,0,0]
[]
["Fac. Ingeniería, Fac. Química, Fac. Agronomía y Fac. Veterinaria",{"$f":"SUM(C358:D358)","v":96},{"$f":"C360+C362","v":14},{"$f":"D360+D362","v":82},{"$f":"SUM(F358:G358)","v":56},{"$f":"F360+F362","v":9},{"$f":"G360+G362","v":47}]
["Montevideo"]
["Ingeniero Alimentario",{"$f":"SUM(C360:D360)","v":95},14,81,{"$f":"SUM(F360:G360)","v":56},9,47]
["Salto"]
["Ingeniero Alimentario",0,0,1,0,0,0]
[]
["Fac. Ciencias, Fac. Humanidades, Fac. Medicina y Fac. Odontología",{"$f":"SUM(C364:D364)","v":92},{"$f":"SUM(C366:C374)","v":34},{"$f":"SUM(D366:D374)","v":58},{"$f":"SUM(F364:G364)","v":9},{"$f":"SUM(F366:F374)","v":2},{"$f":"SUM(G366:G374)","v":7}]
["Montevideo"]
["Licenciado en Biología Humana",{"$f":"SUM(C366:D366)","v":53},23,30,{"$f":"SUM(F366:G366)","v":7},2,5]
["Paysandú"]
["Licenciado en Biología Humana ",{"$f":"SUM(C368:D368)","v":7},3,4,{"$f":"SUM(F368:G368)","v":0},0,0]
["Rivera"]
["Licenciado en Biología Humana ",{"$f":"SUM(C370:D370)","v":12},3,9,{"$f":"SUM(F370:G370)","v":1},0,1]
["Salto"]
["Licenciado en Biología Humana ",{"$f":"SUM(C372:D372)","v":8},4,4,{"$f":"SUM(F372:G372)","v":1},0,1]
["Tacuarembó"]
["Licenciado en Biología Humana ",{"$f":"SUM(C374:D374)","v":12},1,11,{"$f":"SUM(F374:G374)","v":0},0,0]
[null,null,null,null,{"$f":"SUM(F375:G375)","v":0}]
["Fac. Cs. Econ. Y Adm., Fac. Derecho, Fac. Hum. y Cs. Educ., Fac. Cs. Soc. Y Fac. Psicología.",{"$f":"SUM(C376:D376)","v":19},{"$f":"C378+C380","v":7},{"$f":"D378+D380","v":12},1,{"$f":"F378+F380","v":0},{"$f":"G378+G380","v":1}]
["Montevideo"]
["Técnico en Gestión Universitaria",{"$f":"SUM(C378:D378)","v":16},5,11,1,0,1]
["Salto"]
["Técnico en Gestión Universitaria ",{"$f":"SUM(C380:D380)","v":3},2,1,0,0,0]
[]
["Fac. Agronomía, Fac. Ingeniería, C.E.T.P. - U.T.U.",{"$f":"SUM(C382:D382)","v":20},{"$f":"SUM(C384)","v":15},{"$f":"SUM(D384)","v":5},{"$f":"SUM(F382:G382)","v":2},{"$f":"SUM(F384)","v":1},{"$f":"SUM(G384)","v":1}]
["Rivera"]
["Tecnólogo en Madera ",{"$f":"SUM(C384:D384)","v":20},15,5,0,1,1]
[]
["Fac. Agronomía, Fac. Arquitectura",{"$f":"SUM(C386:D386)","v":71},{"$f":"C388","v":23},{"$f":"D388","v":48},{"$f":"SUM(F386:G386)","v":4},{"$f":"SUM(F388)","v":1},{"$f":"SUM(G388)","v":3}]
["Maldonado"]
["Licenciatura en Diseño de Paisaje ",{"$f":"SUM(C388:D388)","v":71},23,48,{"$f":"SUM(F388:G388)","v":4},1,3]
[]
["Fac. Agronomía, Fac. Ingeniería, Fac. Química, Fac. Veterinaria y C.E.T.P. - U.T.U.",{"$f":"SUM(C390:D390)","v":14},{"$f":"SUM(C392)","v":10},{"$f":"SUM(D392)","v":4},{"$f":"SUM(F390:G390)","v":2},{"$f":"SUM(F392)","v":2},{"$f":"SUM(G392)","v":0}]
["Tacuarembó"]
["Tecnólogo Cárnico ",{"$f":"SUM(C392:D392)","v":14},10,4,{"$f":"SUM(F392:G392)","v":2},2,0]
[]
["I.E.N.B.A. y Fac. Arquitectura",{"$f":"SUM(C394:D394)","v":225},{"$f":"SUM(C395)","v":86},{"$f":"SUM(D395)","v":139},{"$f":"SUM(F394:G394)","v":4},{"$f":"SUM(F395)","v":2},{"$f":"SUM(G395)","v":2}]
["Licenciado en Diseño y Comunicación Visual",{"$f":"SUM(C395:D395)","v":225},86,139,{"$f":"SUM(F395:G395)","v":4},2,2]
[]
["Fac. Ciencias y Fac. Medicina",{"$f":"SUM(C397:D397)","v":28},{"$f":"SUM(C398)","v":17},{"$f":"SUM(D398)","v":11},{"$f":"SUM(F397:G397)","v":2},{"$f":"SUM(F398)","v":1},{"$f":"SUM(G398)","v":1}]
["Licenciado en Física Médica",{"$f":"SUM(C398:D398)","v":28},17,11,{"$f":"SUM(F398:G398)","v":2},1,1]
[]
["Agronomía, Ciencias e Ingeniería",{"$f":"SUM(C400:D400)","v":13},{"$f":"C402","v":6},{"$f":"D402","v":7},{"$f":"SUM(F400:G400)","v":0},{"$f":"F402","v":0},{"$f":"G402","v":0}]
["Treinta y Tres"]
["Tecnólogo Minero ",{"$f":"SUM(C402:D402)","v":13},6,7,{"$f":"SUM(F402:G402)","v":0},0,0]
[]
["Agronomía, Ingeniería y Química",{"$f":"SUM(C404:D404)","v":44},{"$f":"C406","v":22},{"$f":"D406","v":22},{"$f":"SUM(F404:G404)","v":0},{"$f":"F406","v":0},{"$f":"G406","v":0}]
["Tacuarembó"]
["Ingeniero Forestal ",{"$f":"SUM(C406:D406)","v":44},22,22,{"$f":"SUM(F406:G406)","v":0},0,0]
[]
[]
[]
[]
["Bedelías de los Servicios Universitarios y Sistema de Gestión de Bedelías-SeCIU, UdelaR."]
["Notas: "]
["(*) Los estudiantes presentan inscripción simultánea a las dos carreras (Dr. en Derecho - Escribano Público)."]
["(1) Carrera compartida con CETP-UTU (Consejo de Educación Técnico Profesional – Universidad del Trabajo del Uruguay)."]
["(2) L.S.U.: Lenguaje de Señas Uruguayas."]
["(3) Según Res. N°15 del CDC de fecha 23/10/12, se entiende por Generación de Ingreso a Carrera  a todos los estudiantes que ingresan por primera vez a una carrera terciaria y/o de grado, en un año dado. No se consideran los estudiantes que ingresan a la carrera a través de un CIO o de un ciclo básico común en años anteriores. No se incluyen los estudiantes provisorios por previas, ni los de intercambio. Se incluyen los estudiantes de cortesía diplomática."]
["(4) El dato de egreso de UdelaR 2015 es PRELIMINAR"]
["* La UTEC comenzó a dictar los cursos en el año 2014, la matrícula es de 64 mujeres y 105 hombres, totalizando 169 estudiantes en los departamentos de Colonia, Río Negro y Durazno."]

{"sheet":"II-7.2.3 ","index":86,"n_rows":190,"n_cols":32,"rows_kept":190,"cut":false,"hidden":false,"merged":[[6,5,6,6],[6,8,6,9],[0,5,1,8],[4,0,4,9],[5,0,7,0],[5,1,7,1],[5,2,5,3],[5,4,7,4],[5,5,5,6],[5,7,7,7],[5,8,5,9],[6,2,6,3]]}
["UNIVERSIDADES PRIVADAS: OFERTA DE GRADO"]
[]
["Cuadro Nº II-7.2.3"]
[]
["ALUMNOS INGRESADOS, MATRICULADOS Y EGRESADOS EN PROGRAMAS DE GRADO EN UNIVERSIDADES PRIVADAS POR SEXO SEGÚN UNIVERSIDAD Y CARRERA. AÑO 2015."]
["UNIVERSIDAD / CARRERA","TOTAL","INGRESADOS",null,"TOTAL","MATRICULADOS",null,"TOTAL","EGRESADOS"]
[null,null,"SEXO",null,null,"SEXO",null,null,"SEXO"]
[null,null,"    M","   F",null,"M","F",null,"M","F"]
["TOTAL",{"$f":"SUM(C9:D9)","v":3317},{"$f":"C11+C90+C120+C150","v":1581},{"$f":"+D11+D90+D120+D150","v":1736},{"$f":"SUM(F9:G9)","v":19786},{"$f":"+F11+F90+F120+F150","v":10058},{"$f":"+G11+G90+G120+G150","v":9728},{"$f":"SUM(I9:J9)","v":1566},{"$f":"+I11+I90+I120+I150","v":676},{"$f":"+J11+J90+J120+J150","v":890},null,null,null,null,null,null,null,null,null,null,null,null,null,null,null,null,null,{"$f":"+AE9+AF9","v":3},null,null,1,2]
[null,null,null,null,null,null,null,null,null,null,null,null,null,null,null,null,null,null,null,null,null,null,null,null,null,null,null,{"$f":"+AE10+AF10","v":24},null,null,10,14]
["UCUDAL",{"$f":"SUM(C11:D11)","v":1300},{"$f":"+C13+C28+C51+C65+C72+C79+C86","v":555},{"$f":"D13+D28+D51+D65+D72+D79+D86","v":745},{"$f":"SUM(F11:G11)","v":7213},{"$f":"+F13+F28+F51+F65+F72+F79+F86","v":3046},{"$f":"+G13+G28+G51+G65+G72+G79+G86","v":4167},{"$f":"SUM(I11:J11)","v":604},{"$f":"+I13+I28+I51+I65+I72+I79+I86","v":209},{"$f":"+J13+J28+J51+J65+J72+J79+J86","v":395}]
[]
["FACULTAD DE CIENCIAS HUMANAS",{"$f":"SUM(C13:D13)","v":195},{"$f":"SUM(C14:C26)","v":74},{"$f":"SUM(D14:D26)","v":121},{"$f":"SUM(F13:G13)","v":1096},{"$f":"SUM(F14:F26)","v":357},{"$f":"SUM(G14:G26)","v":739},{"$f":"SUM(I13:J13)","v":127},{"$f":"SUM(I14:I26)","v":31},{"$f":"SUM(J14:J26)","v":96}]
["Técnico en Educación, Tiempo Libre y Recreación",0,0,0,12,8,4,2,1,1]
["Técnico en Recreación Educativa",0,0,0,17,11,6,1,0,1]
["Técnico en Educación Social",0,0,0,5,2,3,1,0,1]
["Licenciatura en Comunicación Social",105,46,59,694,251,443,98,29,69]
["Licenciatura en Ciencias Sociales",0,0,0,72,17,55,0,0,0]
["Licenciatura en Ciencia Política",3,1,2,6,3,3,2,0,2]
["Licenciatura en Trabajo Social",10,0,10,11,1,10,7,0,7]
["Licenciatura en Sociología",6,1,5,11,4,7,4,0,4]
["Licenciatura en Educación Inicial",22,0,22,149,2,147,11,0,11]
["Licenciatura en Educación énfasis en Tiempo Libre y Recreación",0,0,0,55,24,31,1,1,0]
["Licenciatura en Recreación Educativa",25,15,10,41,23,18,0,0,0]
["Licenciatura en Educación Social",0,0,0,2,0,2,0,0,0]
["Licenciatura en Artes Visuales",24,11,13,21,11,10,0,0,0]
[]
["FACULTAD DE CIENCIAS EMPRESARIALES",{"$f":"B29+B36+B43","v":487},{"$f":"+C29+C36+C43","v":266},{"$f":"+D29+D36+D43","v":221},{"$f":"E29+E36+E43","v":2937},{"$f":"+F29+F36+F43","v":1454},{"$f":"+G29+G36+G43","v":1483},{"$f":"H29+H36+H43","v":246},{"$f":"+I29+I36+I43","v":101},{"$f":"+J29+J36+J43","v":145}]
["Montevideo",{"$f":"SUM(B30:B35)","v":344},{"$f":"SUM(C30:C35)","v":195},{"$f":"SUM(D30:D35)","v":149},2150,1086,1064,186,76,110]
["Licenciatura en Dirección de Empresas",{"$f":"SUM(C30:D30)","v":61},42,19,{"$f":"SUM(F30:G30)","v":438},261,177,{"$f":"SUM(I30:J30)","v":40},18,22]
["Licenciatura en Dirección de Empresas Turísticas",11,3,8,133,48,85,16,3,13]
["Licenciatura en Negocios Internacionales",79,48,31,490,276,214,48,22,26]
["Contador Público",132,74,58,790,371,419,56,25,31]
["Licenciatura en Economía",31,14,17,140,86,54,9,6,3]
["Licenciatura en Gestión Humana",30,14,16,159,44,115,17,2,15]
["Maldonado",{"$f":"SUM(B37:B42)","v":53},33,20,276,139,137,25,13,12]
["Licenciatura en Dirección de Empresas",13,10,3,90,46,44,11,4,7]
["Contador Público",29,16,13,167,81,86,14,9,5]
["Licenciatura en Negocios Internacionales",8,4,4,14,8,6,0,0,0]
["Licenciatura en Dirección de Empresas Turísticas",0,0,0,0,0,0,0,0,0]
["Licenciatura en Economía",3,3,0,4,4,0,0,0,0]
["Licenciatura en Gestión Humana",0,0,0,1,0,1,0,0,0]
["Salto",{"$f":"SUM(B44:B49)","v":90},38,52,511,229,282,35,12,23]
["Licenciatura en Dirección de Empresas",11,5,6,89,39,50,6,2,4]
["Contador Público",72,31,41,399,179,220,27,8,19]
["Licenciatura en Negocios Internacionales",3,0,3,5,0,5,0,0,0]
["Licenciatura en Gestión Humana",0,0,0,0,0,0,0,0,0]
["Licenciatura en Economía",0,0,0,0,0,0,0,0,0]
["Licenciatura en Producción y Gestión Agrícola",4,2,2,18,11,7,2,2,0]
[]
["FACULTAD DE INGENIERÍA Y TECNOLOGÍAS",{"$f":"B52+B61","v":167},{"$f":"C52+C61","v":122},{"$f":"D52+D61","v":45},991,770,221,71,52,19]
["Montevideo",{"$f":"SUM(B53:B60)","v":161},{"$f":"SUM(C53:C60)","v":118},{"$f":"SUM(D53:D60)","v":43},965,747,218,71,52,19]
["Ingeniería en Informática",{"$f":"SUM(C53:D53)","v":37},32,5,{"$f":"SUM(F53:G53)","v":341},292,49,{"$f":"SUM(I53:J53)","v":39},27,12]
["Ingeniería en Electrónica",11,11,0,69,55,14,3,2,1]
["Ingeniería en Telecomunicación",10,8,2,58,40,18,5,3,2]
["Ingeniería Industrial",32,28,4,182,157,25,4,4,0]
["Ingeniería en Sistémas Eléctricos de Potencia",12,8,4,33,28,5,1,1,0]
["Licenciatura en Informática",23,17,6,82,71,11,13,11,2]
["Licenciatura en Ingeniería Audiovisual",13,7,6,124,87,37,6,4,2]
["Ingeniería en Alimentos",23,7,16,76,17,59,0,0,0]
["Salto",{"$f":"SUM(B62:B63)","v":6},{"$f":"SUM(C62:C63)","v":4},2,26,23,3,0,0,0]
["Ingeniería en Informática",1,0,1,9,8,1,0,0,0]
["Licenciatura en Informática",5,4,1,17,15,2,0,0,0]
[]
["FACULTAD DE DERECHO",{"$f":"SUM(C65:D65)","v":60},{"$f":"C66+C69","v":17},{"$f":"D66+D69","v":43},{"$f":"SUM(F65:G65)","v":352},{"$f":"F66+F69","v":148},{"$f":"G66+G69","v":204},{"$f":"SUM(I65:J65)","v":30},{"$f":"I66+I69","v":8},{"$f":"J66+J69","v":22}]
["Montevideo",{"$f":"B67+B68","v":60},{"$f":"C67+C68","v":17},43,352,148,204,30,8,22]
["Dr. en Derecho",{"$f":"SUM(C67:D67)","v":38},11,27,{"$f":"SUM(F67:G67)","v":273},126,147,{"$f":"SUM(I67:J67)","v":24},7,17]
["Notariado",{"$f":"SUM(C68:D68)","v":22},6,16,{"$f":"SUM(F68:G68)","v":79},22,57,{"$f":"SUM(I68:J68)","v":6},1,5]
["Maldonado",{"$f":"B70","v":0},{"$f":"C70","v":0},0,0,0,0,0,0,0]
["Derecho",{"$f":"C70+D70","v":0},0,0,{"$f":"F70+G70","v":0},0,0,{"$f":"I70+J70","v":0},0,0]
[]
["FACULTAD DE PSICOLOGÍA",{"$f":"SUM(C72:D72)","v":226},{"$f":"SUM(C73:C77)","v":48},{"$f":"SUM(D73:D77)","v":178},{"$f":"SUM(F72:G72)","v":1037},{"$f":"SUM(F73:F77)","v":195},{"$f":"SUM(G73:G77)","v":842},{"$f":"SUM(I72:J72)","v":75},{"$f":"SUM(I73:I77)","v":10},{"$f":"SUM(J73:J77)","v":65}]
["Técnico en Acompañamiento Terapéutico",13,1,12,48,7,41,14,2,12]
["Licenciatura en Psicología",125,23,102,735,158,577,57,7,50]
["Licenciatura en Psicopedagogía",41,2,39,180,7,173,4,1,3]
["Licenciatura en Fonoaudiología",7,1,6,34,2,32,0,0,0]
["Licenciatura en Seguridad y Salud Ocupacional",40,21,19,40,21,19,0,0,0]
[]
["FACULTAD DE ENFERMERÍA Y TECNOLOGÍAS DE LA SALUD",{"$f":"SUM(C79:D79)","v":135},{"$f":"SUM(C80:C84)","v":23},{"$f":"SUM(D80:D84)","v":112},{"$f":"SUM(F79:G79)","v":702},{"$f":"SUM(F80:F84)","v":105},{"$f":"SUM(G80:G84)","v":597},{"$f":"SUM(I79:J79)","v":41},{"$f":"SUM(I80:I84)","v":3},{"$f":"SUM(J80:J84)","v":38}]
["Licenciatura en Enfermería",11,0,11,80,7,73,10,0,10]
["Licenciatura en Enfermería - Profesionalización",18,3,15,74,10,64,5,1,4]
["Licenciatura en Nutrición",38,8,30,215,27,188,8,1,7]
["Licenciatura en Psicomotricidad",30,1,29,198,11,187,18,1,17]
["Licenciatura en Fisioterapia",38,11,27,135,50,85,0,0,0]
[]
["FACULTAD DE ODONTOLOGÍA ",{"$f":"SUM(C86:D86)","v":30},{"$f":"C87+C88","v":5},{"$f":"D87+D88","v":25},{"$f":"SUM(F86:G86)","v":98},{"$f":"F87+F88","v":17},{"$f":"G87+G88","v":81},{"$f":"SUM(I86:J86)","v":14},{"$f":"I87+I88","v":4},{"$f":"J87+J88","v":10}]
["Asistente Dental",{"$f":"SUM(C87:D87)","v":4},0,4,{"$f":"SUM(F87:G87)","v":4},0,4,{"$f":"SUM(I87:J87)","v":1},1,0]
["Dr. En Odontología",{"$f":"SUM(C88:D88)","v":26},5,21,{"$f":"SUM(F88:G88)","v":94},17,77,{"$f":"SUM(I88:J88)","v":13},3,10]
[]
["UNIVERSIDAD ORT URUGUAY",{"$f":"SUM(C90:D90)","v":1041},{"$f":"+C92+C98+C102+C110","v":534},{"$f":"+D92+D98+D102+D110","v":507},{"$f":"SUM(F90:G90)","v":7485},{"$f":"+F92+F98+F102+F110","v":4369},{"$f":"+G92+G98+G102+G110","v":3116},{"$f":"SUM(I90:J90)","v":545},{"$f":"+I92+I98+I102+I110","v":262},{"$f":"+J92+J98+J102+J110","v":283}]
[null,null,null,null,null,null,null,null,null,null,null,null,null,null,null,null,null,null,null,null,null,null,null,null,null,null,null,null,null,null,17,15]
["FACULTAD DE ADMINISTRACIÓN Y CIENCIAS SOCIALES",{"$f":"SUM(C92:D92)","v":330},{"$f":"SUM(C93:C96)","v":164},{"$f":"SUM(D93:D96)","v":166},{"$f":"SUM(F92:G92)","v":2464},{"$f":"SUM(F93:F96)","v":1402},{"$f":"SUM(G93:G96)","v":1062},{"$f":"SUM(I92:J92)","v":220},{"$f":"SUM(I93:I96)","v":105},{"$f":"SUM(J93:J96)","v":115},null,null,null,null,null,null,null,null,null,null,null,null,null,null,null,null,null,null,null,null,22,33]
["Licenciatura en Gerencia y Administración",{"$f":"SUM(C93:D93)","v":168},97,71,{"$f":"SUM(F93:G93)","v":1137},698,439,{"$f":"SUM(I93:J93)","v":87},42,45]
["Licenciatura en Estudios Internacionales",{"$f":"SUM(C94:D94)","v":55},17,38,{"$f":"SUM(F94:G94)","v":359},162,197,{"$f":"SUM(I94:J94)","v":33},10,23]
["Licenciatura en Economía",{"$f":"SUM(C95:D95)","v":22},15,7,{"$f":"SUM(F95:G95)","v":177},112,65,{"$f":"SUM(I95:J95)","v":20},11,9]
["Contador Público",{"$f":"SUM(C96:D96)","v":85},35,50,{"$f":"SUM(F96:G96)","v":791},430,361,{"$f":"SUM(I96:J96)","v":80},42,38]
[]
["FACULTAD DE ARQUITECTURA",{"$f":"SUM(C98:D98)","v":105},{"$f":"SUM(C99:C100)","v":28},{"$f":"SUM(D99:D100)","v":77},{"$f":"SUM(F98:G98)","v":760},{"$f":"SUM(F99:F100)","v":258},{"$f":"SUM(G99:G100)","v":502},{"$f":"SUM(I98:J98)","v":82},{"$f":"SUM(I99:I100)","v":25},{"$f":"SUM(J99:J100)","v":57}]
["Arquitectura",{"$f":"SUM(C99:D99)","v":70},23,47,{"$f":"SUM(F99:G99)","v":541},232,309,{"$f":"SUM(I99:J99)","v":70},23,47]
["Licenciatura en Diseño de Interiores",{"$f":"SUM(C100:D100)","v":35},5,30,{"$f":"SUM(F100:G100)","v":219},26,193,{"$f":"SUM(I100:J100)","v":12},2,10]
[]
["FACULTAD DE COMUNICACIÓN Y DISEÑO",{"$f":"SUM(C102:D102)","v":276},{"$f":"SUM(C103:C108)","v":110},{"$f":"SUM(D103:D108)","v":166},{"$f":"SUM(F102:G102)","v":1713},{"$f":"SUM(F103:F108)","v":693},{"$f":"SUM(G103:G108)","v":1020},{"$f":"SUM(I102:J102)","v":91},{"$f":"SUM(I103:I108)","v":30},{"$f":"SUM(J103:J108)","v":61}]
["Licenciatura en Comunicación",71,28,43,596,238,358,27,12,15]
["Licenciatura en Diseño Gráfico",61,19,42,456,174,282,34,11,23]
["Licenciatura en Diseño de Modas",35,0,35,198,5,193,14,0,14]
["Licenciatura en Diseño Industrial",25,10,15,147,68,79,9,4,5]
["Licenciatura en Diseño Multimedia",33,15,18,130,79,51,3,1,2]
["Licenciatura en Animación y Videojuegos",51,38,13,186,129,57,4,2,2]
[]
["FACULTAD DE INGENIERÍA",{"$f":"SUM(C110:D110)","v":330},{"$f":"SUM(C111:C118)","v":232},{"$f":"SUM(D111:D118)","v":98},{"$f":"SUM(F110:G110)","v":2548},{"$f":"SUM(F111:F118)","v":2016},{"$f":"SUM(G111:G118)","v":532},{"$f":"SUM(I110:J110)","v":152},{"$f":"SUM(I111:I118)","v":102},{"$f":"SUM(J111:J118)","v":50}]
["Licenciatura en Sistemas",98,85,13,867,737,130,17,12,5]
["Ingeniería en Telecomunicaciones",14,11,3,133,116,17,6,5,1]
["Ingeniería en Sistemas",121,98,23,1116,947,169,76,64,12]
["Ingeniería en Electrónica",14,13,1,130,114,16,10,8,2]
["Licenciatura en Biotecnología",17,5,12,154,44,110,24,4,20]
["Ingeniería en Biotecnología",63,17,46,133,44,89,7,3,4]
["Técnico Biotecnólogo (terciaria)",0,0,0,8,7,1,9,3,6]
["Licenciatura en Ingeniería de Software",3,3,0,7,7,0,3,3,0]
[]
["UNIVERSIDAD DE MONTEVIDEO",{"$f":"SUM(C120:D120)","v":452},{"$f":"+C122+C128+C134+C143+C147","v":197},{"$f":"+D122+D128+D134+D143+D147","v":255},{"$f":"SUM(F120:G120)","v":1922},{"$f":"+F122+F128+F134+F143+F147","v":913},{"$f":"+G122+G128+G134+G143+G147","v":1009},{"$f":"SUM(I120:J120)","v":265},{"$f":"+I122+I128+I134+I143+I147","v":115},{"$f":"+J122+J128+J134+J143+J147","v":150}]
[]
["FACULTAD DE CIENCIAS EMPRESARIALES Y ECONOMÍA",{"$f":"SUM(C122:D122)","v":182},{"$f":"SUM(C123:C126)","v":83},{"$f":"SUM(D123:D126)","v":99},{"$f":"SUM(F122:G122)","v":857},{"$f":"SUM(F123:F126)","v":438},{"$f":"SUM(G123:G126)","v":419},{"$f":"SUM(I122:J122)","v":135},{"$f":"SUM(I123:I126)","v":61},{"$f":"SUM(J123:J126)","v":74}]
["Licenciatura en Dirección y Administración de Empresas",{"$f":"SUM(C123:D123)","v":37},15,22,{"$f":"SUM(F123:G123)","v":189},110,79,{"$f":"SUM(I123:J123)","v":24},11,13]
["Licenciatura en Economía",{"$f":"SUM(C124:D124)","v":36},17,19,{"$f":"SUM(F124:G124)","v":135},76,59,{"$f":"SUM(I124:J124)","v":18},12,6]
["Contador Público",69,33,36,{"$f":"SUM(F125:G125)","v":398},197,201,83,37,46]
["Licenciatura en Negocios Internacionales",40,18,22,{"$f":"SUM(F126:G126)","v":135},55,80,10,1,9]
[]
["FACULTAD DE INGENIERÍA",{"$f":"SUM(C128:D128)","v":89},{"$f":"SUM(C129:C132)","v":56},{"$f":"SUM(D129:D132)","v":33},{"$f":"SUM(F128:G128)","v":356},{"$f":"SUM(F129:F132)","v":258},{"$f":"SUM(G129:G132)","v":98},{"$f":"SUM(I128:J128)","v":29},{"$f":"SUM(I129:I132)","v":22},{"$f":"SUM(J129:J132)","v":7}]
["Ingeniería Civil",{"$f":"SUM(C129:D129)","v":38},21,17,{"$f":"SUM(F129:G129)","v":150},96,54,{"$f":"SUM(I129:J129)","v":6},4,2]
["Ingeniería Industrial",{"$f":"SUM(C130:D130)","v":30},20,10,{"$f":"SUM(F130:G130)","v":142},115,27,{"$f":"SUM(I130:J130)","v":15},12,3]
["Ingeniería Telemática",12,8,4,40,29,11,7,6,1]
["Ingeniería en Informática",9,7,2,24,18,6,1,0,1]
[]
["FACULTAD DE HUMANIDADES Y EDUCACIÓN",{"$f":"SUM(C134:D134)","v":74},{"$f":"SUM(C135:C141)","v":19},{"$f":"SUM(D135:D141)","v":55},{"$f":"SUM(F134:G134)","v":287},{"$f":"SUM(F135:F141)","v":65},{"$f":"SUM(G135:G141)","v":222},{"$f":"SUM(I134:J134)","v":30},{"$f":"SUM(I135:I141)","v":6},{"$f":"SUM(J135:J141)","v":24}]
["Licenciatura en Humanidades",{"$f":"SUM(C135:D135)","v":8},4,4,{"$f":"SUM(F135:G135)","v":49},20,29,{"$f":"SUM(I135:J135)","v":5},1,4]
["Licenciatura en Traducción Inglés - Español",{"$f":"SUM(C136:D136)","v":16},1,15,{"$f":"SUM(F136:G136)","v":94},14,80,{"$f":"SUM(I136:J136)","v":9},1,8]
["Magisterio",16,0,16,61,3,58,7,0,7]
["Profesorado de Filosofía",7,4,3,11,4,7,1,0,1]
["Profesorado de Historia",5,2,3,16,10,6,2,2,0]
["Profesorado de Inglés",5,0,5,18,0,18,1,0,1]
["Profesorado de Matemática",17,8,9,38,14,24,5,2,3]
[]
["FACULTAD DE DERECHO",{"$f":"SUM(C143:D143)","v":62},{"$f":"SUM(C144:C145)","v":26},{"$f":"SUM(D144:D145)","v":36},{"$f":"SUM(F143:G143)","v":234},{"$f":"SUM(F144:F145)","v":91},{"$f":"SUM(G144:G145)","v":143},{"$f":"SUM(I143:J143)","v":39},{"$f":"SUM(I144:I145)","v":16},{"$f":"SUM(J144:J145)","v":23}]
["Abogacía",{"$f":"SUM(C144:D144)","v":49},20,29,{"$f":"SUM(F144:G144)","v":174},70,104,{"$f":"SUM(I144:J144)","v":26},12,14]
["Notariado",{"$f":"SUM(C145:D145)","v":13},6,7,{"$f":"SUM(F145:G145)","v":60},21,39,{"$f":"SUM(I145:J145)","v":13},4,9]
[]
["FACULTAD DE COMUNICACIÓN",{"$f":"SUM(C147:D147)","v":45},{"$f":"SUM(C148:C148)","v":13},{"$f":"SUM(D148:D148)","v":32},{"$f":"SUM(F147:G147)","v":188},{"$f":"SUM(F148:F148)","v":61},{"$f":"SUM(G148:G148)","v":127},{"$f":"SUM(I147:J147)","v":32},{"$f":"SUM(I148:I148)","v":10},{"$f":"SUM(J148:J148)","v":22}]
["Licenciatura en Comunicación",{"$f":"SUM(C148:D148)","v":45},13,32,{"$f":"SUM(F148:G148)","v":188},61,127,{"$f":"SUM(I148:J148)","v":32},10,22]
[]
["UNIVERSIDAD DE LA EMPRESA",{"$f":"SUM(C150:D150)","v":524},{"$f":"C152+C156+C162+C175+C179+C183+C186","v":295},{"$f":"D152+D156+D162+D175+D179+D183+D186","v":229},{"$f":"SUM(F150:G150)","v":3166},{"$f":"F152+F156+F162+F175+F179+F183+F186","v":1730},{"$f":"G152+G156+G162+G175+G179+G183+G186","v":1436},{"$f":"SUM(I150:J150)","v":152},{"$f":"I152+I156+I162+I175+I179+I183+I186","v":90},{"$f":"J152+J156+J162+J175+J179+J183+J186","v":62}]
[]
["FACULTAD DE CIENCIAS JURÍDICAS",{"$f":"SUM(C152:D152)","v":17},{"$f":"SUM(C153:C154)","v":7},{"$f":"SUM(D153:D154)","v":10},{"$f":"SUM(F152:G152)","v":233},{"$f":"SUM(F153:F154)","v":92},{"$f":"SUM(G153:G154)","v":141},{"$f":"SUM(I152:J152)","v":16},{"$f":"SUM(I153:I154)","v":5},{"$f":"SUM(J153:J154)","v":11}]
["Doctor en Derecho",{"$f":"SUM(C153:D153)","v":9},5,4,{"$f":"SUM(F153:G153)","v":116},63,53,{"$f":"SUM(I153:J153)","v":7},3,4]
["Escribano Público",{"$f":"SUM(C154:D154)","v":8},2,6,{"$f":"SUM(F154:G154)","v":117},29,88,{"$f":"SUM(I154:J154)","v":9},2,7]
[]
["FACULTAD DE DISEÑO Y COMUNICACIÓN",{"$f":"SUM(C156:D156)","v":35},{"$f":"SUM(C157:C160)","v":7},{"$f":"SUM(D157:D160)","v":28},{"$f":"SUM(F156:G156)","v":135},{"$f":"SUM(F157:F160)","v":35},{"$f":"SUM(G157:G160)","v":100},{"$f":"SUM(I156:J156)","v":3},{"$f":"SUM(I157:I160)","v":0},{"$f":"SUM(J157:J160)","v":3}]
["Licenciatura en Diseño de Indumentaria",{"$f":"SUM(C157:D157)","v":13},0,13,{"$f":"SUM(F157:G157)","v":58},4,54,{"$f":"SUM(I157:J157)","v":2},0,2]
["Licenciatura en Diseño Aplicado",{"$f":"SUM(C158:D158)","v":0},0,0,{"$f":"SUM(F158:G158)","v":23},9,14,{"$f":"SUM(I158:J158)","v":1},0,1]
["Licenciatura en Diseño Industrial",{"$f":"SUM(C159:D159)","v":5},0,5,{"$f":"SUM(F159:G159)","v":10},1,9,{"$f":"SUM(I159:J159)","v":0},0,0]
["Licenciatura en Diseño Gráfico",{"$f":"SUM(C160:D160)","v":17},7,10,{"$f":"SUM(F160:G160)","v":44},21,23,{"$f":"SUM(I160:J160)","v":0},0,0]
[]
["FACULTAD DE CIENCIAS EMPRESARIALES",{"$f":"SUM(C162:D162)","v":239},{"$f":"C163+C168","v":109},{"$f":"D163+D168","v":130},{"$f":"SUM(F162:G162)","v":1804},{"$f":"F163+F168","v":868},{"$f":"G163+G168","v":936},{"$f":"SUM(I162:J162)","v":55},{"$f":"I163+I168","v":21},{"$f":"J163+J168","v":34}]
["Colonia",71,{"$f":"SUM(C164:C167)","v":16},{"$f":"SUM(D164:D167)","v":55},162,{"$f":"SUM(F164:F167)","v":38},{"$f":"SUM(G164:G167)","v":124},0,{"$f":"SUM(I164:I167)","v":0},{"$f":"SUM(J164:J167)","v":0}]
["Contador Público",36,9,27,85,17,68,0,0,0]
["Licenciatura en Administración de Empresas",15,5,10,34,14,20,0,0,0]
["Licenciatura en Recursos Humanos",8,0,8,19,3,16,0,0,0]
["Doctor en Derecho",12,2,10,24,4,20,0,0,0]
["Montevideo",168,{"$f":"SUM(C169:C173)","v":93},{"$f":"SUM(D169:D173)","v":75},1642,{"$f":"SUM(F169:F173)","v":830},{"$f":"SUM(G169:G173)","v":812},55,{"$f":"SUM(I169:I173)","v":21},{"$f":"SUM(J169:J173)","v":34}]
["Contador Público",54,23,31,607,254,353,30,10,20]
["Licenciatura en Administración de Empresas",40,26,14,426,243,183,4,1,3]
["Licenciatura en Marketing",40,26,14,405,240,165,16,7,9]
["Licenciatura en Comercio Exterior",22,13,9,112,68,44,5,3,2]
["Licenciatura en Recursos Humanos",12,5,7,92,25,67,0,0,0]
[]
["FACULTAD DE CIENCIAS DE LA SALUD",{"$f":"SUM(C175:D175)","v":39},{"$f":"SUM(C176:C177)","v":19},{"$f":"SUM(D176:D177)","v":20},{"$f":"SUM(F175:G175)","v":185},{"$f":"SUM(F176:F177)","v":90},{"$f":"SUM(G176:G177)","v":95},{"$f":"SUM(I175:J175)","v":0},{"$f":"SUM(I176:I177)","v":0},{"$f":"SUM(J176:J177)","v":0}]
["Licenciatura en Fisioterapia",{"$f":"SUM(C176:D176)","v":16},8,8,{"$f":"SUM(F176:G176)","v":63},38,25,{"$f":"SUM(I176:J176)","v":0},0,0]
["Licenciatura en Imagenología",{"$f":"SUM(C177:D177)","v":23},11,12,{"$f":"SUM(F177:G177)","v":122},52,70,{"$f":"SUM(I177:J177)","v":0},0,0]
[]
["FACULTAD DE INGENIERIA",{"$f":"SUM(C179:D179)","v":53},{"$f":"SUM(C180:C182)","v":48},{"$f":"SUM(D180:D182)","v":5},{"$f":"SUM(F179:G179)","v":394},{"$f":"SUM(F180:F182)","v":337},{"$f":"SUM(G180:G182)","v":57},{"$f":"SUM(I179:J179)","v":40},{"$f":"SUM(I180:I182)","v":30},{"$f":"SUM(J180:J182)","v":10}]
["Ingeniería en Informática",9,9,0,85,69,16,10,7,3]
["Licenciatura en Informática",39,35,4,276,239,37,28,22,6]
["Técnico en Informática",5,4,1,33,29,4,2,1,1]
["FACULTAD DE EDUCACIÓN",27,{"$f":"C184","v":24},{"$f":"D184","v":3},27,{"$f":"F184","v":24},{"$f":"G184","v":3},0,{"$f":"I184","v":0},{"$f":"J184","v":0}]
["Licenciatura en Educación Física",27,24,3,27,24,3,0,0,0]
[]
["FACULTAD DE CIENCIAS AGRARIAS",{"$f":"SUM(C186:D186)","v":114},{"$f":"SUM(C187:C188)","v":81},{"$f":"SUM(D187:D188)","v":33},{"$f":"SUM(F186:G186)","v":388},{"$f":"SUM(F187:F188)","v":284},{"$f":"SUM(G187:G188)","v":104},{"$f":"SUM(I186:J186)","v":38},{"$f":"SUM(I187:I188)","v":34},{"$f":"SUM(J187:J188)","v":4}]
["Ingeniero Agrónomo",{"$f":"SUM(C187:D187)","v":68},51,17,{"$f":"SUM(F187:G187)","v":210},156,54,{"$f":"SUM(I187:J187)","v":13},11,2]
["Licenciado en Gestión Agropecuaria",{"$f":"SUM(C188:D188)","v":46},30,16,{"$f":"SUM(F188:G188)","v":178},128,50,{"$f":"SUM(I188:J188)","v":25},23,2]
[]
["Fuente: Oficinas Productoras de cada una de las Instituciones. "]

{"sheet":"II-7.2.4","index":87,"n_rows":49,"n_cols":10,"rows_kept":49,"cut":false,"hidden":false,"merged":[[6,5,6,6],[6,8,6,9],[50,0,50,3],[0,5,1,8],[4,0,4,9],[5,0,7,0],[5,1,7,1],[5,2,5,3],[5,4,7,4],[5,5,5,6],[5,7,7,7],[5,8,5,9],[6,2,6,3],[12,0,13,0]]}
["INSTITUTOS UNIVERSITARIOS: OFERTA DE GRADO",null,null,null,null,"ALUMNOS MATRICULADOS"]
[]
["Cuadro Nº II-7.2.4"]
[]
["ALUMNOS INGRESADOS, MATRICULADOS Y EGRESADOS EN PROGRAMAS DE GRADO DE INSTITUTOS UNIVERSITARIOS Y OFERTAS UNIVERSITAREAS DEL ÁREA SEGURIDAD Y DEFENSA POR SEXO SEGÚN INSTITUCIÓN Y CARRERA. AÑO 2015."]
["INSTITUTO UNIVERSITARIO / CARRERA","TOTAL","INGRESADOS",null,"TOTAL","MATRICULADOS",null,"TOTAL","EGRESADOS"]
[null,null,"SEXO",null,null,"SEXO",null,null,"SEXO"]
[null,null,"M","F",null,"M","F",null,"M","F"]
["TOTAL",{"$f":"SUM(C9:D9)","v":390},{"$f":"C11+C15+C23+C26+C29+C36+C41+C45","v":179},{"$f":"+D11+D15+D23+D26+D29+D36+D41+D45","v":211},{"$f":"SUM(F9:G9)","v":1722},{"$f":"+F11+F15+F23+F26+F29+F36+F41+F45","v":785},{"$f":"+G11+G15+G23+G26+G29+G36+G41+G45","v":937},{"$f":"SUM(I9:J9)","v":198},{"$f":"+I11+I15+I23+I26+I29+I36+I41+I45","v":84},{"$f":"+J11+J15+J23+J26+J29+J36+J41+J45","v":114}]
[]
["INST UNIV ASOCIACIÓN CRISTIANA DE JÓVENES",{"$f":"SUM(C11:D11)","v":180},{"$f":"SUM(C12:C13)","v":110},{"$f":"SUM(D12:D13)","v":70},{"$f":"SUM(F11:G11)","v":520},{"$f":"SUM(F12:F13)","v":347},{"$f":"SUM(G12:G13)","v":173},{"$f":"SUM(I11:J11)","v":101},{"$f":"SUM(I12:I13)","v":51},{"$f":"SUM(J12:J13)","v":50}]
["Licenciatura en Educación Física, Recreación y Deporte",{"$f":"SUM(C12:D12)","v":102},73,29,{"$f":"SUM(F12:G12)","v":397},284,113,{"$f":"SUM(I12:J12)","v":58},30,28]
["Tecnicatura en Fitness con orientación en Modalidades de Gimnasia y/o Entrenamiento Personalizado",{"$f":"SUM(C13:D13)","v":78},37,41,{"$f":"SUM(F13:G13)","v":123},63,60,{"$f":"SUM(I13:J13)","v":43},21,22]
[]
["INST UNIV CLAEH",{"$f":"B17+B18","v":78},{"$f":"C17+C18","v":31},47,538,191,347,51,22,29]
["Montevideo"]
["Licenciatura en Gestión Cultural ",{"$f":"SUM(C17:D17)","v":14},7,7,{"$f":"SUM(F17:G17)","v":43},9,34,{"$f":"SUM(I17:J17)","v":8},2,6]
["Maldonado",{"$f":"SUM(B19:B21)","v":64},{"$f":"SUM(C19:C21)","v":24},40,495,182,313,{"$f":"SUM(H19:H21)","v":43},20,23]
["Medicina",{"$f":"SUM(C19:D19)","v":41},13,28,{"$f":"SUM(F19:G19)","v":305},119,186,{"$f":"SUM(I19:J19)","v":25},13,12]
["Abogacia",{"$f":"SUM(C20:D20)","v":20},9,11,{"$f":"SUM(F20:G20)","v":135},42,93,{"$f":"SUM(I20:J20)","v":6},3,3]
["Notariado",{"$f":"SUM(C21:D21)","v":3},2,1,{"$f":"SUM(F21:G21)","v":55},21,34,{"$f":"SUM(I21:J21)","v":12},4,8]
[]
["INST METODISTA UNIV CRANDON ",{"$f":"SUM(C23:D23)","v":29},{"$f":"SUM(C24:C24)","v":1},{"$f":"SUM(D24:D24)","v":28},{"$f":"SUM(F23:G23)","v":30},{"$f":"SUM(F24:F24)","v":1},{"$f":"SUM(G24:G24)","v":29},{"$f":"SUM(I23:J23)","v":0},{"$f":"SUM(I24:I24)","v":0},{"$f":"SUM(J24:J24)","v":0}]
["Licenciatura en Gestión de Empresas",{"$f":"SUM(C24:D24)","v":29},1,28,{"$f":"SUM(F24:G24)","v":30},1,29,{"$f":"SUM(I24:J24)","v":0},0,0]
[]
["INST UNIV MONSEÑOR MARIANO SOLER - ",{"$f":"SUM(C26:D26)","v":14},{"$f":"SUM(C27:C27)","v":14},{"$f":"SUM(D27:D27)","v":0},{"$f":"SUM(F26:G26)","v":70},{"$f":"SUM(F27:F27)","v":66},{"$f":"SUM(G27:G27)","v":4},{"$f":"SUM(I26:J26)","v":3},{"$f":"SUM(I27:I27)","v":3},{"$f":"SUM(J27:J27)","v":0}]
["Licenciado en Ciencias Teológicas",{"$f":"SUM(C27:D27)","v":14},14,0,{"$f":"SUM(F27:G27)","v":70},66,4,{"$f":"SUM(I27:J27)","v":3},3,0]
[]
["INST UNIV FRANCISCO DE ASÍS ",{"$f":"+C29+D29","v":41},{"$f":"SUM(C31:C34)","v":15},{"$f":"SUM(D31:D34)","v":26},{"$f":"+F29+G29","v":437},{"$f":"SUM(F31:F34)","v":162},{"$f":"SUM(G31:G34)","v":275},{"$f":"+I29+J29","v":21},{"$f":"SUM(I31:I34)","v":7},{"$f":"SUM(J31:J34)","v":14}]
["Maldonado"]
["Licenciatura en Turismo",{"$f":"+C31+D31","v":13},7,6,{"$f":"+F31+G31","v":174},69,105,{"$f":"+I31+J31","v":16},4,12]
["Licenciatura en Administración y Dirección de Empresas",{"$f":"+C32+D32","v":2},1,1,{"$f":"+F32+G32","v":108},43,65,{"$f":"+I32+J32","v":1},1,0]
["Contador Público",{"$f":"+C33+D33","v":8},3,5,{"$f":"+F33+G33","v":98},35,63,{"$f":"+I33+J33","v":1},1,0]
["Licenciatura en Psicología",{"$f":"+C34+D34","v":18},4,14,{"$f":"+F34+G34","v":57},15,42,{"$f":"+I34+J34","v":3},1,2]
[]
["INST UNIV CEDIIAP",{"$f":"+C36+D36","v":37},{"$f":"SUM(C37:C39)","v":2},{"$f":"SUM(D37:D39)","v":35},{"$f":"+F36+G36","v":86},{"$f":"SUM(F37:F39)","v":1},{"$f":"SUM(G37:G39)","v":85},{"$f":"+I36+J36","v":22},{"$f":"SUM(I37:I39)","v":1},{"$f":"SUM(J37:J39)","v":21}]
["Lic. Psicomotricidad",{"$f":"+C37+D37","v":15},1,14,{"$f":"+F37+G37","v":47},0,47,{"$f":"+I37+J37","v":20},1,19]
["Lic. Psicopedagogía",{"$f":"+C38+D38","v":22},1,21,{"$f":"+F38+G38","v":39},1,38,{"$f":"+I38+J38","v":2},0,2]
["Lic. en Musicoterapia",{"$f":"+C39+D39","v":0},0,0,{"$f":"+F39+G39","v":0},0,0,{"$f":"+I39+J39","v":0},0,0]
[]
["FUNDACIÓN POLITÉCNICO DE PUNTA DEL ESTE",{"$f":"+C41+D41","v":11},{"$f":"C42+C43","v":6},{"$f":"D42+D43","v":5},{"$f":"+F41+G41","v":41},{"$f":"F42+F43","v":17},{"$f":"G42+G43","v":24},{"$f":"+I41+J41","v":0},{"$f":"I42+I43","v":0},{"$f":"J42+J43","v":0}]
["Contador Público",{"$f":"+C42+D42","v":9},6,3,{"$f":"+F42+G42","v":33},15,18,{"$f":"+I42+J42","v":0},0,0]
["Licenciado en Economía y Finanzas Aplicadas",{"$f":"+C43+D43","v":2},0,2,{"$f":"+F43+G43","v":8},2,6,{"$f":"+I43+J43","v":0},0,0]
[]
["ESCUELA NACIONAL DE POLICÍA*","-","-","-","-","-","-","-","-","-"]
["Licenciatura Seguridad Pública","-","-","-","-","-","-","-","-","-"]
[]
["Fuente: Oficinas Productoras de cada una de las Instituciones. "]
["Nota:   En 2015 la Licenciatura en Seguridad Pública no fue dictada."]

{"sheet":"II-7.2.5","index":88,"n_rows":41,"n_cols":10,"rows_kept":41,"cut":false,"hidden":false,"merged":[[0,2,1,4],[4,0,4,4],[5,0,7,0],[5,1,7,1],[5,2,5,3],[5,4,7,4],[5,5,5,6],[5,7,7,7],[5,8,5,9],[6,2,6,3],[6,5,6,6],[6,8,6,9]]}
["OFERTA UNIVERSITARIA DE POSTGRADO",null,"INSTITUCIONES"]
[]
["Cuadro Nº II-7.2.5"]
[]
["ALUMNOS INGRESADOS, MATRICULADOS Y EGRESADOS EN PROGRAMAS DE POSTGRADO POR SEXO SEGÚN INSTITUCIÓN. AÑO 2015."]
["INSTITUCIÓN","TOTAL","INGRESADOS",null,"TOTAL","MATRICULADOS ",null,"TOTAL","EGRESADOS "]
[null,null,"SEXO",null,null,"SEXO",null,null,"SEXO"]
[null,null,"M","F",null,"M","F",null,"M","F"]
["TOTAL PAIS",{"$f":"C9+D9","v":4144},{"$f":"C10+C11","v":1360},{"$f":"D10+D11","v":2784},{"$f":"F9+G9","v":12044},{"$f":"F10+F11","v":4318},{"$f":"G10+G11","v":7726},{"$f":"I9+J9","v":2325},{"$f":"I10+I11","v":870},{"$f":"J10+J11","v":1455}]
["PÚBLICO",{"$f":"C10+D10","v":2589},{"$f":"C14+C31","v":860},{"$f":"D14+D31","v":1729},{"$f":"F10+G10","v":7192},{"$f":"F14+F31","v":2763},{"$f":"G14+G31","v":4429},{"$f":"I10+J10","v":1487},{"$f":"I14+I31","v":583},{"$f":"J14+J31","v":904}]
["PRIVADO",1555,{"$f":"C15+C32","v":500},{"$f":"D15+D32","v":1055},4852,{"$f":"F15+F32","v":1555},{"$f":"G15+G32","v":3297},838,{"$f":"I15+I32","v":287},{"$f":"J15+J32","v":551}]
[null,0,null,null,0,null,null,0]
["Montevideo",4140,{"$f":"C14+C15","v":1357},{"$f":"D14+D15","v":2783},12002,{"$f":"F14+F15","v":4302},{"$f":"G14+G15","v":7700},2314,{"$f":"I14+I15","v":866},{"$f":"J14+J15","v":1448}]
["PÚBLICO",2585,{"$f":"C16+SUM(C26:C28)","v":857},{"$f":"D16+SUM(D26:D28)","v":1728},7188,{"$f":"F16+SUM(F26:F28)","v":2760},{"$f":"G16+SUM(G26:G28)","v":4428},1487,{"$f":"I16+SUM(I26:I28)","v":583},{"$f":"J16+SUM(J26:J28)","v":904}]
["PRIVADO",1555,{"$f":"SUM(C17:C25)","v":500},{"$f":"SUM(D17:D25)","v":1055},4814,{"$f":"SUM(F17:F25)","v":1542},{"$f":"SUM(G17:G25)","v":3272},827,{"$f":"SUM(I17:I25)","v":283},{"$f":"SUM(J17:J25)","v":544}]
["UdelaR *",2337,800,1537,6839,2593,4246,1351,471,880]
["UCUDAL",631,126,505,2245,482,1763,358,79,279]
["Universidad ORT Uruguay",213,76,137,709,267,442,193,73,120]
["Universidad de Montevideo",243,126,117,672,337,335,143,85,58]
["Universidad de la Empresa",348,147,201,968,403,565,82,36,46]
["Inst Univ CLAEH ",109,23,86,142,39,103,39,9,30]
["Inst Univ de Postgrado en Psicoanálisis",7,1,6,41,4,37,6,0,6]
["Inst Metodista Univ Crandon **",0,"-","-",0,"-","-",0,"-","-"]
["Inst Univ CEDIIAP",0,0,0,3,0,3,4,0,4]
["Instituto Universitario  Centro de Estudio y Diagnóstico de las Disgnancias del Uruguay (IUCEDDU)",4,1,3,34,10,24,2,1,1]
["Centro de Altos Estudios Nacionales",43,27,16,43,27,16,32,28,4]
["Escuela de Guerra Naval (ESGUE)",16,3,13,117,113,4,82,80,2]
["IPES",189,27,162,189,27,162,22,4,18]
[]
["Resto del país",4,{"$f":"C31+C32","v":3},{"$f":"D31+D32","v":1},42,{"$f":"F31+F32","v":16},{"$f":"G31+G32","v":26},11,{"$f":"I31+I32","v":4},{"$f":"J31+J32","v":7}]
["PÚBLICO",4,{"$f":"C35","v":3},{"$f":"D35","v":1},4,{"$f":"F35","v":3},{"$f":"G35","v":1},0,{"$f":"I35","v":0},{"$f":"J35","v":0}]
["PRIVADO",0,{"$f":"C34","v":0},{"$f":"D34","v":0},38,{"$f":"F34","v":13},{"$f":"G34","v":25},11,{"$f":"I34","v":4},{"$f":"J34","v":7}]
["Salto",4,{"$f":"C34+C35","v":3},{"$f":"D34+D35","v":1},42,{"$f":"F34+F35","v":16},{"$f":"G34+G35","v":26},11,{"$f":"I34+I35","v":4},{"$f":"J34+J35","v":7}]
["UCUDAL",0,0,0,38,13,25,11,4,7]
["UdelaR",4,3,1,4,3,1,0,0,0]
[]
["Fuente: Bedelías de los Servicios Universitarios y Sistema de Gestión de Bedelías-SeCIU"]
["UdelaR:"]
["El dato de Egresos de Posgrado  2015 es PRELIMINAR"]
["* La matrícula de UdelaR corresponde al dato del VII Censo de estudiantes de grado 2012.  "]
["** En el 2015 no se dictó el Posgrado de Especialización en la lengua inglesa"]

{"sheet":"II-7.2.6 ","index":89,"n_rows":355,"n_cols":7,"rows_kept":355,"cut":false,"hidden":false,"merged":[[0,3,1,6],[4,0,4,3],[5,0,7,0],[5,1,7,1],[5,2,5,3],[5,4,7,4],[5,5,5,6],[6,2,6,3],[6,5,6,6],[363,0,363,6],[364,0,364,6],[365,0,365,6],[357,0,357,6],[358,0,358,6],[359,0,359,6],[360,0,360,6],[361,0,361,6],[362,0,362,6]]}
["UNIVERSIDAD DE LA REPÚBLICA: OFERTA DE POSTGRADO",null,null,"ALUMNOS MATRICULADOS"]
[]
["Cuadro Nº II-7.2.6"]
[]
["ALUMNOS INGRESADOS 2015 Y EGRESADOS PRELIMINARES 2015 EN PROGRAMAS DE POSTGRADO DE LA UNIVERSIDAD DE LA REPÚBLICA POR SEXO SEGÚN SERVICIO UNIVERSITARIO Y ACREDITACIÓN. "]
["SERVICIO UNIVERSITARIO / ACREDITACIÓN","TOTAL","INGRESADOS",null,"TOTAL","EGRESADOS (datos preliminares)"]
[null,null,"SEXO",null,null,"SEXO"]
[null,null,"M","F",null,"M","F"]
["TOTAL",{"$f":"SUM(C9:D9)","v":2341},{"$f":"C11+C29+C39+C71+C99+C202+C210+C224+C232+C241+C248+C257+C270+C287+C298+C301+C304+C307+C310+C314+C326+C329+C332+C335+C338+C341+C344+C347","v":803},{"$f":"D11+D29+D39+D71+D99+D202+D210+D224+D232+D241+D248+D257+D270+D287+D298+D301+D304+D307+D310+D314+D326+D329+D332+D335+D338+D341+D344+D347","v":1538},{"$f":"SUM(F9:G9)","v":1351},{"$f":"F11+F29+F39+F71+F99+F202+F210+F224+F232+F241+F248+F257+F270+F287+F298+F301+F304+F307+F310+F314+F326+F329+F332+F335+F338+F341+F344+F347","v":471},{"$f":"G11+G29+G39+G71+G99+G202+G210+G224+G232+G241+G248+G257+G270+G287+G298+G301+G304+G307+G310+G314+G326+G329+G332+G335+G338+G341+G344+G347","v":880}]
[]
["FACULTAD DE CIENCIAS ECONÓMICAS Y ADMINISTRACIÓN",{"$f":"+C11+D11","v":264},{"$f":"SUM(C12:C27)","v":105},{"$f":"SUM(D12:D27)","v":159},{"$f":"+F11+G11","v":149},{"$f":"SUM(F12:F27)","v":68},{"$f":"SUM(G12:G27)","v":81}]
["Diploma de Especialización en Costos y Gestión Empresarial",17,8,9,9,4,5]
["Diploma de Posgrado en Economía, Derecho y Gestión del Deporte",0,0,0,7,7,0]
["Especialización  en Administración",32,12,20,10,4,6]
["Especialización en Finanzas",16,9,7,16,9,7]
["Especialización en Marketing",16,9,7,21,8,13]
["Especialización en Sistemas de Información TI",14,8,6,15,8,7]
["Maestría en Economía",30,17,13,1,1,0]
["Maestría en Finanzas",21,11,10,5,2,3]
["Maestría en Gerencia y Administración (MBA) ",32,12,20,18,10,8]
["Maestría en Tributaria",1,0,1,0,0,0]
["Posgrado de Especialización en Tributaria",46,14,32,35,11,24]
["Diploma en Economía",0,0,0,2,1,1]
["Maestría en Marketing",0,0,0,2,1,1]
["Especialización en Contabilidad",17,2,15,4,1,3]
["Especialización en Auditoria",7,2,5,4,1,3]
["Diploma de Gestión Financiera en Instituciones Públicas",15,1,14,0,0,0]
[]
["FACULTAD DE DERECHO",{"$f":"+C29+D29","v":76},{"$f":"SUM(C30:C37)","v":25},{"$f":"SUM(D30:D37)","v":51},{"$f":"+F29+G29","v":12},{"$f":"SUM(F30:F37)","v":7},{"$f":"SUM(G30:G37)","v":5}]
["Especialización en Derecho Comercial",{"$f":"+C30+D30","v":7},3,4,2,0,2]
["Especialización en Derecho de Daños",0,0,0,1,1,0]
["Especialización en Derecho del Trabajo y de la Seguridad Social",0,0,0,1,1,0]
["Especialización en Derecho Procesal",19,4,15,3,1,2]
["Maestría en Derecho con orientación en Derecho de Daños",0,0,0,3,3,0]
["Maestría en Derecho con orientación en Derecho del Trabajo y de la Seguridad Social",28,11,17,0,0,0]
["Maestría en Relaciones  Internacionales",10,3,7,1,0,1]
["Maestría en Derecho orientación Derecho Comercial",12,4,8,1,1,0]
[]
["FACULTAD DE INGENIERÍA",{"$f":"+C39+D39","v":165},{"$f":"SUM(C40:C69)","v":110},{"$f":"SUM(D40:D69)","v":55},{"$f":"+F39+G39","v":83},{"$f":"SUM(F40:F69)","v":62},{"$f":"SUM(G40:G69)","v":21}]
["Diploma en Especialización en Gestión de Tecnologías",27,9,18,10,7,3]
["Diploma en Especialización en Ingeniería de Software",4,3,1,7,3,4]
["Diploma en Especialización en Seguridad Informática",8,7,1,10,9,1]
["Diploma en Especialización en Sist. de Información y Tecnologías de Gestión de Datos",5,4,1,10,6,4]
["Diploma en Especialización en Sistemas Eléctricos de Potencia",7,7,0,0,0,0]
["Diploma en Especialización en Telecomunicaciones",2,2,0,0,0,0]
["Diploma en Ingeniería de la Energía",3,2,1,3,2,1]
["Doctorado en Informática (PEDECIBA) ",4,4,0,4,4,0]
["Doctorado en Ingeniería Eléctrica",2,1,1,6,6,0]
["Doctorado en Ingeniería Física",1,1,0,0,0,0]
["Doctorado en Ingeniería Química",4,1,3,2,0,2]
["Doctorado Ingeniería Estructural",0,0,0,1,1,0]
["Maestría en Gestión de la Innovación",2,2,0,0,0,0]
["Maestría en Informática (PEDECIBA) ",16,13,3,4,4,0]
["Maestría en Ingeniería Ambiental",5,2,3,3,2,1]
["Maestría en Ingeniería de la Celulosa y Papel",1,0,1,3,3,0]
["Maestría en Ingeniería de la Energía",30,21,9,1,1,0]
["Maestría en Ingeniería de Software",2,1,1,2,0,2]
["Maestría en Ingeniería Eléctrica",12,8,4,6,6,0]
["Maestría en Ingeniería en Computación",0,0,0,3,3,0]
["Maestría en Ingeniería en Mecánica de los Fluidos Aplicada",1,1,0,1,0,1]
["Maestría en Ingeniería Estructural",11,9,2,2,2,0]
["Maestría en Ingeniería Física",0,0,0,0,0,0]
["Maestría en Ingeniería Matemática",3,1,2,2,2,0]
["Maestría en Ingeniería Química",6,2,4,2,0,2]
["Especialización en Estudios Avanzados en Computación",0,0,0,1,1,0]
["Maestría en Seguridad Informática",1,1,0,0,0,0]
["Maestría en Sistemas de Información y Gestión de Datos",4,4,0,0,0,0]
["Maestría en Investigación de Operaciones",3,3,0,0,0,0]
["Doctorado en Ingeniería de la Energía ",1,1,0,0,0,0]
[]
["FACULTAD DE CIENCIAS SOCIALES",{"$f":"+C71+D71","v":151},{"$f":"SUM(C72:C97)","v":56},{"$f":"SUM(D72:D97)","v":95},{"$f":"+F71+G71","v":94},{"$f":"SUM(F72:F97)","v":37},{"$f":"SUM(G72:G97)","v":57}]
["Diploma de Análisis Sociodemográfico aplicado a la Gestión",18,5,13,2,0,2]
["Diploma de Intervención Familiar",0,0,0,0,0,0]
["Diploma de Políticas de Drogas, Regulación y Control",0,0,0,0,0,0]
["Diploma en Afrodescendencia y Políticas Públicas",0,0,0,0,0,0]
["Diploma en Carnaval y Patrimonio",0,0,0,0,0,0]
["Diploma en Ciencia Política",0,0,0,4,3,1]
["Diploma en Economía con Especialización",1,0,1,0,0,0]
["Diploma en Economía para No Economistas",22,10,12,8,4,4]
["Diploma en Economía y Gestión Bancaria",16,1,15,14,6,8]
["Diploma en Estudios Internacionales, Sistema Internacional e Integración",0,0,0,2,1,1]
["Diploma en Género y Políticas Públicas",0,0,0,20,3,17]
["Diploma en Historia Económica",0,0,0,4,2,2]
["Diploma en Investigación Social Aplicada",0,0,0,0,0,0]
["Diploma en Políticas Sociales",0,0,0,12,4,8]
["Diploma Jóvenes, Juventud y Políticas Públicas",19,5,14,3,0,3]
["Doctorado en Ciencia Política",1,1,0,2,1,1]
["Doctorado en Ciencias Sociales",8,4,4,0,0,0]
["Doctorado en Economía",0,0,0,0,0,0]
["Doctorado en Sociología",0,0,0,1,0,1]
["Maestría Bimodal en Estudios Contemp. de América Latina",21,12,9,3,2,1]
["Maestría en Ciencia Política",0,0,0,5,3,2]
["Maestría en Demografía y Estudios de Población",23,7,16,2,1,1]
["Maestría en Economía Internacional",21,10,11,2,2,0]
["Maestría en Historia Económica",0,0,0,4,3,1]
["Maestría en Sociología",1,1,0,5,2,3]
["Maestría en Trabajo Social",0,0,0,1,0,1]
[]
["FACULTAD DE MEDICINA ",{"$f":"+C99+D99","v":648},{"$f":"SUM(C100:C200)","v":209},{"$f":"SUM(D100:D200)","v":439},{"$f":"+F99+G99","v":553},{"$f":"SUM(F100:F200)","v":164},{"$f":"SUM(G100:G200)","v":389}]
["Diploma en Banco de Multitejidos para Trasplante",3,0,3,0,0,0]
["Diploma en Coordinación de Trasplantes",9,3,6,0,0,0]
["Diploma en Cuidados Paliativos del Adulto",16,2,14,3,0,3]
["Diploma en Ecografía Gineco-Obstétrica (2)",1,1,0,1,1,0]
["Diploma en Emergentología ",15,11,4,0,0,0]
["Diploma en Emergentología (2)",2,2,0,0,0,0]
["Especialización en Emergentología Pediátrica",1,0,1,0,0,0]
["Especialización en Emergentología Pediátrica(2)",4,1,3,182,36,146]
["Diploma en Endoscopia Digestiva",0,0,0,1,0,1]
["Diploma en Endoscopia Digestiva (2)",2,2,0,3,1,2]
["Diploma en Neurodesarrollo",12,3,9,0,0,0]
["Diploma en Neurofisiología Clínica ",3,0,3,0,0,0]
["Diploma en Psicoterapia en Servicios de Salud ",24,2,22,11,1,10]
["Diploma en Salud Pública (1)",1,1,0,2,1,1]
["Diploma en Salud Pública (2)",5,1,4,2,0,2]
["Especialización en Adm. en Servicio de la Salud",2,1,1,0,0,0]
["Especialización en Alergología",7,4,3,0,0,0]
["Especialización en Anatomía Patológica",3,1,2,0,0,0]
["Especialización en Anatomía Patológica (1)",1,0,1,0,0,0]
["Especialización en Anestesiología",19,9,10,28,11,17]
["Especialización en Cardiología",25,11,14,14,6,8]
["Especialización en Cardiología (1)",1,1,0,1,1,0]
["Especialización en Cirugía Cardíaca ",1,1,0,0,0,0]
["Especialización en Cirugía Cardíaca (1)",0,0,0,1,0,1]
["Especialización en Cirugía General",13,7,6,12,7,5]
["Especialización en Cirugía Pedíatrica",1,0,1,0,0,0]
["Especialización en Cirugía Plástica, Reparadora y Estética",5,3,2,5,3,2]
["Especialización en Cirugía Vascular Periférica",2,0,2,4,2,2]
["Especialización en Dermatología",9,0,9,11,3,8]
["Especialización en Endocrinología y Metabolismo",10,0,10,8,1,7]
["Especialización en Enfermedades Infecciosas",2,1,1,1,0,1]
["Especialización en Epidemiología ",1,0,1,1,0,1]
["Especialización en Farmacología y Terapéutica (1)",1,0,1,1,0,1]
["Especialización en Gastroenterología, Hepatología, Nutrición Pediátrica",0,0,0,1,1,0]
["Especialización en Gastroenterología",13,4,9,4,1,3]
["Especialización en Geriatría",2,0,2,2,1,1]
["Especialización en Geriatría (1)",0,0,0,1,0,1]
["Especialización en Gerontopsicomotricidad",1,0,1,0,0,0]
["Especialización en Ginecotocología",26,6,20,12,2,10]
["Especialización en Hematología",6,0,6,7,1,6]
["Especialización en Hemoterapia y Medicina Transfusional",7,1,6,5,1,4]
["Especialización en Imagenología",15,10,5,7,3,4]
["Especialización en Imagenología (1)",1,0,1,0,0,0]
["Especialización en Laboratorio de Patología Clínica",1,0,1,7,1,6]
["Especialización en Medicina del Deporte",5,3,2,0,0,0]
["Especialización en Medicina Familiar y Comunitaria",16,1,15,3,0,3]
["Especialización en Medicina Familiar y Comunitaria (1)",1,0,1,0,0,0]
["Especialización en Medicina Intensiva",36,22,14,16,7,9]
["Especialización en Medicina Interna",18,3,15,31,11,20]
["Especialización en Medicina Legal ",3,1,2,1,1,0]
["Especialización en Medicina Legal (1)",1,0,1,0,0,0]
["Especialización en Medicina Nuclear (1)",1,1,0,1,1,0]
["Especialización en Microbiología",3,2,1,1,0,1]
["Especialización en Nefrología (1)",1,1,0,1,1,0]
["Especialización en Nefrología ",8,4,4,6,5,1]
["Especialización en Nefrología Pedíatrica ",3,0,3,0,0,0]
["Especialización en Neonatología ",30,5,25,2,0,2]
["Especialización en Neonatología (1)",0,0,0,3,2,1]
["Especialización en Neumología (1)",2,1,1,0,0,0]
["Especialización en Neumología",2,1,1,0,0,0]
["Especialización en Neurocirugía",1,0,1,0,0,0]
["Especialización en Neurología ",6,3,3,5,2,3]
["Especialización en Neurología (1)",2,1,1,2,1,1]
["Especialización en Neuropediatría",1,0,1,2,1,1]
["Especialización en Oftalmología",10,3,7,13,5,8]
["Especialización en Oncología Médica",8,2,6,2,0,2]
["Especialización en Oncología Radioterápica",1,1,0,2,2,0]
["Especialización en Otorrinolaringología",9,5,4,9,6,3]
["Especialización en Pediatría",74,11,63,50,7,43]
["Especialización en Psiquiatría",10,2,8,16,6,10]
["Especialización en Psiquiatría Pediátrica",8,0,8,3,0,3]
["Especialización en Salud Ocupacional",23,12,11,0,0,0]
["Especialización en Salud Ocupacional (1)",2,0,2,1,0,1]
["Especialización en Terapia Intensiva Pediátrica",6,2,4,8,2,6]
["Especialización en Traumatología y Ortopedia ",6,5,1,11,10,1]
["Especialización en Urología",4,3,1,2,1,1]
["Especialización Parasitología y Micología Médica  (1)",1,0,1,1,1,0]
["Especialización Rehabilitación y Medicina Física",7,5,2,5,3,2]
["Especialización Reumatología",5,2,3,4,1,3]
["Especialización Toxicología Clínica",4,0,4,1,0,1]
["Especialización Toxicología Clínica (1)",1,0,1,1,0,1]
["Doctorado en Ciencias Médicas (PROINBIO) ",2,2,0,0,"s/d","s/d"]
["Diploma en Diabetes (2)",0,0,0,3,1,2]
["Diploma en Psicoterapia en Servicios de Salud (1)",5,0,5,1,0,1]
["Especialización en Cirugía Torácica (1)",0,0,0,1,1,0]
["Especialización en Cardiología Pediátrica",5,0,5,1,0,1]
["Especialización en Cirugía Torácica",0,0,0,1,1,0]
["Especialización en Medicina Nuclear",3,1,2,3,0,3]
["Especialización en Laboratorio Clínico",0,0,0,2,0,2]
["Especialización en Cirugía Pedíatrica (1)",1,1,0,0,0,0]
["Especialización en Cirugía Vascular Periférica (1)",1,1,0,0,0,0]
["Diploma en Bases Inmunológicas de Trasplantes",9,1,8,0,0,0]
["Diploma en Coordinación de Trasplantes (1)",1,1,0,0,0,0]
["Diploma en Genética Médica - Adultos",1,1,0,0,0,0]
["Diploma en Genética Médica - Pediatría",1,0,1,0,0,0]
["Especialización en Enfermedades Infecciosas (1)",2,0,2,0,0,0]
["Especialización en Epidemiología (1)",4,2,2,0,0,0]
["Especialización en Hemoterapia y Medicina Transfusional (2)",1,0,1,0,0,0]
["Especialización en Rehabilitación y Medicina Física (1)",1,1,0,0,0,0]
["Diploma en Urología Pediátrica",{"$f":"+C199+D199","v":1},1,0,{"$f":"+F199+G199","v":0},0,0]
["Diploma en Salud Pública",18,6,12,0,0,0]
[]
["FACULTAD DE ODONTOLOGÍA ",{"$f":"+C202+D202","v":36},{"$f":"SUM(C203:C208)","v":11},{"$f":"SUM(D203:D208)","v":25},{"$f":"+F202+G202","v":15},{"$f":"SUM(F203:F208)","v":1},{"$f":"SUM(G203:G208)","v":14}]
["Especialización en Cirugía y Traumatología Buco Maxilo Facial",0,0,0,2,0,2]
["Especialización en Implantología Oral",19,6,13,0,0,0]
["Especialización en Endodoncia",0,0,0,8,1,7]
["Especialización en Odontopediatría",0,0,0,5,0,5]
["Especialización en Odontopediatría",9,0,9,0,0,0]
["Especialización en Prostodoncia",8,5,3,0,0,0]
[]
["FACULTAD DE HUMANIDADES Y CIENCIAS DE LA EDUCACIÓN",{"$f":"+C210+D210","v":92},{"$f":"SUM(C211:C222)","v":36},{"$f":"SUM(D211:D222)","v":56},{"$f":"+F210+G210","v":17},{"$f":"SUM(F211:F222)","v":5},{"$f":"SUM(G211:G222)","v":12}]
["Doctorado en Humanidades - Antropología",9,3,6,0,0,0]
["Doctorado en Humanidades - Filosofía",7,5,2,0,0,0]
["Doctorado en Humanidades - Historia",6,4,2,0,0,0]
["Doctorado en Humanidades - Letras",8,1,7,0,0,0]
["Doctorado en Humanidades - Lingüística",4,1,3,0,0,0]
["Maestría en Ciencias Humanas - Antropología de la Cuenca del Plata",15,5,10,2,1,1]
["Maestría en Ciencias Humanas - Filosofía Contemporánea",14,10,4,5,2,3]
["Maestría en Ciencias Humanas - Historia Rioplatense",6,1,5,3,2,1]
["Maestría en Ciencias Humanas - Lenguaje, Cultura y Sociedad",1,0,1,5,0,5]
["Maestría en Ciencias Humanas - Literatura Latinoamericana",14,5,9,1,0,1]
["Maestría en Ciencias Humanas - Teoría e Historia del Teatro",8,1,7,0,0,0]
["Maestría en Ciencias Humanas - Historia del Uruguay",0,0,0,1,0,1]
[]
["FACULTAD DE AGRONOMÍA",{"$f":"+C224+D224","v":52},{"$f":"SUM(C225:C230)","v":27},{"$f":"SUM(D225:D230)","v":25},{"$f":"+F224+G224","v":28},{"$f":"SUM(F225:F230)","v":11},{"$f":"SUM(G225:G230)","v":17}]
["Diploma en Agronomía",0,0,0,1,1,0]
["Diploma en Desarrollo Rural Sustentable",4,1,3,2,0,2]
["Doctor en Ciencias Agrarias",10,5,5,0,0,0]
["Maestría en Agronomía",2,2,0,2,2,0]
["Maestría en Ciencias Agrarias",25,14,11,22,8,14]
["Maestría en Desarrollo Rural Sustentable",11,5,6,1,0,1]
[]
["FACULTAD DE ARQUITECTURA",{"$f":"+C232+D232","v":44},{"$f":"SUM(C233:C239)","v":14},{"$f":"SUM(D233:D239)","v":30},{"$f":"+F232+G232","v":23},{"$f":"SUM(F233:F239)","v":9},{"$f":"SUM(G233:G239)","v":14}]
["Diploma en Inv. Proyectual",2,0,2,1,0,1]
["Diploma en Intervención del Patrimonio Arquitectónico",0,0,0,12,5,7]
["Diploma en Proyecto Mobiliario",10,4,6,0,0,0]
["Maestría en Construcción de Obras de Arquitectura",2,0,2,1,0,1]
["Maestría en Ordenamiento Territorial y Desarrollo Urbano",30,10,20,5,4,1]
["Especialización en Construcción de Obras de Arquitectura",0,0,0,1,0,1]
["Especialización en Proyecto de Paisaje",0,0,0,3,0,3]
[]
["FACULTAD DE QUÍMICA",{"$f":"+C241+D241","v":54},{"$f":"SUM(C242:C246)","v":11},{"$f":"SUM(D242:D246)","v":43},{"$f":"+F241+G241","v":15},{"$f":"SUM(F242:F246)","v":2},{"$f":"SUM(G242:G246)","v":13}]
["Diploma de Especialización en Farmacia Industrial",2,0,2,0,0,0]
["Doctorado en Química ",36,10,26,10,1,9]
["Especialización en Farmacia Hospitalaria",11,1,10,1,0,1]
["Maestría en Química ",4,0,4,4,1,3]
["Doctorado en Química - Educación en Química",1,0,1,0,0,0]
[]
["FACULTAD DE VETERINARIA",{"$f":"+C248+D248","v":24},{"$f":"SUM(C249:C255)","v":9},{"$f":"SUM(D249:D255)","v":15},{"$f":"+F248+G248","v":14},{"$f":"SUM(F249:F255)","v":9},{"$f":"SUM(G249:G255)","v":5}]
["Doctor en Producción Animal",4,1,3,2,1,1]
["Doctor en Salud Animal",3,1,2,2,1,1]
["Maestría en Educación y Extensión Rural",3,1,2,0,0,0]
["Maestría en Nutrición de Rumiantes",0,0,0,2,2,0]
["Maestría en Producción Animal",1,0,1,1,1,0]
["Maestría en Reproducción Animal",2,1,1,3,1,2]
["Maestría en Salud Animal",11,5,6,4,3,1]
[]
["FACULTAD DE CIENCIAS",{"$f":"+C257+D257","v":149},{"$f":"SUM(C258:C268)","v":65},{"$f":"SUM(D258:D268)","v":84},{"$f":"+F257+G257","v":94},{"$f":"SUM(F258:F268)","v":30},{"$f":"SUM(G258:G268)","v":64}]
["Doctorado en Ciencias Biológicas (PEDECIBA) ",33,11,22,23,7,16]
["Doctorado en Física (PEDECIBA)",8,7,1,2,0,2]
["Doctorado en Matemática (PEDECIBA)",1,1,0,3,2,1]
["Maestría en Biotecnología",11,4,7,4,0,4]
["Maestría en Ciencias Ambientales",8,4,4,3,1,2]
["Maestría en Ciencias Biológicas (PEDECIBA) ",67,25,42,52,16,36]
["Maestría en Geociencias (PEDECIBA) ",9,6,3,3,0,3]
["Maestría en Matemática (PEDECIBA) ",1,1,0,1,1,0]
["Doctorado en Biotecnología (PEDECIBA)",5,1,4,0,0,0]
["Maestría en Física (PEDECIBA)",5,5,0,3,3,0]
["Doctorado en Geociencias (PEDECIBA) ",1,0,1,0,0,0]
[]
["FACULTAD DE ENFERMERÍA",{"$f":"+C270+D270","v":72},{"$f":"SUM(C271:C285)","v":5},{"$f":"SUM(D271:D285)","v":67},{"$f":"+F270+G270","v":55},{"$f":"SUM(F271:F285)","v":8},{"$f":"SUM(G271:G285)","v":47}]
["Especialización en Administración Servicios de Salud (1)",{"$f":"+C271+D271","v":2},1,1,{"$f":"+F271+G271","v":0},0,0]
["Especialización en Enf. Cuidados Intensivos",{"$f":"+C272+D272","v":1},0,1,{"$f":"+F272+G272","v":34},6,28]
["Maestría en Atención a la Salud en el Primer Nivel",1,0,1,1,0,1]
["Maestría en Gestión de Servicios de Salud",0,0,0,2,1,1]
["Especialización en Enfermería en Salud Familiar y Comunitaria",0,0,0,1,0,1]
["Especialización en Block Quirúrgico (1)",1,0,1,1,0,1]
["Especialización en Emergencía Pediátrica (1)",1,0,1,1,0,1]
["Especialización en Infecciones Intrahospitalarias (1)",1,0,1,1,0,1]
["Especialización en Enfermería en Neonatología",35,2,33,5,1,4]
["Especialización en Enfermería Cardiológica (1)",1,0,1,1,0,1]
["Especialización en Enfermería Médico Quirúrgica (1)",4,0,4,4,0,4]
["Especialización en Enfermería Oncológica (1)",1,0,1,{"$f":"+F282+G282","v":1},0,1]
["Especialización en Enfermería Pediátrica (1)",1,0,1,{"$f":"+F283+G283","v":1},0,1]
["Maestría en Salud Comunitaria",{"$f":"+C284+D284","v":0},0,0,2,0,2]
["Especialización en Enfermería en Cuidados Intensivos a Niños/as y Adolescentes",23,2,21,0,0,0]
[]
["FACULTAD DE PSICOLOGÍA",{"$f":"+C287+D287","v":167},{"$f":"SUM(C288:C296)","v":43},{"$f":"SUM(D288:D296)","v":124},{"$f":"+F287+G287","v":47},{"$f":"SUM(F288:F296)","v":5},{"$f":"SUM(G288:G296)","v":42}]
["Diploma en Psicogerontología",{"$f":"+C288+D288","v":0},0,0,{"$f":"C288=+F288+G288","v":false},0,7]
["Maestría en Psicología Clínica",{"$f":"+C289+D289","v":35},11,24,{"$f":"+F289+G289","v":10},1,9]
["Maestría en Psicología Social",39,15,24,15,3,12]
["Especialización en Evaluación Clínica",12,1,11,3,0,3]
["Especialización en Evaluación Psicolaboral",13,1,12,1,0,1]
["Maestría en Psicología y Educación",40,10,30,11,1,10]
["Doctorado en Psicología",10,3,7,0,0,0]
["Especialización en Evaluación Judicial y Forense",{"$f":"+C295+D295","v":13},2,11,{"$f":"+F295+G295","v":0},0,0]
["Especialización en Psicología  en Servicios de Salud",{"$f":"+C296+D296","v":5},0,5,{"$f":"+F296+G296","v":0},0,0]
[]
["Área Social - Comisión Sectorial de Enseñanza",{"$f":"+C298+D298","v":1},{"$f":"SUM(C299:C299)","v":0},{"$f":"SUM(D299:D299)","v":1},{"$f":"+F298+G298","v":13},{"$f":"SUM(F299:F299)","v":4},{"$f":"SUM(G299:G299)","v":9}]
["Maestría en Enseñanza Universitaria",{"$f":"+C299+D299","v":1},0,1,{"$f":"+F299+G299","v":13},4,9]
[]
["CCEE y Medicina",{"$f":"+C301+D301","v":17},{"$f":"SUM(C302:C302)","v":9},{"$f":"SUM(D302:D302)","v":8},{"$f":"+F301+G301","v":25},{"$f":"SUM(F302:F302)","v":11},{"$f":"SUM(G302:G302)","v":14}]
["Posgrado de Especialización en Gestión de Servicios de Salud",{"$f":"+C302+D302","v":17},9,8,{"$f":"+F302+G302","v":25},11,14]
[]
["Ciencias, Química e Ingeniería",{"$f":"SUM(B305:B305)","v":10},{"$f":"SUM(C305:C305)","v":9},{"$f":"SUM(D305:D305)","v":1},{"$f":"+F304+G304","v":2},{"$f":"SUM(F305:F305)","v":1},{"$f":"SUM(G305:G305)","v":1}]
["Maestría en Bioinformática (PEDECIBA) ",{"$f":"+C305+D305","v":10},9,1,{"$f":"+F305+G305","v":2},1,1]
[]
["FACULTAD DE CIENCIAS ECONÓMICAS Y ADMINISTRACIÓN, FAC DE CIENCIAS SOCIALES Y UNIVERSIDAD DE SIENA",{"$f":"+C307+D307","v":0},{"$f":"SUM(C308:C308)","v":0},{"$f":"SUM(D308:D308)","v":0},{"$f":"+F307+G307","v":6},{"$f":"SUM(F308)","v":2},{"$f":"SUM(G308)","v":4}]
["Maestría en Economía y Gestión del Turismo Sustentable",{"$f":"+C308+D308","v":0},0,0,{"$f":"+F308+G308","v":6},2,4]
[]
["Cs.Soc., Derecho, Medicina y Psicología",{"$f":"+C310+D310","v":50},{"$f":"C311+C312","v":5},{"$f":"D311+D312","v":45},{"$f":"+F310+G310","v":9},{"$f":"F311+F312","v":4},{"$f":"G311+G312","v":5}]
["Maestría en Derechos de Infancia y Políticas Públicas",{"$f":"+C311+D311","v":50},5,45,{"$f":"+F311+G311","v":2},0,2]
["Especialización en Derechos de Infancia y Políticas Públicas",{"$f":"+C312+D312","v":0},0,0,{"$f":"+F312+G312","v":7},4,3]
[]
["IPES (ANEP) - UdelaR",{"$f":"+C314+D314","v":211},{"$f":"C315+C324","v":40},{"$f":"D315+D324","v":171},{"$f":"+F314+G314","v":8},{"$f":"F315+F324","v":0},{"$f":"G315+G324","v":8}]
["Montevideo",{"$f":"+C315+D315","v":207},{"$f":"SUM(C316:C322)","v":37},{"$f":"SUM(D316:D322)","v":170},{"$f":"+F315+G315","v":8},{"$f":"SUM(F316:F322)","v":0},{"$f":"SUM(G316:G322)","v":8}]
["Diploma en Didáctica para la Enseñanza Media",{"$f":"+C316+D316","v":0},0,0,{"$f":"+F316+G316","v":4},0,4]
["Diploma en Gestión de Instituciones Educativas",0,0,0,1,0,1]
["Diploma de Especialización en Física",21,12,9,1,0,1]
["Diploma en Educación y Desarrollo",0,0,0,2,0,2]
["Diploma de Especialización en Matemática",36,17,19,0,0,0]
["Diploma de Especialización en Dificultades de Aprendizaje ",100,3,97,0,0,0]
["Maestría en Gramática del Español",50,5,45,0,0,0]
["Salto"]
["Diploma de Especialización en Matemática",4,3,1,0,0,0]
[]
["Nutrición y Dietética",{"$f":"+C326+D326","v":25},{"$f":"C327","v":1},{"$f":"D327","v":24},{"$f":"+F326+G326","v":25},{"$f":"F327","v":1},{"$f":"G327","v":24}]
["Especialización en Nutrición Enfermedades Crónicas No Transmisibles ",{"$f":"+C327+D327","v":25},1,24,{"$f":"+F327+G327","v":25},1,24]
[]
["Facultades de Arquitectura, Ciencias, Ciencias Sociales, Derecho e Ingeniería",{"$f":"C329+D329","v":0},{"$f":"C330","v":0},{"$f":"D330","v":0},{"$f":"F329+G329","v":3},{"$f":"F330","v":2},{"$f":"G330","v":1}]
["Maestría en Manejo Costero Integrado del Cono Sur",{"$f":"C330+D330","v":0},0,0,{"$f":"F330+G330","v":3},2,1]
[]
["Facultades de Ciencias Económicas, Ciencias Sociales y Psicología",{"$f":"+C332+D332","v":0},{"$f":"SUM(C333:C333)","v":0},{"$f":"SUM(D333:D333)","v":0},{"$f":"+F332+G332","v":4},{"$f":"SUM(F333)","v":2},{"$f":"SUM(G333)","v":2}]
["Especialización en Transformación Organizacional",8,0,0,{"$f":"+F333+G333","v":4},2,2]
[]
["Facultades de Ingenieria y Química",{"$f":"+C335+D335","v":0},{"$f":"SUM(C336:C336)","v":0},{"$f":"SUM(D336:D336)","v":0},{"$f":"+F335+G335","v":1},{"$f":"SUM(F336)","v":1},{"$f":"SUM(G336)","v":0}]
["Maestría en Cs. y Tecnología de los Alimentos",{"$f":"+C336+D336","v":0},0,0,{"$f":"+F336+G336","v":1},1,0]
[]
["Facultades de Ciencias y Agronomía ",{"$f":"+C338+D338","v":2},{"$f":"C339","v":0},{"$f":"D339","v":2},{"$f":"+F338+G338","v":0},{"$f":"F339","v":0},{"$f":"G339","v":0}]
["Maestría en Ciencias Nutricionales",{"$f":"+C339+D339","v":2},0,2,{"$f":"+F339+G339","v":0},0,0]
[]
["Agronomía y Veterinaria con INAC",{"$f":"+C341+D341","v":31},{"$f":"C342","v":13},{"$f":"D342","v":18},19,{"$f":"F342","v":10},{"$f":"G342","v":9}]
["Especialización en Industria Cárnica",31,13,18,19,10,9]
[]
["Área Social y Artística - Esp. Interdisciplinario",0,{"$f":"C345","v":0},{"$f":"D345","v":0},34,{"$f":"F345","v":15},{"$f":"G345","v":19}]
["Especialización en Gestión Cultural",0,0,0,34,15,19]
[]
["FACULTAD DE INFORMACIÓN Y COMUNICACIÓN (F.I.C.) ",0,{"$f":"C348","v":0},{"$f":"D348","v":0},3,{"$f":"F348","v":0},{"$f":"G348","v":3}]
["Maestría en Información y Comunicación",0,0,0,3,0,3]
[]
["Fuente: Bedelías de los Servicios Universitarios y Sistema de Gestión de Bedelías-SeCIU"]
["Nota:"]
["(1) Egresos por Competencia Notoria"]
["(2) Egresos por Actuación Documentada"]
["PEDECIBA : Programa de Desarrollo de las Ciencias Básicas"]
["El dato de Egresos de Posgrado  2015 es PRELIMINAR"]

{"sheet":"II-7.2.7 ","index":90,"n_rows":180,"n_cols":10,"rows_kept":180,"cut":false,"hidden":false,"merged":[[1,2,3,4],[4,0,4,9],[6,5,6,6],[6,8,6,9],[5,0,7,0],[5,1,7,1],[5,2,5,3],[5,4,7,4],[5,5,5,6],[5,7,7,7],[5,8,5,9],[6,2,6,3],[0,5,1,8]]}
["UNIVERSIDADES PRIVADAS: OFERTA DE POSTGRADO",null,null,null,null,"ALUMNOS MATRICULADOS"]
[]
["Cuadro Nº II-7.2.7"]
[]
["ALUMNOS INGRESADOS, MATRICULADOS Y EGRESADOS EN PROGRAMAS DE POSTGRADO DE UNIVERSIDADES PRIVADAS POR SEXO SEGÚN UNIVERSIDAD Y ACREDITACIÓN. AÑO 2015."]
["UNIVERSIDAD / ACREDITACIÓN","TOTAL","INGRESADOS",null,"TOTAL","MATRICULADOS",null,"TOTAL","EGRESADOS"]
[null,null,"SEXO",null,null,"SEXO",null,null,"SEXO"]
[null,null,"M","F",null,"M","F",null,"M","F"]
["TOTAL",{"$f":"C9+D9","v":1435},{"$f":"C11+C85+C117+C153","v":475},{"$f":"D11+D85+D117+D153","v":960},{"$f":"F9+G9","v":4632},{"$f":"F11+F85+F117+F153","v":1502},{"$f":"G11+G85+G117+G153","v":3130},{"$f":"I9+J9","v":787},{"$f":"I11+I85+I117+I153","v":277},{"$f":"J11+J85+J117+J153","v":510}]
[]
["UCUDAL",{"$f":"C11+D11","v":631},{"$f":"C13+C27+C43+C63+C68+C73+C79+C82","v":126},{"$f":"D13+D27+D43+D63+D68+D73+D79+D82","v":505},{"$f":"F11+G11","v":2283},{"$f":"F13+F27+F43+F63+F68+F73+F79+F82","v":495},{"$f":"G13+G27+G43+G63+G68+G73+G79+G82","v":1788},{"$f":"I11+J11","v":369},{"$f":"I13+I27+I43+I63+I68+I73+I79+I82","v":83},{"$f":"J13+J27+J43+J63+J68+J73+J79+J82","v":286}]
[]
["FACULTAD DE CIENCIAS EMPRESARIALES",{"$f":"C13+D13","v":89},{"$f":"C14+C24","v":37},{"$f":"D14+D24","v":52},{"$f":"F13+G13","v":325},{"$f":"F14+F24","v":156},{"$f":"G14+G24","v":169},{"$f":"I13+J13","v":119},{"$f":"I14+I24","v":44},{"$f":"J14+J24","v":75}]
["Montevideo",{"$f":"C14+D14","v":89},{"$f":"SUM(C15:C23)","v":37},{"$f":"SUM(D15:D23)","v":52},{"$f":"F14+G14","v":287},{"$f":"SUM(F15:F23)","v":143},{"$f":"SUM(G15:G23)","v":144},{"$f":"I14+J14","v":108},{"$f":"SUM(I15:I23)","v":40},{"$f":"SUM(J15:J23)","v":68}]
["Postgrado en Finanzas Corporativas",0,0,0,17,6,11,{"$f":"I15+J15","v":12},6,6]
["Postgrado en Finanzas Bancarias",0,0,0,1,1,0,{"$f":"I16+J16","v":0},0,0]
["Postgrado en Tributaria",9,3,6,20,8,12,16,6,10]
["Postgrado en Marketing",18,3,15,40,11,29,7,3,4]
["Postgrado en Gestión de RRHH",6,0,6,23,6,17,27,5,22]
["Postgrado en Dirección y Administración de Empresas",0,0,0,27,15,12,28,13,15]
["Postgrado en Finanzas",14,6,8,14,6,8,2,1,1]
["Maestría en Dirección de Empresas",38,22,16,141,87,54,16,6,10]
["Maestría en Finanzas",4,3,1,4,3,1,0,0,0]
["Salto",0,{"$f":"C25","v":0},{"$f":"D25","v":0},38,{"$f":"F25","v":13},{"$f":"G25","v":25},11,{"$f":"I25","v":4},{"$f":"J25","v":7}]
["Postgrado en Administración de Empresas",0,0,0,38,13,25,11,4,7]
[]
["FACULTAD DE CIENCIAS HUMANAS",194,{"$f":"SUM(C28:C41)","v":35},{"$f":"SUM(D28:D41)","v":159},702,{"$f":"SUM(F28:F41)","v":144},{"$f":"SUM(G28:G41)","v":558},176,{"$f":"SUM(I28:I41)","v":27},{"$f":"SUM(J28:J41)","v":149}]
["Postgrado en Cambio Organizacional ",2,0,2,25,4,21,18,1,17]
["Postgrado en Comunicación y Cultura",5,0,5,10,3,7,0,0,0]
["Postgrado en Estrategias Comunicacionales",7,3,4,22,7,15,3,2,1]
["Postgrado en Comunicación Organizacional",14,3,11,55,10,45,16,2,14]
["Postgrado en Gestión Educativa",43,8,35,133,30,103,20,8,12]
["Postgrado en Gestión de Centros Educativos",0,0,0,32,8,24,11,2,9]
["Postgrado en Dificultades de Aprendizaje del Lenguaje y Razonamiento",48,1,47,176,9,167,82,6,76]
["Postgrado en Orientación Educativa",11,0,11,30,4,26,2,0,2]
["Maestría en Comunicación - énfasis en Recepción y Cultura",8,2,6,27,9,18,1,1,0]
["Maestría en Educación",26,7,19,83,18,65,14,1,13]
["Maestría en Comunicación Política y Gestión de Campañas",0,0,0,14,7,7,1,1,0]
["Maestría en Estudios Organizacionales",8,2,6,41,14,27,8,3,5]
["Maestría en Evaluación de Sistemas Educativos",0,0,0,9,0,9,0,0,0]
["Maestría en Políticas Públicas",22,9,13,45,21,24,0,0,0]
[]
["FACULTAD DE PSICOLOGÍA",175,{"$f":"SUM(C44:C61)","v":20},{"$f":"SUM(D44:D61)","v":155},715,{"$f":"SUM(F44:F61)","v":98},{"$f":"SUM(G44:G61)","v":617},37,{"$f":"SUM(I44:I61)","v":6},{"$f":"SUM(J44:J61)","v":31}]
["Postgrado en Psiconeuroinmunoendocrinología",22,0,22,72,2,70,2,1,1]
["Postgrado en Psicología Educacional",17,0,17,80,6,74,2,0,2]
["Postgrado en Psicología del Trabajo y Organización",16,0,16,59,3,56,6,0,6]
["Postgrado en Psicología Clínica orientación Cognitiva",16,4,12,64,13,51,5,0,5]
["Postgrado en Drogodependencia",0,0,0,18,8,10,1,1,0]
["Postgrado en Psicología Infantil y del Adolescente",26,2,24,64,4,60,0,0,0]
["Postgrado en Psicología Analítica",3,0,3,16,7,9,2,0,2]
["Postgrado en Psicología Sistémica y Familias",19,2,17,64,6,58,6,1,5]
["Postgrado en Intervención Psicosocial",0,0,0,16,1,15,3,1,2]
["Postgrado en Diabetología",19,5,14,62,17,45,0,0,0]
["Maestría en Intervención Psicopedagógica",2,0,2,24,0,24,0,0,0]
["Maestría en Psicología Educacional",5,1,4,33,5,28,2,2,0]
["Maestría en Psicología Clínica Niños y Adolescentes",9,2,7,38,8,30,0,0,0]
["Maestría en Psicoterapia Jungiana",16,3,13,35,12,23,1,0,1]
["Maestría en Psicología Clínica Familiar Sistémica",0,0,0,9,0,9,1,0,1]
["Maestría en Psicología Clínica orientación Cognitiva",0,0,0,12,1,11,0,0,0]
["Maestría en Nutrición",0,0,0,36,2,34,6,0,6]
["Doctorado en Psicología",5,1,4,13,3,10,0,0,0]
[]
["FACULTAD DE ENFERMERÍA Y TECNOLOGÍAS DE LA SALUD",47,{"$f":"SUM(C64:C66)","v":4},{"$f":"SUM(D64:D66)","v":43},159,{"$f":"SUM(F64:F66)","v":12},{"$f":"SUM(G64:G66)","v":147},19,{"$f":"SUM(I64:I66)","v":2},{"$f":"SUM(J64:J66)","v":17}]
["Postgrado en Gestión de Servicios de Salud",47,4,43,92,10,82,11,2,9]
["Postgrado en Enfermería Oncológica",0,0,0,9,0,9,6,0,6]
["Postgrado en Enfermería Cuidados Intensivos",0,0,0,58,2,56,2,0,2]
[]
["FACULTAD DE ODONTOLOGÍA",67,{"$f":"SUM(C69:C71)","v":12},{"$f":"SUM(D69:D71)","v":55},245,{"$f":"SUM(F69:F71)","v":36},{"$f":"SUM(G69:G71)","v":209},0,{"$f":"SUM(I69:I71)","v":0},{"$f":"SUM(J69:J71)","v":0}]
["Postgrado de Cirugía de Implantes y Prótesis",0,0,0,15,3,12,0,0,0]
["Postgrado de Especialización en Ortodoncia y Ortopedia Bucomaxilofacial",65,11,54,228,32,196,0,0,0]
["Maestría en Tecnología y Gestión de Industria de los alimentos",2,1,1,2,1,1,0,0,0]
[]
["FACULTAD DE INGENIERÍA Y TECNOLOGÍAS ",20,{"$f":"SUM(C74:C77)","v":11},{"$f":"SUM(D74:D77)","v":9},60,{"$f":"SUM(F74:F77)","v":34},{"$f":"SUM(G74:G77)","v":26},5,{"$f":"SUM(I74:I77)","v":4},{"$f":"SUM(J74:J77)","v":1}]
["Postgrado en Ciencia y Tecnología de Alimentos",5,0,5,25,7,18,4,3,1]
["Maestría en Ciencias de la Ingeniería Eléctrica",2,2,0,5,5,0,1,1,0]
["Maestría en Gerencia de Energía",4,3,1,12,8,4,0,0,0]
["Maestría en Gerencia de Tecnologías de la Información",{"$f":"C77+D77","v":9},6,3,{"$f":"F77+G77","v":18},14,4,{"$f":"I77+J77","v":0},0,0]
[]
["FACULTAD DE DERECHO",26,{"$f":"C80","v":7},{"$f":"D80","v":19},57,{"$f":"F80","v":15},{"$f":"G80","v":42},2,{"$f":"I80","v":0},{"$f":"J80","v":2}]
["Maestría en Derecho Civíl",26,7,19,57,15,42,2,0,2]
[]
["Psicología y Enfermería y Tecnologías de la Salud",13,{"$f":"C83","v":0},{"$f":"D83","v":13},20,{"$f":"F83","v":0},{"$f":"G83","v":20},11,{"$f":"I83","v":0},{"$f":"J83","v":11}]
["Maestría en Atención Temprana",13,0,13,20,0,20,11,0,11]
[]
["UNIVERSIDAD ORT URUGUAY",213,{"$f":"C87+C104+C107+C110","v":76},{"$f":"D87+D104+D107+D110","v":137},709,{"$f":"F87+F104+F107+F110","v":267},{"$f":"G87+G104+G107+G110","v":442},193,{"$f":"I87+I104+I107+I110","v":73},{"$f":"J87+J104+J107+J110","v":120}]
[]
["FACULTAD DE ADMINISTRACIÓN Y CIENCIAS SOCIALES",162,{"$f":"SUM(C88:C102)","v":53},{"$f":"SUM(D88:D102)","v":109},506,{"$f":"SUM(F88:F102)","v":196},{"$f":"SUM(G88:G102)","v":310},135,{"$f":"SUM(I88:I102)","v":57},{"$f":"SUM(J88:J102)","v":78}]
["Diploma de Especialización en Recursos Humanos",13,2,11,40,8,32,4,0,4]
["Diploma de Especialización en Finanzas",13,5,8,29,9,20,9,1,8]
["Master en Administración de Empresas",34,17,17,99,56,43,23,14,9]
["Master en Políticas Públicas",0,0,0,0,0,0,0,0,0]
["MBA en Agronegocios",0,0,0,1,1,0,1,1,0]
["Master en Dirección de Recursos Humanos",13,0,13,33,4,29,5,1,4]
["Master en Dirección Financiera",6,5,1,18,10,8,3,1,2]
["Diploma de Especialización en Impuestos",27,10,17,90,29,61,28,7,21]
["Diploma de Especialización en Dirección de Marketing",25,3,22,45,8,37,13,1,12]
["Diploma de Especialización en Contabilidad",8,0,8,37,7,30,10,2,8]
["Master en Impuestos y Normas de Contabilidad - NIIF",6,2,4,27,7,20,8,4,4]
["Diploma de Especialización en Economía",0,0,0,1,0,1,3,3,0]
["Master en Economía",0,0,0,15,11,4,4,3,1]
["Master en Gerencia de Empresas Tecnológicas TIC",12,8,4,55,44,11,22,19,3]
["Master en Contabilidad y Finanzas",5,1,4,16,2,14,2,0,2]
[]
["FACULTAD DE INGENIERÍA",5,{"$f":"C105","v":5},{"$f":"D105","v":0},20,{"$f":"F105","v":16},{"$f":"G105","v":4},1,{"$f":"I105","v":1},{"$f":"J105","v":0}]
["Master en Ingeniería",5,5,0,20,16,4,1,1,0]
[]
["FACULTAD DE ARQUITECTURA",10,{"$f":"C108","v":9},{"$f":"D108","v":1},17,{"$f":"F108","v":12},{"$f":"G108","v":5},1,{"$f":"I108","v":1},{"$f":"J108","v":0}]
["Diploma de Especialización en Negocios Inmobiliarios",10,9,1,17,12,5,1,1,0]
[]
["INSTITUTO DE EDUCACIÓN",36,{"$f":"SUM(C111:C115)","v":9},{"$f":"SUM(D111:D115)","v":27},166,{"$f":"SUM(F111:F115)","v":43},{"$f":"SUM(G111:G115)","v":123},56,{"$f":"SUM(I111:I115)","v":14},{"$f":"SUM(J111:J115)","v":42}]
["Diploma en Educación (a distancia)",0,0,0,2,0,2,18,6,12]
["Master en Educación",21,5,16,94,23,71,15,2,13]
["Diploma en Planificación y Gestión Educativa (a distancia)",0,0,0,2,0,2,11,2,9]
["Master en Gestión Educativa",2,0,2,44,14,30,12,4,8]
["Doctorado en Educación",13,4,9,24,6,18,0,0,0]
[]
["UNIVERSIDAD DE MONTEVIDEO",243,{"$f":"C119+C123+C131+C136+C143+C146+C149","v":126},{"$f":"D119+D123+D131+D136+D143+D146+D149","v":117},672,{"$f":"F119+F123+F131+F136+F143+F146+F149","v":337},{"$f":"G119+G123+G131+G136+G143+G146+G149","v":335},143,{"$f":"I119+I123+I131+I136+I143+I146+I149","v":85},{"$f":"J119+J123+J131+J136+J143+J146+J149","v":58}]
[]
["FACULTAD DE CIENCIAS EMPRESARIALES Y ECONOMÍA",30,{"$f":"C120+C121","v":15},{"$f":"D120+D121","v":15},79,{"$f":"F120+F121","v":42},{"$f":"G120+G121","v":37},12,{"$f":"I120+I121","v":6},{"$f":"J120+J121","v":6}]
["Maestría en Finanzas",23,10,13,53,28,25,9,6,3]
["Maestría en Economía",7,5,2,26,14,12,3,0,3]
[]
["FACULTAD DE DERECHO",60,{"$f":"SUM(C124:C129)","v":24},{"$f":"SUM(D124:D129)","v":36},224,{"$f":"SUM(F124:F129)","v":86},{"$f":"SUM(G124:G129)","v":138},25,{"$f":"SUM(I124:I129)","v":10},{"$f":"SUM(J124:J129)","v":15}]
["Maestría en Derecho Administrativo Económico",5,4,1,17,10,7,2,1,1]
["Maestría en Derecho de la Empresa",3,2,1,30,10,20,5,0,5]
["Maestría en Derecho y Técnica Tributaria",5,1,4,51,19,32,10,4,6]
["Maestría en Derecho LL.M.",28,11,17,57,24,33,2,2,0]
["Maestría en Comercio Internacional e Integración",5,1,4,23,9,14,6,3,3]
["Maestría en Contabilidad y Técnica Tributaria",14,5,9,46,14,32,0,0,0]
[]
["INSTITUTO DE ESTUDIOS EMPRESARIALES",102,{"$f":"SUM(C132:C134)","v":68},{"$f":"SUM(D132:D134)","v":34},227,{"$f":"SUM(F132:F134)","v":151},{"$f":"SUM(G132:G134)","v":76},94,{"$f":"SUM(I132:I134)","v":64},{"$f":"SUM(J132:J134)","v":30}]
["Maestría en Dirección y Administración de Empresas",80,53,27,181,119,62,77,52,25]
["Maestría en Dirección de Empresas de Salud",22,15,7,34,22,12,8,4,4]
["Maestría en Gestión Humana de las Organizaciones",0,0,0,12,10,2,9,8,1]
[]
["CENTRO DE CIENCIAS BIOMÉDICAS",44,{"$f":"SUM(C137:C141)","v":12},{"$f":"SUM(D137:D141)","v":32},122,{"$f":"SUM(F137:F141)","v":43},{"$f":"SUM(G137:G141)","v":79},9,{"$f":"SUM(I137:I141)","v":3},{"$f":"SUM(J137:J141)","v":6}]
["Maestría en Medicina Familiar",9,2,7,26,6,20,9,3,6]
["Maestría en Farmacología Clínica",4,0,4,10,0,10,0,0,0]
["Especialización en Medicina de Emergencia",20,4,16,54,14,40,0,0,0]
["Especialización en Traumatología y Ortopedia",5,4,1,20,18,2,0,0,0]
["Especialización en Mastología",6,2,4,12,5,7,0,0,0]
[]
["FACULTAD DE HUMANIDADES",{"$f":"C143+D143","v":0},{"$f":"C144","v":0},{"$f":"D144","v":0},{"$f":"F143+G143","v":10},{"$f":"F144","v":7},{"$f":"G144","v":3},{"$f":"I143+J143","v":2},{"$f":"I144","v":2},{"$f":"J144","v":0}]
["Maestría en Historia",0,0,0,10,7,3,2,2,0]
[]
["FACULTAD DE COMUNICACIÓN",0,{"$f":"C147","v":0},{"$f":"D147","v":0},1,{"$f":"F147","v":0},{"$f":"G147","v":1},0,{"$f":"I147","v":0},{"$f":"J147","v":0}]
["Maestría en Estudios Latinoamericanos",0,0,0,1,0,1,0,0,0]
[]
["FACULTAD DE INGENIERÍA",7,{"$f":"C150+C151","v":7},{"$f":"D150+D151","v":0},9,{"$f":"F150+F151","v":8},{"$f":"G150+G151","v":1},1,{"$f":"I150+I151","v":0},{"$f":"J150+J151","v":1}]
["Maestría en Investigación Aplicada en Ingeniería",0,0,0,2,1,1,1,0,1]
["Especialización en Producción más Limpia",7,7,0,7,7,0,0,0,0]
[]
["UNIVERSIDAD DE LA EMPRESA",348,{"$f":"C155+C164+C168+C172+C176","v":147},{"$f":"D155+D164+D168+D172+D176","v":201},968,{"$f":"F155+F164+F168+F172+F176","v":403},{"$f":"G155+G164+G168+G172+G176","v":565},82,{"$f":"I155+I164+I168+I172+I176","v":36},{"$f":"J155+J164+J168+J172+J176","v":46}]
[]
["FACULTAD DE CIENCIAS EMPRESARIALES ",87,{"$f":"SUM(C156:C162)","v":50},{"$f":"SUM(D156:D162)","v":37},345,{"$f":"SUM(F156:F162)","v":180},{"$f":"SUM(G156:G162)","v":165},35,{"$f":"SUM(I156:I162)","v":13},{"$f":"SUM(J156:J162)","v":22}]
["Maestría en Dirección y Administración de Empresas",71,40,31,244,137,107,2,0,2]
["Postgrado de Especialización Ejecutivo en Marketing",0,0,0,25,18,7,3,0,3]
["Postgrado de Especialización en Dirección de Recursos Humanos",0,0,0,22,6,16,9,2,7]
["Postgrado de Especialización en Habilidades Gerenciales",0,0,0,6,3,3,6,3,3]
["Postgrado de Especialización en Negocios",0,0,0,20,9,11,12,6,6]
["Postgrado en Tributación y Fiscalidad",0,0,0,28,7,21,3,2,1]
["Maestría en Marketing y Dirección Comercial",16,10,6,0,0,0,0,0,0]
[]
["FACULTAD DE CIENCIAS JURIDÍCAS",38,{"$f":"C165+C166","v":24},{"$f":"D165+D166","v":14},101,{"$f":"F165+F166","v":65},{"$f":"G165+G166","v":36},4,{"$f":"I165+I166","v":1},{"$f":"J165+J166","v":3}]
["Maestría en Derecho de las Relaciones Internacionales y de la Integración en América Latina",38,24,14,82,55,27,2,1,1]
["Maestría en Ciencias Criminológico-Forenses",0,0,0,19,10,9,2,0,2]
[]
["FACULTAD DE CIENCIAS DE LA  EDUCACIÓN",186,{"$f":"C169+C170","v":52},{"$f":"D169+D170","v":134},474,{"$f":"F169+F170","v":135},{"$f":"G169+G170","v":339},8,{"$f":"I169+I170","v":2},{"$f":"J169+J170","v":6}]
["Maestría en Educación",186,52,134,449,128,321,6,1,5]
["Doctorado en Educación",0,0,0,25,7,18,2,1,1]
[]
["FACULTAD DE CIENCIAS AGRARIAS",19,{"$f":"C173+C174","v":14},{"$f":"D173+D174","v":5},19,{"$f":"F173+F174","v":14},{"$f":"G173+G174","v":5},18,{"$f":"I173+I174","v":13},{"$f":"J173+J174","v":5}]
["Maestría en Administración de Agronegocios",8,6,2,8,6,2,0,0,0]
["Posgrado en Administración de Agronegocios",11,8,3,11,8,3,18,13,5]
[]
["FACULTAD DE INGENIERÍA",18,{"$f":"C177+C178","v":7},{"$f":"D177+D178","v":11},29,{"$f":"F177+F178","v":9},{"$f":"G177+G178","v":20},17,{"$f":"I177+I178","v":7},{"$f":"J177+J178","v":10}]
["Diploma Fundamentos en Informática Médica",18,7,11,25,8,17,14,7,7]
["Diploma Avanzado en Informática Médica",0,0,0,4,1,3,3,0,3]
[]
["Fuente: Oficinas Productoras de cada una de las Instituciones. "]

{"sheet":"II-7.2.8 ","index":91,"n_rows":63,"n_cols":10,"rows_kept":63,"cut":false,"hidden":false,"merged":[[6,5,6,6],[6,8,6,9],[63,0,63,5],[0,5,1,8],[4,0,4,9],[5,0,7,0],[5,1,7,1],[5,2,5,3],[5,4,7,4],[5,5,5,6],[5,7,7,7],[5,8,5,9],[6,2,6,3]]}
["INSTITUTOS UNIVERSITARIOS: OFERTA DE POSTGRADO",null,null,null,null,"ALUMNOS MATRICULADOS"]
[]
["Cuadro Nº II-7.2.8"]
[]
["ALUMNOS INGRESADOS, MATRICULADOS Y EGRESADOS EN PROGRAMAS DE POSTGRADO DE INSTITUTOS UNIVERSITARIOS POR SEXO SEGÚN INSTITUTO UNIVERSITARIO Y ACREDITACIÓN. AÑO 2015."]
["INSTITUTO UNIVERSITARIO / ACREDITACIÓN","TOTAL","INGRESADOS",null,"TOTAL","MATRICULADOS",null,"TOTAL","EGRESADOS"]
[null,null,"SEXO",null,null,"SEXO",null,null,"SEXO"]
[null,null,"M","F",null,"M","F",null,"M","F"]
["TOTAL",{"$f":"SUM(C9:D9)","v":368},{"$f":"C11+C28+C31+C34+C37+C40+C44+C52","v":82},{"$f":"D11+D28+D31+D34+D37+D40+D44+D52","v":286},{"$f":"SUM(F9:G9)","v":569},{"$f":"F11+F28+F31+F34+F37+F40+F44+F52","v":220},{"$f":"G11+G28+G31+G34+G37+G40+G44+G52","v":349},{"$f":"SUM(I9:J9)","v":187},{"$f":"I11+I28+I31+I34+I37+I40+I44+I52","v":122},{"$f":"J11+J28+J31+J34+J37+J40+J44+J52","v":65}]
[]
["INST UNIV CLAEH ",{"$f":"+C11+D11","v":109},{"$f":"SUM(C12:C26)","v":23},{"$f":"SUM(D12:D26)","v":86},{"$f":"+F11+G11","v":142},{"$f":"SUM(F12:F26)","v":39},{"$f":"SUM(G12:G26)","v":103},{"$f":"I11+J11","v":39},{"$f":"SUM(I12:I26)","v":9},{"$f":"SUM(J12:J26)","v":30}]
["Especialización en Didáctica de la Historia",{"$f":"+C12+D12","v":23},6,17,{"$f":"+F12+G12","v":14},3,11,{"$f":"+I12+J12","v":0},0,0]
["Especialización en Gestion de Servicios de  Salud",28,5,23,60,21,39,10,4,6]
["Especialización en Didácticas de la Educación Básica",4,0,4,8,0,8,2,0,2]
["Especialización en Docencia de la Educación Media",10,3,7,15,4,11,3,1,2]
["Especialización en Didáctica de la Educación Superior",0,0,0,32,11,21,6,0,6]
["Especialización en Tecnología Educativa",12,3,9,13,0,13,2,0,2]
["Maestria en Tecnología Educativa",4,1,3,0,0,0,2,1,1]
["Maestría en Didácticas de la Educación Básica",3,0,3,0,0,0,2,1,1]
["Maestría en Docencia de la Educación Media",1,0,1,0,0,0,2,1,1]
["Maestría en Didáctica de la Educación Superior",7,0,7,0,0,0,6,1,5]
["Maestría en Política y Gestión de la Educación",2,1,1,0,0,0,0,0,0]
["Maestría en Política y Gestión de la Salud",15,4,11,0,0,0,0,0,0]
["Maestría en Políticas de infancia y adolescencia para la prevención de las Fármacodependencias",0,0,0,0,0,0,2,0,2]
["Diploma en Políticas Sociales",0,0,0,0,0,0,1,0,1]
["Maestría en Políticas Sociales",0,0,0,0,0,0,null,0,1]
[]
["INSTITUTO UNIVERSITARIO DE POSTGRADO EN PSICOANÁLISIS (IUPP) ",{"$f":"+C28+D28","v":7},{"$f":"SUM(C29)","v":1},{"$f":"SUM(D29)","v":6},{"$f":"+F28+G28","v":41},{"$f":"SUM(F29)","v":4},{"$f":"SUM(G29)","v":37},{"$f":"+I28+J28","v":6},{"$f":"SUM(I29)","v":0},{"$f":"SUM(J29)","v":6}]
["Maestría en Psicoanálisis",{"$f":"+C29+D29","v":7},1,6,{"$f":"+F29+G29","v":41},4,37,{"$f":"+I29+J29","v":6},0,6]
[]
["INST METODISTA UNIV CRANDON* ","-","-","-","-","-","-","-","-","-"]
["Posgrado de Especialización en la lengua inglesa","-","-","-","-","-","-","-","-","-"]
[]
["INST UNIV CEDIIAP",{"$f":"+C34+D34","v":0},{"$f":"SUM(C35)","v":0},{"$f":"SUM(D35)","v":0},{"$f":"+F34+G34","v":3},{"$f":"SUM(F35)","v":0},{"$f":"SUM(G35)","v":3},{"$f":"+I34+J34","v":4},{"$f":"SUM(I35)","v":0},{"$f":"SUM(J35)","v":4}]
["Postgrado Dif.del Aprendizaje",{"$f":"+C35+D35","v":0},0,0,{"$f":"+F35+G35","v":3},0,3,{"$f":"+I35+J35","v":4},0,4]
[]
["INSTITUTO UNIVERSITARIO CENTRO DE ESTUDIO Y DIAGNOSTICO DE LAS DISGNANCIAS DEL URUGUAY (IUCEDDU)",{"$f":"+C37+D37","v":4},{"$f":"C38","v":1},{"$f":"D38","v":3},{"$f":"+F37+G37","v":34},{"$f":"F38","v":10},{"$f":"G38","v":24},{"$f":"+I37+J37","v":2},{"$f":"I38","v":1},{"$f":"J38","v":1}]
["Especialización en Ortopedia y Ortodoncia Maxilo facial",4,1,3,34,10,24,2,1,1]
[]
["Centro de Altos Estudios Nacionales (CALEN)",{"$f":"+C40+D40","v":43},{"$f":"C41+C42","v":27},{"$f":"D41+D42","v":16},{"$f":"+F40+G40","v":43},{"$f":"F41+F42","v":27},{"$f":"G41+G42","v":16},{"$f":"+I40+J40","v":32},{"$f":"I41+I42","v":28},{"$f":"J41+J42","v":4}]
["Primer Año Maestría en Estrategia Nacional",{"$f":"+C41+D41","v":23},13,10,{"$f":"+F41+G41","v":23},13,10,{"$f":"+I41+J41","v":29},25,4]
["Segundo Año Maestría en Estrategia Nacional",{"$f":"+C42+D42","v":20},14,6,{"$f":"+F42+G42","v":20},14,6,3,3,0]
[]
["Escuela de Guerra Naval (ESGUE)",{"$f":"C44+D44","v":16},{"$f":"SUM(C45:C50)","v":3},{"$f":"SUM(D45:D50)","v":13},{"$f":"F44+G44","v":117},{"$f":"SUM(F45:F50)","v":113},{"$f":"SUM(G45:G50)","v":4},{"$f":"I44+J44","v":82},{"$f":"SUM(I45:I50)","v":80},{"$f":"SUM(J45:J50)","v":2}]
["Curso perfec. Of. Subalternos",5,0,5,{"$f":"F45+G45","v":55},52,3,39,38,1]
["Curso perfec. Of. Jefes",8,0,8,{"$f":"F46+G46","v":31},31,0,18,18,0]
["Curso perf. Of. Superiores",2,2,0,{"$f":"F47+G47","v":11},11,0,11,11,0]
["Curso de Mando para TT/NN",1,1,0,{"$f":"F48+G48","v":10},9,1,5,4,1]
["Curso Estado Mayor Gral.",0,0,0,{"$f":"F49+G49","v":9},9,0,9,9,0]
["Curso Estado Mayor Técnico",0,0,0,1,1,0,0,0,0]
[]
["Instituto de Perfeccionamiento y Estudios Superiores -IPES",189,{"$f":"SUM(C53:C60)","v":27},{"$f":"SUM(D53:D60)","v":162},189,{"$f":"SUM(F53:F60)","v":27},{"$f":"SUM(G53:G60)","v":162},22,{"$f":"SUM(I53:I60)","v":4},{"$f":"SUM(J53:J60)","v":18}]
["Posgrado de Dificultades de Aprendizaje",100,3,97,100,3,97,0,0,0]
["Posgrados Matemática",39,19,20,39,19,20,0,0,0]
["Especialización y Maestría en Gramática del español",50,5,45,50,5,45,0,0,0]
["Posgrado en Gestión de Instituciones Educativas ",0,0,0,0,0,0,0,0,0]
["Posgrado en Didáctica para la Enseñanza Media",0,0,0,0,0,0,10,1,9]
["Diploma de Especialización en Física",0,0,0,0,0,0,8,0,8]
["Diploma de Posgrado en Geografía ",0,0,0,0,0,0,3,3,0]
["Diploma en Educación y Desarrollo",0,0,0,0,0,0,1,0,1]
[]
["Fuente: Oficinas Productoras de cada una de las Instituciones. "]
["* En el 2015 no se dictó el Posgrado de Especialización en la lengua inglesa"]

{"sheet":"II-7.2.9","index":92,"n_rows":47,"n_cols":17,"rows_kept":47,"cut":false,"hidden":false,"merged":[[42,0,42,8],[43,0,43,8],[44,0,44,9],[45,0,45,9],[46,0,46,8],[46,9,46,11],[0,0,0,2],[2,0,2,16],[3,0,3,16],[4,1,4,16],[41,0,41,8]]}
["Ministerio de Educación y Cultura\nDirección de Educación\n"]
[]
["Cuadro II-7.2.9"]
["EVOLUCIÓN DE LA MATRÍCULA DE LAS INSTITUCIONES UNIVERSITARIAS (2000 – 2015)."]
["INSTITUCIONES","AÑO LECTIVO"]
["UNIVERSITARIAS",2000,2001,2002,2003,2004,2005,2006,2007,2008,2009,2010,2011,2012,"2013 (**)","2014 (**)","2015 (**)"]
[]
["TOTAL  ",78634,79678,79761,79862,79650,85019,86802,131000,132905,133699,135288,{"$f":"M10+M23+M37","v":151169},{"$f":"N10+N23+N37","v":155916},{"$f":"O10+O23+O37","v":159788},{"$f":"P10+P23+P37","v":160240},{"$f":"Q10+Q23+Q37","v":166622}]
[]
["Total Universidades   ",78419,79340,79353,79449,79057,83621,85153,129122,130136,131409,132726,{"$f":"M14+M18","v":148133},{"$f":"N14+N18","v":153627},{"$f":"O14+O18","v":157511},{"$f":"P14+P18","v":158118},{"$f":"Q12+Q18","v":164341}]
[]
["Universidades Públicas",{"$f":"B14+B16","v":74454},{"$f":"C14+C16","v":79016},83857,88994,94447,100233,106374,112891,116290,119791,123398,127114,130941,{"$f":"O14+O16","v":133911},{"$f":"P14+P16","v":133966},{"$f":"Q14+Q16","v":139923}]
[]
["UdelaR ",74454,79016,83857,88994,94447,100233,106374,112891,116290,119791,123398,127114,130941,133911,133911,139754]
[]
["UTEC",null,null,null,null,null,null,null,null,null,null,null,null,null,null,55,169]
[]
["Universidades Privadas  ",8263,9184,9197,9293,{"$f":"SUM(F19:F22)","v":8901},13465,14997,16231,17245,18518,19835,21019,22686,{"$f":"SUM(O19:O22)","v":23600},{"$f":"SUM(P19:P22)","v":24207},{"$f":"SUM(Q19:Q22)","v":24418}]
["Univ Católica del Uruguay  ",4057,4180,3591,3849,3286,5580,5911,6401,7126,7227,7996,{"$f":"6655+2244","v":8899},9478,9402,9349,9496]
["Univ ORT Uruguay  ",3445,3572,3900,3777,3827,5674,5863,6118,6442,7202,7199,{"$f":"6991+631","v":7622},7511,8208,8345,8194]
["Univ de la Empresa ",0,609,909,790,872,911,1611,1756,1739,2064,2465,{"$f":"1667+472","v":2139},3475,3743,4155,4134]
["Univ de Montevideo  ",575,775,749,824,916,1300,1612,1956,1938,2025,2175,{"$f":"1780+579","v":2359},2222,2247,2358,2594]
["Total Institutos Universitarios  ",{"$f":"SUM(B24:B34)","v":215},338,408,413,593,1398,1649,1878,2769,2290,2562,2930,2132,2132,1937,{"$f":"SUM(Q24:Q36)","v":2121}]
["IU Autónomo del Sur ",215,211,218,184,195,318,428,414,428,515,605,691,"n/c","n/c","n/c","n/c"]
["IU Asoc Cristiana de Jóvenes ",0,93,140,141,184,407,508,449,352,346,427,515,587,639,603,520]
["IU CLAEH ",0,0,0,39,91,283,412,483,483,740,651,{"$f":"354+352","v":706},532,607,679,680]
["IU Monseñor Mariano Soler ",0,0,0,0,59,65,50,83,54,50,42,61,61,59,64,70]
["IU Asoc Psico del Uruguay",0,0,0,0,35,25,31,29,34,38,40,48,42,45,35,41]
["IU Crandon ",0,0,0,0,29,60,59,72,21,89,78,{"$f":"48+9","v":57},48,41,20,20]
["IU San Francisco de Asis ",0,0,0,0,0,83,161,202,202,237,380,489,441,435,393,437]
["IU Bios",0,0,0,0,0,157,0,146,178,112,109,94,68,"n/c","n/c","n/c"]
["IU Maldonado-Punta del Este","n/c","n/c","n/c","n/c","n/c","n/c","n/c","n/c",1017,"n/c","n/c","n/c","n/c","n/c","n/c","n/c"]
["Fundación Politécnico Punta del Este","n/c","n/c","n/c","n/c","n/c","n/c","n/c","n/c","n/c","n/c","n/c","n/c",42,41,39,41]
["IU CEDIIAP ",0,34,50,49,0,0,0,0,0,163,230,{"$f":"227+42","v":269},311,265,104,89]
["IUCEDDU",null,null,null,null,null,null,null,null,null,null,null,null,null,null,null,34]
["IPES",null,null,null,null,null,null,null,null,null,null,null,null,null,null,null,189]
["Total Área Seguridad y Defensa","n/c","n/c","n/c","n/c","n/c","n/c","n/c","n/c","n/c","n/c","n/c",{"$f":"SUM(M38:M52)","v":106},{"$f":"SUM(N38:N52)","v":157},{"$f":"SUM(O38:O41)","v":145},{"$f":"SUM(P38:P41)","v":185},{"$f":"SUM(Q38:Q41)","v":160}]
["Escuela Nacional de Policía *","n/c","n/c","n/c","n/c","n/c","n/c","n/c","n/c","n/c","n/c","n/c","s/d",77,52,27,"-"]
["Escuela Naval","n/c","n/c","n/c","n/c","n/c","n/c","n/c","n/c","n/c","n/c","n/c","s/d",25,"s/d","s/d","s/d"]
["CALEN","n/c","n/c","n/c","n/c","n/c","n/c","n/c","n/c","n/c","n/c","n/c",106,55,62,49,43]
["Escuela de Guerra Naval",null,null,null,null,null,null,null,null,null,null,null,null,null,31,109,117]
["Fuentes: Oficinas productoras de cada una de las instituciones"]
[" (**) Proyección de Matrícula de Estudiantes de Grado de la UdelaR (División de Estadística, año 2015). (Incluye carreras técnicas, tecnológicas y de grado)."]
["Las Universidades privadas e Institutos Universitarios incluyen grado y postgrado. "]
["Para el instituto CEDIIAP no se incluye información de los años anteriores por no haber reportado información en el períodos 2004-2008. "]
["El Instituto Universitario \"Instituto de Estudios para la Salud y el Desarrollo Florence Ninghtingale\" (INSADE), que registrara actividad en los años 2000 a 2003 de la serie presentada, luego no reportó información, por lo cual fue retirado de la tabla. Sin embargo la matrícula correspondiente a dichos años sigue incluida en el ítem \"Total de Institutos Universitarios\"."]
["* En la Escuela Nacional de Policía durante el 2015 no se dictó  la Licenciatura en Seguridad Pública"]

{"sheet":"II-7.2.10 ","index":93,"n_rows":173,"n_cols":11,"rows_kept":173,"cut":false,"hidden":false,"merged":[[173,0,173,5],[0,3,1,6],[4,0,4,10],[5,0,8,0],[5,1,5,10],[6,1,8,1],[6,2,6,4],[6,5,6,7],[6,8,6,10],[7,2,8,2],[7,3,7,4],[7,5,8,5],[7,6,7,7],[7,8,8,8],[7,9,7,10],[171,0,171,10]]}
["UNIVERSIDADES E INSTITUTOS UNIVERSITARIOS",null,null,"PERSONAL ACADÉMICO"]
[]
["Cuadro Nº II-7.2.10"]
[]
["PERSONAL DOCENTE Y NO DOCENTE DE INSTITUCIONES UNIVERSITARIAS PÚBLICAS Y PRIVADAS EXPRESADAS EN POSICIONES FUNCIONALES POR CARGA HORARIA SEMANAL SEGÚN INSTITUCIÓN, ACTIVIDAD Y SEXO. AÑO 2015."]
["INSTITUCIÓN / ACTIVIDAD","Carga horaria semanal"]
[null,"TOTAL","19 y -",null,null,"20 a 39",null,null,"40 y +"]
[null,null,"Total","Sexo",null,"Total","Sexo",null,"Total","Sexo"]
[null,null,null,"M","F",null,"M","F",null,"M","F"]
["TOTAL DOCENTE Y NO DOCENTE",{"$f":"+C10+F10+I10","v":42428},{"$f":"+C11+C12","v":13528},{"$f":"SUM(D11:D12)","v":3441},{"$f":"SUM(E11:E12)","v":2520},{"$f":"+F11+F12","v":16257},{"$f":"SUM(G11:G12)","v":578},{"$f":"SUM(H11:H12)","v":411},{"$f":"+I11+I12","v":12643},{"$f":"SUM(J11:J12)","v":314},{"$f":"SUM(K11:K12)","v":352}]
["Total Personal Docente",{"$f":"+C11+F11+I11","v":29081},{"$f":"C15+C19+C23+C27","v":13187},{"$f":"D15+D23+D27","v":3306},{"$f":"E15+E23+E27","v":2314},{"$f":"F15+F19+F23+F27","v":11282},518,292,{"$f":"I15+I19+I23+I27","v":4612},165,129]
["Total Personal NO Docente",{"$f":"+C12+F12+I12","v":13347},{"$f":"C16+C20+C24+C28","v":341},{"$f":"D16+D24+D28","v":135},206,{"$f":"F16+F20+F24+F28","v":4975},{"$f":"G16+G24+G28","v":60},{"$f":"H16+H24+H28","v":119},{"$f":"I16+I20+I24+I28","v":8031},149,223]
[]
["TOTAL UNIVERSIDADES PÚBLICAS DOCENTE Y NO DOCENTE",{"$f":"+C14+F14+I14","v":17482},{"$f":"+C15+C16","v":3785},{"$f":"SUM(D15:D16)","v":1},{"$f":"SUM(E15:E16)","v":1},{"$f":"+F15+F16","v":7669},{"$f":"SUM(G15:G16)","v":25},{"$f":"SUM(H15:H16)","v":14},{"$f":"+I15+I16","v":6028},{"$f":"SUM(J15:J16)","v":17},{"$f":"SUM(K15:K16)","v":31}]
["Personal Docente de Universidades e Institutos Públicos",{"$f":"+C15+F15+I15","v":11223},{"$f":"C19+C31","v":3785},{"$f":"D19+SUM(D31:D35)+SUM(D156:D160)","v":1},{"$f":"E19+SUM(E31:E35)+SUM(E156:E160)","v":1},5269,{"$f":"G19+SUM(G31:G35)+SUM(G156:G160)","v":21},{"$f":"H19+SUM(H31:H35)+SUM(H156:H160)","v":14},2169,{"$f":"J19+SUM(J31:J35)+SUM(J156:J160)","v":8},{"$f":"K19+SUM(K31:K35)+SUM(K156:K160)","v":4}]
["Personal NO Docente de Universidades e Institutos Públicos",{"$f":"+C16+F16+I16","v":6259},{"$f":"C20+C36","v":0},{"$f":"D20+D36+D161","v":0},{"$f":"E20+E36+E161","v":0},2400,{"$f":"G20+G36+G161","v":4},{"$f":"H20+H36+H161","v":0},3859,{"$f":"J20+J36+J161","v":9},{"$f":"K20+K36+K161","v":27}]
[]
["TOTAL UDELAR DOCENTE Y NO DOCENTE*",{"$f":"+C18+F18+I18","v":17419},{"$f":"+C19+C20","v":3784},{"$f":"SUM(D19:D20)","v":0},{"$f":"SUM(E19:E20)","v":0},{"$f":"+F19+F20","v":7638},{"$f":"SUM(G19:G20)","v":0},{"$f":"SUM(H19:H20)","v":0},{"$f":"+I19+I20","v":5997},{"$f":"SUM(J19:J20)","v":0},{"$f":"SUM(K19:K20)","v":0}]
["Personal Docente UDELAR",{"$f":"+C19+F19+I19","v":11183},3784,"s/d","s/d",5238,"s/d","s/d",2161,"s/d","s/d"]
["Personal NO Docente UDELAR",{"$f":"+C20+F20+I20","v":6236},0,"s/d","s/d",2400,"s/d","s/d",3836,"s/d","s/d"]
[]
["TOTAL PRIVADOS DOCENTE Y NO DOCENTE",{"$f":"+C22+F22+I22","v":7192},{"$f":"+D22+E22","v":5627},{"$f":"+D23+D24","v":3187},{"$f":"+E23+E24","v":2440},{"$f":"+G22+H22","v":947},{"$f":"+G23+G24","v":550},{"$f":"+H23+H24","v":397},{"$f":"+J22+K22","v":618},{"$f":"+J23+J24","v":297},{"$f":"+K23+K24","v":321}]
["Personal Docente de Universidades e Institutos Privados",{"$f":"+C23+F23+I23","v":6396},{"$f":"+D23+E23","v":5342},{"$f":"SUM(D39:D43,D47:D51,D55:D59,D63:D67,D71:D75,D79:D82,D86:D89,D93:D97,D101:D105,D109:D112,D116:D120,D124:D128,D164:D168)","v":3085},{"$f":"SUM(E39:E43,E47:E51,E55:E59,E63:E67,E71:E75,E79:E82,E86:E89,E93:E97,E101:E105,E109:E112,E116:E120,E124:E128,E164:E168)","v":2257},{"$f":"+G23+H23","v":772},{"$f":"SUM(G39:G43,G47:G51,G55:G59,G63:G67,G71:G75,G79:G82,G86:G89,G93:G97,G101:G105,G109:G112,G116:G120,G124:G128,G164:G168)","v":494},{"$f":"SUM(H39:H43,H47:H51,H55:H59,H63:H67,H71:H75,H79:H82,H86:H89,H93:H97,H101:H105,H109:H112,H116:H120,H124:H128,H164:H168)","v":278},{"$f":"+J23+K23","v":282},{"$f":"SUM(J39:J43,J47:J51,J55:J59,J63:J67,J71:J75,J79:J82,J86:J89,J93:J97,J101:J105,J109:J112,J116:J120,J124:J128,J164:J168)","v":157},{"$f":"SUM(K39:K43,K47:K51,K55:K59,K63:K67,K71:K75,K79:K82,K86:K89,K93:K97,K101:K105,K109:K112,K116:K120,K124:K128,K164:K168)","v":125}]
["Personal NO Docente de Universidades e Institutos Privados",{"$f":"+C24+F24+I24","v":796},{"$f":"+D24+E24","v":285},{"$f":"D44+D52+D60+D68+D76+D83+D91+D98+D106+D114+D121+D129+D169","v":102},{"$f":"E44+E52+E60+E68+E76+E83+E91+E98+E106+E114+E121+E129+E169","v":183},{"$f":"+G24+H24","v":175},{"$f":"G44+G52+G60+G68+G76+G83+G91+G98+G106+G114+G121+G129+G169","v":56},{"$f":"H44+H52+H60+H68+H76+H83+H91+H98+H106+H114+H121+H129+H169","v":119},{"$f":"+J24+K24","v":336},{"$f":"J44+J52+J60+J68+J76+J83+J91+J98+J106+J114+J121+J129+J169","v":140},{"$f":"K44+K52+K60+K68+K76+K83+K91+K98+K106+K114+K121+K129+K169","v":196}]
[]
["TOTAL SEGURIDAD Y DEFENSA DOCENTE Y NO DOCENTE",{"$f":"+C26+F26+I26","v":335},{"$f":"+D26+E26","v":332},{"$f":"+D27+D28","v":253},{"$f":"+E27+E28","v":79},{"$f":"+G26+H26","v":3},{"$f":"+G27+G28","v":3},{"$f":"+H27+H28","v":0},{"$f":"+J26+K26","v":0},{"$f":"+J27+J28","v":0},{"$f":"+K27+K28","v":0}]
["Personal Docente Área Seguridad y Defensa",{"$f":"+C27+F27+I27","v":279},{"$f":"+D27+E27","v":276},{"$f":"SUM(D132:D136,D140:D144,D148:D152)","v":220},{"$f":"SUM(E132:E136,E140:E144,E148:E152)","v":56},{"$f":"+G27+H27","v":3},{"$f":"SUM(G132:G136,G140:G144,G148:G152)","v":3},{"$f":"SUM(H132:H136,H140:H144,H148:H152)","v":0},{"$f":"+J27+K27","v":0},{"$f":"SUM(J132:J136,J140:J144,J148:J152)","v":0},{"$f":"SUM(K132:K136,K140:K144,K148:K152)","v":0}]
["Personal NO Docente Área Seguridad y Defensa",{"$f":"+C28+F28+I28","v":56},{"$f":"+D28+E28","v":56},{"$f":"D137+D145+D153","v":33},{"$f":"E137+E145+E153","v":23},{"$f":"+G28+H28","v":0},{"$f":"G137+G145+G153","v":0},{"$f":"H137+H145+H153","v":0},{"$f":"+J28+K28","v":0},{"$f":"J137+J145+J153","v":0},{"$f":"K137+K145+K153","v":0}]
[]
["UNIVERSIDAD TECNOLÓGICA (UTEC)",{"$f":"C30+F30+I30","v":67},{"$f":"D30+E30","v":1},{"$f":"SUM(D31:D36)","v":0},{"$f":"SUM(E31:E36)","v":1},{"$f":"G30+H30","v":33},{"$f":"SUM(G31:G36)","v":19},{"$f":"SUM(H31:H36)","v":14},{"$f":"J30+K30","v":33},{"$f":"SUM(J31:J36)","v":13},{"$f":"SUM(K31:K36)","v":20}]
["Personal Docente",{"$f":"C31+F31+I31","v":40},{"$f":"D31+E31","v":1},0,1,{"$f":"G31+H31","v":31},17,14,{"$f":"J31+K31","v":8},4,4]
["Personal de Investigación y Extensión",1,0,0,0,0,0,0,1,1,0]
["Docente-Investigador",1,0,0,0,1,1,0,0,0,0]
["Personal de Gestión Universitaria",2,0,0,0,1,1,0,1,1,0]
["No desagregable por función",0,0,0,0,0,0,0,0,0,0]
["Personal no docente",23,0,0,0,0,0,0,23,7,16]
[null,0]
["UCUDAL",2380,{"$f":"+D38+E38","v":1827},{"$f":"SUM(D39:D44)","v":945},{"$f":"SUM(E39:E44)","v":882},{"$f":"+G38+H38","v":304},{"$f":"SUM(G39:G44)","v":141},{"$f":"SUM(H39:H44)","v":163},{"$f":"+J38+K38","v":249},{"$f":"SUM(J39:J44)","v":105},{"$f":"SUM(K39:K44)","v":144}]
["Personal Docente",1536,1531,839,692,5,1,4,0,0,0]
["Personal de Investigación y Extensión",0,0,0,0,0,0,0,0,0,0]
["Docente-Investigador",371,155,55,100,156,70,86,60,32,28]
["Personal de Gestión Universitaria",109,8,2,6,40,17,23,61,30,31]
["No desagregable por función",31,0,0,0,31,31,0,0,0,0]
["Personal no docente",333,133,49,84,72,22,50,128,43,85]
[]
["UNIVERSIDAD ORT URUGUAY ",{"$f":"C46+F46+I46","v":2296},{"$f":"+D46+E46","v":1916},{"$f":"SUM(D47:D52)","v":1195},{"$f":"SUM(E47:E52)","v":721},{"$f":"+G46+H46","v":190},{"$f":"SUM(G47:G52)","v":109},{"$f":"SUM(H47:H52)","v":81},{"$f":"+J46+K46","v":190},{"$f":"SUM(J47:J52)","v":99},{"$f":"SUM(K47:K52)","v":91}]
["Personal Docente",{"$f":"C47+F47+I47","v":1561},1546,967,579,14,5,9,1,0,1]
["Personal de Investigación y Extensión",47,38,28,10,7,6,1,2,0,2]
["Docente-Investigador",0,0,0,0,0,0,0,0,0,0]
["Personal de Gestión Universitaria",404,237,173,64,80,43,37,87,47,40]
["No desagregable por función",40,0,0,0,40,40,0,0,0,0]
["Personal no docente",244,95,27,68,49,15,34,100,52,48]
[]
["UNIVERSIDAD DE MONTEVIDEO",{"$f":"C54+F54+I54","v":650},{"$f":"+D54+E54","v":404},{"$f":"SUM(D55:D60)","v":248},{"$f":"SUM(E55:E60)","v":156},{"$f":"+G54+H54","v":226},{"$f":"SUM(G55:G60)","v":164},{"$f":"SUM(H55:H60)","v":62},{"$f":"+J54+K54","v":20},{"$f":"SUM(J55:J60)","v":16},{"$f":"SUM(K55:K60)","v":4}]
["Personal Docente",{"$f":"C55+F55+I55","v":0},0,0,0,0,0,0,0,0,0]
["Personal de Investigación y Extensión",0,0,0,0,0,0,0,0,0,0]
["Docente-Investigador",{"$f":"C57+F57+I57","v":650},404,248,156,226,164,62,20,16,4]
["Personal de Gestión Universitaria",0,0,0,0,0,0,0,0,0,0]
["No desagregable por función",0,0,0,0,0,0,0,0,0,0]
["Personal no docente",{"$f":"C60+F60+I60","v":0},0,0,0,0,0,0,0,0,0]
[]
["UNIVERSIDAD DE LA EMPRESA",{"$f":"C62+F62+I62","v":1075},{"$f":"+D62+E62","v":781},{"$f":"SUM(D63:D68)","v":442},{"$f":"SUM(E63:E68)","v":339},{"$f":"+G62+H62","v":183},{"$f":"SUM(G63:G68)","v":110},{"$f":"SUM(H63:H68)","v":73},{"$f":"+J62+K62","v":111},{"$f":"SUM(J63:J68)","v":57},{"$f":"SUM(K63:K68)","v":54}]
["Personal Docente",{"$f":"C63+F63+I63","v":845},722,416,306,111,74,37,12,10,2]
["Personal de Investigación y Extensión",16,4,3,1,11,7,4,1,1,0]
["Docente-Investigador",33,19,7,12,14,8,6,0,0,0]
["Personal de Gestión Universitaria",20,0,0,0,5,3,2,15,8,7]
["No desagregable por función",7,0,0,0,7,7,0,0,0,0]
["Personal no docente",154,36,16,20,35,11,24,83,38,45]
[]
["INST UNIV ASOCIACIÓN CRISTIANA DE JÓVENES ",{"$f":"C70+F70+I70","v":413},{"$f":"+D70+E70","v":342},{"$f":"SUM(D71:D76)","v":191},{"$f":"SUM(E71:E76)","v":151},{"$f":"+G70+H70","v":39},{"$f":"SUM(G71:G76)","v":25},{"$f":"SUM(H71:H76)","v":14},{"$f":"+J70+K70","v":32},{"$f":"SUM(J71:J76)","v":17},{"$f":"SUM(K71:K76)","v":15}]
["Personal Docente",{"$f":"C71+F71+I71","v":281},{"$f":"+D71+E71","v":281},160,121,{"$f":"+G71+H71","v":0},0,0,{"$f":"+J71+K71","v":0},0,0]
["Personal de Investigación y Extensión",{"$f":"C72+F72+I72","v":40},{"$f":"+D72+E72","v":40},22,18,{"$f":"+G72+H72","v":0},0,0,{"$f":"+J72+K72","v":0},0,0]
["Docente-Investigador",{"$f":"C73+F73+I73","v":0},{"$f":"+D73+E73","v":0},0,0,{"$f":"+G73+H73","v":0},0,0,{"$f":"+J73+K73","v":0},0,0]
["Personal de Gestión Universitaria",49,{"$f":"+D74+E74","v":15},6,9,{"$f":"+G74+H74","v":13},7,6,{"$f":"+J74+K74","v":21},11,10]
["No desagregable por función",10,{"$f":"+D75+E75","v":0},0,0,{"$f":"+G75+H75","v":10},10,0,{"$f":"+J75+K75","v":0},0,0]
["Personal no docente",33,6,3,3,16,8,8,11,6,5]
[]
["INST UNIV CLAEH **",{"$f":"C78+F78+I78","v":0},{"$f":"+D78+E78","v":0},{"$f":"SUM(D79:D83)","v":0},{"$f":"SUM(E79:E83)","v":0},{"$f":"+G78+H78","v":0},{"$f":"SUM(G79:G83)","v":0},{"$f":"SUM(H79:H83)","v":0},{"$f":"+J78+K78","v":0},{"$f":"SUM(J79:J83)","v":0},{"$f":"SUM(K79:K83)","v":0}]
["Personal Docente",0,0,"s/d","s/d",0,"s/d","s/d",0,"s/d","s/d"]
["Personal de Investigación y Extensión",0,0,"s/d","s/d",0,"s/d","s/d",0,"s/d","s/d"]
["Docente-Investigador",0,0,"s/d","s/d",0,"s/d","s/d",0,"s/d","s/d"]
["Personal de Gestión Universitaria",0,0,"s/d","s/d",0,"s/d","s/d",0,"s/d","s/d"]
["Personal no docente",0,0,"s/d","s/d",0,"s/d","s/d",0,"s/d","s/d"]
[]
["INST METODISTA UNIV CRANDON ",{"$f":"C85+F85+I85","v":50},{"$f":"+D85+E85","v":50},{"$f":"SUM(D86:D90)","v":25},{"$f":"SUM(E86:E90)","v":25},{"$f":"+G85+H85","v":0},{"$f":"SUM(G86:G90)","v":0},{"$f":"SUM(H86:H90)","v":0},{"$f":"+J85+K85","v":0},{"$f":"SUM(J86:J90)","v":0},{"$f":"SUM(K86:K90)","v":0}]
["Personal Docente",50,50,25,25,0,0,0,0,0,0]
["Personal de Investigación y Extensión",0,0,0,0,0,0,0,0,0,0]
["Docente-Investigador",0,0,0,0,0,0,0,0,0,0]
["Personal de Gestión Universitaria",0,0,0,0,0,0,0,0,0,0]
["No desagregable por función",0,0,0,0,0,0,0,0,0,0]
["Personal no docente",0,0,0,0,0,0,0,0,0,0]
["INST UNIV DE POSTGRADO EN PSICOANÁLISIS (APU)",41,40,{"$f":"SUM(D93:D98)","v":9},{"$f":"SUM(E93:E98)","v":31},1,{"$f":"SUM(G93:G98)","v":0},{"$f":"SUM(H93:H98)","v":1},0,{"$f":"SUM(J93:J98)","v":0},{"$f":"SUM(K93:K98)","v":0}]
["Personal Docente",40,40,9,31,0,0,0,0,0,0]
["Personal de Investigación y Extensión",0,0,0,0,0,0,0,0,0,0]
["Docente-Investigador",0,0,0,0,0,0,0,0,0,0]
["Personal de Gestión Universitaria",0,0,0,0,0,0,0,0,0,0]
["No desagregable por función",0,0,0,0,0,0,0,0,0,0]
["Personal no docente",1,0,0,0,1,0,1,0,0,0]
[]
["INST UNIV MONSEÑOR MARIANO SOLER ",{"$f":"C100+F100+I100","v":37},{"$f":"+D100+E100","v":37},{"$f":"SUM(D101:D106)","v":33},{"$f":"SUM(E101:E106)","v":4},{"$f":"+G100+H100","v":0},{"$f":"SUM(G101:G106)","v":0},{"$f":"SUM(H101:H106)","v":0},{"$f":"+J100+K100","v":0},{"$f":"SUM(J101:J106)","v":0},{"$f":"SUM(K101:K106)","v":0}]
["Personal Docente",{"$f":"C101+F101+I101","v":37},37,33,4,0,0,0,0,0,0]
["Personal de Investigación y Extensión",0,0,0,0,0,0,0,0,0,0]
["Docente-Investigador",0,0,0,0,0,0,0,0,0,0]
["Personal de Gestión Universitaria",0,0,0,0,0,0,0,0,0,0]
["No desagregable por función",0,0,0,0,0,0,0,0,0,0]
["Personal no docente",0,0,0,0,0,0,0,0,0,0]
[]
["INST UNIV FRANCISCO DE ASIS ",{"$f":"C108+F108+I108","v":112},{"$f":"+D108+E108","v":111},{"$f":"SUM(D109:D114)","v":60},{"$f":"SUM(E109:E114)","v":51},{"$f":"+G108+H108","v":1},{"$f":"SUM(G109:G114)","v":1},{"$f":"SUM(H109:H114)","v":0},{"$f":"+J108+K108","v":0},{"$f":"SUM(J109:J114)","v":0},{"$f":"SUM(K109:K114)","v":0}]
["Personal Docente",97,96,53,43,1,1,0,0,0,0]
["Personal de Investigación y Extensión",0,0,0,0,0,0,0,0,0,0]
["Docente-Investigador",0,0,0,0,0,0,0,0,0,0]
["Personal de Gestión Universitaria",0,0,0,0,0,0,0,0,0,0]
["No desagregable por función",0,0,0,0,0,0,0,{"$f":"+J113+K113","v":0},0,0]
["Personal no docente",15,15,7,8,0,0,0,{"$f":"+J114+K114","v":0},0,0]
["INST UNIV CEDIIAP",{"$f":"C115+F115+I115","v":75},67,{"$f":"SUM(D116:D121)","v":13},{"$f":"SUM(E116:E121)","v":54},1,{"$f":"SUM(G116:G121)","v":0},{"$f":"SUM(H116:H121)","v":1},{"$f":"+J115+K115","v":7},{"$f":"SUM(J116:J121)","v":0},{"$f":"SUM(K116:K121)","v":7}]
["Personal Docente",{"$f":"C116+F116+I116","v":68},67,13,54,1,0,1,0,0,0]
["Personal de Investigación y Extensión",{"$f":"C117+F117+I117","v":0},0,0,0,0,0,0,0,0,0]
["Docente-Investigador",0,0,0,0,0,0,0,0,0,0]
["Personal de Gestión Universitaria",0,0,0,0,0,0,0,0,0,0]
["No desagregable por función",0,0,0,0,0,0,0,0,0,0]
["Personal no docente",7,0,0,0,0,0,0,7,0,7]
[]
["Fundación Politécnico de Punta del Este",43,37,{"$f":"SUM(D124:D129)","v":21},{"$f":"SUM(E124:E129)","v":16},0,{"$f":"SUM(G124:G129)","v":0},{"$f":"SUM(H124:H129)","v":0},6,{"$f":"SUM(J124:J129)","v":3},{"$f":"SUM(K124:K129)","v":3}]
["Personal Docente",39,37,21,16,0,0,0,2,2,0]
["Personal de Investigación y Extensión",0,0,0,0,0,0,0,0,0,0]
["Docente-Investigador",0,0,0,0,0,0,0,0,0,0]
["Personal de Gestión Universitaria",0,0,0,0,0,0,0,0,0,0]
["No desagregable por función",0,0,0,0,0,0,0,0,0,0]
["Personal no docente",4,0,0,0,0,0,0,4,1,3]
[]
["Escuela Nacional de Policía",83,80,{"$f":"SUM(D132:D136)","v":60},{"$f":"SUM(E132:E136)","v":20},3,{"$f":"SUM(G132:G136)","v":3},{"$f":"SUM(H132:H136)","v":0},0,{"$f":"SUM(J132:J136)","v":0},{"$f":"SUM(K132:K136)","v":0}]
["Personal Docente",83,80,60,20,3,3,0,0,0,0]
["Personal de Investigación y Extensión",0,0,0,0,0,0,0,0,0,0]
["Docente-Investigador",0,0,0,0,0,0,0,0,0,0]
["Personal de Gestión Universitaria",0,0,0,0,0,0,0,0,0,0]
["No desagregable por función",0,0,0,0,0,0,0,0,0,0]
["Personal no docente",0,0,0,0,0,0,0,0,0,0]
[]
["Centro de Altos Estudios Nacionales",{"$f":"C139+F139+I139","v":140},{"$f":"+D139+E139","v":140},{"$f":"SUM(D140:D145)","v":104},{"$f":"SUM(E140:E145)","v":36},{"$f":"+G139+H139","v":0},{"$f":"SUM(G140:G145)","v":0},{"$f":"SUM(H140:H145)","v":0},{"$f":"+J139+K139","v":0},{"$f":"SUM(J140:J145)","v":0},{"$f":"SUM(K140:K145)","v":0}]
["Personal Docente",{"$f":"C140+F140+I140","v":69},69,57,12,0,0,0,0,0,0]
["Personal de Investigación y Extensión",20,20,14,6,0,0,0,0,0,0]
["Docente-Investigador",20,20,14,6,0,0,0,0,0,0]
["Personal de Gestión Universitaria",2,2,1,1,0,0,0,0,0,0]
["No desagregable por función",0,0,0,0,0,0,0,0,0,0]
["Personal no docente",29,29,18,11,0,0,0,0,0,0]
[]
["Escuela de Guerra Naval (ESGUE)",{"$f":"C147+F147+I147","v":112},{"$f":"D147+E147","v":112},{"$f":"SUM(D148:D153)","v":89},{"$f":"SUM(E148:E153)","v":23},{"$f":"G147+H147","v":0},{"$f":"SUM(G148:G153)","v":0},{"$f":"SUM(H148:H153)","v":0},{"$f":"J147+K147","v":0},{"$f":"SUM(J148:J153)","v":0},{"$f":"SUM(K148:K153)","v":0}]
["Personal Docente",{"$f":"C148+F148+I148","v":84},{"$f":"D148+E148","v":84},74,10,0,0,0,0,0,0]
["Personal de Investigación y Extensión",1,{"$f":"D149+E149","v":1},0,1,0,0,0,0,0,0]
["Docente-Investigador",0,0,0,0,0,0,0,0,0,0]
["Personal de Gestión Universitaria",0,0,0,0,0,0,0,0,0,0]
["No desagregable por función",0,0,0,0,0,0,0,0,0,0]
["Personal no docente",27,27,15,12,0,0,0,0,0,0]
[]
["IPES",22,1,{"$f":"SUM(D156:D161)","v":1},{"$f":"SUM(E156:E161)","v":0},6,{"$f":"SUM(G156:G161)","v":6},{"$f":"SUM(H156:H161)","v":0},15,{"$f":"SUM(J156:J161)","v":4},{"$f":"SUM(K156:K161)","v":11}]
["Personal Docente",5,1,1,0,2,2,0,2,2,0]
["Personal de Investigación y Extensión",0,0,0,0,0,0,0,0,0,0]
["Docente-Investigador",0,0,0,0,0,0,0,0,0,0]
["Personal de Gestión Universitaria",0,0,0,0,0,0,0,0,0,0]
["No desagregable por función",0,0,0,0,0,0,0,0,0,0]
["Personal no docente",17,0,0,0,4,4,0,13,2,11]
[]
["IUCEDDU",20,15,{"$f":"SUM(D164:D169)","v":5},{"$f":"SUM(E164:E169)","v":10},2,{"$f":"SUM(G164:G169)","v":0},{"$f":"SUM(H164:H169)","v":2},3,{"$f":"SUM(J164:J169)","v":0},{"$f":"SUM(K164:K169)","v":3}]
["Personal Docente",15,15,5,10,0,0,0,0,0,0]
["Personal de Investigación y Extensión",0,0,0,0,0,0,0,0,0,0]
["Docente-Investigador",0,0,0,0,0,0,0,0,0,0]
["Personal de Gestión Universitaria",0,0,0,0,0,0,0,0,0,0]
["No desagregable por función",0,0,0,0,0,0,0,0,0,0]
["Personal no docente",5,0,0,0,2,0,2,3,0,3]
[]
["Fuente: Oficinas Productoras de cada una de las Instituciones. "]
["Nota:* Padrón Setiembre 2014 - SECIU. No se dispone de la información discriminada por sexo. "]
["**La institución cambió los sistemas de información y a la fecha del relevamiento no pudieron enviar el dato sobre docentes"]

{"sheet":"II-7.2.11 ","index":94,"n_rows":83,"n_cols":7,"rows_kept":83,"cut":false,"hidden":false,"merged":[[82,0,82,6],[83,0,83,7],[0,2,1,4],[4,0,4,6],[5,0,6,0],[5,1,6,1],[5,2,5,5],[81,0,81,6]]}
["UNIVERSIDADES  E INSTITUTOS UNIVERSITARIOS",null,"ALUMNOS MATRICULADOS"]
[]
["Cuadro Nº II-7.2. 11"]
[]
["ALUMNOS INGRESADOS Y MATRICULADOS DE GRADO EN UNIVERSIDADES E INSTITUTOS UNIVERSITARIOS, SEGÚN INSTITUCIÓN Y LUGAR DE ORIGEN. AÑO 2015."]
["INSTITUCIÓN / FORMACIÓN","TOTAL","ORIGEN DE LOS ESTUDIANTES"]
[null,null,"Total Uruguay","Montevideo","Interior","Extranjero","Sin dato"]
[]
["UDELAR (*)"]
["Ingresados",{"$f":"SUM(D10:G10)","v":25971},{"$f":"SUM(D10:E10)","v":25643},11581,14062,328,0]
["Matriculados",{"$f":"SUM(D11:G11)","v":0},{"$f":"SUM(D11:E11)","v":0},"s/d","s/d","s/d","s/d"]
[]
["UNIVERSIDAD TECNOLÓGICA (UTEC)"]
["Ingresados",{"$f":"SUM(D14:G14)","v":130},{"$f":"SUM(D14:E14)","v":130},3,127,0,0]
["Matriculados",{"$f":"SUM(D15:G15)","v":169},{"$f":"SUM(D15:E15)","v":169},8,161,0,0]
[]
["UCUDAL"]
["Ingresados",{"$f":"SUM(D18:G18)","v":1300},{"$f":"SUM(D18:E18)","v":1281},802,479,2,17]
["Matriculados",{"$f":"SUM(D19:G19)","v":7127},{"$f":"SUM(D19:E19)","v":6990},4388,2602,137,0]
[]
["UNIVERSIDAD ORT URUGUAY"]
["Ingresados",{"$f":"SUM(D22:G22)","v":1041},{"$f":"SUM(D22:E22)","v":1021},755,266,20,0]
["Matriculados",{"$f":"SUM(D23:G23)","v":7485},{"$f":"SUM(D23:E23)","v":7403},5561,1842,82,0]
[]
["UNIVERSIDAD DE MONTEVIDEO"]
["Ingresados",{"$f":"SUM(D26:G26)","v":452},{"$f":"SUM(D26:E26)","v":450},312,138,2,0]
["Matriculados",{"$f":"SUM(D27:G27)","v":1922},{"$f":"SUM(D27:E27)","v":1905},1346,559,17,0]
[]
["UNIVERSIDAD DE LA EMPRESA"]
["Ingresados",{"$f":"SUM(D30:G30)","v":524},{"$f":"SUM(D30:E30)","v":517},339,178,2,5]
["Matriculados",{"$f":"SUM(D31:G31)","v":3166},{"$f":"SUM(D31:E31)","v":3123},2673,450,10,33]
[]
["INST UNIV ASOCIACIÓN CRISTIANA DE JÓVENES"]
["Ingresados",{"$f":"SUM(D34:G34)","v":180},{"$f":"SUM(D34:E34)","v":0},"s/d","s/d","s/d",180]
["Matriculados",{"$f":"SUM(D35:G35)","v":520},{"$f":"SUM(D35:E35)","v":0},"s/d","s/d","s/d",520]
[]
["INST UNIV CLAEH "]
["Ingresados",{"$f":"SUM(D38:G38)","v":78},{"$f":"SUM(D38:E38)","v":66},21,45,12,0]
["Matriculados",{"$f":"SUM(D39:G39)","v":538},{"$f":"SUM(D39:E39)","v":468},131,337,70,0]
[]
["INST METODISTA UNIV CRANDON "]
["Ingresados",{"$f":"SUM(D42:G42)","v":29},{"$f":"SUM(D42:E42)","v":29},29,0,0,0]
["Matriculados",{"$f":"SUM(D43:G43)","v":30},{"$f":"SUM(D43:E43)","v":30},30,0,0,0]
[]
["INST UNIV MONSEÑOR MARIANO SOLER"]
["Ingresados",{"$f":"SUM(D46:G46)","v":14},{"$f":"SUM(D46:E46,G46)","v":9},6,3,5,0]
["Matriculados",{"$f":"SUM(D47:G47)","v":70},{"$f":"SUM(D47:E47,G47)","v":45},28,17,25,0]
[]
["INST UNIV FRANCISCO DE ASIS"]
["Ingresados",{"$f":"SUM(D50:G50)","v":41},{"$f":"SUM(D50:E50)","v":0},"s/d","s/d","s/d",41]
["Matriculados",{"$f":"SUM(D51:G51)","v":437},{"$f":"SUM(D51:E51)","v":0},"s/d","s/d","s/d",437]
[]
["INST UNIV CEDIIAP"]
["Ingresados",{"$f":"SUM(D54:G54)","v":37},{"$f":"SUM(D54:E54)","v":37},31,6,0,0]
["Matriculados",{"$f":"SUM(D55:G55)","v":86},{"$f":"SUM(D55:E55)","v":86},71,15,0,0]
[]
["FUNDACIÓN POLITÉCNICO DE PUNTA DEL ESTE"]
["Ingresados",{"$f":"SUM(D58:G58)","v":11},{"$f":"SUM(D58:E58)","v":11},3,8,0,0]
["Matriculados",{"$f":"SUM(D59:G59)","v":41},{"$f":"SUM(D59:E59)","v":29},9,20,1,11]
[]
["ESCUELA NACIONAL DE POLICÍA "]
["Ingresados",{"$f":"SUM(D62:G62)","v":183},{"$f":"D62+E62","v":181},81,100,2,0]
["Matriculados",{"$f":"SUM(D63:G63)","v":387},{"$f":"D63+E63","v":385},131,254,2,0]
[]
["ESCUELA NAVAL"]
["Ingresados",{"$f":"SUM(D66:G66)","v":120},{"$f":"D66+E66","v":0},"s/d","s/d","s/d",120]
["Matriculados",{"$f":"SUM(D67:G67)","v":120},{"$f":"D67+E67","v":0},"s/d","s/d","s/d",120]
[]
["ESCUELA MILITAR"]
["Ingresados",{"$f":"SUM(D70:G70)","v":73},{"$f":"D70+E70","v":73},18,55,0,0]
["Matriculados",{"$f":"SUM(D71:G71)","v":184},{"$f":"D71+E71","v":183},72,111,1,0]
[]
["IPES",{"$f":"SUM(D73:G73)","v":0},{"$f":"D73+E73","v":0}]
["Ingresados",189,0,"s/d","s/d","s/d",189]
["Matriculados",189,0,"s/d","s/d","s/d",189]
[]
["IUCEDDU",0,0]
["Ingresados",4,0,"s/d","s/d","s/d",4]
["Matriculados",34,0,"s/d","s/d","s/d",34]
[]
["Fuente: Oficinas Productoras de cada una de las Instituciones. "]
["Nota:  La categoría \"Sin dato\" refiere a los  alumnos de los cuales no se cuenta con información de origen. "]
["* Censo de Estudiantes 2012 - UdelaR. El dato corresponde a la cantidad de personas."]

{"sheet":"EDUCACIÓN DE JÓVENES Y ADUL ","index":95,"n_rows":87,"n_cols":2,"rows_kept":87,"cut":false,"hidden":false,"merged":[]}
[]
[]
[]
[]
[]
[]
[]
[]
["Cuadro II-8.1.1","ALUMNOS MATRICULADOS EN EDUCACIÓN PRIMARIA POR SEXO SEGÚN GRANDES ÁREAS Y DEPARTAMENTO. AÑO 2014. "]
[""]
["Cuadro II-8.1.2","ALUMNOS MATRICULADOS EN TALLERES SEGÚN SEXO, GRANDES ÁREAS Y DEPARTAMENTOS. AÑO 2014."]
[""]
["Cuadro II-8.1.3","CANTIDAD DE PRUEBAS DE ACREDITACIÓN SEGÚN SEXO, GRANDES ÁREAS Y DEPARTAMENTOS. AÑO 2014."]
[""]
["Cuadro II-8.1.4","ALUMNOS MATRICULADOS EN CURSOS DE EDUCACIÓN TÉCNICA PARA JÓVENES Y ADULTOS POR GRANDES ÁREAS Y SEXO SEGÚN TIPO DE CURSO. AÑO 2015. "]
[""]
["Cuadro II-8.1.5","ALUMNOS MATRICULADOS EN CURSOS DE EDUCACIÓN TÉCNICA PARA JÓVENES Y ADULTOS POR EDAD SEGÚN TIPO DE CURSO. AÑO 2015."]
[""]
["Cuadro II-8.1.6","ALUMNOS MATRICULADOS EN EDUCACIÓN  TÉCNICA EN NIVEL DE FORMACION PROFESIONAL. AÑO 2015."]
[""]
["Cuadro II-8.1.7","ALUMNOS MATRICULADOS EN EDUCACIÓN TÉCNICA POR TIPO DE CURSO SEGÚN ÁREAS Y SECTORES DE ESTUDIO. AÑO 2015."]
[""]
["Cuadro II-8.1.8","ALUMNOS INGRESADOS, MATRICULADOS Y EGRESADOS EN CECAP POR SEXO, SEGÚN DEPARTAMENTO Y EDAD. AÑO 2015."]
[""]
["Cuadro II-8.1.9","ALUMNOS CON EGRESO ANTICIPADO Y DESVINCULADOS DE CECAP POR SEXO, SEGÚN DEPARTAMENTO Y EDAD. AÑO 2015."]
[""]
["Cuadro II-8.1.10","ALUMNOS INGRESADOS, MATRICULADOS Y EGRESADOS EN OFERTAS EDUCATIVAS NO TERCIARIAS DE UNIVERSIDADES PRIVADAS POR SEXO. AÑO 2015."]
[""]
[""]
[]
["Cuadro II-8.2.1","PERSONAL DOCENTE  DE CECAP, TITULADO Y NO TITULADO, POR SEXO, REGIÓN Y DEPARTAMENTO SEGÚN CARGA HORARIA SEMANAL. AÑO 2015. "]
[""]
["Cuadro II-8.2.2","DOCENTES POR SEXO SEGÚN GRANDES ÁREAS Y DEPARTAMENTO. AÑO 2013."]
[""]
[""]
["Cuadro II-8.3.1","CANTIDAD DE CURSOS, DE HORAS Y DE ALUMNOS MATRICULADOS SEGÚN TIPO DE CURSO Y ÁREA DE FORMACIÓN COCAP. AÑO 2015."]
[""]
[""]
[]
["Cuadro II-8.4.1 ","MATRÍCULA Y PERSONAL DOCENTE POR SEXO SEGÚN TIPO DE INSTITUCIÓN, ÁREAS DE CONOCIMIENTO E INSTITUCIONES. AÑO 2015."]
[""]
["Cuadro II-8.4.2","INGRESADOS, MATRÍCULA, DESVINCULADOS Y EGRESADOS DEL RELEVAMIENTO DE INSTITUCIONES DE FORMACIÓN TÉCNICO-PROFESIONAL SEGÚN REGIÓN Y ÁREAS DE CONOCIMIENTO. AÑO 2015."]
[""]
[""]
[]
[]
[]
[]
[]
[]
[]
[]
[]
[]
[]
[]
[{"$f":"MID(B22,1,20)","v":""}]
[]
[]
[]
[]
[]
[{"$f":"MID(B28,1,20)","v":""}]
[{"$f":"MID(B29,1,20)","v":""}]
[]
[{"$f":"MID(B32,1,20)","v":""}]
[]
[]
[{"$f":"MID(B35,1,20)","v":""}]
[]
[{"$f":"MID(B37,1,20)","v":""}]
[{"$f":"MID(B38,1,20)","v":""}]
[]
[{"$f":"MID(B41,1,20)","v":""}]
[]
[""]
[""]
[""]
[""]
[""]
[""]
[""]
[""]
[""]
[""]
[""]
[""]

{"sheet":" II-8.1.1","index":96,"n_rows":34,"n_cols":10,"rows_kept":34,"cut":false,"hidden":false,"merged":[[6,7,7,7],[6,8,6,9],[0,2,0,4],[1,0,1,1],[2,2,3,3],[5,0,5,6],[6,0,7,0],[6,1,7,1],[6,2,6,3],[6,4,7,4],[6,5,6,6]]}
["ANEP",null,"ALUMNOS MATRICULADOS"]
["CODICEN – PROGRAMA NACIONAL DE JÓVENES Y ADULTOS"]
[]
["Cuadro Nº  II-8.1.1"]
[]
["ALUMNOS MATRICULADOS EN EDUCACIÓN PRIMARIA POR SEXO SEGÚN GRANDES ÁREAS Y DEPARTAMENTO. AÑO 2014."]
["GRANDES ÁREAS Y DEPARTAMENTOS","TOTAL","PRIMER  TRAMO: NIVEL I",null,"TOTAL","SEGUNDO TRAMO: NIVEL II",null,"TOTAL","CICLO PRIMARIO TOTAL"]
[null,null,"M","F",null,"M","F",null,"M","F"]
["TOTAL",{"$f":"+B10+B11","v":1097},{"$f":"+C10+C11","v":543},554,2039,1075,964,3136,1618,1518]
["MONTEVIDEO",{"$f":"C10+D10","v":538},276,262,{"$f":"F10+G10","v":1019},564,455,{"$f":"I10+J10","v":1557},840,717]
["RESTO DEL PAÍS",{"$f":"SUM(B12:B29)","v":559},{"$f":"SUM(C12:C29)","v":267},292,1020,511,509,1579,778,801]
["Artigas",{"$f":"C12+D12","v":14},6,8,{"$f":"F12+G12","v":36},10,26,{"$f":"I12+J12","v":50},16,34]
["Canelones",136,78,58,228,99,129,364,177,187]
["Cerro Largo",12,7,5,57,24,33,69,31,38]
["Colonia",47,16,31,25,12,13,72,28,44]
["Durazno",10,7,3,29,9,20,39,16,23]
["Flores","-","-","-","-","-","-","-","-","-"]
["Florida",18,7,11,19,10,9,37,17,20]
["Lavalleja",2,1,1,35,24,11,37,25,12]
["Maldonado",60,26,34,60,53,7,120,79,41]
["Paysandú",41,19,22,133,48,85,174,67,107]
["Río Negro",17,8,9,50,19,31,67,27,40]
["Rivera",32,10,22,75,23,52,107,33,74]
["Rocha",14,3,11,8,1,7,22,4,18]
["Salto",33,9,24,15,5,10,48,14,34]
["San José",38,26,12,149,118,31,187,144,43]
["Soriano",38,28,10,47,22,25,85,50,35]
["Tacuarembó",47,16,31,33,18,15,80,34,46]
["Treinta y Tres",{"$f":"C29+D29","v":0},0,0,21,16,5,21,16,5]
[]
["Fuente: ANEP - CODICEN - Dirección Sectorial de Educación de Adultos."]
["Nota: Los datos corresponden a 2013 pues son los últimos disponibles"]
["Observaciones: "]
["El departamento de Flores no cuenta con cargo de Maestro para el período 2013"]

{"sheet":" II-8.1.2","index":97,"n_rows":32,"n_cols":16384,"rows_kept":32,"cut":false,"hidden":false,"merged":[[0,1,0,3],[1,0,1,1],[2,2,3,3],[5,0,6,0],[5,1,6,1],[5,2,5,3],[4,0,4,3]]}
["ANEP","ALUMNOS MATRICULADOS"]
["CODICEN – DIRECCIÓN SECTORIAL DE JÓVENES Y ADULTOSS"]
[]
["Cuadro Nº  II-8.1.2"]
["ALUMNOS MATRICULADOS EN TALLERES POR SEXO SEGÚN GRANDES ÁREAS Y DEPARTAMENTO. AÑO 2014."]
["GRANDES ÁREAS Y DEPARTAMENTOS","TOTAL","TALLERES"]
[null,null,"M","F"]
["TOTAL",{"$f":"+B9+B10","v":4065},{"$f":"C9+C10","v":1587},{"$f":"D9+D10","v":2478}]
["MONTEVIDEO",{"$f":"C9+D9","v":3248},1119,2129]
["RESTO DEL PAÍS",817,468,349]
["Artigas",0,"-","-"]
["Canelones",{"$f":"C12+D12","v":243},184,59]
["Cerro Largo",12,7,5]
["Colonia",33,9,24]
["Durazno",{"$f":"C15+D15","v":0},"-","-"]
["Flores",14,7,7]
["Florida",0,"-","-"]
["Lavalleja",67,22,45]
["Maldonado",18,18,0]
["Paysandú",13,9,4]
["Río Negro",12,11,1]
["Rivera",118,40,78]
["Rocha",0,"-","-"]
["Salto",{"$f":"C24+D24","v":148},84,64]
["San José",0,"-","-"]
["Soriano",37,22,15]
["Tacuarembó",102,55,47]
["Treinta y Tres",0,"-","-"]
["Fuente: ANEP - CODICEN - Dirección Sectorial de Educación de Adultos."]
["Nota: Los datos corresponden a 2013 pues son los últimos disponibles","Nota: Los datos corresponden a 2013 pues son los últimos disponibles","Nota: Los datos corresponden a 2013 pues son los últimos disponibles","Nota: Los datos corresponden a 2013 pues son los últimos disponibles","Nota: Los datos corresponden a 2013 pues son los últimos disponibles","Nota: Los datos corresponden a 2013 pues son los últimos disponibles","Nota: Los datos corresponden a 2013 pues son los últimos disponibles","Nota: Los datos corresponden a 2013 pues son los últimos disponibles","Nota: Los datos corresponden a 2013 pues son los últimos disponibles","Nota: Los datos corresponden a 2013 pues son los últimos disponibles","Nota: Los datos corresponden a 2013 pues son los últimos disponibles","Nota: Los datos corresponden a 2013 pues son los últimos disponibles","Nota: Los datos corresponden a 2013 pues son los últimos disponibles","Nota: Los datos corresponden a 2013 pues son los últimos disponibles","Nota: Los datos corresponden a 2013 pues son los últimos disponibles","Nota: Los datos corresponden a 2013 pues son los últimos disponibles","Nota: Los datos corresponden a 2013 pues son los últimos disponibles","Nota: Los datos corresponden a 2013 pues son los últimos disponibles","Nota: Los datos corresponden a 2013 pues son los últimos disponibles","Nota: Los datos corresponden a 2013 pues son los últimos disponibles","Nota: Los datos corresponden a 2013 pues son los últimos disponibles","Nota: Los datos corresponden a 2013 pues son los últimos disponibles","Nota: Los datos corresponden a 2013 pues son los últimos disponibles","Nota: Los datos corresponden a 2013 pues son los últimos disponibles","Nota: Los datos corresponden a 2013 pues son los últimos disponibles","Nota: Los datos corresponden a 2013 pues son los últimos disponibles","Nota: Los datos corresponden a 2013 pues son los últimos disponibles","Nota: Los datos corresponden a 2013 pues son los últimos disponibles","Nota: Los datos corresponden a 2013 pues son los últimos disponibles","Nota: Los datos corresponden a 2013 pues son los últimos disponibles","Nota: Los datos corresponden a 2013 pues son los últimos disponibles","Nota: Los datos corresponden a 2013 pues son los últimos disponibles","Nota: Los datos corresponden a 2013 pues son los últimos disponibles","Nota: Los datos corresponden a 2013 pues son los últimos disponibles","Nota: Los datos corresponden a 2013 pues son los últimos disponibles","Nota: Los datos corresponden a 2013 pues son los últimos disponibles","Nota: Los datos corresponden a 2013 pues son los últimos disponibles","Nota: Los datos corresponden a 2013 pues son los últimos disponibles","Nota: Los datos corresponden a 2013 pues son los últimos disponibles","Nota: Los datos corresponden a 2013 pues son los últimos disponibles","Nota: Los datos corresponden a 2013 pues son los últimos disponibles","Nota: Los datos corresponden a 2013 pues son los últimos disponibles","Nota: Los datos corresponden a 2013 pues son los últimos disponibles","Nota: Los datos corresponden a 2013 pues son los últimos disponibles","Nota: Los datos corresponden a 2013 pues son los últimos disponibles","Nota: Los datos corresponden a 2013 pues son los últimos disponibles","Nota: Los datos corresponden a 2013 pues son los últimos disponibles","Nota: Los datos corresponden a 2013 pues son los últimos disponibles","Nota: Los datos corresponden a 2013 pues son los últimos disponibles","Nota: Los datos corresponden a 2013 pues son los últimos disponibles","Nota: Los datos corresponden a 2013 pues son los últimos disponibles","Nota: Los datos corresponden a 2013 pues son los últimos disponibles","Nota: Los datos corresponden a 2013 pues son los últimos disponibles","Nota: Los datos corresponden a 2013 pues son los últimos disponibles","Nota: Los datos corresponden a 2013 pues son los últimos disponibles","Nota: Los datos corresponden a 2013 pues son los últimos disponibles","Nota: Los datos corresponden a 2013 pues son los últimos disponibles","Nota: Los datos corresponden a 2013 pues son los últimos disponibles","Nota: Los datos corresponden a 2013 pues son los últimos disponibles","Nota: Los datos corresponden a 2013 pues son los últimos disponibles","Nota: Los datos corresponden a 2013 pues son los últimos disponibles","Nota: Los datos corresponden a 2013 pues son los últimos disponibles","Nota: Los datos corresponden a 2013 pues son los últimos disponibles","Nota: Los datos corresponden a 2013 pues son los últimos disponibles","Nota: Los datos corresponden a 2013 pues son los últimos disponibles","Nota: Los datos corresponden a 2013 pues son los últimos disponibles","Nota: Los datos corresponden a 2013 pues son los últimos disponibles","Nota: Los datos corresponden a 2013 pues son los últimos disponibles","Nota: Los datos corresponden a 2013 pues son los últimos disponibles","Nota: Los datos corresponden a 2013 pues son los últimos disponibles","Nota: Los datos corresponden a 2013 pues son los últimos disponibles","Nota: Los datos corresponden a 2013 pues son los últimos disponibles","Nota: Los datos corresponden a 2013 pues son los últimos disponibles","Nota: Los datos corresponden a 2013 pues son los últimos disponibles","Nota: Los datos corresponden a 2013 pues son los últimos disponibles","Nota: Los datos corresponden a 2013 pues son los últimos disponibles","Nota: Los datos corresponden a 2013 pues son los últimos disponibles","Nota: Los datos corresponden a 2013 pues son los últimos disponibles","Nota: Los datos corresponden a 2013 pues son los últimos disponibles","Nota: Los datos corresponden a 2013 pues son los últimos disponibles","Nota: Los datos corresponden a 2013 pues son los últimos disponibles","Nota: Los datos corresponden a 2013 pues son los últimos disponibles","Nota: Los datos corresponden a 2013 pues son los últimos disponibles","Nota: Los datos corresponden a 2013 pues son los últimos disponibles","Nota: Los datos corresponden a 2013 pues son los últimos disponibles","Nota: Los datos corresponden a 2013 pues son los últimos disponibles","Nota: Los datos corresponden a 2013 pues son los últimos disponibles","Nota: Los datos corresponden a 2013 pues son los últimos disponibles","Nota: Los datos corresponden a 2013 pues son los últimos disponibles","Nota: Los datos corresponden a 2013 pues son los últimos disponibles","Nota: Los datos corresponden a 2013 pues son los últimos disponibles","Nota: Los datos corresponden a 2013 pues son los últimos disponibles","Nota: Los datos corresponden a 2013 pues son los últimos disponibles","Nota: Los datos corresponden a 2013 pues son los últimos disponibles","Nota: Los datos corresponden a 2013 pues son los últimos disponibles","Nota: Los datos corresponden a 2013 pues son los últimos disponibles","Nota: Los datos corresponden a 2013 pues son los últimos disponibles","Nota: Los datos corresponden a 2013 pues son los últimos disponibles","Nota: Los datos corresponden a 2013 pues son los últimos disponibles","Nota: Los datos corresponden a 2013 pues son los últimos disponibles","Nota: Los datos corresponden a 2013 pues son los últimos disponibles","Nota: Los datos corresponden a 2013 pues son los últimos disponibles","Nota: Los datos corresponden a 2013 pues son los últimos disponibles","Nota: Los datos corresponden a 2013 pues son los últimos disponibles","Nota: Los datos corresponden a 2013 pues son los últimos disponibles","Nota: Los datos corresponden a 2013 pues son los últimos disponibles","Nota: Los datos corresponden a 2013 pues son los últimos disponibles","Nota: Los datos corresponden a 2013 pues son los últimos disponibles","Nota: Los datos corresponden a 2013 pues son los últimos disponibles","Nota: Los datos corresponden a 2013 pues son los últimos disponibles","Nota: Los datos corresponden a 2013 pues son los últimos disponibles","Nota: Los datos corresponden a 2013 pues son los últimos disponibles","Nota: Los datos corresponden a 2013 pues son los últimos disponibles","Nota: Los datos corresponden a 2013 pues son los últimos disponibles","Nota: Los datos corresponden a 2013 pues son los últimos disponibles","Nota: Los datos corresponden a 2013 pues son los últimos disponibles","Nota: Los datos corresponden a 2013 pues son los últimos disponibles","Nota: Los datos corresponden a 2013 pues son los últimos disponibles","Nota: Los datos corresponden a 2013 pues son los últimos disponibles","Nota: Los datos corresponden a 2013 pues son los últimos disponibles","Nota: Los datos corresponden a 2013 pues son los últimos disponibles","Nota: Los datos corresponden a 2013 pues son los últimos disponibles","Nota: Los datos corresponden a 2013 pues son los últimos disponibles","Nota: Los datos corresponden a 2013 pues son los últimos disponibles","Nota: Los datos corresponden a 2013 pues son los últimos disponibles","Nota: Los datos corresponden a 2013 pues son los últimos disponibles","Nota: Los datos corresponden a 2013 pues son los últimos disponibles","Nota: Los datos corresponden a 2013 pues son los últimos disponibles","Nota: Los datos corresponden a 2013 pues son los últimos disponibles","Nota: Los datos corresponden a 2013 pues son los últimos disponibles","Nota: Los datos corresponden a 2013 pues son los últimos disponibles","Nota: Los datos corresponden a 2013 pues son los últimos disponibles","Nota: Los datos corresponden a 2013 pues son los últimos disponibles","Nota: Los datos corresponden a 2013 pues son los últimos disponibles","Nota: Los datos corresponden a 2013 pues son los últimos disponibles","Nota: Los datos corresponden a 2013 pues son los últimos disponibles","Nota: Los datos corresponden a 2013 pues son los últimos disponibles","Nota: Los datos corresponden a 2013 pues son los últimos disponibles","Nota: Los datos corresponden a 2013 pues son los últimos disponibles","Nota: Los datos corresponden a 2013 pues son los últimos disponibles","Nota: Los datos corresponden a 2013 pues son los últimos disponibles","Nota: Los datos corresponden a 2013 pues son los últimos disponibles","Nota: Los datos corresponden a 2013 pues son los últimos disponibles","Nota: Los datos corresponden a 2013 pues son los últimos disponibles","Nota: Los datos corresponden a 2013 pues son los últimos disponibles","Nota: Los datos corresponden a 2013 pues son los últimos disponibles","Nota: Los datos corresponden a 2013 pues son los últimos disponibles","Nota: Los datos corresponden a 2013 pues son los últimos disponibles","Nota: Los datos corresponden a 2013 pues son los últimos disponibles","Nota: Los datos corresponden a 2013 pues son los últimos disponibles","Nota: Los datos corresponden a 2013 pues son los últimos disponibles","Nota: Los datos corresponden a 2013 pues son los últimos disponibles","Nota: Los datos corresponden a 2013 pues son los últimos disponibles","Nota: Los datos corresponden a 2013 pues son los últimos disponibles","Nota: Los datos corresponden a 2013 pues son los últimos disponibles","Nota: Los datos corresponden a 2013 pues son los últimos disponibles","Nota: Los datos corresponden a 2013 pues son los últimos disponibles","Nota: Los datos corresponden a 2013 pues son los últimos disponibles","Nota: Los datos corresponden a 2013 pues son los últimos disponibles","Nota: Los datos corresponden a 2013 pues son los últimos disponibles","Nota: Los datos corresponden a 2013 pues son los últimos disponibles","Nota: Los datos corresponden a 2013 pues son los últimos disponibles","Nota: Los datos corresponden a 2013 pues son los últimos disponibles","Nota: Los datos corresponden a 2013 pues son los últimos disponibles","Nota: Los datos corresponden a 2013 pues son los últimos disponibles","Nota: Los datos corresponden a 2013 pues son los últimos disponibles","Nota: Los datos corresponden a 2013 pues son los últimos disponibles","Nota: Los datos corresponden a 2013 pues son los últimos disponibles","Nota: Los datos corresponden a 2013 pues son los últimos disponibles","Nota: Los datos corresponden a 2013 pues son los últimos disponibles","Nota: Los datos corresponden a 2013 pues son los últimos disponibles","Nota: Los datos corresponden a 2013 pues son los últimos disponibles","Nota: Los datos corresponden a 2013 pues son los últimos disponibles","Nota: Los datos corresponden a 2013 pues son los últimos disponibles","Nota: Los datos corresponden a 2013 pues son los últimos disponibles","Nota: Los datos corresponden a 2013 pues son los últimos disponibles","Nota: Los datos corresponden a 2013 pues son los últimos disponibles","Nota: Los datos corresponden a 2013 pues son los últimos disponibles","Nota: Los datos corresponden a 2013 pues son los últimos disponibles","Nota: Los datos corresponden a 2013 pues son los últimos disponibles","Nota: Los datos corresponden a 2013 pues son los últimos disponibles","Nota: Los datos corresponden a 2013 pues son los últimos disponibles","Nota: Los datos corresponden a 2013 pues son los últimos disponibles","Nota: Los datos corresponden a 2013 pues son los últimos disponibles","Nota: Los datos corresponden a 2013 pues son los últimos disponibles","Nota: Los datos corresponden a 2013 pues son los últimos disponibles","Nota: Los datos corresponden a 2013 pues son los últimos disponibles","Nota: Los datos corresponden a 2013 pues son los últimos disponibles","Nota: Los datos corresponden a 2013 pues son los últimos disponibles","Nota: Los datos corresponden a 2013 pues son los últimos disponibles","Nota: Los datos corresponden a 2013 pues son los últimos disponibles","Nota: Los datos corresponden a 2013 pues son los últimos disponibles","Nota: Los datos corresponden a 2013 pues son los últimos disponibles","Nota: Los datos corresponden a 2013 pues son los últimos disponibles","Nota: Los datos corresponden a 2013 pues son los últimos disponibles","Nota: Los datos corresponden a 2013 pues son los últimos disponibles","Nota: Los datos corresponden a 2013 pues son los últimos disponibles","Nota: Los datos corresponden a 2013 pues son los últimos disponibles","Nota: Los datos corresponden a 2013 pues son los últimos disponibles","Nota: Los datos corresponden a 2013 pues son los últimos disponibles","Nota: Los datos corresponden a 2013 pues son los últimos disponibles","Nota: Los datos corresponden a 2013 pues son los últimos disponibles","Nota: Los datos corresponden a 2013 pues son los últimos disponibles","Nota: Los datos corresponden a 2013 pues son los últimos disponibles","Nota: Los datos corresponden a 2013 pues son los últimos disponibles","Nota: Los datos corresponden a 2013 pues son los últimos disponibles","Nota: Los datos corresponden a 2013 pues son los últimos disponibles","Nota: Los datos corresponden a 2013 pues son los últimos disponibles","Nota: Los datos corresponden a 2013 pues son los últimos disponibles","Nota: Los datos corresponden a 2013 pues son los últimos disponibles","Nota: Los datos corresponden a 2013 pues son los últimos disponibles","Nota: Los datos corresponden a 2013 pues son los últimos disponibles","Nota: Los datos corresponden a 2013 pues son los últimos disponibles","Nota: Los datos corresponden a 2013 pues son los últimos disponibles","Nota: Los datos corresponden a 2013 pues son los últimos disponibles","Nota: Los datos corresponden a 2013 pues son los últimos disponibles","Nota: Los datos corresponden a 2013 pues son los últimos disponibles","Nota: Los datos corresponden a 2013 pues son los últimos disponibles","Nota: Los datos corresponden a 2013 pues son los últimos disponibles","Nota: Los datos corresponden a 2013 pues son los últimos disponibles","Nota: Los datos corresponden a 2013 pues son los últimos disponibles","Nota: Los datos corresponden a 2013 pues son los últimos disponibles","Nota: Los datos corresponden a 2013 pues son los últimos disponibles","Nota: Los datos corresponden a 2013 pues son los últimos disponibles","Nota: Los datos corresponden a 2013 pues son los últimos disponibles","Nota: Los datos corresponden a 2013 pues son los últimos disponibles","Nota: Los datos corresponden a 2013 pues son los últimos disponibles","Nota: Los datos corresponden a 2013 pues son los últimos disponibles","Nota: Los datos corresponden a 2013 pues son los últimos disponibles","Nota: Los datos corresponden a 2013 pues son los últimos disponibles","Nota: Los datos corresponden a 2013 pues son los últimos disponibles","Nota: Los datos corresponden a 2013 pues son los últimos disponibles","Nota: Los datos corresponden a 2013 pues son los últimos disponibles","Nota: Los datos corresponden a 2013 pues son los últimos disponibles","Nota: Los datos corresponden a 2013 pues son los últimos disponibles","Nota: Los datos corresponden a 2013 pues son los últimos disponibles","Nota: Los datos corresponden a 2013 pues son los últimos disponibles","Nota: Los datos corresponden a 2013 pues son los últimos disponibles","Nota: Los datos corresponden a 2013 pues son los últimos disponibles","Nota: Los datos corresponden a 2013 pues son los últimos disponibles","Nota: Los datos corresponden a 2013 pues son los últimos disponibles","Nota: Los datos corresponden a 2013 pues son los últimos disponibles","Nota: Los datos corresponden a 2013 pues son los últimos disponibles","Nota: Los datos corresponden a 2013 pues son los últimos disponibles","Nota: Los datos corresponden a 2013 pues son los últimos disponibles","Nota: Los datos corresponden a 2013 pues son los últimos disponibles","Nota: Los datos corresponden a 2013 pues son los últimos disponibles","Nota: Los datos corresponden a 2013 pues son los últimos disponibles","Nota: Los datos corresponden a 2013 pues son los últimos disponibles","Nota: Los datos corresponden a 2013 pues son los últimos disponibles","Nota: Los datos corresponden a 2013 pues son los últimos disponibles","Nota: Los datos corresponden a 2013 pues son los últimos disponibles","Nota: Los datos corresponden a 2013 pues son los últimos disponibles","Nota: Los datos corresponden a 2013 pues son los últimos disponibles","Nota: Los datos corresponden a 2013 pues son los últimos disponibles","Nota: Los datos corresponden a 2013 pues son los últimos disponibles","Nota: Los datos corresponden a 2013 pues son los últimos disponibles","Nota: Los datos corresponden a 2013 pues son los últimos disponibles","Nota: Los datos corresponden a 2013 pues son los últimos disponibles","Nota: Los datos corresponden a 2013 pues son los últimos disponibles","Nota: Los datos corresponden a 2013 pues son los últimos disponibles","Nota: Los datos corresponden a 2013 pues son los últimos disponibles","Nota: Los datos corresponden a 2013 pues son los últimos disponibles","Nota: Los datos corresponden a 2013 pues son los últimos disponibles","Nota: Los datos corresponden a 2013 pues son los últimos disponibles","Nota: Los datos corresponden a 2013 pues son los últimos disponibles","Nota: Los datos corresponden a 2013 pues son los últimos disponibles","Nota: Los datos corresponden a 2013 pues son los últimos disponibles","Nota: Los datos corresponden a 2013 pues son los últimos disponibles","Nota: Los datos corresponden a 2013 pues son los últimos disponibles","Nota: Los datos corresponden a 2013 pues son los últimos disponibles","Nota: Los datos corresponden a 2013 pues son los últimos disponibles","Nota: Los datos corresponden a 2013 pues son los últimos disponibles","Nota: Los datos corresponden a 2013 pues son los últimos disponibles","Nota: Los datos corresponden a 2013 pues son los últimos disponibles","Nota: Los datos corresponden a 2013 pues son los últimos disponibles","Nota: Los datos corresponden a 2013 pues son los últimos disponibles","Nota: Los datos corresponden a 2013 pues son los últimos disponibles","Nota: Los datos corresponden a 2013 pues son los últimos disponibles","Nota: Los datos corresponden a 2013 pues son los últimos disponibles","Nota: Los datos corresponden a 2013 pues son los últimos disponibles","Nota: Los datos corresponden a 2013 pues son los últimos disponibles","Nota: Los datos corresponden a 2013 pues son los últimos disponibles","Nota: Los datos corresponden a 2013 pues son los últimos disponibles","Nota: Los datos corresponden a 2013 pues son los últimos disponibles","Nota: Los datos corresponden a 2013 pues son los últimos disponibles","Nota: Los datos corresponden a 2013 pues son los últimos disponibles","Nota: Los datos corresponden a 2013 pues son los últimos disponibles","Nota: Los datos corresponden a 2013 pues son los últimos disponibles","Nota: Los datos corresponden a 2013 pues son los últimos disponibles","Nota: Los datos corresponden a 2013 pues son los últimos disponibles","Nota: Los datos corresponden a 2013 pues son los últimos disponibles","Nota: Los datos corresponden a 2013 pues son los últimos disponibles","Nota: Los datos corresponden a 2013 pues son los últimos disponibles","Nota: Los datos corresponden a 2013 pues son los últimos disponibles","Nota: Los datos corresponden a 2013 pues son los últimos disponibles","Nota: Los datos corresponden a 2013 pues son los últimos disponibles","Nota: Los datos corresponden a 2013 pues son los últimos disponibles","Nota: Los datos corresponden a 2013 pues son los últimos disponibles","Nota: Los datos corresponden a 2013 pues son los últimos disponibles","Nota: Los datos corresponden a 2013 pues son los últimos disponibles","Nota: Los datos corresponden a 2013 pues son los últimos disponibles","Nota: Los datos corresponden a 2013 pues son los últimos disponibles","Nota: Los datos corresponden a 2013 pues son los últimos disponibles","Nota: Los datos corresponden a 2013 pues son los últimos disponibles","Nota: Los datos corresponden a 2013 pues son los últimos disponibles","Nota: Los datos corresponden a 2013 pues son los últimos disponibles","Nota: Los datos corresponden a 2013 pues son los últimos disponibles","Nota: Los datos corresponden a 2013 pues son los últimos disponibles","Nota: Los datos corresponden a 2013 pues son los últimos disponibles","Nota: Los datos corresponden a 2013 pues son los últimos disponibles","Nota: Los datos corresponden a 2013 pues son los últimos disponibles","Nota: Los datos corresponden a 2013 pues son los últimos disponibles","Nota: Los datos corresponden a 2013 pues son los últimos disponibles","Nota: Los datos corresponden a 2013 pues son los últimos disponibles","Nota: Los datos corresponden a 2013 pues son los últimos disponibles","Nota: Los datos corresponden a 2013 pues son los últimos disponibles","Nota: Los datos corresponden a 2013 pues son los últimos disponibles","Nota: Los datos corresponden a 2013 pues son los últimos disponibles","Nota: Los datos corresponden a 2013 pues son los últimos disponibles","Nota: Los datos corresponden a 2013 pues son los últimos disponibles","Nota: Los datos corresponden a 2013 pues son los últimos disponibles","Nota: Los datos corresponden a 2013 pues son los últimos disponibles","Nota: Los datos corresponden a 2013 pues son los últimos disponibles","Nota: Los datos corresponden a 2013 pues son los últimos disponibles","Nota: Los datos corresponden a 2013 pues son los últimos disponibles","Nota: Los datos corresponden a 2013 pues son los últimos disponibles","Nota: Los datos corresponden a 2013 pues son los últimos disponibles","Nota: Los datos corresponden a 2013 pues son los últimos disponibles","Nota: Los datos corresponden a 2013 pues son los últimos disponibles","Nota: Los datos corresponden a 2013 pues son los últimos disponibles","Nota: Los datos corresponden a 2013 pues son los últimos disponibles","Nota: Los datos corresponden a 2013 pues son los últimos disponibles","Nota: Los datos corresponden a 2013 pues son los últimos disponibles","Nota: Los datos corresponden a 2013 pues son los últimos disponibles","Nota: Los datos corresponden a 2013 pues son los últimos disponibles","Nota: Los datos corresponden a 2013 pues son los últimos disponibles","Nota: Los datos corresponden a 2013 pues son los últimos disponibles","Nota: Los datos corresponden a 2013 pues son los últimos disponibles","Nota: Los datos corresponden a 2013 pues son los últimos disponibles","Nota: Los datos corresponden a 2013 pues son los últimos disponibles","Nota: Los datos corresponden a 2013 pues son los últimos disponibles","Nota: Los datos corresponden a 2013 pues son los últimos disponibles","Nota: Los datos corresponden a 2013 pues son los últimos disponibles","Nota: Los datos corresponden a 2013 pues son los últimos disponibles","Nota: Los datos corresponden a 2013 pues son los últimos disponibles","Nota: Los datos corresponden a 2013 pues son los últimos disponibles","Nota: Los datos corresponden a 2013 pues son los últimos disponibles","Nota: Los datos corresponden a 2013 pues son los últimos disponibles","Nota: Los datos corresponden a 2013 pues son los últimos disponibles","Nota: Los datos corresponden a 2013 pues son los últimos disponibles","Nota: Los datos corresponden a 2013 pues son los últimos disponibles","Nota: Los datos corresponden a 2013 pues son los últimos disponibles","Nota: Los datos corresponden a 2013 pues son los últimos disponibles","Nota: Los datos corresponden a 2013 pues son los últimos disponibles","Nota: Los datos corresponden a 2013 pues son los últimos disponibles","Nota: Los datos corresponden a 2013 pues son los últimos disponibles","Nota: Los datos corresponden a 2013 pues son los últimos disponibles","Nota: Los datos corresponden a 2013 pues son los últimos disponibles","Nota: Los datos corresponden a 2013 pues son los últimos disponibles","Nota: Los datos corresponden a 2013 pues son los últimos disponibles","Nota: Los datos corresponden a 2013 pues son los últimos disponibles","Nota: Los datos corresponden a 2013 pues son los últimos disponibles","Nota: Los datos corresponden a 2013 pues son los últimos disponibles","Nota: Los datos corresponden a 2013 pues son los últimos disponibles","Nota: Los datos corresponden a 2013 pues son los últimos disponibles","Nota: Los datos corresponden a 2013 pues son los últimos disponibles","Nota: Los datos corresponden a 2013 pues son los últimos disponibles","Nota: Los datos corresponden a 2013 pues son los últimos disponibles","Nota: Los datos corresponden a 2013 pues son los últimos disponibles","Nota: Los datos corresponden a 2013 pues son los últimos disponibles","Nota: Los datos corresponden a 2013 pues son los últimos disponibles","Nota: Los datos corresponden a 2013 pues son los últimos disponibles","Nota: Los datos corresponden a 2013 pues son los últimos disponibles","Nota: Los datos corresponden a 2013 pues son los últimos disponibles","Nota: Los datos corresponden a 2013 pues son los últimos disponibles","Nota: Los datos corresponden a 2013 pues son los últimos disponibles","Nota: Los datos corresponden a 2013 pues son los últimos disponibles","Nota: Los datos corresponden a 2013 pues son los últimos disponibles","Nota: Los datos corresponden a 2013 pues son los últimos disponibles","Nota: Los datos corresponden a 2013 pues son los últimos disponibles","Nota: Los datos corresponden a 2013 pues son los últimos disponibles","Nota: Los datos corresponden a 2013 pues son los últimos disponibles","Nota: Los datos corresponden a 2013 pues son los últimos disponibles","Nota: Los datos corresponden a 2013 pues son los últimos disponibles","Nota: Los datos corresponden a 2013 pues son los últimos disponibles","Nota: Los datos corresponden a 2013 pues son los últimos disponibles","Nota: Los datos corresponden a 2013 pues son los últimos disponibles","Nota: Los datos corresponden a 2013 pues son los últimos disponibles","Nota: Los datos corresponden a 2013 pues son los últimos disponibles","Nota: Los datos corresponden a 2013 pues son los últimos disponibles","Nota: Los datos corresponden a 2013 pues son los últimos disponibles","Nota: Los datos corresponden a 2013 pues son los últimos disponibles","Nota: Los datos corresponden a 2013 pues son los últimos disponibles","Nota: Los datos corresponden a 2013 pues son los últimos disponibles","Nota: Los datos corresponden a 2013 pues son los últimos disponibles","Nota: Los datos corresponden a 2013 pues son los últimos disponibles","Nota: Los datos corresponden a 2013 pues son los últimos disponibles","Nota: Los datos corresponden a 2013 pues son los últimos disponibles","Nota: Los datos corresponden a 2013 pues son los últimos disponibles","Nota: Los datos corresponden a 2013 pues son los últimos disponibles","Nota: Los datos corresponden a 2013 pues son los últimos disponibles","Nota: Los datos corresponden a 2013 pues son los últimos disponibles","Nota: Los datos corresponden a 2013 pues son los últimos disponibles","Nota: Los datos corresponden a 2013 pues son los últimos disponibles","Nota: Los datos corresponden a 2013 pues son los últimos disponibles","Nota: Los datos corresponden a 2013 pues son los últimos disponibles","Nota: Los datos corresponden a 2013 pues son los últimos disponibles","Nota: Los datos corresponden a 2013 pues son los últimos disponibles","Nota: Los datos corresponden a 2013 pues son los últimos disponibles","Nota: Los datos corresponden a 2013 pues son los últimos disponibles","Nota: Los datos corresponden a 2013 pues son los últimos disponibles","Nota: Los datos corresponden a 2013 pues son los últimos disponibles","Nota: Los datos corresponden a 2013 pues son los últimos disponibles","Nota: Los datos corresponden a 2013 pues son los últimos disponibles","Nota: Los datos corresponden a 2013 pues son los últimos disponibles","Nota: Los datos corresponden a 2013 pues son los últimos disponibles","Nota: Los datos corresponden a 2013 pues son los últimos disponibles","Nota: Los datos corresponden a 2013 pues son los últimos disponibles","Nota: Los datos corresponden a 2013 pues son los últimos disponibles","Nota: Los datos corresponden a 2013 pues son los últimos disponibles","Nota: Los datos corresponden a 2013 pues son los últimos disponibles","Nota: Los datos corresponden a 2013 pues son los últimos disponibles","Nota: Los datos corresponden a 2013 pues son los últimos disponibles","Nota: Los datos corresponden a 2013 pues son los últimos disponibles","Nota: Los datos corresponden a 2013 pues son los últimos disponibles","Nota: Los datos corresponden a 2013 pues son los últimos disponibles","Nota: Los datos corresponden a 2013 pues son los últimos disponibles","Nota: Los datos corresponden a 2013 pues son los últimos disponibles","Nota: Los datos corresponden a 2013 pues son los últimos disponibles","Nota: Los datos corresponden a 2013 pues son los últimos disponibles","Nota: Los datos corresponden a 2013 pues son los últimos disponibles","Nota: Los datos corresponden a 2013 pues son los últimos disponibles","Nota: Los datos corresponden a 2013 pues son los últimos disponibles","Nota: Los datos corresponden a 2013 pues son los últimos disponibles","Nota: Los datos corresponden a 2013 pues son los últimos disponibles","Nota: Los datos corresponden a 2013 pues son los últimos disponibles","Nota: Los datos corresponden a 2013 pues son los últimos disponibles","Nota: Los datos corresponden a 2013 pues son los últimos disponibles","Nota: Los datos corresponden a 2013 pues son los últimos disponibles","Nota: Los datos corresponden a 2013 pues son los últimos disponibles","Nota: Los datos corresponden a 2013 pues son los últimos disponibles","Nota: Los datos corresponden a 2013 pues son los últimos disponibles","Nota: Los datos corresponden a 2013 pues son los últimos disponibles","Nota: Los datos corresponden a 2013 pues son los últimos disponibles","Nota: Los datos corresponden a 2013 pues son los últimos disponibles","Nota: Los datos corresponden a 2013 pues son los últimos disponibles","Nota: Los datos corresponden a 2013 pues son los últimos disponibles","Nota: Los datos corresponden a 2013 pues son los últimos disponibles","Nota: Los datos corresponden a 2013 pues son los últimos disponibles","Nota: Los datos corresponden a 2013 pues son los últimos disponibles","Nota: Los datos corresponden a 2013 pues son los últimos disponibles","Nota: Los datos corresponden a 2013 pues son los últimos disponibles","Nota: Los datos corresponden a 2013 pues son los últimos disponibles","Nota: Los datos corresponden a 2013 pues son los últimos disponibles","Nota: Los datos corresponden a 2013 pues son los últimos disponibles","Nota: Los datos corresponden a 2013 pues son los últimos disponibles","Nota: Los datos corresponden a 2013 pues son los últimos disponibles","Nota: Los datos corresponden a 2013 pues son los últimos disponibles","Nota: Los datos corresponden a 2013 pues son los últimos disponibles","Nota: Los datos corresponden a 2013 pues son los últimos disponibles","Nota: Los datos corresponden a 2013 pues son los últimos disponibles","Nota: Los datos corresponden a 2013 pues son los últimos disponibles","Nota: Los datos corresponden a 2013 pues son los últimos disponibles","Nota: Los datos corresponden a 2013 pues son los últimos disponibles","Nota: Los datos corresponden a 2013 pues son los últimos disponibles","Nota: Los datos corresponden a 2013 pues son los últimos disponibles","Nota: Los datos corresponden a 2013 pues son los últimos disponibles","Nota: Los datos corresponden a 2013 pues son los últimos disponibles","Nota: Los datos corresponden a 2013 pues son los últimos disponibles","Nota: Los datos corresponden a 2013 pues son los últimos disponibles","Nota: Los datos corresponden a 2013 pues son los últimos disponibles","Nota: Los datos corresponden a 2013 pues son los últimos disponibles","Nota: Los datos corresponden a 2013 pues son los últimos disponibles","Nota: Los datos corresponden a 2013 pues son los últimos disponibles","Nota: Los datos corresponden a 2013 pues son los últimos disponibles","Nota: Los datos corresponden a 2013 pues son los últimos disponibles","Nota: Los datos corresponden a 2013 pues son los últimos disponibles","Nota: Los datos corresponden a 2013 pues son los últimos disponibles","Nota: Los datos corresponden a 2013 pues son los últimos disponibles","Nota: Los datos corresponden a 2013 pues son los últimos disponibles","Nota: Los datos corresponden a 2013 pues son los últimos disponibles","Nota: Los datos corresponden a 2013 pues son los últimos disponibles","Nota: Los datos corresponden a 2013 pues son los últimos disponibles","Nota: Los datos corresponden a 2013 pues son los últimos disponibles","Nota: Los datos corresponden a 2013 pues son los últimos disponibles","Nota: Los datos corresponden a 2013 pues son los últimos disponibles","Nota: Los datos corresponden a 2013 pues son los últimos disponibles","Nota: Los datos corresponden a 2013 pues son los últimos disponibles","Nota: Los datos corresponden a 2013 pues son los últimos disponibles","Nota: Los datos corresponden a 2013 pues son los últimos disponibles","Nota: Los datos corresponden a 2013 pues son los últimos disponibles","Nota: Los datos corresponden a 2013 pues son los últimos disponibles","Nota: Los datos corresponden a 2013 pues son los últimos disponibles","Nota: Los datos corresponden a 2013 pues son los últimos disponibles","Nota: Los datos corresponden a 2013 pues son los últimos disponibles","Nota: Los datos corresponden a 2013 pues son los últimos disponibles","Nota: Los datos corresponden a 2013 pues son los últimos disponibles","Nota: Los datos corresponden a 2013 pues son los últimos disponibles","Nota: Los datos corresponden a 2013 pues son los últimos disponibles","Nota: Los datos corresponden a 2013 pues son los últimos disponibles","Nota: Los datos corresponden a 2013 pues son los últimos disponibles","Nota: Los datos corresponden a 2013 pues son los últimos disponibles","Nota: Los datos corresponden a 2013 pues son los últimos disponibles","Nota: Los datos corresponden a 2013 pues son los últimos disponibles","Nota: Los datos corresponden a 2013 pues son los últimos disponibles","Nota: Los datos corresponden a 2013 pues son los últimos disponibles","Nota: Los datos corresponden a 2013 pues son los últimos disponibles","Nota: Los datos corresponden a 2013 pues son los últimos disponibles","Nota: Los datos corresponden a 2013 pues son los últimos disponibles","Nota: Los datos corresponden a 2013 pues son los últimos disponibles","Nota: Los datos corresponden a 2013 pues son los últimos disponibles","Nota: Los datos corresponden a 2013 pues son los últimos disponibles","Nota: Los datos corresponden a 2013 pues son los últimos disponibles","Nota: Los datos corresponden a 2013 pues son los últimos disponibles","Nota: Los datos corresponden a 2013 pues son los últimos disponibles","Nota: Los datos corresponden a 2013 pues son los últimos disponibles","Nota: Los datos corresponden a 2013 pues son los últimos disponibles","Nota: Los datos corresponden a 2013 pues son los últimos disponibles","Nota: Los datos corresponden a 2013 pues son los últimos disponibles","Nota: Los datos corresponden a 2013 pues son los últimos disponibles","Nota: Los datos corresponden a 2013 pues son los últimos disponibles","Nota: Los datos corresponden a 2013 pues son los últimos disponibles","Nota: Los datos corresponden a 2013 pues son los últimos disponibles","Nota: Los datos corresponden a 2013 pues son los últimos disponibles","Nota: Los datos corresponden a 2013 pues son los últimos disponibles","Nota: Los datos corresponden a 2013 pues son los últimos disponibles","Nota: Los datos corresponden a 2013 pues son los últimos disponibles","Nota: Los datos corresponden a 2013 pues son los últimos disponibles","Nota: Los datos corresponden a 2013 pues son los últimos disponibles","Nota: Los datos corresponden a 2013 pues son los últimos disponibles","Nota: Los datos corresponden a 2013 pues son los últimos disponibles","Nota: Los datos corresponden a 2013 pues son los últimos disponibles","Nota: Los datos corresponden a 2013 pues son los últimos disponibles","Nota: Los datos corresponden a 2013 pues son los últimos disponibles","Nota: Los datos corresponden a 2013 pues son los últimos disponibles","Nota: Los datos corresponden a 2013 pues son los últimos disponibles","Nota: Los datos corresponden a 2013 pues son los últimos disponibles","Nota: Los datos corresponden a 2013 pues son los últimos disponibles","Nota: Los datos corresponden a 2013 pues son los últimos disponibles","Nota: Los datos corresponden a 2013 pues son los últimos disponibles","Nota: Los datos corresponden a 2013 pues son los últimos disponibles","Nota: Los datos corresponden a 2013 pues son los últimos disponibles","Nota: Los datos corresponden a 2013 pues son los últimos disponibles","Nota: Los datos corresponden a 2013 pues son los últimos disponibles","Nota: Los datos corresponden a 2013 pues son los últimos disponibles","Nota: Los datos corresponden a 2013 pues son los últimos disponibles","Nota: Los datos corresponden a 2013 pues son los últimos disponibles","Nota: Los datos corresponden a 2013 pues son los últimos disponibles","Nota: Los datos corresponden a 2013 pues son los últimos disponibles","Nota: Los datos corresponden a 2013 pues son los últimos disponibles","Nota: Los datos corresponden a 2013 pues son los últimos disponibles","Nota: Los datos corresponden a 2013 pues son los últimos disponibles","Nota: Los datos corresponden a 2013 pues son los últimos disponibles","Nota: Los datos corresponden a 2013 pues son los últimos disponibles","Nota: Los datos corresponden a 2013 pues son los últimos disponibles","Nota: Los datos corresponden a 2013 pues son los últimos disponibles","Nota: Los datos corresponden a 2013 pues son los últimos disponibles","Nota: Los datos corresponden a 2013 pues son los últimos disponibles","Nota: Los datos corresponden a 2013 pues son los últimos disponibles","Nota: Los datos corresponden a 2013 pues son los últimos disponibles","Nota: Los datos corresponden a 2013 pues son los últimos disponibles","Nota: Los datos corresponden a 2013 pues son los últimos disponibles","Nota: Los datos corresponden a 2013 pues son los últimos disponibles","Nota: Los datos corresponden a 2013 pues son los últimos disponibles","Nota: Los datos corresponden a 2013 pues son los últimos disponibles","Nota: Los datos corresponden a 2013 pues son los últimos disponibles","Nota: Los datos corresponden a 2013 pues son los últimos disponibles","Nota: Los datos corresponden a 2013 pues son los últimos disponibles","Nota: Los datos corresponden a 2013 pues son los últimos disponibles","Nota: Los datos corresponden a 2013 pues son los últimos disponibles","Nota: Los datos corresponden a 2013 pues son los últimos disponibles","Nota: Los datos corresponden a 2013 pues son los últimos disponibles","Nota: Los datos corresponden a 2013 pues son los últimos disponibles","Nota: Los datos corresponden a 2013 pues son los últimos disponibles","Nota: Los datos corresponden a 2013 pues son los últimos disponibles","Nota: Los datos corresponden a 2013 pues son los últimos disponibles","Nota: Los datos corresponden a 2013 pues son los últimos disponibles","Nota: Los datos corresponden a 2013 pues son los últimos disponibles","Nota: Los datos corresponden a 2013 pues son los últimos disponibles","Nota: Los datos corresponden a 2013 pues son los últimos disponibles","Nota: Los datos corresponden a 2013 pues son los últimos disponibles","Nota: Los datos corresponden a 2013 pues son los últimos disponibles","Nota: Los datos corresponden a 2013 pues son los últimos disponibles","Nota: Los datos corresponden a 2013 pues son los últimos disponibles","Nota: Los datos corresponden a 2013 pues son los últimos disponibles","Nota: Los datos corresponden a 2013 pues son los últimos disponibles","Nota: Los datos corresponden a 2013 pues son los últimos disponibles","Nota: Los datos corresponden a 2013 pues son los últimos disponibles","Nota: Los datos corresponden a 2013 pues son los últimos disponibles","Nota: Los datos corresponden a 2013 pues son los últimos disponibles","Nota: Los datos corresponden a 2013 pues son los últimos disponibles","Nota: Los datos corresponden a 2013 pues son los últimos disponibles","Nota: Los datos corresponden a 2013 pues son los últimos disponibles","Nota: Los datos corresponden a 2013 pues son los últimos disponibles","Nota: Los datos corresponden a 2013 pues son los últimos disponibles","Nota: Los datos corresponden a 2013 pues son los últimos disponibles","Nota: Los datos corresponden a 2013 pues son los últimos disponibles","Nota: Los datos corresponden a 2013 pues son los últimos disponibles","Nota: Los datos corresponden a 2013 pues son los últimos disponibles","Nota: Los datos corresponden a 2013 pues son los últimos disponibles","Nota: Los datos corresponden a 2013 pues son los últimos disponibles","Nota: Los datos corresponden a 2013 pues son los últimos disponibles","Nota: Los datos corresponden a 2013 pues son los últimos disponibles","Nota: Los datos corresponden a 2013 pues son los últimos disponibles","Nota: Los datos corresponden a 2013 pues son los últimos disponibles","Nota: Los datos corresponden a 2013 pues son los últimos disponibles","Nota: Los datos corresponden a 2013 pues son los últimos disponibles","Nota: Los datos corresponden a 2013 pues son los últimos disponibles","Nota: Los datos corresponden a 2013 pues son los últimos disponibles","Nota: Los datos corresponden a 2013 pues son los últimos disponibles","Nota: Los datos corresponden a 2013 pues son los últimos disponibles","Nota: Los datos corresponden a 2013 pues son los últimos disponibles","Nota: Los datos corresponden a 2013 pues son los últimos disponibles","Nota: Los datos corresponden a 2013 pues son los últimos disponibles","Nota: Los datos corresponden a 2013 pues son los últimos disponibles","Nota: Los datos corresponden a 2013 pues son los últimos disponibles","Nota: Los datos corresponden a 2013 pues son los últimos disponibles","Nota: Los datos corresponden a 2013 pues son los últimos disponibles","Nota: Los datos corresponden a 2013 pues son los últimos disponibles","Nota: Los datos corresponden a 2013 pues son los últimos disponibles","Nota: Los datos corresponden a 2013 pues son los últimos disponibles","Nota: Los datos corresponden a 2013 pues son los últimos disponibles","Nota: Los datos corresponden a 2013 pues son los últimos disponibles","Nota: Los datos corresponden a 2013 pues son los últimos disponibles","Nota: Los datos corresponden a 2013 pues son los últimos disponibles","Nota: Los datos corresponden a 2013 pues son los últimos disponibles","Nota: Los datos corresponden a 2013 pues son los últimos disponibles","Nota: Los datos corresponden a 2013 pues son los últimos disponibles","Nota: Los datos corresponden a 2013 pues son los últimos disponibles","Nota: Los datos corresponden a 2013 pues son los últimos disponibles","Nota: Los datos corresponden a 2013 pues son los últimos disponibles","Nota: Los datos corresponden a 2013 pues son los últimos disponibles","Nota: Los datos corresponden a 2013 pues son los últimos disponibles","Nota: Los datos corresponden a 2013 pues son los últimos disponibles","Nota: Los datos corresponden a 2013 pues son los últimos disponibles","Nota: Los datos corresponden a 2013 pues son los últimos disponibles","Nota: Los datos corresponden a 2013 pues son los últimos disponibles","Nota: Los datos corresponden a 2013 pues son los últimos disponibles","Nota: Los datos corresponden a 2013 pues son los últimos disponibles","Nota: Los datos corresponden a 2013 pues son los últimos disponibles","Nota: Los datos corresponden a 2013 pues son los últimos disponibles","Nota: Los datos corresponden a 2013 pues son los últimos disponibles","Nota: Los datos corresponden a 2013 pues son los últimos disponibles","Nota: Los datos corresponden a 2013 pues son los últimos disponibles","Nota: Los datos corresponden a 2013 pues son los últimos disponibles","Nota: Los datos corresponden a 2013 pues son los últimos disponibles","Nota: Los datos corresponden a 2013 pues son los últimos disponibles","Nota: Los datos corresponden a 2013 pues son los últimos disponibles","Nota: Los datos corresponden a 2013 pues son los últimos disponibles","Nota: Los datos corresponden a 2013 pues son los últimos disponibles","Nota: Los datos corresponden a 2013 pues son los últimos disponibles","Nota: Los datos corresponden a 2013 pues son los últimos disponibles","Nota: Los datos corresponden a 2013 pues son los últimos disponibles","Nota: Los datos corresponden a 2013 pues son los últimos disponibles","Nota: Los datos corresponden a 2013 pues son los últimos disponibles","Nota: Los datos corresponden a 2013 pues son los últimos disponibles","Nota: Los datos corresponden a 2013 pues son los últimos disponibles","Nota: Los datos corresponden a 2013 pues son los últimos disponibles","Nota: Los datos corresponden a 2013 pues son los últimos disponibles","Nota: Los datos corresponden a 2013 pues son los últimos disponibles","Nota: Los datos corresponden a 2013 pues son los últimos disponibles","Nota: Los datos corresponden a 2013 pues son los últimos disponibles","Nota: Los datos corresponden a 2013 pues son los últimos disponibles","Nota: Los datos corresponden a 2013 pues son los últimos disponibles","Nota: Los datos corresponden a 2013 pues son los últimos disponibles","Nota: Los datos corresponden a 2013 pues son los últimos disponibles","Nota: Los datos corresponden a 2013 pues son los últimos disponibles","Nota: Los datos corresponden a 2013 pues son los últimos disponibles","Nota: Los datos corresponden a 2013 pues son los últimos disponibles","Nota: Los datos corresponden a 2013 pues son los últimos disponibles","Nota: Los datos corresponden a 2013 pues son los últimos disponibles","Nota: Los datos corresponden a 2013 pues son los últimos disponibles","Nota: Los datos corresponden a 2013 pues son los últimos disponibles","Nota: Los datos corresponden a 2013 pues son los últimos disponibles","Nota: Los datos corresponden a 2013 pues son los últimos disponibles","Nota: Los datos corresponden a 2013 pues son los últimos disponibles","Nota: Los datos corresponden a 2013 pues son los últimos disponibles","Nota: Los datos corresponden a 2013 pues son los últimos disponibles","Nota: Los datos corresponden a 2013 pues son los últimos disponibles","Nota: Los datos corresponden a 2013 pues son los últimos disponibles","Nota: Los datos corresponden a 2013 pues son los últimos disponibles","Nota: Los datos corresponden a 2013 pues son los últimos disponibles","Nota: Los datos corresponden a 2013 pues son los últimos disponibles","Nota: Los datos corresponden a 2013 pues son los últimos disponibles","Nota: Los datos corresponden a 2013 pues son los últimos disponibles","Nota: Los datos corresponden a 2013 pues son los últimos disponibles","Nota: Los datos corresponden a 2013 pues son los últimos disponibles","Nota: Los datos corresponden a 2013 pues son los últimos disponibles","Nota: Los datos corresponden a 2013 pues son los últimos disponibles","Nota: Los datos corresponden a 2013 pues son los últimos disponibles","Nota: Los datos corresponden a 2013 pues son los últimos disponibles","Nota: Los datos corresponden a 2013 pues son los últimos disponibles","Nota: Los datos corresponden a 2013 pues son los últimos disponibles","Nota: Los datos corresponden a 2013 pues son los últimos disponibles","Nota: Los datos corresponden a 2013 pues son los últimos disponibles","Nota: Los datos corresponden a 2013 pues son los últimos disponibles","Nota: Los datos corresponden a 2013 pues son los últimos disponibles","Nota: Los datos corresponden a 2013 pues son los últimos disponibles","Nota: Los datos corresponden a 2013 pues son los últimos disponibles","Nota: Los datos corresponden a 2013 pues son los últimos disponibles","Nota: Los datos corresponden a 2013 pues son los últimos disponibles","Nota: Los datos corresponden a 2013 pues son los últimos disponibles","Nota: Los datos corresponden a 2013 pues son los últimos disponibles","Nota: Los datos corresponden a 2013 pues son los últimos disponibles","Nota: Los datos corresponden a 2013 pues son los últimos disponibles","Nota: Los datos corresponden a 2013 pues son los últimos disponibles","Nota: Los datos corresponden a 2013 pues son los últimos disponibles","Nota: Los datos corresponden a 2013 pues son los últimos disponibles","Nota: Los datos corresponden a 2013 pues son los últimos disponibles","Nota: Los datos corresponden a 2013 pues son los últimos disponibles","Nota: Los datos corresponden a 2013 pues son los últimos disponibles","Nota: Los datos corresponden a 2013 pues son los últimos disponibles","Nota: Los datos corresponden a 2013 pues son los últimos disponibles","Nota: Los datos corresponden a 2013 pues son los últimos disponibles","Nota: Los datos corresponden a 2013 pues son los últimos disponibles","Nota: Los datos corresponden a 2013 pues son los últimos disponibles","Nota: Los datos corresponden a 2013 pues son los últimos disponibles","Nota: Los datos corresponden a 2013 pues son los últimos disponibles","Nota: Los datos corresponden a 2013 pues son los últimos disponibles","Nota: Los datos corresponden a 2013 pues son los últimos disponibles","Nota: Los datos corresponden a 2013 pues son los últimos disponibles","Nota: Los datos corresponden a 2013 pues son los últimos disponibles","Nota: Los datos corresponden a 2013 pues son los últimos disponibles","Nota: Los datos corresponden a 2013 pues son los últimos disponibles","Nota: Los datos corresponden a 2013 pues son los últimos disponibles","Nota: Los datos corresponden a 2013 pues son los últimos disponibles","Nota: Los datos corresponden a 2013 pues son los últimos disponibles","Nota: Los datos corresponden a 2013 pues son los últimos disponibles","Nota: Los datos corresponden a 2013 pues son los últimos disponibles","Nota: Los datos corresponden a 2013 pues son los últimos disponibles","Nota: Los datos corresponden a 2013 pues son los últimos disponibles","Nota: Los datos corresponden a 2013 pues son los últimos disponibles","Nota: Los datos corresponden a 2013 pues son los últimos disponibles","Nota: Los datos corresponden a 2013 pues son los últimos disponibles","Nota: Los datos corresponden a 2013 pues son los últimos disponibles","Nota: Los datos corresponden a 2013 pues son los últimos disponibles","Nota: Los datos corresponden a 2013 pues son los últimos disponibles","Nota: Los datos corresponden a 2013 pues son los últimos disponibles","Nota: Los datos corresponden a 2013 pues son los últimos disponibles","Nota: Los datos corresponden a 2013 pues son los últimos disponibles","Nota: Los datos corresponden a 2013 pues son los últimos disponibles","Nota: Los datos corresponden a 2013 pues son los últimos disponibles","Nota: Los datos corresponden a 2013 pues son los últimos disponibles","Nota: Los datos corresponden a 2013 pues son los últimos disponibles","Nota: Los datos corresponden a 2013 pues son los últimos disponibles","Nota: Los datos corresponden a 2013 pues son los últimos disponibles","Nota: Los datos corresponden a 2013 pues son los últimos disponibles","Nota: Los datos corresponden a 2013 pues son los últimos disponibles","Nota: Los datos corresponden a 2013 pues son los últimos disponibles","Nota: Los datos corresponden a 2013 pues son los últimos disponibles","Nota: Los datos corresponden a 2013 pues son los últimos disponibles","Nota: Los datos corresponden a 2013 pues son los últimos disponibles","Nota: Los datos corresponden a 2013 pues son los últimos disponibles","Nota: Los datos corresponden a 2013 pues son los últimos disponibles","Nota: Los datos corresponden a 2013 pues son los últimos disponibles","Nota: Los datos corresponden a 2013 pues son los últimos disponibles","Nota: Los datos corresponden a 2013 pues son los últimos disponibles","Nota: Los datos corresponden a 2013 pues son los últimos disponibles","Nota: Los datos corresponden a 2013 pues son los últimos disponibles","Nota: Los datos corresponden a 2013 pues son los últimos disponibles","Nota: Los datos corresponden a 2013 pues son los últimos disponibles","Nota: Los datos corresponden a 2013 pues son los últimos disponibles","Nota: Los datos corresponden a 2013 pues son los últimos disponibles","Nota: Los datos corresponden a 2013 pues son los últimos disponibles","Nota: Los datos corresponden a 2013 pues son los últimos disponibles","Nota: Los datos corresponden a 2013 pues son los últimos disponibles","Nota: Los datos corresponden a 2013 pues son los últimos disponibles","Nota: Los datos corresponden a 2013 pues son los últimos disponibles","Nota: Los datos corresponden a 2013 pues son los últimos disponibles","Nota: Los datos corresponden a 2013 pues son los últimos disponibles","Nota: Los datos corresponden a 2013 pues son los últimos disponibles","Nota: Los datos corresponden a 2013 pues son los últimos disponibles","Nota: Los datos corresponden a 2013 pues son los últimos disponibles","Nota: Los datos corresponden a 2013 pues son los últimos disponibles","Nota: Los datos corresponden a 2013 pues son los últimos disponibles","Nota: Los datos corresponden a 2013 pues son los últimos disponibles","Nota: Los datos corresponden a 2013 pues son los últimos disponibles","Nota: Los datos corresponden a 2013 pues son los últimos disponibles","Nota: Los datos corresponden a 2013 pues son los últimos disponibles","Nota: Los datos corresponden a 2013 pues son los últimos disponibles","Nota: Los datos corresponden a 2013 pues son los últimos disponibles","Nota: Los datos corresponden a 2013 pues son los últimos disponibles","Nota: Los datos corresponden a 2013 pues son los últimos disponibles","Nota: Los datos corresponden a 2013 pues son los últimos disponibles","Nota: Los datos corresponden a 2013 pues son los últimos disponibles","Nota: Los datos corresponden a 2013 pues son los últimos disponibles","Nota: Los datos corresponden a 2013 pues son los últimos disponibles","Nota: Los datos corresponden a 2013 pues son los últimos disponibles","Nota: Los datos corresponden a 2013 pues son los últimos disponibles","Nota: Los datos corresponden a 2013 pues son los últimos disponibles","Nota: Los datos corresponden a 2013 pues son los últimos disponibles","Nota: Los datos corresponden a 2013 pues son los últimos disponibles","Nota: Los datos corresponden a 2013 pues son los últimos disponibles","Nota: Los datos corresponden a 2013 pues son los últimos disponibles","Nota: Los datos corresponden a 2013 pues son los últimos disponibles","Nota: Los datos corresponden a 2013 pues son los últimos disponibles","Nota: Los datos corresponden a 2013 pues son los últimos disponibles","Nota: Los datos corresponden a 2013 pues son los últimos disponibles","Nota: Los datos corresponden a 2013 pues son los últimos disponibles","Nota: Los datos corresponden a 2013 pues son los últimos disponibles","Nota: Los datos corresponden a 2013 pues son los últimos disponibles","Nota: Los datos corresponden a 2013 pues son los últimos disponibles","Nota: Los datos corresponden a 2013 pues son los últimos disponibles","Nota: Los datos corresponden a 2013 pues son los últimos disponibles","Nota: Los datos corresponden a 2013 pues son los últimos disponibles","Nota: Los datos corresponden a 2013 pues son los últimos disponibles","Nota: Los datos corresponden a 2013 pues son los últimos disponibles","Nota: Los datos corresponden a 2013 pues son los últimos disponibles","Nota: Los datos corresponden a 2013 pues son los últimos disponibles","Nota: Los datos corresponden a 2013 pues son los últimos disponibles","Nota: Los datos corresponden a 2013 pues son los últimos disponibles","Nota: Los datos corresponden a 2013 pues son los últimos disponibles","Nota: Los datos corresponden a 2013 pues son los últimos disponibles","Nota: Los datos corresponden a 2013 pues son los últimos disponibles","Nota: Los datos corresponden a 2013 pues son los últimos disponibles","Nota: Los datos corresponden a 2013 pues son los últimos disponibles","Nota: Los datos corresponden a 2013 pues son los últimos disponibles","Nota: Los datos corresponden a 2013 pues son los últimos disponibles","Nota: Los datos corresponden a 2013 pues son los últimos disponibles","Nota: Los datos corresponden a 2013 pues son los últimos disponibles","Nota: Los datos corresponden a 2013 pues son los últimos disponibles","Nota: Los datos corresponden a 2013 pues son los últimos disponibles","Nota: Los datos corresponden a 2013 pues son los últimos disponibles","Nota: Los datos corresponden a 2013 pues son los últimos disponibles","Nota: Los datos corresponden a 2013 pues son los últimos disponibles","Nota: Los datos corresponden a 2013 pues son los últimos disponibles","Nota: Los datos corresponden a 2013 pues son los últimos disponibles","Nota: Los datos corresponden a 2013 pues son los últimos disponibles","Nota: Los datos corresponden a 2013 pues son los últimos disponibles","Nota: Los datos corresponden a 2013 pues son los últimos disponibles","Nota: Los datos corresponden a 2013 pues son los últimos disponibles","Nota: Los datos corresponden a 2013 pues son los últimos disponibles","Nota: Los datos corresponden a 2013 pues son los últimos disponibles","Nota: Los datos corresponden a 2013 pues son los últimos disponibles","Nota: Los datos corresponden a 2013 pues son los últimos disponibles","Nota: Los datos corresponden a 2013 pues son los últimos disponibles","Nota: Los datos corresponden a 2013 pues son los últimos disponibles","Nota: Los datos corresponden a 2013 pues son los últimos disponibles","Nota: Los datos corresponden a 2013 pues son los últimos disponibles","Nota: Los datos corresponden a 2013 pues son los últimos disponibles","Nota: Los datos corresponden a 2013 pues son los últimos disponibles","Nota: Los datos corresponden a 2013 pues son los últimos disponibles","Nota: Los datos corresponden a 2013 pues son los últimos disponibles","Nota: Los datos corresponden a 2013 pues son los últimos disponibles","Nota: Los datos corresponden a 2013 pues son los últimos disponibles","Nota: Los datos corresponden a 2013 pues son los últimos disponibles","Nota: Los datos corresponden a 2013 pues son los últimos disponibles","Nota: Los datos corresponden a 2013 pues son los últimos disponibles","Nota: Los datos corresponden a 2013 pues son los últimos disponibles","Nota: Los datos corresponden a 2013 pues son los últimos disponibles","Nota: Los datos corresponden a 2013 pues son los últimos disponibles","Nota: Los datos corresponden a 2013 pues son los últimos disponibles","Nota: Los datos corresponden a 2013 pues son los últimos disponibles","Nota: Los datos corresponden a 2013 pues son los últimos disponibles","Nota: Los datos corresponden a 2013 pues son los últimos disponibles","Nota: Los datos corresponden a 2013 pues son los últimos disponibles","Nota: Los datos corresponden a 2013 pues son los últimos disponibles","Nota: Los datos corresponden a 2013 pues son los últimos disponibles","Nota: Los datos corresponden a 2013 pues son los últimos disponibles","Nota: Los datos corresponden a 2013 pues son los últimos disponibles","Nota: Los datos corresponden a 2013 pues son los últimos disponibles","Nota: Los datos corresponden a 2013 pues son los últimos disponibles","Nota: Los datos corresponden a 2013 pues son los últimos disponibles","Nota: Los datos corresponden a 2013 pues son los últimos disponibles","Nota: Los datos corresponden a 2013 pues son los últimos disponibles","Nota: Los datos corresponden a 2013 pues son los últimos disponibles","Nota: Los datos corresponden a 2013 pues son los últimos disponibles","Nota: Los datos corresponden a 2013 pues son los últimos disponibles","Nota: Los datos corresponden a 2013 pues son los últimos disponibles","Nota: Los datos corresponden a 2013 pues son los últimos disponibles","Nota: Los datos corresponden a 2013 pues son los últimos disponibles","Nota: Los datos corresponden a 2013 pues son los últimos disponibles","Nota: Los datos corresponden a 2013 pues son los últimos disponibles","Nota: Los datos corresponden a 2013 pues son los últimos disponibles","Nota: Los datos corresponden a 2013 pues son los últimos disponibles","Nota: Los datos corresponden a 2013 pues son los últimos disponibles","Nota: Los datos corresponden a 2013 pues son los últimos disponibles","Nota: Los datos corresponden a 2013 pues son los últimos disponibles","Nota: Los datos corresponden a 2013 pues son los últimos disponibles","Nota: Los datos corresponden a 2013 pues son los últimos disponibles","Nota: Los datos corresponden a 2013 pues son los últimos disponibles","Nota: Los datos corresponden a 2013 pues son los últimos disponibles","Nota: Los datos corresponden a 2013 pues son los últimos disponibles","Nota: Los datos corresponden a 2013 pues son los últimos disponibles","Nota: Los datos corresponden a 2013 pues son los últimos disponibles","Nota: Los datos corresponden a 2013 pues son los últimos disponibles","Nota: Los datos corresponden a 2013 pues son los últimos disponibles","Nota: Los datos corresponden a 2013 pues son los últimos disponibles","Nota: Los datos corresponden a 2013 pues son los últimos disponibles","Nota: Los datos corresponden a 2013 pues son los últimos disponibles","Nota: Los datos corresponden a 2013 pues son los últimos disponibles","Nota: Los datos corresponden a 2013 pues son los últimos disponibles","Nota: Los datos corresponden a 2013 pues son los últimos disponibles","Nota: Los datos corresponden a 2013 pues son los últimos disponibles","Nota: Los datos corresponden a 2013 pues son los últimos disponibles","Nota: Los datos corresponden a 2013 pues son los últimos disponibles","Nota: Los datos corresponden a 2013 pues son los últimos disponibles","Nota: Los datos corresponden a 2013 pues son los últimos disponibles","Nota: Los datos corresponden a 2013 pues son los últimos disponibles","Nota: Los datos corresponden a 2013 pues son los últimos disponibles","Nota: Los datos corresponden a 2013 pues son los últimos disponibles","Nota: Los datos corresponden a 2013 pues son los últimos disponibles","Nota: Los datos corresponden a 2013 pues son los últimos disponibles","Nota: Los datos corresponden a 2013 pues son los últimos disponibles","Nota: Los datos corresponden a 2013 pues son los últimos disponibles","Nota: Los datos corresponden a 2013 pues son los últimos disponibles","Nota: Los datos corresponden a 2013 pues son los últimos disponibles","Nota: Los datos corresponden a 2013 pues son los últimos disponibles","Nota: Los datos corresponden a 2013 pues son los últimos disponibles","Nota: Los datos corresponden a 2013 pues son los últimos disponibles","Nota: Los datos corresponden a 2013 pues son los últimos disponibles","Nota: Los datos corresponden a 2013 pues son los últimos disponibles","Nota: Los datos corresponden a 2013 pues son los últimos disponibles","Nota: Los datos corresponden a 2013 pues son los últimos disponibles","Nota: Los datos corresponden a 2013 pues son los últimos disponibles","Nota: Los datos corresponden a 2013 pues son los últimos disponibles","Nota: Los datos corresponden a 2013 pues son los últimos disponibles","Nota: Los datos corresponden a 2013 pues son los últimos disponibles","Nota: Los datos corresponden a 2013 pues son los últimos disponibles","Nota: Los datos corresponden a 2013 pues son los últimos disponibles","Nota: Los datos corresponden a 2013 pues son los últimos disponibles","Nota: Los datos corresponden a 2013 pues son los últimos disponibles","Nota: Los datos corresponden a 2013 pues son los últimos disponibles","Nota: Los datos corresponden a 2013 pues son los últimos disponibles","Nota: Los datos corresponden a 2013 pues son los últimos disponibles","Nota: Los datos corresponden a 2013 pues son los últimos disponibles","Nota: Los datos corresponden a 2013 pues son los últimos disponibles","Nota: Los datos corresponden a 2013 pues son los últimos disponibles","Nota: Los datos corresponden a 2013 pues son los últimos disponibles","Nota: Los datos corresponden a 2013 pues son los últimos disponibles","Nota: Los datos corresponden a 2013 pues son los últimos disponibles","Nota: Los datos corresponden a 2013 pues son los últimos disponibles","Nota: Los datos corresponden a 2013 pues son los últimos disponibles","Nota: Los datos corresponden a 2013 pues son los últimos disponibles","Nota: Los datos corresponden a 2013 pues son los últimos disponibles","Nota: Los datos corresponden a 2013 pues son los últimos disponibles","Nota: Los datos corresponden a 2013 pues son los últimos disponibles","Nota: Los datos corresponden a 2013 pues son los últimos disponibles","Nota: Los datos corresponden a 2013 pues son los últimos disponibles","Nota: Los datos corresponden a 2013 pues son los últimos disponibles","Nota: Los datos corresponden a 2013 pues son los últimos disponibles","Nota: Los datos corresponden a 2013 pues son los últimos disponibles","Nota: Los datos corresponden a 2013 pues son los últimos disponibles","Nota: Los datos corresponden a 2013 pues son los últimos disponibles","Nota: Los datos corresponden a 2013 pues son los últimos disponibles","Nota: Los datos corresponden a 2013 pues son los últimos disponibles","Nota: Los datos corresponden a 2013 pues son los últimos disponibles","Nota: Los datos corresponden a 2013 pues son los últimos disponibles","Nota: Los datos corresponden a 2013 pues son los últimos disponibles","Nota: Los datos corresponden a 2013 pues son los últimos disponibles","Nota: Los datos corresponden a 2013 pues son los últimos disponibles","Nota: Los datos corresponden a 2013 pues son los últimos disponibles","Nota: Los datos corresponden a 2013 pues son los últimos disponibles","Nota: Los datos corresponden a 2013 pues son los últimos disponibles","Nota: Los datos corresponden a 2013 pues son los últimos disponibles","Nota: Los datos corresponden a 2013 pues son los últimos disponibles","Nota: Los datos corresponden a 2013 pues son los últimos disponibles","Nota: Los datos corresponden a 2013 pues son los últimos disponibles","Nota: Los datos corresponden a 2013 pues son los últimos disponibles","Nota: Los datos corresponden a 2013 pues son los últimos disponibles","Nota: Los datos corresponden a 2013 pues son los últimos disponibles","Nota: Los datos corresponden a 2013 pues son los últimos disponibles","Nota: Los datos corresponden a 2013 pues son los últimos disponibles","Nota: Los datos corresponden a 2013 pues son los últimos disponibles","Nota: Los datos corresponden a 2013 pues son los últimos disponibles","Nota: Los datos corresponden a 2013 pues son los últimos disponibles","Nota: Los datos corresponden a 2013 pues son los últimos disponibles","Nota: Los datos corresponden a 2013 pues son los últimos disponibles","Nota: Los datos corresponden a 2013 pues son los últimos disponibles","Nota: Los datos corresponden a 2013 pues son los últimos disponibles","Nota: Los datos corresponden a 2013 pues son los últimos disponibles","Nota: Los datos corresponden a 2013 pues son los últimos disponibles","Nota: Los datos corresponden a 2013 pues son los últimos disponibles","Nota: Los datos corresponden a 2013 pues son los últimos disponibles","Nota: Los datos corresponden a 2013 pues son los últimos disponibles","Nota: Los datos corresponden a 2013 pues son los últimos disponibles","Nota: Los datos corresponden a 2013 pues son los últimos disponibles","Nota: Los datos corresponden a 2013 pues son los últimos disponibles","Nota: Los datos corresponden a 2013 pues son los últimos disponibles","Nota: Los datos corresponden a 2013 pues son los últimos disponibles","Nota: Los datos corresponden a 2013 pues son los últimos disponibles","Nota: Los datos corresponden a 2013 pues son los últimos disponibles","Nota: Los datos corresponden a 2013 pues son los últimos disponibles","Nota: Los datos corresponden a 2013 pues son los últimos disponibles","Nota: Los datos corresponden a 2013 pues son los últimos disponibles","Nota: Los datos corresponden a 2013 pues son los últimos disponibles","Nota: Los datos corresponden a 2013 pues son los últimos disponibles","Nota: Los datos corresponden a 2013 pues son los últimos disponibles","Nota: Los datos corresponden a 2013 pues son los últimos disponibles","Nota: Los datos corresponden a 2013 pues son los últimos disponibles","Nota: Los datos corresponden a 2013 pues son los últimos disponibles","Nota: Los datos corresponden a 2013 pues son los últimos disponibles","Nota: Los datos corresponden a 2013 pues son los últimos disponibles","Nota: Los datos corresponden a 2013 pues son los últimos disponibles","Nota: Los datos corresponden a 2013 pues son los últimos disponibles","Nota: Los datos corresponden a 2013 pues son los últimos disponibles","Nota: Los datos corresponden a 2013 pues son los últimos disponibles","Nota: Los datos corresponden a 2013 pues son los últimos disponibles","Nota: Los datos corresponden a 2013 pues son los últimos disponibles","Nota: Los datos corresponden a 2013 pues son los últimos disponibles","Nota: Los datos corresponden a 2013 pues son los últimos disponibles","Nota: Los datos corresponden a 2013 pues son los últimos disponibles","Nota: Los datos corresponden a 2013 pues son los últimos disponibles","Nota: Los datos corresponden a 2013 pues son los últimos disponibles","Nota: Los datos corresponden a 2013 pues son los últimos disponibles","Nota: Los datos corresponden a 2013 pues son los últimos disponibles","Nota: Los datos corresponden a 2013 pues son los últimos disponibles","Nota: Los datos corresponden a 2013 pues son los últimos disponibles","Nota: Los datos corresponden a 2013 pues son los últimos disponibles","Nota: Los datos corresponden a 2013 pues son los últimos disponibles","Nota: Los datos corresponden a 2013 pues son los últimos disponibles","Nota: Los datos corresponden a 2013 pues son los últimos disponibles","Nota: Los datos corresponden a 2013 pues son los últimos disponibles","Nota: Los datos corresponden a 2013 pues son los últimos disponibles","Nota: Los datos corresponden a 2013 pues son los últimos disponibles","Nota: Los datos corresponden a 2013 pues son los últimos disponibles","Nota: Los datos corresponden a 2013 pues son los últimos disponibles","Nota: Los datos corresponden a 2013 pues son los últimos disponibles","Nota: Los datos corresponden a 2013 pues son los últimos disponibles","Nota: Los datos corresponden a 2013 pues son los últimos disponibles","Nota: Los datos corresponden a 2013 pues son los últimos disponibles","Nota: Los datos corresponden a 2013 pues son los últimos disponibles","Nota: Los datos corresponden a 2013 pues son los últimos disponibles","Nota: Los datos corresponden a 2013 pues son los últimos disponibles","Nota: Los datos corresponden a 2013 pues son los últimos disponibles","Nota: Los datos corresponden a 2013 pues son los últimos disponibles","Nota: Los datos corresponden a 2013 pues son los últimos disponibles","Nota: Los datos corresponden a 2013 pues son los últimos disponibles","Nota: Los datos corresponden a 2013 pues son los últimos disponibles","Nota: Los datos corresponden a 2013 pues son los últimos disponibles","Nota: Los datos corresponden a 2013 pues son los últimos disponibles","Nota: Los datos corresponden a 2013 pues son los últimos disponibles","Nota: Los datos corresponden a 2013 pues son los últimos disponibles","Nota: Los datos corresponden a 2013 pues son los últimos disponibles","Nota: Los datos corresponden a 2013 pues son los últimos disponibles","Nota: Los datos corresponden a 2013 pues son los últimos disponibles","Nota: Los datos corresponden a 2013 pues son los últimos disponibles","Nota: Los datos corresponden a 2013 pues son los últimos disponibles","Nota: Los datos corresponden a 2013 pues son los últimos disponibles","Nota: Los datos corresponden a 2013 pues son los últimos disponibles","Nota: Los datos corresponden a 2013 pues son los últimos disponibles","Nota: Los datos corresponden a 2013 pues son los últimos disponibles","Nota: Los datos corresponden a 2013 pues son los últimos disponibles","Nota: Los datos corresponden a 2013 pues son los últimos disponibles","Nota: Los datos corresponden a 2013 pues son los últimos disponibles","Nota: Los datos corresponden a 2013 pues son los últimos disponibles","Nota: Los datos corresponden a 2013 pues son los últimos disponibles","Nota: Los datos corresponden a 2013 pues son los últimos disponibles","Nota: Los datos corresponden a 2013 pues son los últimos disponibles","Nota: Los datos corresponden a 2013 pues son los últimos disponibles","Nota: Los datos corresponden a 2013 pues son los últimos disponibles","Nota: Los datos corresponden a 2013 pues son los últimos disponibles","Nota: Los datos corresponden a 2013 pues son los últimos disponibles","Nota: Los datos corresponden a 2013 pues son los últimos disponibles","Nota: Los datos corresponden a 2013 pues son los últimos disponibles","Nota: Los datos corresponden a 2013 pues son los últimos disponibles","Nota: Los datos corresponden a 2013 pues son los últimos disponibles","Nota: Los datos corresponden a 2013 pues son los últimos disponibles","Nota: Los datos corresponden a 2013 pues son los últimos disponibles","Nota: Los datos corresponden a 2013 pues son los últimos disponibles","Nota: Los datos corresponden a 2013 pues son los últimos disponibles","Nota: Los datos corresponden a 2013 pues son los últimos disponibles","Nota: Los datos corresponden a 2013 pues son los últimos disponibles","Nota: Los datos corresponden a 2013 pues son los últimos disponibles","Nota: Los datos corresponden a 2013 pues son los últimos disponibles","Nota: Los datos corresponden a 2013 pues son los últimos disponibles","Nota: Los datos corresponden a 2013 pues son los últimos disponibles","Nota: Los datos corresponden a 2013 pues son los últimos disponibles","Nota: Los datos corresponden a 2013 pues son los últimos disponibles","Nota: Los datos corresponden a 2013 pues son los últimos disponibles","Nota: Los datos corresponden a 2013 pues son los últimos disponibles","Nota: Los datos corresponden a 2013 pues son los últimos disponibles","Nota: Los datos corresponden a 2013 pues son los últimos disponibles","Nota: Los datos corresponden a 2013 pues son los últimos disponibles","Nota: Los datos corresponden a 2013 pues son los últimos disponibles","Nota: Los datos corresponden a 2013 pues son los últimos disponibles","Nota: Los datos corresponden a 2013 pues son los últimos disponibles","Nota: Los datos corresponden a 2013 pues son los últimos disponibles","Nota: Los datos corresponden a 2013 pues son los últimos disponibles","Nota: Los datos corresponden a 2013 pues son los últimos disponibles","Nota: Los datos corresponden a 2013 pues son los últimos disponibles","Nota: Los datos corresponden a 2013 pues son los últimos disponibles","Nota: Los datos corresponden a 2013 pues son los últimos disponibles","Nota: Los datos corresponden a 2013 pues son los últimos disponibles","Nota: Los datos corresponden a 2013 pues son los últimos disponibles","Nota: Los datos corresponden a 2013 pues son los últimos disponibles","Nota: Los datos corresponden a 2013 pues son los últimos disponibles","Nota: Los datos corresponden a 2013 pues son los últimos disponibles","Nota: Los datos corresponden a 2013 pues son los últimos disponibles","Nota: Los datos corresponden a 2013 pues son los últimos disponibles","Nota: Los datos corresponden a 2013 pues son los últimos disponibles","Nota: Los datos corresponden a 2013 pues son los últimos disponibles","Nota: Los datos corresponden a 2013 pues son los últimos disponibles","Nota: Los datos corresponden a 2013 pues son los últimos disponibles","Nota: Los datos corresponden a 2013 pues son los últimos disponibles","Nota: Los datos corresponden a 2013 pues son los últimos disponibles","Nota: Los datos corresponden a 2013 pues son los últimos disponibles","Nota: Los datos corresponden a 2013 pues son los últimos disponibles","Nota: Los datos corresponden a 2013 pues son los últimos disponibles","Nota: Los datos corresponden a 2013 pues son los últimos disponibles","Nota: Los datos corresponden a 2013 pues son los últimos disponibles","Nota: Los datos corresponden a 2013 pues son los últimos disponibles","Nota: Los datos corresponden a 2013 pues son los últimos disponibles","Nota: Los datos corresponden a 2013 pues son los últimos disponibles","Nota: Los datos corresponden a 2013 pues son los últimos disponibles","Nota: Los datos corresponden a 2013 pues son los últimos disponibles","Nota: Los datos corresponden a 2013 pues son los últimos disponibles","Nota: Los datos corresponden a 2013 pues son los últimos disponibles","Nota: Los datos corresponden a 2013 pues son los últimos disponibles","Nota: Los datos corresponden a 2013 pues son los últimos disponibles","Nota: Los datos corresponden a 2013 pues son los últimos disponibles","Nota: Los datos corresponden a 2013 pues son los últimos disponibles","Nota: Los datos corresponden a 2013 pues son los últimos disponibles","Nota: Los datos corresponden a 2013 pues son los últimos disponibles","Nota: Los datos corresponden a 2013 pues son los últimos disponibles","Nota: Los datos corresponden a 2013 pues son los últimos disponibles","Nota: Los datos corresponden a 2013 pues son los últimos disponibles","Nota: Los datos corresponden a 2013 pues son los últimos disponibles","Nota: Los datos corresponden a 2013 pues son los últimos disponibles","Nota: Los datos corresponden a 2013 pues son los últimos disponibles","Nota: Los datos corresponden a 2013 pues son los últimos disponibles","Nota: Los datos corresponden a 2013 pues son los últimos disponibles","Nota: Los datos corresponden a 2013 pues son los últimos disponibles","Nota: Los datos corresponden a 2013 pues son los últimos disponibles","Nota: Los datos corresponden a 2013 pues son los últimos disponibles","Nota: Los datos corresponden a 2013 pues son los últimos disponibles","Nota: Los datos corresponden a 2013 pues son los últimos disponibles","Nota: Los datos corresponden a 2013 pues son los últimos disponibles","Nota: Los datos corresponden a 2013 pues son los últimos disponibles","Nota: Los datos corresponden a 2013 pues son los últimos disponibles","Nota: Los datos corresponden a 2013 pues son los últimos disponibles","Nota: Los datos corresponden a 2013 pues son los últimos disponibles","Nota: Los datos corresponden a 2013 pues son los últimos disponibles","Nota: Los datos corresponden a 2013 pues son los últimos disponibles","Nota: Los datos corresponden a 2013 pues son los últimos disponibles","Nota: Los datos corresponden a 2013 pues son los últimos disponibles","Nota: Los datos corresponden a 2013 pues son los últimos disponibles","Nota: Los datos corresponden a 2013 pues son los últimos disponibles","Nota: Los datos corresponden a 2013 pues son los últimos disponibles","Nota: Los datos corresponden a 2013 pues son los últimos disponibles","Nota: Los datos corresponden a 2013 pues son los últimos disponibles","Nota: Los datos corresponden a 2013 pues son los últimos disponibles","Nota: Los datos corresponden a 2013 pues son los últimos disponibles","Nota: Los datos corresponden a 2013 pues son los últimos disponibles","Nota: Los datos corresponden a 2013 pues son los últimos disponibles","Nota: Los datos corresponden a 2013 pues son los últimos disponibles","Nota: Los datos corresponden a 2013 pues son los últimos disponibles","Nota: Los datos corresponden a 2013 pues son los últimos disponibles","Nota: Los datos corresponden a 2013 pues son los últimos disponibles","Nota: Los datos corresponden a 2013 pues son los últimos disponibles","Nota: Los datos corresponden a 2013 pues son los últimos disponibles","Nota: Los datos corresponden a 2013 pues son los últimos disponibles","Nota: Los datos corresponden a 2013 pues son los últimos disponibles","Nota: Los datos corresponden a 2013 pues son los últimos disponibles","Nota: Los datos corresponden a 2013 pues son los últimos disponibles","Nota: Los datos corresponden a 2013 pues son los últimos disponibles","Nota: Los datos corresponden a 2013 pues son los últimos disponibles","Nota: Los datos corresponden a 2013 pues son los últimos disponibles","Nota: Los datos corresponden a 2013 pues son los últimos disponibles","Nota: Los datos corresponden a 2013 pues son los últimos disponibles","Nota: Los datos corresponden a 2013 pues son los últimos disponibles","Nota: Los datos corresponden a 2013 pues son los últimos disponibles","Nota: Los datos corresponden a 2013 pues son los últimos disponibles","Nota: Los datos corresponden a 2013 pues son los últimos disponibles","Nota: Los datos corresponden a 2013 pues son los últimos disponibles","Nota: Los datos corresponden a 2013 pues son los últimos disponibles","Nota: Los datos corresponden a 2013 pues son los últimos disponibles","Nota: Los datos corresponden a 2013 pues son los últimos disponibles","Nota: Los datos corresponden a 2013 pues son los últimos disponibles","Nota: Los datos corresponden a 2013 pues son los últimos disponibles","Nota: Los datos corresponden a 2013 pues son los últimos disponibles","Nota: Los datos corresponden a 2013 pues son los últimos disponibles","Nota: Los datos corresponden a 2013 pues son los últimos disponibles","Nota: Los datos corresponden a 2013 pues son los últimos disponibles","Nota: Los datos corresponden a 2013 pues son los últimos disponibles","Nota: Los datos corresponden a 2013 pues son los últimos disponibles","Nota: Los datos corresponden a 2013 pues son los últimos disponibles","Nota: Los datos corresponden a 2013 pues son los últimos disponibles","Nota: Los datos corresponden a 2013 pues son los últimos disponibles","Nota: Los datos corresponden a 2013 pues son los últimos disponibles","Nota: Los datos corresponden a 2013 pues son los últimos disponibles","Nota: Los datos corresponden a 2013 pues son los últimos disponibles","Nota: Los datos corresponden a 2013 pues son los últimos disponibles","Nota: Los datos corresponden a 2013 pues son los últimos disponibles","Nota: Los datos corresponden a 2013 pues son los últimos disponibles","Nota: Los datos corresponden a 2013 pues son los últimos disponibles","Nota: Los datos corresponden a 2013 pues son los últimos disponibles","Nota: Los datos corresponden a 2013 pues son los últimos disponibles","Nota: Los datos corresponden a 2013 pues son los últimos disponibles","Nota: Los datos corresponden a 2013 pues son los últimos disponibles","Nota: Los datos corresponden a 2013 pues son los últimos disponibles","Nota: Los datos corresponden a 2013 pues son los últimos disponibles","Nota: Los datos corresponden a 2013 pues son los últimos disponibles","Nota: Los datos corresponden a 2013 pues son los últimos disponibles","Nota: Los datos corresponden a 2013 pues son los últimos disponibles","Nota: Los datos corresponden a 2013 pues son los últimos disponibles","Nota: Los datos corresponden a 2013 pues son los últimos disponibles","Nota: Los datos corresponden a 2013 pues son los últimos disponibles","Nota: Los datos corresponden a 2013 pues son los últimos disponibles","Nota: Los datos corresponden a 2013 pues son los últimos disponibles","Nota: Los datos corresponden a 2013 pues son los últimos disponibles","Nota: Los datos corresponden a 2013 pues son los últimos disponibles","Nota: Los datos corresponden a 2013 pues son los últimos disponibles","Nota: Los datos corresponden a 2013 pues son los últimos disponibles","Nota: Los datos corresponden a 2013 pues son los últimos disponibles","Nota: Los datos corresponden a 2013 pues son los últimos disponibles","Nota: Los datos corresponden a 2013 pues son los últimos disponibles","Nota: Los datos corresponden a 2013 pues son los últimos disponibles","Nota: Los datos corresponden a 2013 pues son los últimos disponibles","Nota: Los datos corresponden a 2013 pues son los últimos disponibles","Nota: Los datos corresponden a 2013 pues son los últimos disponibles","Nota: Los datos corresponden a 2013 pues son los últimos disponibles","Nota: Los datos corresponden a 2013 pues son los últimos disponibles","Nota: Los datos corresponden a 2013 pues son los últimos disponibles","Nota: Los datos corresponden a 2013 pues son los últimos disponibles","Nota: Los datos corresponden a 2013 pues son los últimos disponibles","Nota: Los datos corresponden a 2013 pues son los últimos disponibles","Nota: Los datos corresponden a 2013 pues son los últimos disponibles","Nota: Los datos corresponden a 2013 pues son los últimos disponibles","Nota: Los datos corresponden a 2013 pues son los últimos disponibles","Nota: Los datos corresponden a 2013 pues son los últimos disponibles","Nota: Los datos corresponden a 2013 pues son los últimos disponibles","Nota: Los datos corresponden a 2013 pues son los últimos disponibles","Nota: Los datos corresponden a 2013 pues son los últimos disponibles","Nota: Los datos corresponden a 2013 pues son los últimos disponibles","Nota: Los datos corresponden a 2013 pues son los últimos disponibles","Nota: Los datos corresponden a 2013 pues son los últimos disponibles","Nota: Los datos corresponden a 2013 pues son los últimos disponibles","Nota: Los datos corresponden a 2013 pues son los últimos disponibles","Nota: Los datos corresponden a 2013 pues son los últimos disponibles","Nota: Los datos corresponden a 2013 pues son los últimos disponibles","Nota: Los datos corresponden a 2013 pues son los últimos disponibles","Nota: Los datos corresponden a 2013 pues son los últimos disponibles","Nota: Los datos corresponden a 2013 pues son los últimos disponibles","Nota: Los datos corresponden a 2013 pues son los últimos disponibles","Nota: Los datos corresponden a 2013 pues son los últimos disponibles","Nota: Los datos corresponden a 2013 pues son los últimos disponibles","Nota: Los datos corresponden a 2013 pues son los últimos disponibles","Nota: Los datos corresponden a 2013 pues son los últimos disponibles","Nota: Los datos corresponden a 2013 pues son los últimos disponibles","Nota: Los datos corresponden a 2013 pues son los últimos disponibles","Nota: Los datos corresponden a 2013 pues son los últimos disponibles","Nota: Los datos corresponden a 2013 pues son los últimos disponibles","Nota: Los datos corresponden a 2013 pues son los últimos disponibles","Nota: Los datos corresponden a 2013 pues son los últimos disponibles","Nota: Los datos corresponden a 2013 pues son los últimos disponibles","Nota: Los datos corresponden a 2013 pues son los últimos disponibles","Nota: Los datos corresponden a 2013 pues son los últimos disponibles","Nota: Los datos corresponden a 2013 pues son los últimos disponibles","Nota: Los datos corresponden a 2013 pues son los últimos disponibles","Nota: Los datos corresponden a 2013 pues son los últimos disponibles","Nota: Los datos corresponden a 2013 pues son los últimos disponibles","Nota: Los datos corresponden a 2013 pues son los últimos disponibles","Nota: Los datos corresponden a 2013 pues son los últimos disponibles","Nota: Los datos corresponden a 2013 pues son los últimos disponibles","Nota: Los datos corresponden a 2013 pues son los últimos disponibles","Nota: Los datos corresponden a 2013 pues son los últimos disponibles","Nota: Los datos corresponden a 2013 pues son los últimos disponibles","Nota: Los datos corresponden a 2013 pues son los últimos disponibles","Nota: Los datos corresponden a 2013 pues son los últimos disponibles","Nota: Los datos corresponden a 2013 pues son los últimos disponibles","Nota: Los datos corresponden a 2013 pues son los últimos disponibles","Nota: Los datos corresponden a 2013 pues son los últimos disponibles","Nota: Los datos corresponden a 2013 pues son los últimos disponibles","Nota: Los datos corresponden a 2013 pues son los últimos disponibles","Nota: Los datos corresponden a 2013 pues son los últimos disponibles","Nota: Los datos corresponden a 2013 pues son los últimos disponibles","Nota: Los datos corresponden a 2013 pues son los últimos disponibles","Nota: Los datos corresponden a 2013 pues son los últimos disponibles","Nota: Los datos corresponden a 2013 pues son los últimos disponibles","Nota: Los datos corresponden a 2013 pues son los últimos disponibles","Nota: Los datos corresponden a 2013 pues son los últimos disponibles","Nota: Los datos corresponden a 2013 pues son los últimos disponibles","Nota: Los datos corresponden a 2013 pues son los últimos disponibles","Nota: Los datos corresponden a 2013 pues son los últimos disponibles","Nota: Los datos corresponden a 2013 pues son los últimos disponibles","Nota: Los datos corresponden a 2013 pues son los últimos disponibles","Nota: Los datos corresponden a 2013 pues son los últimos disponibles","Nota: Los datos corresponden a 2013 pues son los últimos disponibles","Nota: Los datos corresponden a 2013 pues son los últimos disponibles","Nota: Los datos corresponden a 2013 pues son los últimos disponibles","Nota: Los datos corresponden a 2013 pues son los últimos disponibles","Nota: Los datos corresponden a 2013 pues son los últimos disponibles","Nota: Los datos corresponden a 2013 pues son los últimos disponibles","Nota: Los datos corresponden a 2013 pues son los últimos disponibles","Nota: Los datos corresponden a 2013 pues son los últimos disponibles","Nota: Los datos corresponden a 2013 pues son los últimos disponibles","Nota: Los datos corresponden a 2013 pues son los últimos disponibles","Nota: Los datos corresponden a 2013 pues son los últimos disponibles","Nota: Los datos corresponden a 2013 pues son los últimos disponibles","Nota: Los datos corresponden a 2013 pues son los últimos disponibles","Nota: Los datos corresponden a 2013 pues son los últimos disponibles","Nota: Los datos corresponden a 2013 pues son los últimos disponibles","Nota: Los datos corresponden a 2013 pues son los últimos disponibles","Nota: Los datos corresponden a 2013 pues son los últimos disponibles","Nota: Los datos corresponden a 2013 pues son los últimos disponibles","Nota: Los datos corresponden a 2013 pues son los últimos disponibles","Nota: Los datos corresponden a 2013 pues son los últimos disponibles","Nota: Los datos corresponden a 2013 pues son los últimos disponibles","Nota: Los datos corresponden a 2013 pues son los últimos disponibles","Nota: Los datos corresponden a 2013 pues son los últimos disponibles","Nota: Los datos corresponden a 2013 pues son los últimos disponibles","Nota: Los datos corresponden a 2013 pues son los últimos disponibles","Nota: Los datos corresponden a 2013 pues son los últimos disponibles","Nota: Los datos corresponden a 2013 pues son los últimos disponibles","Nota: Los datos corresponden a 2013 pues son los últimos disponibles","Nota: Los datos corresponden a 2013 pues son los últimos disponibles","Nota: Los datos corresponden a 2013 pues son los últimos disponibles","Nota: Los datos corresponden a 2013 pues son los últimos disponibles","Nota: Los datos corresponden a 2013 pues son los últimos disponibles","Nota: Los datos corresponden a 2013 pues son los últimos disponibles","Nota: Los datos corresponden a 2013 pues son los últimos disponibles","Nota: Los datos corresponden a 2013 pues son los últimos disponibles","Nota: Los datos corresponden a 2013 pues son los últimos disponibles","Nota: Los datos corresponden a 2013 pues son los últimos disponibles","Nota: Los datos corresponden a 2013 pues son los últimos disponibles","Nota: Los datos corresponden a 2013 pues son los últimos disponibles","Nota: Los datos corresponden a 2013 pues son los últimos disponibles","Nota: Los datos corresponden a 2013 pues son los últimos disponibles","Nota: Los datos corresponden a 2013 pues son los últimos disponibles","Nota: Los datos corresponden a 2013 pues son los últimos disponibles","Nota: Los datos corresponden a 2013 pues son los últimos disponibles","Nota: Los datos corresponden a 2013 pues son los últimos disponibles","Nota: Los datos corresponden a 2013 pues son los últimos disponibles","Nota: Los datos corresponden a 2013 pues son los últimos disponibles","Nota: Los datos corresponden a 2013 pues son los últimos disponibles","Nota: Los datos corresponden a 2013 pues son los últimos disponibles","Nota: Los datos corresponden a 2013 pues son los últimos disponibles","Nota: Los datos corresponden a 2013 pues son los últimos disponibles","Nota: Los datos corresponden a 2013 pues son los últimos disponibles","Nota: Los datos corresponden a 2013 pues son los últimos disponibles","Nota: Los datos corresponden a 2013 pues son los últimos disponibles","Nota: Los datos corresponden a 2013 pues son los últimos disponibles","Nota: Los datos corresponden a 2013 pues son los últimos disponibles","Nota: Los datos corresponden a 2013 pues son los últimos disponibles","Nota: Los datos corresponden a 2013 pues son los últimos disponibles","Nota: Los datos corresponden a 2013 pues son los últimos disponibles","Nota: Los datos corresponden a 2013 pues son los últimos disponibles","Nota: Los datos corresponden a 2013 pues son los últimos disponibles","Nota: Los datos corresponden a 2013 pues son los últimos disponibles","Nota: Los datos corresponden a 2013 pues son los últimos disponibles","Nota: Los datos corresponden a 2013 pues son los últimos disponibles","Nota: Los datos corresponden a 2013 pues son los últimos disponibles","Nota: Los datos corresponden a 2013 pues son los últimos disponibles","Nota: Los datos corresponden a 2013 pues son los últimos disponibles","Nota: Los datos corresponden a 2013 pues son los últimos disponibles","Nota: Los datos corresponden a 2013 pues son los últimos disponibles","Nota: Los datos corresponden a 2013 pues son los últimos disponibles","Nota: Los datos corresponden a 2013 pues son los últimos disponibles","Nota: Los datos corresponden a 2013 pues son los últimos disponibles","Nota: Los datos corresponden a 2013 pues son los últimos disponibles","Nota: Los datos corresponden a 2013 pues son los últimos disponibles","Nota: Los datos corresponden a 2013 pues son los últimos disponibles","Nota: Los datos corresponden a 2013 pues son los últimos disponibles","Nota: Los datos corresponden a 2013 pues son los últimos disponibles","Nota: Los datos corresponden a 2013 pues son los últimos disponibles","Nota: Los datos corresponden a 2013 pues son los últimos disponibles","Nota: Los datos corresponden a 2013 pues son los últimos disponibles","Nota: Los datos corresponden a 2013 pues son los últimos disponibles","Nota: Los datos corresponden a 2013 pues son los últimos disponibles","Nota: Los datos corresponden a 2013 pues son los últimos disponibles","Nota: Los datos corresponden a 2013 pues son los últimos disponibles","Nota: Los datos corresponden a 2013 pues son los últimos disponibles","Nota: Los datos corresponden a 2013 pues son los últimos disponibles","Nota: Los datos corresponden a 2013 pues son los últimos disponibles","Nota: Los datos corresponden a 2013 pues son los últimos disponibles","Nota: Los datos corresponden a 2013 pues son los últimos disponibles","Nota: Los datos corresponden a 2013 pues son los últimos disponibles","Nota: Los datos corresponden a 2013 pues son los últimos disponibles","Nota: Los datos corresponden a 2013 pues son los últimos disponibles","Nota: Los datos corresponden a 2013 pues son los últimos disponibles","Nota: Los datos corresponden a 2013 pues son los últimos disponibles","Nota: Los datos corresponden a 2013 pues son los últimos disponibles","Nota: Los datos corresponden a 2013 pues son los últimos disponibles","Nota: Los datos corresponden a 2013 pues son los últimos disponibles","Nota: Los datos corresponden a 2013 pues son los últimos disponibles","Nota: Los datos corresponden a 2013 pues son los últimos disponibles","Nota: Los datos corresponden a 2013 pues son los últimos disponibles","Nota: Los datos corresponden a 2013 pues son los últimos disponibles","Nota: Los datos corresponden a 2013 pues son los últimos disponibles","Nota: Los datos corresponden a 2013 pues son los últimos disponibles","Nota: Los datos corresponden a 2013 pues son los últimos disponibles","Nota: Los datos corresponden a 2013 pues son los últimos disponibles","Nota: Los datos corresponden a 2013 pues son los últimos disponibles","Nota: Los datos corresponden a 2013 pues son los últimos disponibles","Nota: Los datos corresponden a 2013 pues son los últimos disponibles","Nota: Los datos corresponden a 2013 pues son los últimos disponibles","Nota: Los datos corresponden a 2013 pues son los últimos disponibles","Nota: Los datos corresponden a 2013 pues son los últimos disponibles","Nota: Los datos corresponden a 2013 pues son los últimos disponibles","Nota: Los datos corresponden a 2013 pues son los últimos disponibles","Nota: Los datos corresponden a 2013 pues son los últimos disponibles","Nota: Los datos corresponden a 2013 pues son los últimos disponibles","Nota: Los datos corresponden a 2013 pues son los últimos disponibles","Nota: Los datos corresponden a 2013 pues son los últimos disponibles","Nota: Los datos corresponden a 2013 pues son los últimos disponibles","Nota: Los datos corresponden a 2013 pues son los últimos disponibles","Nota: Los datos corresponden a 2013 pues son los últimos disponibles","Nota: Los datos corresponden a 2013 pues son los últimos disponibles","Nota: Los datos corresponden a 2013 pues son los últimos disponibles","Nota: Los datos corresponden a 2013 pues son los últimos disponibles","Nota: Los datos corresponden a 2013 pues son los últimos disponibles","Nota: Los datos corresponden a 2013 pues son los últimos disponibles","Nota: Los datos corresponden a 2013 pues son los últimos disponibles","Nota: Los datos corresponden a 2013 pues son los últimos disponibles","Nota: Los datos corresponden a 2013 pues son los últimos disponibles","Nota: Los datos corresponden a 2013 pues son los últimos disponibles","Nota: Los datos corresponden a 2013 pues son los últimos disponibles","Nota: Los datos corresponden a 2013 pues son los últimos disponibles","Nota: Los datos corresponden a 2013 pues son los últimos disponibles","Nota: Los datos corresponden a 2013 pues son los últimos disponibles","Nota: Los datos corresponden a 2013 pues son los últimos disponibles","Nota: Los datos corresponden a 2013 pues son los últimos disponibles","Nota: Los datos corresponden a 2013 pues son los últimos disponibles","Nota: Los datos corresponden a 2013 pues son los últimos disponibles","Nota: Los datos corresponden a 2013 pues son los últimos disponibles","Nota: Los datos corresponden a 2013 pues son los últimos disponibles","Nota: Los datos corresponden a 2013 pues son los últimos disponibles","Nota: Los datos corresponden a 2013 pues son los últimos disponibles","Nota: Los datos corresponden a 2013 pues son los últimos disponibles","Nota: Los datos corresponden a 2013 pues son los últimos disponibles","Nota: Los datos corresponden a 2013 pues son los últimos disponibles","Nota: Los datos corresponden a 2013 pues son los últimos disponibles","Nota: Los datos corresponden a 2013 pues son los últimos disponibles","Nota: Los datos corresponden a 2013 pues son los últimos disponibles","Nota: Los datos corresponden a 2013 pues son los últimos disponibles","Nota: Los datos corresponden a 2013 pues son los últimos disponibles","Nota: Los datos corresponden a 2013 pues son los últimos disponibles","Nota: Los datos corresponden a 2013 pues son los últimos disponibles","Nota: Los datos corresponden a 2013 pues son los últimos disponibles","Nota: Los datos corresponden a 2013 pues son los últimos disponibles","Nota: Los datos corresponden a 2013 pues son los últimos disponibles","Nota: Los datos corresponden a 2013 pues son los últimos disponibles","Nota: Los datos corresponden a 2013 pues son los últimos disponibles","Nota: Los datos corresponden a 2013 pues son los últimos disponibles","Nota: Los datos corresponden a 2013 pues son los últimos disponibles","Nota: Los datos corresponden a 2013 pues son los últimos disponibles","Nota: Los datos corresponden a 2013 pues son los últimos disponibles","Nota: Los datos corresponden a 2013 pues son los últimos disponibles","Nota: Los datos corresponden a 2013 pues son los últimos disponibles","Nota: Los datos corresponden a 2013 pues son los últimos disponibles","Nota: Los datos corresponden a 2013 pues son los últimos disponibles","Nota: Los datos corresponden a 2013 pues son los últimos disponibles","Nota: Los datos corresponden a 2013 pues son los últimos disponibles","Nota: Los datos corresponden a 2013 pues son los últimos disponibles","Nota: Los datos corresponden a 2013 pues son los últimos disponibles","Nota: Los datos corresponden a 2013 pues son los últimos disponibles","Nota: Los datos corresponden a 2013 pues son los últimos disponibles","Nota: Los datos corresponden a 2013 pues son los últimos disponibles","Nota: Los datos corresponden a 2013 pues son los últimos disponibles","Nota: Los datos corresponden a 2013 pues son los últimos disponibles","Nota: Los datos corresponden a 2013 pues son los últimos disponibles","Nota: Los datos corresponden a 2013 pues son los últimos disponibles","Nota: Los datos corresponden a 2013 pues son los últimos disponibles","Nota: Los datos corresponden a 2013 pues son los últimos disponibles","Nota: Los datos corresponden a 2013 pues son los últimos disponibles","Nota: Los datos corresponden a 2013 pues son los últimos disponibles","Nota: Los datos corresponden a 2013 pues son los últimos disponibles","Nota: Los datos corresponden a 2013 pues son los últimos disponibles","Nota: Los datos corresponden a 2013 pues son los últimos disponibles","Nota: Los datos corresponden a 2013 pues son los últimos disponibles","Nota: Los datos corresponden a 2013 pues son los últimos disponibles","Nota: Los datos corresponden a 2013 pues son los últimos disponibles","Nota: Los datos corresponden a 2013 pues son los últimos disponibles","Nota: Los datos corresponden a 2013 pues son los últimos disponibles","Nota: Los datos corresponden a 2013 pues son los últimos disponibles","Nota: Los datos corresponden a 2013 pues son los últimos disponibles","Nota: Los datos corresponden a 2013 pues son los últimos disponibles","Nota: Los datos corresponden a 2013 pues son los últimos disponibles","Nota: Los datos corresponden a 2013 pues son los últimos disponibles","Nota: Los datos corresponden a 2013 pues son los últimos disponibles","Nota: Los datos corresponden a 2013 pues son los últimos disponibles","Nota: Los datos corresponden a 2013 pues son los últimos disponibles","Nota: Los datos corresponden a 2013 pues son los últimos disponibles","Nota: Los datos corresponden a 2013 pues son los últimos disponibles","Nota: Los datos corresponden a 2013 pues son los últimos disponibles","Nota: Los datos corresponden a 2013 pues son los últimos disponibles","Nota: Los datos corresponden a 2013 pues son los últimos disponibles","Nota: Los datos corresponden a 2013 pues son los últimos disponibles","Nota: Los datos corresponden a 2013 pues son los últimos disponibles","Nota: Los datos corresponden a 2013 pues son los últimos disponibles","Nota: Los datos corresponden a 2013 pues son los últimos disponibles","Nota: Los datos corresponden a 2013 pues son los últimos disponibles","Nota: Los datos corresponden a 2013 pues son los últimos disponibles","Nota: Los datos corresponden a 2013 pues son los últimos disponibles","Nota: Los datos corresponden a 2013 pues son los últimos disponibles","Nota: Los datos corresponden a 2013 pues son los últimos disponibles","Nota: Los datos corresponden a 2013 pues son los últimos disponibles","Nota: Los datos corresponden a 2013 pues son los últimos disponibles","Nota: Los datos corresponden a 2013 pues son los últimos disponibles","Nota: Los datos corresponden a 2013 pues son los últimos disponibles","Nota: Los datos corresponden a 2013 pues son los últimos disponibles","Nota: Los datos corresponden a 2013 pues son los últimos disponibles","Nota: Los datos corresponden a 2013 pues son los últimos disponibles","Nota: Los datos corresponden a 2013 pues son los últimos disponibles","Nota: Los datos corresponden a 2013 pues son los últimos disponibles","Nota: Los datos corresponden a 2013 pues son los últimos disponibles","Nota: Los datos corresponden a 2013 pues son los últimos disponibles","Nota: Los datos corresponden a 2013 pues son los últimos disponibles","Nota: Los datos corresponden a 2013 pues son los últimos disponibles","Nota: Los datos corresponden a 2013 pues son los últimos disponibles","Nota: Los datos corresponden a 2013 pues son los últimos disponibles","Nota: Los datos corresponden a 2013 pues son los últimos disponibles","Nota: Los datos corresponden a 2013 pues son los últimos disponibles","Nota: Los datos corresponden a 2013 pues son los últimos disponibles","Nota: Los datos corresponden a 2013 pues son los últimos disponibles","Nota: Los datos corresponden a 2013 pues son los últimos disponibles","Nota: Los datos corresponden a 2013 pues son los últimos disponibles","Nota: Los datos corresponden a 2013 pues son los últimos disponibles","Nota: Los datos corresponden a 2013 pues son los últimos disponibles","Nota: Los datos corresponden a 2013 pues son los últimos disponibles","Nota: Los datos corresponden a 2013 pues son los últimos disponibles","Nota: Los datos corresponden a 2013 pues son los últimos disponibles","Nota: Los datos corresponden a 2013 pues son los últimos disponibles","Nota: Los datos corresponden a 2013 pues son los últimos disponibles","Nota: Los datos corresponden a 2013 pues son los últimos disponibles","Nota: Los datos corresponden a 2013 pues son los últimos disponibles","Nota: Los datos corresponden a 2013 pues son los últimos disponibles","Nota: Los datos corresponden a 2013 pues son los últimos disponibles","Nota: Los datos corresponden a 2013 pues son los últimos disponibles","Nota: Los datos corresponden a 2013 pues son los últimos disponibles","Nota: Los datos corresponden a 2013 pues son los últimos disponibles","Nota: Los datos corresponden a 2013 pues son los últimos disponibles","Nota: Los datos corresponden a 2013 pues son los últimos disponibles","Nota: Los datos corresponden a 2013 pues son los últimos disponibles","Nota: Los datos corresponden a 2013 pues son los últimos disponibles","Nota: Los datos corresponden a 2013 pues son los últimos disponibles","Nota: Los datos corresponden a 2013 pues son los últimos disponibles","Nota: Los datos corresponden a 2013 pues son los últimos disponibles","Nota: Los datos corresponden a 2013 pues son los últimos disponibles","Nota: Los datos corresponden a 2013 pues son los últimos disponibles","Nota: Los datos corresponden a 2013 pues son los últimos disponibles","Nota: Los datos corresponden a 2013 pues son los últimos disponibles","Nota: Los datos corresponden a 2013 pues son los últimos disponibles","Nota: Los datos corresponden a 2013 pues son los últimos disponibles","Nota: Los datos corresponden a 2013 pues son los últimos disponibles","Nota: Los datos corresponden a 2013 pues son los últimos disponibles","Nota: Los datos corresponden a 2013 pues son los últimos disponibles","Nota: Los datos corresponden a 2013 pues son los últimos disponibles","Nota: Los datos corresponden a 2013 pues son los últimos disponibles","Nota: Los datos corresponden a 2013 pues son los últimos disponibles","Nota: Los datos corresponden a 2013 pues son los últimos disponibles","Nota: Los datos corresponden a 2013 pues son los últimos disponibles","Nota: Los datos corresponden a 2013 pues son los últimos disponibles","Nota: Los datos corresponden a 2013 pues son los últimos disponibles","Nota: Los datos corresponden a 2013 pues son los últimos disponibles","Nota: Los datos corresponden a 2013 pues son los últimos disponibles","Nota: Los datos corresponden a 2013 pues son los últimos disponibles","Nota: Los datos corresponden a 2013 pues son los últimos disponibles","Nota: Los datos corresponden a 2013 pues son los últimos disponibles","Nota: Los datos corresponden a 2013 pues son los últimos disponibles","Nota: Los datos corresponden a 2013 pues son los últimos disponibles","Nota: Los datos corresponden a 2013 pues son los últimos disponibles","Nota: Los datos corresponden a 2013 pues son los últimos disponibles","Nota: Los datos corresponden a 2013 pues son los últimos disponibles","Nota: Los datos corresponden a 2013 pues son los últimos disponibles","Nota: Los datos corresponden a 2013 pues son los últimos disponibles","Nota: Los datos corresponden a 2013 pues son los últimos disponibles","Nota: Los datos corresponden a 2013 pues son los últimos disponibles","Nota: Los datos corresponden a 2013 pues son los últimos disponibles","Nota: Los datos corresponden a 2013 pues son los últimos disponibles","Nota: Los datos corresponden a 2013 pues son los últimos disponibles","Nota: Los datos corresponden a 2013 pues son los últimos disponibles","Nota: Los datos corresponden a 2013 pues son los últimos disponibles","Nota: Los datos corresponden a 2013 pues son los últimos disponibles","Nota: Los datos corresponden a 2013 pues son los últimos disponibles","Nota: Los datos corresponden a 2013 pues son los últimos disponibles","Nota: Los datos corresponden a 2013 pues son los últimos disponibles","Nota: Los datos corresponden a 2013 pues son los últimos disponibles","Nota: Los datos corresponden a 2013 pues son los últimos disponibles","Nota: Los datos corresponden a 2013 pues son los últimos disponibles","Nota: Los datos corresponden a 2013 pues son los últimos disponibles","Nota: Los datos corresponden a 2013 pues son los últimos disponibles","Nota: Los datos corresponden a 2013 pues son los últimos disponibles","Nota: Los datos corresponden a 2013 pues son los últimos disponibles","Nota: Los datos corresponden a 2013 pues son los últimos disponibles","Nota: Los datos corresponden a 2013 pues son los últimos disponibles","Nota: Los datos corresponden a 2013 pues son los últimos disponibles","Nota: Los datos corresponden a 2013 pues son los últimos disponibles","Nota: Los datos corresponden a 2013 pues son los últimos disponibles","Nota: Los datos corresponden a 2013 pues son los últimos disponibles","Nota: Los datos corresponden a 2013 pues son los últimos disponibles","Nota: Los datos corresponden a 2013 pues son los últimos disponibles","Nota: Los datos corresponden a 2013 pues son los últimos disponibles","Nota: Los datos corresponden a 2013 pues son los últimos disponibles","Nota: Los datos corresponden a 2013 pues son los últimos disponibles","Nota: Los datos corresponden a 2013 pues son los últimos disponibles","Nota: Los datos corresponden a 2013 pues son los últimos disponibles","Nota: Los datos corresponden a 2013 pues son los últimos disponibles","Nota: Los datos corresponden a 2013 pues son los últimos disponibles","Nota: Los datos corresponden a 2013 pues son los últimos disponibles","Nota: Los datos corresponden a 2013 pues son los últimos disponibles","Nota: Los datos corresponden a 2013 pues son los últimos disponibles","Nota: Los datos corresponden a 2013 pues son los últimos disponibles","Nota: Los datos corresponden a 2013 pues son los últimos disponibles","Nota: Los datos corresponden a 2013 pues son los últimos disponibles","Nota: Los datos corresponden a 2013 pues son los últimos disponibles","Nota: Los datos corresponden a 2013 pues son los últimos disponibles","Nota: Los datos corresponden a 2013 pues son los últimos disponibles","Nota: Los datos corresponden a 2013 pues son los últimos disponibles","Nota: Los datos corresponden a 2013 pues son los últimos disponibles","Nota: Los datos corresponden a 2013 pues son los últimos disponibles","Nota: Los datos corresponden a 2013 pues son los últimos disponibles","Nota: Los datos corresponden a 2013 pues son los últimos disponibles","Nota: Los datos corresponden a 2013 pues son los últimos disponibles","Nota: Los datos corresponden a 2013 pues son los últimos disponibles","Nota: Los datos corresponden a 2013 pues son los últimos disponibles","Nota: Los datos corresponden a 2013 pues son los últimos disponibles","Nota: Los datos corresponden a 2013 pues son los últimos disponibles","Nota: Los datos corresponden a 2013 pues son los últimos disponibles","Nota: Los datos corresponden a 2013 pues son los últimos disponibles","Nota: Los datos corresponden a 2013 pues son los últimos disponibles","Nota: Los datos corresponden a 2013 pues son los últimos disponibles","Nota: Los datos corresponden a 2013 pues son los últimos disponibles","Nota: Los datos corresponden a 2013 pues son los últimos disponibles","Nota: Los datos corresponden a 2013 pues son los últimos disponibles","Nota: Los datos corresponden a 2013 pues son los últimos disponibles","Nota: Los datos corresponden a 2013 pues son los últimos disponibles","Nota: Los datos corresponden a 2013 pues son los últimos disponibles","Nota: Los datos corresponden a 2013 pues son los últimos disponibles","Nota: Los datos corresponden a 2013 pues son los últimos disponibles","Nota: Los datos corresponden a 2013 pues son los últimos disponibles","Nota: Los datos corresponden a 2013 pues son los últimos disponibles","Nota: Los datos corresponden a 2013 pues son los últimos disponibles","Nota: Los datos corresponden a 2013 pues son los últimos disponibles","Nota: Los datos corresponden a 2013 pues son los últimos disponibles","Nota: Los datos corresponden a 2013 pues son los últimos disponibles","Nota: Los datos corresponden a 2013 pues son los últimos disponibles","Nota: Los datos corresponden a 2013 pues son los últimos disponibles","Nota: Los datos corresponden a 2013 pues son los últimos disponibles","Nota: Los datos corresponden a 2013 pues son los últimos disponibles","Nota: Los datos corresponden a 2013 pues son los últimos disponibles","Nota: Los datos corresponden a 2013 pues son los últimos disponibles","Nota: Los datos corresponden a 2013 pues son los últimos disponibles","Nota: Los datos corresponden a 2013 pues son los últimos disponibles","Nota: Los datos corresponden a 2013 pues son los últimos disponibles","Nota: Los datos corresponden a 2013 pues son los últimos disponibles","Nota: Los datos corresponden a 2013 pues son los últimos disponibles","Nota: Los datos corresponden a 2013 pues son los últimos disponibles","Nota: Los datos corresponden a 2013 pues son los últimos disponibles","Nota: Los datos corresponden a 2013 pues son los últimos disponibles","Nota: Los datos corresponden a 2013 pues son los últimos disponibles","Nota: Los datos corresponden a 2013 pues son los últimos disponibles","Nota: Los datos corresponden a 2013 pues son los últimos disponibles","Nota: Los datos corresponden a 2013 pues son los últimos disponibles","Nota: Los datos corresponden a 2013 pues son los últimos disponibles","Nota: Los datos corresponden a 2013 pues son los últimos disponibles","Nota: Los datos corresponden a 2013 pues son los últimos disponibles","Nota: Los datos corresponden a 2013 pues son los últimos disponibles","Nota: Los datos corresponden a 2013 pues son los últimos disponibles","Nota: Los datos corresponden a 2013 pues son los últimos disponibles","Nota: Los datos corresponden a 2013 pues son los últimos disponibles","Nota: Los datos corresponden a 2013 pues son los últimos disponibles","Nota: Los datos corresponden a 2013 pues son los últimos disponibles","Nota: Los datos corresponden a 2013 pues son los últimos disponibles","Nota: Los datos corresponden a 2013 pues son los últimos disponibles","Nota: Los datos corresponden a 2013 pues son los últimos disponibles","Nota: Los datos corresponden a 2013 pues son los últimos disponibles","Nota: Los datos corresponden a 2013 pues son los últimos disponibles","Nota: Los datos corresponden a 2013 pues son los últimos disponibles","Nota: Los datos corresponden a 2013 pues son los últimos disponibles","Nota: Los datos corresponden a 2013 pues son los últimos disponibles","Nota: Los datos corresponden a 2013 pues son los últimos disponibles","Nota: Los datos corresponden a 2013 pues son los últimos disponibles","Nota: Los datos corresponden a 2013 pues son los últimos disponibles","Nota: Los datos corresponden a 2013 pues son los últimos disponibles","Nota: Los datos corresponden a 2013 pues son los últimos disponibles","Nota: Los datos corresponden a 2013 pues son los últimos disponibles","Nota: Los datos corresponden a 2013 pues son los últimos disponibles","Nota: Los datos corresponden a 2013 pues son los últimos disponibles","Nota: Los datos corresponden a 2013 pues son los últimos disponibles","Nota: Los datos corresponden a 2013 pues son los últimos disponibles","Nota: Los datos corresponden a 2013 pues son los últimos disponibles","Nota: Los datos corresponden a 2013 pues son los últimos disponibles","Nota: Los datos corresponden a 2013 pues son los últimos disponibles","Nota: Los datos corresponden a 2013 pues son los últimos disponibles","Nota: Los datos corresponden a 2013 pues son los últimos disponibles","Nota: Los datos corresponden a 2013 pues son los últimos disponibles","Nota: Los datos corresponden a 2013 pues son los últimos disponibles","Nota: Los datos corresponden a 2013 pues son los últimos disponibles","Nota: Los datos corresponden a 2013 pues son los últimos disponibles","Nota: Los datos corresponden a 2013 pues son los últimos disponibles","Nota: Los datos corresponden a 2013 pues son los últimos disponibles","Nota: Los datos corresponden a 2013 pues son los últimos disponibles","Nota: Los datos corresponden a 2013 pues son los últimos disponibles","Nota: Los datos corresponden a 2013 pues son los últimos disponibles","Nota: Los datos corresponden a 2013 pues son los últimos disponibles","Nota: Los datos corresponden a 2013 pues son los últimos disponibles","Nota: Los datos corresponden a 2013 pues son los últimos disponibles","Nota: Los datos corresponden a 2013 pues son los últimos disponibles","Nota: Los datos corresponden a 2013 pues son los últimos disponibles","Nota: Los datos corresponden a 2013 pues son los últimos disponibles","Nota: Los datos corresponden a 2013 pues son los últimos disponibles","Nota: Los datos corresponden a 2013 pues son los últimos disponibles","Nota: Los datos corresponden a 2013 pues son los últimos disponibles","Nota: Los datos corresponden a 2013 pues son los últimos disponibles","Nota: Los datos corresponden a 2013 pues son los últimos disponibles","Nota: Los datos corresponden a 2013 pues son los últimos disponibles","Nota: Los datos corresponden a 2013 pues son los últimos disponibles","Nota: Los datos corresponden a 2013 pues son los últimos disponibles","Nota: Los datos corresponden a 2013 pues son los últimos disponibles","Nota: Los datos corresponden a 2013 pues son los últimos disponibles","Nota: Los datos corresponden a 2013 pues son los últimos disponibles","Nota: Los datos corresponden a 2013 pues son los últimos disponibles","Nota: Los datos corresponden a 2013 pues son los últimos disponibles","Nota: Los datos corresponden a 2013 pues son los últimos disponibles","Nota: Los datos corresponden a 2013 pues son los últimos disponibles","Nota: Los datos corresponden a 2013 pues son los últimos disponibles","Nota: Los datos corresponden a 2013 pues son los últimos disponibles","Nota: Los datos corresponden a 2013 pues son los últimos disponibles","Nota: Los datos corresponden a 2013 pues son los últimos disponibles","Nota: Los datos corresponden a 2013 pues son los últimos disponibles","Nota: Los datos corresponden a 2013 pues son los últimos disponibles","Nota: Los datos corresponden a 2013 pues son los últimos disponibles","Nota: Los datos corresponden a 2013 pues son los últimos disponibles","Nota: Los datos corresponden a 2013 pues son los últimos disponibles","Nota: Los datos corresponden a 2013 pues son los últimos disponibles","Nota: Los datos corresponden a 2013 pues son los últimos disponibles","Nota: Los datos corresponden a 2013 pues son los últimos disponibles","Nota: Los datos corresponden a 2013 pues son los últimos disponibles","Nota: Los datos corresponden a 2013 pues son los últimos disponibles","Nota: Los datos corresponden a 2013 pues son los últimos disponibles","Nota: Los datos corresponden a 2013 pues son los últimos disponibles","Nota: Los datos corresponden a 2013 pues son los últimos disponibles","Nota: Los datos corresponden a 2013 pues son los últimos disponibles","Nota: Los datos corresponden a 2013 pues son los últimos disponibles","Nota: Los datos corresponden a 2013 pues son los últimos disponibles","Nota: Los datos corresponden a 2013 pues son los últimos disponibles","Nota: Los datos corresponden a 2013 pues son los últimos disponibles","Nota: Los datos corresponden a 2013 pues son los últimos disponibles","Nota: Los datos corresponden a 2013 pues son los últimos disponibles","Nota: Los datos corresponden a 2013 pues son los últimos disponibles","Nota: Los datos corresponden a 2013 pues son los últimos disponibles","Nota: Los datos corresponden a 2013 pues son los últimos disponibles","Nota: Los datos corresponden a 2013 pues son los últimos disponibles","Nota: Los datos corresponden a 2013 pues son los últimos disponibles","Nota: Los datos corresponden a 2013 pues son los últimos disponibles","Nota: Los datos corresponden a 2013 pues son los últimos disponibles","Nota: Los datos corresponden a 2013 pues son los últimos disponibles","Nota: Los datos corresponden a 2013 pues son los últimos disponibles","Nota: Los datos corresponden a 2013 pues son los últimos disponibles","Nota: Los datos corresponden a 2013 pues son los últimos disponibles","Nota: Los datos corresponden a 2013 pues son los últimos disponibles","Nota: Los datos corresponden a 2013 pues son los últimos disponibles","Nota: Los datos corresponden a 2013 pues son los últimos disponibles","Nota: Los datos corresponden a 2013 pues son los últimos disponibles","Nota: Los datos corresponden a 2013 pues son los últimos disponibles","Nota: Los datos corresponden a 2013 pues son los últimos disponibles","Nota: Los datos corresponden a 2013 pues son los últimos disponibles","Nota: Los datos corresponden a 2013 pues son los últimos disponibles","Nota: Los datos corresponden a 2013 pues son los últimos disponibles","Nota: Los datos corresponden a 2013 pues son los últimos disponibles","Nota: Los datos corresponden a 2013 pues son los últimos disponibles","Nota: Los datos corresponden a 2013 pues son los últimos disponibles","Nota: Los datos corresponden a 2013 pues son los últimos disponibles","Nota: Los datos corresponden a 2013 pues son los últimos disponibles","Nota: Los datos corresponden a 2013 pues son los últimos disponibles","Nota: Los datos corresponden a 2013 pues son los últimos disponibles","Nota: Los datos corresponden a 2013 pues son los últimos disponibles","Nota: Los datos corresponden a 2013 pues son los últimos disponibles","Nota: Los datos corresponden a 2013 pues son los últimos disponibles","Nota: Los datos corresponden a 2013 pues son los últimos disponibles","Nota: Los datos corresponden a 2013 pues son los últimos disponibles","Nota: Los datos corresponden a 2013 pues son los últimos disponibles","Nota: Los datos corresponden a 2013 pues son los últimos disponibles","Nota: Los datos corresponden a 2013 pues son los últimos disponibles","Nota: Los datos corresponden a 2013 pues son los últimos disponibles","Nota: Los datos corresponden a 2013 pues son los últimos disponibles","Nota: Los datos corresponden a 2013 pues son los últimos disponibles","Nota: Los datos corresponden a 2013 pues son los últimos disponibles","Nota: Los datos corresponden a 2013 pues son los últimos disponibles","Nota: Los datos corresponden a 2013 pues son los últimos disponibles","Nota: Los datos corresponden a 2013 pues son los últimos disponibles","Nota: Los datos corresponden a 2013 pues son los últimos disponibles","Nota: Los datos corresponden a 2013 pues son los últimos disponibles","Nota: Los datos corresponden a 2013 pues son los últimos disponibles","Nota: Los datos corresponden a 2013 pues son los últimos disponibles","Nota: Los datos corresponden a 2013 pues son los últimos disponibles","Nota: Los datos corresponden a 2013 pues son los últimos disponibles","Nota: Los datos corresponden a 2013 pues son los últimos disponibles","Nota: Los datos corresponden a 2013 pues son los últimos disponibles","Nota: Los datos corresponden a 2013 pues son los últimos disponibles","Nota: Los datos corresponden a 2013 pues son los últimos disponibles","Nota: Los datos corresponden a 2013 pues son los últimos disponibles","Nota: Los datos corresponden a 2013 pues son los últimos disponibles","Nota: Los datos corresponden a 2013 pues son los últimos disponibles","Nota: Los datos corresponden a 2013 pues son los últimos disponibles","Nota: Los datos corresponden a 2013 pues son los últimos disponibles","Nota: Los datos corresponden a 2013 pues son los últimos disponibles","Nota: Los datos corresponden a 2013 pues son los últimos disponibles","Nota: Los datos corresponden a 2013 pues son los últimos disponibles","Nota: Los datos corresponden a 2013 pues son los últimos disponibles","Nota: Los datos corresponden a 2013 pues son los últimos disponibles","Nota: Los datos corresponden a 2013 pues son los últimos disponibles","Nota: Los datos corresponden a 2013 pues son los últimos disponibles","Nota: Los datos corresponden a 2013 pues son los últimos disponibles","Nota: Los datos corresponden a 2013 pues son los últimos disponibles","Nota: Los datos corresponden a 2013 pues son los últimos disponibles","Nota: Los datos corresponden a 2013 pues son los últimos disponibles","Nota: Los datos corresponden a 2013 pues son los últimos disponibles","Nota: Los datos corresponden a 2013 pues son los últimos disponibles","Nota: Los datos corresponden a 2013 pues son los últimos disponibles","Nota: Los datos corresponden a 2013 pues son los últimos disponibles","Nota: Los datos corresponden a 2013 pues son los últimos disponibles","Nota: Los datos corresponden a 2013 pues son los últimos disponibles","Nota: Los datos corresponden a 2013 pues son los últimos disponibles","Nota: Los datos corresponden a 2013 pues son los últimos disponibles","Nota: Los datos corresponden a 2013 pues son los últimos disponibles","Nota: Los datos corresponden a 2013 pues son los últimos disponibles","Nota: Los datos corresponden a 2013 pues son los últimos disponibles","Nota: Los datos corresponden a 2013 pues son los últimos disponibles","Nota: Los datos corresponden a 2013 pues son los últimos disponibles","Nota: Los datos corresponden a 2013 pues son los últimos disponibles","Nota: Los datos corresponden a 2013 pues son los últimos disponibles","Nota: Los datos corresponden a 2013 pues son los últimos disponibles","Nota: Los datos corresponden a 2013 pues son los últimos disponibles","Nota: Los datos corresponden a 2013 pues son los últimos disponibles","Nota: Los datos corresponden a 2013 pues son los últimos disponibles","Nota: Los datos corresponden a 2013 pues son los últimos disponibles","Nota: Los datos corresponden a 2013 pues son los últimos disponibles","Nota: Los datos corresponden a 2013 pues son los últimos disponibles","Nota: Los datos corresponden a 2013 pues son los últimos disponibles","Nota: Los datos corresponden a 2013 pues son los últimos disponibles","Nota: Los datos corresponden a 2013 pues son los últimos disponibles","Nota: Los datos corresponden a 2013 pues son los últimos disponibles","Nota: Los datos corresponden a 2013 pues son los últimos disponibles","Nota: Los datos corresponden a 2013 pues son los últimos disponibles","Nota: Los datos corresponden a 2013 pues son los últimos disponibles","Nota: Los datos corresponden a 2013 pues son los últimos disponibles","Nota: Los datos corresponden a 2013 pues son los últimos disponibles","Nota: Los datos corresponden a 2013 pues son los últimos disponibles","Nota: Los datos corresponden a 2013 pues son los últimos disponibles","Nota: Los datos corresponden a 2013 pues son los últimos disponibles","Nota: Los datos corresponden a 2013 pues son los últimos disponibles","Nota: Los datos corresponden a 2013 pues son los últimos disponibles","Nota: Los datos corresponden a 2013 pues son los últimos disponibles","Nota: Los datos corresponden a 2013 pues son los últimos disponibles","Nota: Los datos corresponden a 2013 pues son los últimos disponibles","Nota: Los datos corresponden a 2013 pues son los últimos disponibles","Nota: Los datos corresponden a 2013 pues son los últimos disponibles","Nota: Los datos corresponden a 2013 pues son los últimos disponibles","Nota: Los datos corresponden a 2013 pues son los últimos disponibles","Nota: Los datos corresponden a 2013 pues son los últimos disponibles","Nota: Los datos corresponden a 2013 pues son los últimos disponibles","Nota: Los datos corresponden a 2013 pues son los últimos disponibles","Nota: Los datos corresponden a 2013 pues son los últimos disponibles","Nota: Los datos corresponden a 2013 pues son los últimos disponibles","Nota: Los datos corresponden a 2013 pues son los últimos disponibles","Nota: Los datos corresponden a 2013 pues son los últimos disponibles","Nota: Los datos corresponden a 2013 pues son los últimos disponibles","Nota: Los datos corresponden a 2013 pues son los últimos disponibles","Nota: Los datos corresponden a 2013 pues son los últimos disponibles","Nota: Los datos corresponden a 2013 pues son los últimos disponibles","Nota: Los datos corresponden a 2013 pues son los últimos disponibles","Nota: Los datos corresponden a 2013 pues son los últimos disponibles","Nota: Los datos corresponden a 2013 pues son los últimos disponibles","Nota: Los datos corresponden a 2013 pues son los últimos disponibles","Nota: Los datos corresponden a 2013 pues son los últimos disponibles","Nota: Los datos corresponden a 2013 pues son los últimos disponibles","Nota: Los datos corresponden a 2013 pues son los últimos disponibles","Nota: Los datos corresponden a 2013 pues son los últimos disponibles","Nota: Los datos corresponden a 2013 pues son los últimos disponibles","Nota: Los datos corresponden a 2013 pues son los últimos disponibles","Nota: Los datos corresponden a 2013 pues son los últimos disponibles","Nota: Los datos corresponden a 2013 pues son los últimos disponibles","Nota: Los datos corresponden a 2013 pues son los últimos disponibles","Nota: Los datos corresponden a 2013 pues son los últimos disponibles","Nota: Los datos corresponden a 2013 pues son los últimos disponibles","Nota: Los datos corresponden a 2013 pues son los últimos disponibles","Nota: Los datos corresponden a 2013 pues son los últimos disponibles","Nota: Los datos corresponden a 2013 pues son los últimos disponibles","Nota: Los datos corresponden a 2013 pues son los últimos disponibles","Nota: Los datos corresponden a 2013 pues son los últimos disponibles","Nota: Los datos corresponden a 2013 pues son los últimos disponibles","Nota: Los datos corresponden a 2013 pues son los últimos disponibles","Nota: Los datos corresponden a 2013 pues son los últimos disponibles","Nota: Los datos corresponden a 2013 pues son los últimos disponibles","Nota: Los datos corresponden a 2013 pues son los últimos disponibles","Nota: Los datos corresponden a 2013 pues son los últimos disponibles","Nota: Los datos corresponden a 2013 pues son los últimos disponibles","Nota: Los datos corresponden a 2013 pues son los últimos disponibles","Nota: Los datos corresponden a 2013 pues son los últimos disponibles","Nota: Los datos corresponden a 2013 pues son los últimos disponibles","Nota: Los datos corresponden a 2013 pues son los últimos disponibles","Nota: Los datos corresponden a 2013 pues son los últimos disponibles","Nota: Los datos corresponden a 2013 pues son los últimos disponibles","Nota: Los datos corresponden a 2013 pues son los últimos disponibles","Nota: Los datos corresponden a 2013 pues son los últimos disponibles","Nota: Los datos corresponden a 2013 pues son los últimos disponibles","Nota: Los datos corresponden a 2013 pues son los últimos disponibles","Nota: Los datos corresponden a 2013 pues son los últimos disponibles","Nota: Los datos corresponden a 2013 pues son los últimos disponibles","Nota: Los datos corresponden a 2013 pues son los últimos disponibles","Nota: Los datos corresponden a 2013 pues son los últimos disponibles","Nota: Los datos corresponden a 2013 pues son los últimos disponibles","Nota: Los datos corresponden a 2013 pues son los últimos disponibles","Nota: Los datos corresponden a 2013 pues son los últimos disponibles","Nota: Los datos corresponden a 2013 pues son los últimos disponibles","Nota: Los datos corresponden a 2013 pues son los últimos disponibles","Nota: Los datos corresponden a 2013 pues son los últimos disponibles","Nota: Los datos corresponden a 2013 pues son los últimos disponibles","Nota: Los datos corresponden a 2013 pues son los últimos disponibles","Nota: Los datos corresponden a 2013 pues son los últimos disponibles","Nota: Los datos corresponden a 2013 pues son los últimos disponibles","Nota: Los datos corresponden a 2013 pues son los últimos disponibles","Nota: Los datos corresponden a 2013 pues son los últimos disponibles","Nota: Los datos corresponden a 2013 pues son los últimos disponibles","Nota: Los datos corresponden a 2013 pues son los últimos disponibles","Nota: Los datos corresponden a 2013 pues son los últimos disponibles","Nota: Los datos corresponden a 2013 pues son los últimos disponibles","Nota: Los datos corresponden a 2013 pues son los últimos disponibles","Nota: Los datos corresponden a 2013 pues son los últimos disponibles","Nota: Los datos corresponden a 2013 pues son los últimos disponibles","Nota: Los datos corresponden a 2013 pues son los últimos disponibles","Nota: Los datos corresponden a 2013 pues son los últimos disponibles","Nota: Los datos corresponden a 2013 pues son los últimos disponibles","Nota: Los datos corresponden a 2013 pues son los últimos disponibles","Nota: Los datos corresponden a 2013 pues son los últimos disponibles","Nota: Los datos corresponden a 2013 pues son los últimos disponibles","Nota: Los datos corresponden a 2013 pues son los últimos disponibles","Nota: Los datos corresponden a 2013 pues son los últimos disponibles","Nota: Los datos corresponden a 2013 pues son los últimos disponibles","Nota: Los datos corresponden a 2013 pues son los últimos disponibles","Nota: Los datos corresponden a 2013 pues son los últimos disponibles","Nota: Los datos corresponden a 2013 pues son los últimos disponibles","Nota: Los datos corresponden a 2013 pues son los últimos disponibles","Nota: Los datos corresponden a 2013 pues son los últimos disponibles","Nota: Los datos corresponden a 2013 pues son los últimos disponibles","Nota: Los datos corresponden a 2013 pues son los últimos disponibles","Nota: Los datos corresponden a 2013 pues son los últimos disponibles","Nota: Los datos corresponden a 2013 pues son los últimos disponibles","Nota: Los datos corresponden a 2013 pues son los últimos disponibles","Nota: Los datos corresponden a 2013 pues son los últimos disponibles","Nota: Los datos corresponden a 2013 pues son los últimos disponibles","Nota: Los datos corresponden a 2013 pues son los últimos disponibles","Nota: Los datos corresponden a 2013 pues son los últimos disponibles","Nota: Los datos corresponden a 2013 pues son los últimos disponibles","Nota: Los datos corresponden a 2013 pues son los últimos disponibles","Nota: Los datos corresponden a 2013 pues son los últimos disponibles","Nota: Los datos corresponden a 2013 pues son los últimos disponibles","Nota: Los datos corresponden a 2013 pues son los últimos disponibles","Nota: Los datos corresponden a 2013 pues son los últimos disponibles","Nota: Los datos corresponden a 2013 pues son los últimos disponibles","Nota: Los datos corresponden a 2013 pues son los últimos disponibles","Nota: Los datos corresponden a 2013 pues son los últimos disponibles","Nota: Los datos corresponden a 2013 pues son los últimos disponibles","Nota: Los datos corresponden a 2013 pues son los últimos disponibles","Nota: Los datos corresponden a 2013 pues son los últimos disponibles","Nota: Los datos corresponden a 2013 pues son los últimos disponibles","Nota: Los datos corresponden a 2013 pues son los últimos disponibles","Nota: Los datos corresponden a 2013 pues son los últimos disponibles","Nota: Los datos corresponden a 2013 pues son los últimos disponibles","Nota: Los datos corresponden a 2013 pues son los últimos disponibles","Nota: Los datos corresponden a 2013 pues son los últimos disponibles","Nota: Los datos corresponden a 2013 pues son los últimos disponibles","Nota: Los datos corresponden a 2013 pues son los últimos disponibles","Nota: Los datos corresponden a 2013 pues son los últimos disponibles","Nota: Los datos corresponden a 2013 pues son los últimos disponibles","Nota: Los datos corresponden a 2013 pues son los últimos disponibles","Nota: Los datos corresponden a 2013 pues son los últimos disponibles","Nota: Los datos corresponden a 2013 pues son los últimos disponibles","Nota: Los datos corresponden a 2013 pues son los últimos disponibles","Nota: Los datos corresponden a 2013 pues son los últimos disponibles","Nota: Los datos corresponden a 2013 pues son los últimos disponibles","Nota: Los datos corresponden a 2013 pues son los últimos disponibles","Nota: Los datos corresponden a 2013 pues son los últimos disponibles","Nota: Los datos corresponden a 2013 pues son los últimos disponibles","Nota: Los datos corresponden a 2013 pues son los últimos disponibles","Nota: Los datos corresponden a 2013 pues son los últimos disponibles","Nota: Los datos corresponden a 2013 pues son los últimos disponibles","Nota: Los datos corresponden a 2013 pues son los últimos disponibles","Nota: Los datos corresponden a 2013 pues son los últimos disponibles","Nota: Los datos corresponden a 2013 pues son los últimos disponibles","Nota: Los datos corresponden a 2013 pues son los últimos disponibles","Nota: Los datos corresponden a 2013 pues son los últimos disponibles","Nota: Los datos corresponden a 2013 pues son los últimos disponibles","Nota: Los datos corresponden a 2013 pues son los últimos disponibles","Nota: Los datos corresponden a 2013 pues son los últimos disponibles","Nota: Los datos corresponden a 2013 pues son los últimos disponibles","Nota: Los datos corresponden a 2013 pues son los últimos disponibles","Nota: Los datos corresponden a 2013 pues son los últimos disponibles","Nota: Los datos corresponden a 2013 pues son los últimos disponibles","Nota: Los datos corresponden a 2013 pues son los últimos disponibles","Nota: Los datos corresponden a 2013 pues son los últimos disponibles","Nota: Los datos corresponden a 2013 pues son los últimos disponibles","Nota: Los datos corresponden a 2013 pues son los últimos disponibles","Nota: Los datos corresponden a 2013 pues son los últimos disponibles","Nota: Los datos corresponden a 2013 pues son los últimos disponibles","Nota: Los datos corresponden a 2013 pues son los últimos disponibles","Nota: Los datos corresponden a 2013 pues son los últimos disponibles","Nota: Los datos corresponden a 2013 pues son los últimos disponibles","Nota: Los datos corresponden a 2013 pues son los últimos disponibles","Nota: Los datos corresponden a 2013 pues son los últimos disponibles","Nota: Los datos corresponden a 2013 pues son los últimos disponibles","Nota: Los datos corresponden a 2013 pues son los últimos disponibles","Nota: Los datos corresponden a 2013 pues son los últimos disponibles","Nota: Los datos corresponden a 2013 pues son los últimos disponibles","Nota: Los datos corresponden a 2013 pues son los últimos disponibles","Nota: Los datos corresponden a 2013 pues son los últimos disponibles","Nota: Los datos corresponden a 2013 pues son los últimos disponibles","Nota: Los datos corresponden a 2013 pues son los últimos disponibles","Nota: Los datos corresponden a 2013 pues son los últimos disponibles","Nota: Los datos corresponden a 2013 pues son los últimos disponibles","Nota: Los datos corresponden a 2013 pues son los últimos disponibles","Nota: Los datos corresponden a 2013 pues son los últimos disponibles","Nota: Los datos corresponden a 2013 pues son los últimos disponibles","Nota: Los datos corresponden a 2013 pues son los últimos disponibles","Nota: Los datos corresponden a 2013 pues son los últimos disponibles","Nota: Los datos corresponden a 2013 pues son los últimos disponibles","Nota: Los datos corresponden a 2013 pues son los últimos disponibles","Nota: Los datos corresponden a 2013 pues son los últimos disponibles","Nota: Los datos corresponden a 2013 pues son los últimos disponibles","Nota: Los datos corresponden a 2013 pues son los últimos disponibles","Nota: Los datos corresponden a 2013 pues son los últimos disponibles","Nota: Los datos corresponden a 2013 pues son los últimos disponibles","Nota: Los datos corresponden a 2013 pues son los últimos disponibles","Nota: Los datos corresponden a 2013 pues son los últimos disponibles","Nota: Los datos corresponden a 2013 pues son los últimos disponibles","Nota: Los datos corresponden a 2013 pues son los últimos disponibles","Nota: Los datos corresponden a 2013 pues son los últimos disponibles","Nota: Los datos corresponden a 2013 pues son los últimos disponibles","Nota: Los datos corresponden a 2013 pues son los últimos disponibles","Nota: Los datos corresponden a 2013 pues son los últimos disponibles","Nota: Los datos corresponden a 2013 pues son los últimos disponibles","Nota: Los datos corresponden a 2013 pues son los últimos disponibles","Nota: Los datos corresponden a 2013 pues son los últimos disponibles","Nota: Los datos corresponden a 2013 pues son los últimos disponibles","Nota: Los datos corresponden a 2013 pues son los últimos disponibles","Nota: Los datos corresponden a 2013 pues son los últimos disponibles","Nota: Los datos corresponden a 2013 pues son los últimos disponibles","Nota: Los datos corresponden a 2013 pues son los últimos disponibles","Nota: Los datos corresponden a 2013 pues son los últimos disponibles","Nota: Los datos corresponden a 2013 pues son los últimos disponibles","Nota: Los datos corresponden a 2013 pues son los últimos disponibles","Nota: Los datos corresponden a 2013 pues son los últimos disponibles","Nota: Los datos corresponden a 2013 pues son los últimos disponibles","Nota: Los datos corresponden a 2013 pues son los últimos disponibles","Nota: Los datos corresponden a 2013 pues son los últimos disponibles","Nota: Los datos corresponden a 2013 pues son los últimos disponibles","Nota: Los datos corresponden a 2013 pues son los últimos disponibles","Nota: Los datos corresponden a 2013 pues son los últimos disponibles","Nota: Los datos corresponden a 2013 pues son los últimos disponibles","Nota: Los datos corresponden a 2013 pues son los últimos disponibles","Nota: Los datos corresponden a 2013 pues son los últimos disponibles","Nota: Los datos corresponden a 2013 pues son los últimos disponibles","Nota: Los datos corresponden a 2013 pues son los últimos disponibles","Nota: Los datos corresponden a 2013 pues son los últimos disponibles","Nota: Los datos corresponden a 2013 pues son los últimos disponibles","Nota: Los datos corresponden a 2013 pues son los últimos disponibles","Nota: Los datos corresponden a 2013 pues son los últimos disponibles","Nota: Los datos corresponden a 2013 pues son los últimos disponibles","Nota: Los datos corresponden a 2013 pues son los últimos disponibles","Nota: Los datos corresponden a 2013 pues son los últimos disponibles","Nota: Los datos corresponden a 2013 pues son los últimos disponibles","Nota: Los datos corresponden a 2013 pues son los últimos disponibles","Nota: Los datos corresponden a 2013 pues son los últimos disponibles","Nota: Los datos corresponden a 2013 pues son los últimos disponibles","Nota: Los datos corresponden a 2013 pues son los últimos disponibles","Nota: Los datos corresponden a 2013 pues son los últimos disponibles","Nota: Los datos corresponden a 2013 pues son los últimos disponibles","Nota: Los datos corresponden a 2013 pues son los últimos disponibles","Nota: Los datos corresponden a 2013 pues son los últimos disponibles","Nota: Los datos corresponden a 2013 pues son los últimos disponibles","Nota: Los datos corresponden a 2013 pues son los últimos disponibles","Nota: Los datos corresponden a 2013 pues son los últimos disponibles","Nota: Los datos corresponden a 2013 pues son los últimos disponibles","Nota: Los datos corresponden a 2013 pues son los últimos disponibles","Nota: Los datos corresponden a 2013 pues son los últimos disponibles","Nota: Los datos corresponden a 2013 pues son los últimos disponibles","Nota: Los datos corresponden a 2013 pues son los últimos disponibles","Nota: Los datos corresponden a 2013 pues son los últimos disponibles","Nota: Los datos corresponden a 2013 pues son los últimos disponibles","Nota: Los datos corresponden a 2013 pues son los últimos disponibles","Nota: Los datos corresponden a 2013 pues son los últimos disponibles","Nota: Los datos corresponden a 2013 pues son los últimos disponibles","Nota: Los datos corresponden a 2013 pues son los últimos disponibles","Nota: Los datos corresponden a 2013 pues son los últimos disponibles","Nota: Los datos corresponden a 2013 pues son los últimos disponibles","Nota: Los datos corresponden a 2013 pues son los últimos disponibles","Nota: Los datos corresponden a 2013 pues son los últimos disponibles","Nota: Los datos corresponden a 2013 pues son los últimos disponibles","Nota: Los datos corresponden a 2013 pues son los últimos disponibles","Nota: Los datos corresponden a 2013 pues son los últimos disponibles","Nota: Los datos corresponden a 2013 pues son los últimos disponibles","Nota: Los datos corresponden a 2013 pues son los últimos disponibles","Nota: Los datos corresponden a 2013 pues son los últimos disponibles","Nota: Los datos corresponden a 2013 pues son los últimos disponibles","Nota: Los datos corresponden a 2013 pues son los últimos disponibles","Nota: Los datos corresponden a 2013 pues son los últimos disponibles","Nota: Los datos corresponden a 2013 pues son los últimos disponibles","Nota: Los datos corresponden a 2013 pues son los últimos disponibles","Nota: Los datos corresponden a 2013 pues son los últimos disponibles","Nota: Los datos corresponden a 2013 pues son los últimos disponibles","Nota: Los datos corresponden a 2013 pues son los últimos disponibles","Nota: Los datos corresponden a 2013 pues son los últimos disponibles","Nota: Los datos corresponden a 2013 pues son los últimos disponibles","Nota: Los datos corresponden a 2013 pues son los últimos disponibles","Nota: Los datos corresponden a 2013 pues son los últimos disponibles","Nota: Los datos corresponden a 2013 pues son los últimos disponibles","Nota: Los datos corresponden a 2013 pues son los últimos disponibles","Nota: Los datos corresponden a 2013 pues son los últimos disponibles","Nota: Los datos corresponden a 2013 pues son los últimos disponibles","Nota: Los datos corresponden a 2013 pues son los últimos disponibles","Nota: Los datos corresponden a 2013 pues son los últimos disponibles","Nota: Los datos corresponden a 2013 pues son los últimos disponibles","Nota: Los datos corresponden a 2013 pues son los últimos disponibles","Nota: Los datos corresponden a 2013 pues son los últimos disponibles","Nota: Los datos corresponden a 2013 pues son los últimos disponibles","Nota: Los datos corresponden a 2013 pues son los últimos disponibles","Nota: Los datos corresponden a 2013 pues son los últimos disponibles","Nota: Los datos corresponden a 2013 pues son los últimos disponibles","Nota: Los datos corresponden a 2013 pues son los últimos disponibles","Nota: Los datos corresponden a 2013 pues son los últimos disponibles","Nota: Los datos corresponden a 2013 pues son los últimos disponibles","Nota: Los datos corresponden a 2013 pues son los últimos disponibles","Nota: Los datos corresponden a 2013 pues son los últimos disponibles","Nota: Los datos corresponden a 2013 pues son los últimos disponibles","Nota: Los datos corresponden a 2013 pues son los últimos disponibles","Nota: Los datos corresponden a 2013 pues son los últimos disponibles","Nota: Los datos corresponden a 2013 pues son los últimos disponibles","Nota: Los datos corresponden a 2013 pues son los últimos disponibles","Nota: Los datos corresponden a 2013 pues son los últimos disponibles","Nota: Los datos corresponden a 2013 pues son los últimos disponibles","Nota: Los datos corresponden a 2013 pues son los últimos disponibles","Nota: Los datos corresponden a 2013 pues son los últimos disponibles","Nota: Los datos corresponden a 2013 pues son los últimos disponibles","Nota: Los datos corresponden a 2013 pues son los últimos disponibles","Nota: Los datos corresponden a 2013 pues son los últimos disponibles","Nota: Los datos corresponden a 2013 pues son los últimos disponibles","Nota: Los datos corresponden a 2013 pues son los últimos disponibles","Nota: Los datos corresponden a 2013 pues son los últimos disponibles","Nota: Los datos corresponden a 2013 pues son los últimos disponibles","Nota: Los datos corresponden a 2013 pues son los últimos disponibles","Nota: Los datos corresponden a 2013 pues son los últimos disponibles","Nota: Los datos corresponden a 2013 pues son los últimos disponibles","Nota: Los datos corresponden a 2013 pues son los últimos disponibles","Nota: Los datos corresponden a 2013 pues son los últimos disponibles","Nota: Los datos corresponden a 2013 pues son los últimos disponibles","Nota: Los datos corresponden a 2013 pues son los últimos disponibles","Nota: Los datos corresponden a 2013 pues son los últimos disponibles","Nota: Los datos corresponden a 2013 pues son los últimos disponibles","Nota: Los datos corresponden a 2013 pues son los últimos disponibles","Nota: Los datos corresponden a 2013 pues son los últimos disponibles","Nota: Los datos corresponden a 2013 pues son los últimos disponibles","Nota: Los datos corresponden a 2013 pues son los últimos disponibles","Nota: Los datos corresponden a 2013 pues son los últimos disponibles","Nota: Los datos corresponden a 2013 pues son los últimos disponibles","Nota: Los datos corresponden a 2013 pues son los últimos disponibles","Nota: Los datos corresponden a 2013 pues son los últimos disponibles","Nota: Los datos corresponden a 2013 pues son los últimos disponibles","Nota: Los datos corresponden a 2013 pues son los últimos disponibles","Nota: Los datos corresponden a 2013 pues son los últimos disponibles","Nota: Los datos corresponden a 2013 pues son los últimos disponibles","Nota: Los datos corresponden a 2013 pues son los últimos disponibles","Nota: Los datos corresponden a 2013 pues son los últimos disponibles","Nota: Los datos corresponden a 2013 pues son los últimos disponibles","Nota: Los datos corresponden a 2013 pues son los últimos disponibles","Nota: Los datos corresponden a 2013 pues son los últimos disponibles","Nota: Los datos corresponden a 2013 pues son los últimos disponibles","Nota: Los datos corresponden a 2013 pues son los últimos disponibles","Nota: Los datos corresponden a 2013 pues son los últimos disponibles","Nota: Los datos corresponden a 2013 pues son los últimos disponibles","Nota: Los datos corresponden a 2013 pues son los últimos disponibles","Nota: Los datos corresponden a 2013 pues son los últimos disponibles","Nota: Los datos corresponden a 2013 pues son los últimos disponibles","Nota: Los datos corresponden a 2013 pues son los últimos disponibles","Nota: Los datos corresponden a 2013 pues son los últimos disponibles","Nota: Los datos corresponden a 2013 pues son los últimos disponibles","Nota: Los datos corresponden a 2013 pues son los últimos disponibles","Nota: Los datos corresponden a 2013 pues son los últimos disponibles","Nota: Los datos corresponden a 2013 pues son los últimos disponibles","Nota: Los datos corresponden a 2013 pues son los últimos disponibles","Nota: Los datos corresponden a 2013 pues son los últimos disponibles","Nota: Los datos corresponden a 2013 pues son los últimos disponibles","Nota: Los datos corresponden a 2013 pues son los últimos disponibles","Nota: Los datos corresponden a 2013 pues son los últimos disponibles","Nota: Los datos corresponden a 2013 pues son los últimos disponibles","Nota: Los datos corresponden a 2013 pues son los últimos disponibles","Nota: Los datos corresponden a 2013 pues son los últimos disponibles","Nota: Los datos corresponden a 2013 pues son los últimos disponibles","Nota: Los datos corresponden a 2013 pues son los últimos disponibles","Nota: Los datos corresponden a 2013 pues son los últimos disponibles","Nota: Los datos corresponden a 2013 pues son los últimos disponibles","Nota: Los datos corresponden a 2013 pues son los últimos disponibles","Nota: Los datos corresponden a 2013 pues son los últimos disponibles","Nota: Los datos corresponden a 2013 pues son los últimos disponibles","Nota: Los datos corresponden a 2013 pues son los últimos disponibles","Nota: Los datos corresponden a 2013 pues son los últimos disponibles","Nota: Los datos corresponden a 2013 pues son los últimos disponibles","Nota: Los datos corresponden a 2013 pues son los últimos disponibles","Nota: Los datos corresponden a 2013 pues son los últimos disponibles","Nota: Los datos corresponden a 2013 pues son los últimos disponibles","Nota: Los datos corresponden a 2013 pues son los últimos disponibles","Nota: Los datos corresponden a 2013 pues son los últimos disponibles","Nota: Los datos corresponden a 2013 pues son los últimos disponibles","Nota: Los datos corresponden a 2013 pues son los últimos disponibles","Nota: Los datos corresponden a 2013 pues son los últimos disponibles","Nota: Los datos corresponden a 2013 pues son los últimos disponibles","Nota: Los datos corresponden a 2013 pues son los últimos disponibles","Nota: Los datos corresponden a 2013 pues son los últimos disponibles","Nota: Los datos corresponden a 2013 pues son los últimos disponibles","Nota: Los datos corresponden a 2013 pues son los últimos disponibles","Nota: Los datos corresponden a 2013 pues son los últimos disponibles","Nota: Los datos corresponden a 2013 pues son los últimos disponibles","Nota: Los datos corresponden a 2013 pues son los últimos disponibles","Nota: Los datos corresponden a 2013 pues son los últimos disponibles","Nota: Los datos corresponden a 2013 pues son los últimos disponibles","Nota: Los datos corresponden a 2013 pues son los últimos disponibles","Nota: Los datos corresponden a 2013 pues son los últimos disponibles","Nota: Los datos corresponden a 2013 pues son los últimos disponibles","Nota: Los datos corresponden a 2013 pues son los últimos disponibles","Nota: Los datos corresponden a 2013 pues son los últimos disponibles","Nota: Los datos corresponden a 2013 pues son los últimos disponibles","Nota: Los datos corresponden a 2013 pues son los últimos disponibles","Nota: Los datos corresponden a 2013 pues son los últimos disponibles","Nota: Los datos corresponden a 2013 pues son los últimos disponibles","Nota: Los datos corresponden a 2013 pues son los últimos disponibles","Nota: Los datos corresponden a 2013 pues son los últimos disponibles","Nota: Los datos corresponden a 2013 pues son los últimos disponibles","Nota: Los datos corresponden a 2013 pues son los últimos disponibles","Nota: Los datos corresponden a 2013 pues son los últimos disponibles","Nota: Los datos corresponden a 2013 pues son los últimos disponibles","Nota: Los datos corresponden a 2013 pues son los últimos disponibles","Nota: Los datos corresponden a 2013 pues son los últimos disponibles","Nota: Los datos corresponden a 2013 pues son los últimos disponibles","Nota: Los datos corresponden a 2013 pues son los últimos disponibles","Nota: Los datos corresponden a 2013 pues son los últimos disponibles","Nota: Los datos corresponden a 2013 pues son los últimos disponibles","Nota: Los datos corresponden a 2013 pues son los últimos disponibles","Nota: Los datos corresponden a 2013 pues son los últimos disponibles","Nota: Los datos corresponden a 2013 pues son los últimos disponibles","Nota: Los datos corresponden a 2013 pues son los últimos disponibles","Nota: Los datos corresponden a 2013 pues son los últimos disponibles","Nota: Los datos corresponden a 2013 pues son los últimos disponibles","Nota: Los datos corresponden a 2013 pues son los últimos disponibles","Nota: Los datos corresponden a 2013 pues son los últimos disponibles","Nota: Los datos corresponden a 2013 pues son los últimos disponibles","Nota: Los datos corresponden a 2013 pues son los últimos disponibles","Nota: Los datos corresponden a 2013 pues son los últimos disponibles","Nota: Los datos corresponden a 2013 pues son los últimos disponibles","Nota: Los datos corresponden a 2013 pues son los últimos disponibles","Nota: Los datos corresponden a 2013 pues son los últimos disponibles","Nota: Los datos corresponden a 2013 pues son los últimos disponibles","Nota: Los datos corresponden a 2013 pues son los últimos disponibles","Nota: Los datos corresponden a 2013 pues son los últimos disponibles","Nota: Los datos corresponden a 2013 pues son los últimos disponibles","Nota: Los datos corresponden a 2013 pues son los últimos disponibles","Nota: Los datos corresponden a 2013 pues son los últimos disponibles","Nota: Los datos corresponden a 2013 pues son los últimos disponibles","Nota: Los datos corresponden a 2013 pues son los últimos disponibles","Nota: Los datos corresponden a 2013 pues son los últimos disponibles","Nota: Los datos corresponden a 2013 pues son los últimos disponibles","Nota: Los datos corresponden a 2013 pues son los últimos disponibles","Nota: Los datos corresponden a 2013 pues son los últimos disponibles","Nota: Los datos corresponden a 2013 pues son los últimos disponibles","Nota: Los datos corresponden a 2013 pues son los últimos disponibles","Nota: Los datos corresponden a 2013 pues son los últimos disponibles","Nota: Los datos corresponden a 2013 pues son los últimos disponibles","Nota: Los datos corresponden a 2013 pues son los últimos disponibles","Nota: Los datos corresponden a 2013 pues son los últimos disponibles","Nota: Los datos corresponden a 2013 pues son los últimos disponibles","Nota: Los datos corresponden a 2013 pues son los últimos disponibles","Nota: Los datos corresponden a 2013 pues son los últimos disponibles","Nota: Los datos corresponden a 2013 pues son los últimos disponibles","Nota: Los datos corresponden a 2013 pues son los últimos disponibles","Nota: Los datos corresponden a 2013 pues son los últimos disponibles","Nota: Los datos corresponden a 2013 pues son los últimos disponibles","Nota: Los datos corresponden a 2013 pues son los últimos disponibles","Nota: Los datos corresponden a 2013 pues son los últimos disponibles","Nota: Los datos corresponden a 2013 pues son los últimos disponibles","Nota: Los datos corresponden a 2013 pues son los últimos disponibles","Nota: Los datos corresponden a 2013 pues son los últimos disponibles","Nota: Los datos corresponden a 2013 pues son los últimos disponibles","Nota: Los datos corresponden a 2013 pues son los últimos disponibles","Nota: Los datos corresponden a 2013 pues son los últimos disponibles","Nota: Los datos corresponden a 2013 pues son los últimos disponibles","Nota: Los datos corresponden a 2013 pues son los últimos disponibles","Nota: Los datos corresponden a 2013 pues son los últimos disponibles","Nota: Los datos corresponden a 2013 pues son los últimos disponibles","Nota: Los datos corresponden a 2013 pues son los últimos disponibles","Nota: Los datos corresponden a 2013 pues son los últimos disponibles","Nota: Los datos corresponden a 2013 pues son los últimos disponibles","Nota: Los datos corresponden a 2013 pues son los últimos disponibles","Nota: Los datos corresponden a 2013 pues son los últimos disponibles","Nota: Los datos corresponden a 2013 pues son los últimos disponibles","Nota: Los datos corresponden a 2013 pues son los últimos disponibles","Nota: Los datos corresponden a 2013 pues son los últimos disponibles","Nota: Los datos corresponden a 2013 pues son los últimos disponibles","Nota: Los datos corresponden a 2013 pues son los últimos disponibles","Nota: Los datos corresponden a 2013 pues son los últimos disponibles","Nota: Los datos corresponden a 2013 pues son los últimos disponibles","Nota: Los datos corresponden a 2013 pues son los últimos disponibles","Nota: Los datos corresponden a 2013 pues son los últimos disponibles","Nota: Los datos corresponden a 2013 pues son los últimos disponibles","Nota: Los datos corresponden a 2013 pues son los últimos disponibles","Nota: Los datos corresponden a 2013 pues son los últimos disponibles","Nota: Los datos corresponden a 2013 pues son los últimos disponibles","Nota: Los datos corresponden a 2013 pues son los últimos disponibles","Nota: Los datos corresponden a 2013 pues son los últimos disponibles","Nota: Los datos corresponden a 2013 pues son los últimos disponibles","Nota: Los datos corresponden a 2013 pues son los últimos disponibles","Nota: Los datos corresponden a 2013 pues son los últimos disponibles","Nota: Los datos corresponden a 2013 pues son los últimos disponibles","Nota: Los datos corresponden a 2013 pues son los últimos disponibles","Nota: Los datos corresponden a 2013 pues son los últimos disponibles","Nota: Los datos corresponden a 2013 pues son los últimos disponibles","Nota: Los datos corresponden a 2013 pues son los últimos disponibles","Nota: Los datos corresponden a 2013 pues son los últimos disponibles","Nota: Los datos corresponden a 2013 pues son los últimos disponibles","Nota: Los datos corresponden a 2013 pues son los últimos disponibles","Nota: Los datos corresponden a 2013 pues son los últimos disponibles","Nota: Los datos corresponden a 2013 pues son los últimos disponibles","Nota: Los datos corresponden a 2013 pues son los últimos disponibles","Nota: Los datos corresponden a 2013 pues son los últimos disponibles","Nota: Los datos corresponden a 2013 pues son los últimos disponibles","Nota: Los datos corresponden a 2013 pues son los últimos disponibles","Nota: Los datos corresponden a 2013 pues son los últimos disponibles","Nota: Los datos corresponden a 2013 pues son los últimos disponibles","Nota: Los datos corresponden a 2013 pues son los últimos disponibles","Nota: Los datos corresponden a 2013 pues son los últimos disponibles","Nota: Los datos corresponden a 2013 pues son los últimos disponibles","Nota: Los datos corresponden a 2013 pues son los últimos disponibles","Nota: Los datos corresponden a 2013 pues son los últimos disponibles","Nota: Los datos corresponden a 2013 pues son los últimos disponibles","Nota: Los datos corresponden a 2013 pues son los últimos disponibles","Nota: Los datos corresponden a 2013 pues son los últimos disponibles","Nota: Los datos corresponden a 2013 pues son los últimos disponibles","Nota: Los datos corresponden a 2013 pues son los últimos disponibles","Nota: Los datos corresponden a 2013 pues son los últimos disponibles","Nota: Los datos corresponden a 2013 pues son los últimos disponibles","Nota: Los datos corresponden a 2013 pues son los últimos disponibles","Nota: Los datos corresponden a 2013 pues son los últimos disponibles","Nota: Los datos corresponden a 2013 pues son los últimos disponibles","Nota: Los datos corresponden a 2013 pues son los últimos disponibles","Nota: Los datos corresponden a 2013 pues son los últimos disponibles","Nota: Los datos corresponden a 2013 pues son los últimos disponibles","Nota: Los datos corresponden a 2013 pues son los últimos disponibles","Nota: Los datos corresponden a 2013 pues son los últimos disponibles","Nota: Los datos corresponden a 2013 pues son los últimos disponibles","Nota: Los datos corresponden a 2013 pues son los últimos disponibles","Nota: Los datos corresponden a 2013 pues son los últimos disponibles","Nota: Los datos corresponden a 2013 pues son los últimos disponibles","Nota: Los datos corresponden a 2013 pues son los últimos disponibles","Nota: Los datos corresponden a 2013 pues son los últimos disponibles","Nota: Los datos corresponden a 2013 pues son los últimos disponibles","Nota: Los datos corresponden a 2013 pues son los últimos disponibles","Nota: Los datos corresponden a 2013 pues son los últimos disponibles","Nota: Los datos corresponden a 2013 pues son los últimos disponibles","Nota: Los datos corresponden a 2013 pues son los últimos disponibles","Nota: Los datos corresponden a 2013 pues son los últimos disponibles","Nota: Los datos corresponden a 2013 pues son los últimos disponibles","Nota: Los datos corresponden a 2013 pues son los últimos disponibles","Nota: Los datos corresponden a 2013 pues son los últimos disponibles","Nota: Los datos corresponden a 2013 pues son los últimos disponibles","Nota: Los datos corresponden a 2013 pues son los últimos disponibles","Nota: Los datos corresponden a 2013 pues son los últimos disponibles","Nota: Los datos corresponden a 2013 pues son los últimos disponibles","Nota: Los datos corresponden a 2013 pues son los últimos disponibles","Nota: Los datos corresponden a 2013 pues son los últimos disponibles","Nota: Los datos corresponden a 2013 pues son los últimos disponibles","Nota: Los datos corresponden a 2013 pues son los últimos disponibles","Nota: Los datos corresponden a 2013 pues son los últimos disponibles","Nota: Los datos corresponden a 2013 pues son los últimos disponibles","Nota: Los datos corresponden a 2013 pues son los últimos disponibles","Nota: Los datos corresponden a 2013 pues son los últimos disponibles","Nota: Los datos corresponden a 2013 pues son los últimos disponibles","Nota: Los datos corresponden a 2013 pues son los últimos disponibles","Nota: Los datos corresponden a 2013 pues son los últimos disponibles","Nota: Los datos corresponden a 2013 pues son los últimos disponibles","Nota: Los datos corresponden a 2013 pues son los últimos disponibles","Nota: Los datos corresponden a 2013 pues son los últimos disponibles","Nota: Los datos corresponden a 2013 pues son los últimos disponibles","Nota: Los datos corresponden a 2013 pues son los últimos disponibles","Nota: Los datos corresponden a 2013 pues son los últimos disponibles","Nota: Los datos corresponden a 2013 pues son los últimos disponibles","Nota: Los datos corresponden a 2013 pues son los últimos disponibles","Nota: Los datos corresponden a 2013 pues son los últimos disponibles","Nota: Los datos corresponden a 2013 pues son los últimos disponibles","Nota: Los datos corresponden a 2013 pues son los últimos disponibles","Nota: Los datos corresponden a 2013 pues son los últimos disponibles","Nota: Los datos corresponden a 2013 pues son los últimos disponibles","Nota: Los datos corresponden a 2013 pues son los últimos disponibles","Nota: Los datos corresponden a 2013 pues son los últimos disponibles","Nota: Los datos corresponden a 2013 pues son los últimos disponibles","Nota: Los datos corresponden a 2013 pues son los últimos disponibles","Nota: Los datos corresponden a 2013 pues son los últimos disponibles","Nota: Los datos corresponden a 2013 pues son los últimos disponibles","Nota: Los datos corresponden a 2013 pues son los últimos disponibles","Nota: Los datos corresponden a 2013 pues son los últimos disponibles","Nota: Los datos corresponden a 2013 pues son los últimos disponibles","Nota: Los datos corresponden a 2013 pues son los últimos disponibles","Nota: Los datos corresponden a 2013 pues son los últimos disponibles","Nota: Los datos corresponden a 2013 pues son los últimos disponibles","Nota: Los datos corresponden a 2013 pues son los últimos disponibles","Nota: Los datos corresponden a 2013 pues son los últimos disponibles","Nota: Los datos corresponden a 2013 pues son los últimos disponibles","Nota: Los datos corresponden a 2013 pues son los últimos disponibles","Nota: Los datos corresponden a 2013 pues son los últimos disponibles","Nota: Los datos corresponden a 2013 pues son los últimos disponibles","Nota: Los datos corresponden a 2013 pues son los últimos disponibles","Nota: Los datos corresponden a 2013 pues son los últimos disponibles","Nota: Los datos corresponden a 2013 pues son los últimos disponibles","Nota: Los datos corresponden a 2013 pues son los últimos disponibles","Nota: Los datos corresponden a 2013 pues son los últimos disponibles","Nota: Los datos corresponden a 2013 pues son los últimos disponibles","Nota: Los datos corresponden a 2013 pues son los últimos disponibles","Nota: Los datos corresponden a 2013 pues son los últimos disponibles","Nota: Los datos corresponden a 2013 pues son los últimos disponibles","Nota: Los datos corresponden a 2013 pues son los últimos disponibles","Nota: Los datos corresponden a 2013 pues son los últimos disponibles","Nota: Los datos corresponden a 2013 pues son los últimos disponibles","Nota: Los datos corresponden a 2013 pues son los últimos disponibles","Nota: Los datos corresponden a 2013 pues son los últimos disponibles","Nota: Los datos corresponden a 2013 pues son los últimos disponibles","Nota: Los datos corresponden a 2013 pues son los últimos disponibles","Nota: Los datos corresponden a 2013 pues son los últimos disponibles","Nota: Los datos corresponden a 2013 pues son los últimos disponibles","Nota: Los datos corresponden a 2013 pues son los últimos disponibles","Nota: Los datos corresponden a 2013 pues son los últimos disponibles","Nota: Los datos corresponden a 2013 pues son los últimos disponibles","Nota: Los datos corresponden a 2013 pues son los últimos disponibles","Nota: Los datos corresponden a 2013 pues son los últimos disponibles","Nota: Los datos corresponden a 2013 pues son los últimos disponibles","Nota: Los datos corresponden a 2013 pues son los últimos disponibles","Nota: Los datos corresponden a 2013 pues son los últimos disponibles","Nota: Los datos corresponden a 2013 pues son los últimos disponibles","Nota: Los datos corresponden a 2013 pues son los últimos disponibles","Nota: Los datos corresponden a 2013 pues son los últimos disponibles","Nota: Los datos corresponden a 2013 pues son los últimos disponibles","Nota: Los datos corresponden a 2013 pues son los últimos disponibles","Nota: Los datos corresponden a 2013 pues son los últimos disponibles","Nota: Los datos corresponden a 2013 pues son los últimos disponibles","Nota: Los datos corresponden a 2013 pues son los últimos disponibles","Nota: Los datos corresponden a 2013 pues son los últimos disponibles","Nota: Los datos corresponden a 2013 pues son los últimos disponibles","Nota: Los datos corresponden a 2013 pues son los últimos disponibles","Nota: Los datos corresponden a 2013 pues son los últimos disponibles","Nota: Los datos corresponden a 2013 pues son los últimos disponibles","Nota: Los datos corresponden a 2013 pues son los últimos disponibles","Nota: Los datos corresponden a 2013 pues son los últimos disponibles","Nota: Los datos corresponden a 2013 pues son los últimos disponibles","Nota: Los datos corresponden a 2013 pues son los últimos disponibles","Nota: Los datos corresponden a 2013 pues son los últimos disponibles","Nota: Los datos corresponden a 2013 pues son los últimos disponibles","Nota: Los datos corresponden a 2013 pues son los últimos disponibles","Nota: Los datos corresponden a 2013 pues son los últimos disponibles","Nota: Los datos corresponden a 2013 pues son los últimos disponibles","Nota: Los datos corresponden a 2013 pues son los últimos disponibles","Nota: Los datos corresponden a 2013 pues son los últimos disponibles","Nota: Los datos corresponden a 2013 pues son los últimos disponibles","Nota: Los datos corresponden a 2013 pues son los últimos disponibles","Nota: Los datos corresponden a 2013 pues son los últimos disponibles","Nota: Los datos corresponden a 2013 pues son los últimos disponibles","Nota: Los datos corresponden a 2013 pues son los últimos disponibles","Nota: Los datos corresponden a 2013 pues son los últimos disponibles","Nota: Los datos corresponden a 2013 pues son los últimos disponibles","Nota: Los datos corresponden a 2013 pues son los últimos disponibles","Nota: Los datos corresponden a 2013 pues son los últimos disponibles","Nota: Los datos corresponden a 2013 pues son los últimos disponibles","Nota: Los datos corresponden a 2013 pues son los últimos disponibles","Nota: Los datos corresponden a 2013 pues son los últimos disponibles","Nota: Los datos corresponden a 2013 pues son los últimos disponibles","Nota: Los datos corresponden a 2013 pues son los últimos disponibles","Nota: Los datos corresponden a 2013 pues son los últimos disponibles","Nota: Los datos corresponden a 2013 pues son los últimos disponibles","Nota: Los datos corresponden a 2013 pues son los últimos disponibles","Nota: Los datos corresponden a 2013 pues son los últimos disponibles","Nota: Los datos corresponden a 2013 pues son los últimos disponibles","Nota: Los datos corresponden a 2013 pues son los últimos disponibles","Nota: Los datos corresponden a 2013 pues son los últimos disponibles","Nota: Los datos corresponden a 2013 pues son los últimos disponibles","Nota: Los datos corresponden a 2013 pues son los últimos disponibles","Nota: Los datos corresponden a 2013 pues son los últimos disponibles","Nota: Los datos corresponden a 2013 pues son los últimos disponibles","Nota: Los datos corresponden a 2013 pues son los últimos disponibles","Nota: Los datos corresponden a 2013 pues son los últimos disponibles","Nota: Los datos corresponden a 2013 pues son los últimos disponibles","Nota: Los datos corresponden a 2013 pues son los últimos disponibles","Nota: Los datos corresponden a 2013 pues son los últimos disponibles","Nota: Los datos corresponden a 2013 pues son los últimos disponibles","Nota: Los datos corresponden a 2013 pues son los últimos disponibles","Nota: Los datos corresponden a 2013 pues son los últimos disponibles","Nota: Los datos corresponden a 2013 pues son los últimos disponibles","Nota: Los datos corresponden a 2013 pues son los últimos disponibles","Nota: Los datos corresponden a 2013 pues son los últimos disponibles","Nota: Los datos corresponden a 2013 pues son los últimos disponibles","Nota: Los datos corresponden a 2013 pues son los últimos disponibles","Nota: Los datos corresponden a 2013 pues son los últimos disponibles","Nota: Los datos corresponden a 2013 pues son los últimos disponibles","Nota: Los datos corresponden a 2013 pues son los últimos disponibles","Nota: Los datos corresponden a 2013 pues son los últimos disponibles","Nota: Los datos corresponden a 2013 pues son los últimos disponibles","Nota: Los datos corresponden a 2013 pues son los últimos disponibles","Nota: Los datos corresponden a 2013 pues son los últimos disponibles","Nota: Los datos corresponden a 2013 pues son los últimos disponibles","Nota: Los datos corresponden a 2013 pues son los últimos disponibles","Nota: Los datos corresponden a 2013 pues son los últimos disponibles","Nota: Los datos corresponden a 2013 pues son los últimos disponibles","Nota: Los datos corresponden a 2013 pues son los últimos disponibles","Nota: Los datos corresponden a 2013 pues son los últimos disponibles","Nota: Los datos corresponden a 2013 pues son los últimos disponibles","Nota: Los datos corresponden a 2013 pues son los últimos disponibles","Nota: Los datos corresponden a 2013 pues son los últimos disponibles","Nota: Los datos corresponden a 2013 pues son los últimos disponibles","Nota: Los datos corresponden a 2013 pues son los últimos disponibles","Nota: Los datos corresponden a 2013 pues son los últimos disponibles","Nota: Los datos corresponden a 2013 pues son los últimos disponibles","Nota: Los datos corresponden a 2013 pues son los últimos disponibles","Nota: Los datos corresponden a 2013 pues son los últimos disponibles","Nota: Los datos corresponden a 2013 pues son los últimos disponibles","Nota: Los datos corresponden a 2013 pues son los últimos disponibles","Nota: Los datos corresponden a 2013 pues son los últimos disponibles","Nota: Los datos corresponden a 2013 pues son los últimos disponibles","Nota: Los datos corresponden a 2013 pues son los últimos disponibles","Nota: Los datos corresponden a 2013 pues son los últimos disponibles","Nota: Los datos corresponden a 2013 pues son los últimos disponibles","Nota: Los datos corresponden a 2013 pues son los últimos disponibles","Nota: Los datos corresponden a 2013 pues son los últimos disponibles","Nota: Los datos corresponden a 2013 pues son los últimos disponibles","Nota: Los datos corresponden a 2013 pues son los últimos disponibles","Nota: Los datos corresponden a 2013 pues son los últimos disponibles","Nota: Los datos corresponden a 2013 pues son los últimos disponibles","Nota: Los datos corresponden a 2013 pues son los últimos disponibles","Nota: Los datos corresponden a 2013 pues son los últimos disponibles","Nota: Los datos corresponden a 2013 pues son los últimos disponibles","Nota: Los datos corresponden a 2013 pues son los últimos disponibles","Nota: Los datos corresponden a 2013 pues son los últimos disponibles","Nota: Los datos corresponden a 2013 pues son los últimos disponibles","Nota: Los datos corresponden a 2013 pues son los últimos disponibles","Nota: Los datos corresponden a 2013 pues son los últimos disponibles","Nota: Los datos corresponden a 2013 pues son los últimos disponibles","Nota: Los datos corresponden a 2013 pues son los últimos disponibles","Nota: Los datos corresponden a 2013 pues son los últimos disponibles","Nota: Los datos corresponden a 2013 pues son los últimos disponibles","Nota: Los datos corresponden a 2013 pues son los últimos disponibles","Nota: Los datos corresponden a 2013 pues son los últimos disponibles","Nota: Los datos corresponden a 2013 pues son los últimos disponibles","Nota: Los datos corresponden a 2013 pues son los últimos disponibles","Nota: Los datos corresponden a 2013 pues son los últimos disponibles","Nota: Los datos corresponden a 2013 pues son los últimos disponibles","Nota: Los datos corresponden a 2013 pues son los últimos disponibles","Nota: Los datos corresponden a 2013 pues son los últimos disponibles","Nota: Los datos corresponden a 2013 pues son los últimos disponibles","Nota: Los datos corresponden a 2013 pues son los últimos disponibles","Nota: Los datos corresponden a 2013 pues son los últimos disponibles","Nota: Los datos corresponden a 2013 pues son los últimos disponibles","Nota: Los datos corresponden a 2013 pues son los últimos disponibles","Nota: Los datos corresponden a 2013 pues son los últimos disponibles","Nota: Los datos corresponden a 2013 pues son los últimos disponibles","Nota: Los datos corresponden a 2013 pues son los últimos disponibles","Nota: Los datos corresponden a 2013 pues son los últimos disponibles","Nota: Los datos corresponden a 2013 pues son los últimos disponibles","Nota: Los datos corresponden a 2013 pues son los últimos disponibles","Nota: Los datos corresponden a 2013 pues son los últimos disponibles","Nota: Los datos corresponden a 2013 pues son los últimos disponibles","Nota: Los datos corresponden a 2013 pues son los últimos disponibles","Nota: Los datos corresponden a 2013 pues son los últimos disponibles","Nota: Los datos corresponden a 2013 pues son los últimos disponibles","Nota: Los datos corresponden a 2013 pues son los últimos disponibles","Nota: Los datos corresponden a 2013 pues son los últimos disponibles","Nota: Los datos corresponden a 2013 pues son los últimos disponibles","Nota: Los datos corresponden a 2013 pues son los últimos disponibles","Nota: Los datos corresponden a 2013 pues son los últimos disponibles","Nota: Los datos corresponden a 2013 pues son los últimos disponibles","Nota: Los datos corresponden a 2013 pues son los últimos disponibles","Nota: Los datos corresponden a 2013 pues son los últimos disponibles","Nota: Los datos corresponden a 2013 pues son los últimos disponibles","Nota: Los datos corresponden a 2013 pues son los últimos disponibles","Nota: Los datos corresponden a 2013 pues son los últimos disponibles","Nota: Los datos corresponden a 2013 pues son los últimos disponibles","Nota: Los datos corresponden a 2013 pues son los últimos disponibles","Nota: Los datos corresponden a 2013 pues son los últimos disponibles","Nota: Los datos corresponden a 2013 pues son los últimos disponibles","Nota: Los datos corresponden a 2013 pues son los últimos disponibles","Nota: Los datos corresponden a 2013 pues son los últimos disponibles","Nota: Los datos corresponden a 2013 pues son los últimos disponibles","Nota: Los datos corresponden a 2013 pues son los últimos disponibles","Nota: Los datos corresponden a 2013 pues son los últimos disponibles","Nota: Los datos corresponden a 2013 pues son los últimos disponibles","Nota: Los datos corresponden a 2013 pues son los últimos disponibles","Nota: Los datos corresponden a 2013 pues son los últimos disponibles","Nota: Los datos corresponden a 2013 pues son los últimos disponibles","Nota: Los datos corresponden a 2013 pues son los últimos disponibles","Nota: Los datos corresponden a 2013 pues son los últimos disponibles","Nota: Los datos corresponden a 2013 pues son los últimos disponibles","Nota: Los datos corresponden a 2013 pues son los últimos disponibles","Nota: Los datos corresponden a 2013 pues son los últimos disponibles","Nota: Los datos corresponden a 2013 pues son los últimos disponibles","Nota: Los datos corresponden a 2013 pues son los últimos disponibles","Nota: Los datos corresponden a 2013 pues son los últimos disponibles","Nota: Los datos corresponden a 2013 pues son los últimos disponibles","Nota: Los datos corresponden a 2013 pues son los últimos disponibles","Nota: Los datos corresponden a 2013 pues son los últimos disponibles","Nota: Los datos corresponden a 2013 pues son los últimos disponibles","Nota: Los datos corresponden a 2013 pues son los últimos disponibles","Nota: Los datos corresponden a 2013 pues son los últimos disponibles","Nota: Los datos corresponden a 2013 pues son los últimos disponibles","Nota: Los datos corresponden a 2013 pues son los últimos disponibles","Nota: Los datos corresponden a 2013 pues son los últimos disponibles","Nota: Los datos corresponden a 2013 pues son los últimos disponibles","Nota: Los datos corresponden a 2013 pues son los últimos disponibles","Nota: Los datos corresponden a 2013 pues son los últimos disponibles","Nota: Los datos corresponden a 2013 pues son los últimos disponibles","Nota: Los datos corresponden a 2013 pues son los últimos disponibles","Nota: Los datos corresponden a 2013 pues son los últimos disponibles","Nota: Los datos corresponden a 2013 pues son los últimos disponibles","Nota: Los datos corresponden a 2013 pues son los últimos disponibles","Nota: Los datos corresponden a 2013 pues son los últimos disponibles","Nota: Los datos corresponden a 2013 pues son los últimos disponibles","Nota: Los datos corresponden a 2013 pues son los últimos disponibles","Nota: Los datos corresponden a 2013 pues son los últimos disponibles","Nota: Los datos corresponden a 2013 pues son los últimos disponibles","Nota: Los datos corresponden a 2013 pues son los últimos disponibles","Nota: Los datos corresponden a 2013 pues son los últimos disponibles","Nota: Los datos corresponden a 2013 pues son los últimos disponibles","Nota: Los datos corresponden a 2013 pues son los últimos disponibles","Nota: Los datos corresponden a 2013 pues son los últimos disponibles","Nota: Los datos corresponden a 2013 pues son los últimos disponibles","Nota: Los datos corresponden a 2013 pues son los últimos disponibles","Nota: Los datos corresponden a 2013 pues son los últimos disponibles","Nota: Los datos corresponden a 2013 pues son los últimos disponibles","Nota: Los datos corresponden a 2013 pues son los últimos disponibles","Nota: Los datos corresponden a 2013 pues son los últimos disponibles","Nota: Los datos corresponden a 2013 pues son los últimos disponibles","Nota: Los datos corresponden a 2013 pues son los últimos disponibles","Nota: Los datos corresponden a 2013 pues son los últimos disponibles","Nota: Los datos corresponden a 2013 pues son los últimos disponibles","Nota: Los datos corresponden a 2013 pues son los últimos disponibles","Nota: Los datos corresponden a 2013 pues son los últimos disponibles","Nota: Los datos corresponden a 2013 pues son los últimos disponibles","Nota: Los datos corresponden a 2013 pues son los últimos disponibles","Nota: Los datos corresponden a 2013 pues son los últimos disponibles","Nota: Los datos corresponden a 2013 pues son los últimos disponibles","Nota: Los datos corresponden a 2013 pues son los últimos disponibles","Nota: Los datos corresponden a 2013 pues son los últimos disponibles","Nota: Los datos corresponden a 2013 pues son los últimos disponibles","Nota: Los datos corresponden a 2013 pues son los últimos disponibles","Nota: Los datos corresponden a 2013 pues son los últimos disponibles","Nota: Los datos corresponden a 2013 pues son los últimos disponibles","Nota: Los datos corresponden a 2013 pues son los últimos disponibles","Nota: Los datos corresponden a 2013 pues son los últimos disponibles","Nota: Los datos corresponden a 2013 pues son los últimos disponibles","Nota: Los datos corresponden a 2013 pues son los últimos disponibles","Nota: Los datos corresponden a 2013 pues son los últimos disponibles","Nota: Los datos corresponden a 2013 pues son los últimos disponibles","Nota: Los datos corresponden a 2013 pues son los últimos disponibles","Nota: Los datos corresponden a 2013 pues son los últimos disponibles","Nota: Los datos corresponden a 2013 pues son los últimos disponibles","Nota: Los datos corresponden a 2013 pues son los últimos disponibles","Nota: Los datos corresponden a 2013 pues son los últimos disponibles","Nota: Los datos corresponden a 2013 pues son los últimos disponibles","Nota: Los datos corresponden a 2013 pues son los últimos disponibles","Nota: Los datos corresponden a 2013 pues son los últimos disponibles","Nota: Los datos corresponden a 2013 pues son los últimos disponibles","Nota: Los datos corresponden a 2013 pues son los últimos disponibles","Nota: Los datos corresponden a 2013 pues son los últimos disponibles","Nota: Los datos corresponden a 2013 pues son los últimos disponibles","Nota: Los datos corresponden a 2013 pues son los últimos disponibles","Nota: Los datos corresponden a 2013 pues son los últimos disponibles","Nota: Los datos corresponden a 2013 pues son los últimos disponibles","Nota: Los datos corresponden a 2013 pues son los últimos disponibles","Nota: Los datos corresponden a 2013 pues son los últimos disponibles","Nota: Los datos corresponden a 2013 pues son los últimos disponibles","Nota: Los datos corresponden a 2013 pues son los últimos disponibles","Nota: Los datos corresponden a 2013 pues son los últimos disponibles","Nota: Los datos corresponden a 2013 pues son los últimos disponibles","Nota: Los datos corresponden a 2013 pues son los últimos disponibles","Nota: Los datos corresponden a 2013 pues son los últimos disponibles","Nota: Los datos corresponden a 2013 pues son los últimos disponibles","Nota: Los datos corresponden a 2013 pues son los últimos disponibles","Nota: Los datos corresponden a 2013 pues son los últimos disponibles","Nota: Los datos corresponden a 2013 pues son los últimos disponibles","Nota: Los datos corresponden a 2013 pues son los últimos disponibles","Nota: Los datos corresponden a 2013 pues son los últimos disponibles","Nota: Los datos corresponden a 2013 pues son los últimos disponibles","Nota: Los datos corresponden a 2013 pues son los últimos disponibles","Nota: Los datos corresponden a 2013 pues son los últimos disponibles","Nota: Los datos corresponden a 2013 pues son los últimos disponibles","Nota: Los datos corresponden a 2013 pues son los últimos disponibles","Nota: Los datos corresponden a 2013 pues son los últimos disponibles","Nota: Los datos corresponden a 2013 pues son los últimos disponibles","Nota: Los datos corresponden a 2013 pues son los últimos disponibles","Nota: Los datos corresponden a 2013 pues son los últimos disponibles","Nota: Los datos corresponden a 2013 pues son los últimos disponibles","Nota: Los datos corresponden a 2013 pues son los últimos disponibles","Nota: Los datos corresponden a 2013 pues son los últimos disponibles","Nota: Los datos corresponden a 2013 pues son los últimos disponibles","Nota: Los datos corresponden a 2013 pues son los últimos disponibles","Nota: Los datos corresponden a 2013 pues son los últimos disponibles","Nota: Los datos corresponden a 2013 pues son los últimos disponibles","Nota: Los datos corresponden a 2013 pues son los últimos disponibles","Nota: Los datos corresponden a 2013 pues son los últimos disponibles","Nota: Los datos corresponden a 2013 pues son los últimos disponibles","Nota: Los datos corresponden a 2013 pues son los últimos disponibles","Nota: Los datos corresponden a 2013 pues son los últimos disponibles","Nota: Los datos corresponden a 2013 pues son los últimos disponibles","Nota: Los datos corresponden a 2013 pues son los últimos disponibles","Nota: Los datos corresponden a 2013 pues son los últimos disponibles","Nota: Los datos corresponden a 2013 pues son los últimos disponibles","Nota: Los datos corresponden a 2013 pues son los últimos disponibles","Nota: Los datos corresponden a 2013 pues son los últimos disponibles","Nota: Los datos corresponden a 2013 pues son los últimos disponibles","Nota: Los datos corresponden a 2013 pues son los últimos disponibles","Nota: Los datos corresponden a 2013 pues son los últimos disponibles","Nota: Los datos corresponden a 2013 pues son los últimos disponibles","Nota: Los datos corresponden a 2013 pues son los últimos disponibles","Nota: Los datos corresponden a 2013 pues son los últimos disponibles","Nota: Los datos corresponden a 2013 pues son los últimos disponibles","Nota: Los datos corresponden a 2013 pues son los últimos disponibles","Nota: Los datos corresponden a 2013 pues son los últimos disponibles","Nota: Los datos corresponden a 2013 pues son los últimos disponibles","Nota: Los datos corresponden a 2013 pues son los últimos disponibles","Nota: Los datos corresponden a 2013 pues son los últimos disponibles","Nota: Los datos corresponden a 2013 pues son los últimos disponibles","Nota: Los datos corresponden a 2013 pues son los últimos disponibles","Nota: Los datos corresponden a 2013 pues son los últimos disponibles","Nota: Los datos corresponden a 2013 pues son los últimos disponibles","Nota: Los datos corresponden a 2013 pues son los últimos disponibles","Nota: Los datos corresponden a 2013 pues son los últimos disponibles","Nota: Los datos corresponden a 2013 pues son los últimos disponibles","Nota: Los datos corresponden a 2013 pues son los últimos disponibles","Nota: Los datos corresponden a 2013 pues son los últimos disponibles","Nota: Los datos corresponden a 2013 pues son los últimos disponibles","Nota: Los datos corresponden a 2013 pues son los últimos disponibles","Nota: Los datos corresponden a 2013 pues son los últimos disponibles","Nota: Los datos corresponden a 2013 pues son los últimos disponibles","Nota: Los datos corresponden a 2013 pues son los últimos disponibles","Nota: Los datos corresponden a 2013 pues son los últimos disponibles","Nota: Los datos corresponden a 2013 pues son los últimos disponibles","Nota: Los datos corresponden a 2013 pues son los últimos disponibles","Nota: Los datos corresponden a 2013 pues son los últimos disponibles","Nota: Los datos corresponden a 2013 pues son los últimos disponibles","Nota: Los datos corresponden a 2013 pues son los últimos disponibles","Nota: Los datos corresponden a 2013 pues son los últimos disponibles","Nota: Los datos corresponden a 2013 pues son los últimos disponibles","Nota: Los datos corresponden a 2013 pues son los últimos disponibles","Nota: Los datos corresponden a 2013 pues son los últimos disponibles","Nota: Los datos corresponden a 2013 pues son los últimos disponibles","Nota: Los datos corresponden a 2013 pues son los últimos disponibles","Nota: Los datos corresponden a 2013 pues son los últimos disponibles","Nota: Los datos corresponden a 2013 pues son los últimos disponibles","Nota: Los datos corresponden a 2013 pues son los últimos disponibles","Nota: Los datos corresponden a 2013 pues son los últimos disponibles","Nota: Los datos corresponden a 2013 pues son los últimos disponibles","Nota: Los datos corresponden a 2013 pues son los últimos disponibles","Nota: Los datos corresponden a 2013 pues son los últimos disponibles","Nota: Los datos corresponden a 2013 pues son los últimos disponibles","Nota: Los datos corresponden a 2013 pues son los últimos disponibles","Nota: Los datos corresponden a 2013 pues son los últimos disponibles","Nota: Los datos corresponden a 2013 pues son los últimos disponibles","Nota: Los datos corresponden a 2013 pues son los últimos disponibles","Nota: Los datos corresponden a 2013 pues son los últimos disponibles","Nota: Los datos corresponden a 2013 pues son los últimos disponibles","Nota: Los datos corresponden a 2013 pues son los últimos disponibles","Nota: Los datos corresponden a 2013 pues son los últimos disponibles","Nota: Los datos corresponden a 2013 pues son los últimos disponibles","Nota: Los datos corresponden a 2013 pues son los últimos disponibles","Nota: Los datos corresponden a 2013 pues son los últimos disponibles","Nota: Los datos corresponden a 2013 pues son los últimos disponibles","Nota: Los datos corresponden a 2013 pues son los últimos disponibles","Nota: Los datos corresponden a 2013 pues son los últimos disponibles","Nota: Los datos corresponden a 2013 pues son los últimos disponibles","Nota: Los datos corresponden a 2013 pues son los últimos disponibles","Nota: Los datos corresponden a 2013 pues son los últimos disponibles","Nota: Los datos corresponden a 2013 pues son los últimos disponibles","Nota: Los datos corresponden a 2013 pues son los últimos disponibles","Nota: Los datos corresponden a 2013 pues son los últimos disponibles","Nota: Los datos corresponden a 2013 pues son los últimos disponibles","Nota: Los datos corresponden a 2013 pues son los últimos disponibles","Nota: Los datos corresponden a 2013 pues son los últimos disponibles","Nota: Los datos corresponden a 2013 pues son los últimos disponibles","Nota: Los datos corresponden a 2013 pues son los últimos disponibles","Nota: Los datos corresponden a 2013 pues son los últimos disponibles","Nota: Los datos corresponden a 2013 pues son los últimos disponibles","Nota: Los datos corresponden a 2013 pues son los últimos disponibles","Nota: Los datos corresponden a 2013 pues son los últimos disponibles","Nota: Los datos corresponden a 2013 pues son los últimos disponibles","Nota: Los datos corresponden a 2013 pues son los últimos disponibles","Nota: Los datos corresponden a 2013 pues son los últimos disponibles","Nota: Los datos corresponden a 2013 pues son los últimos disponibles","Nota: Los datos corresponden a 2013 pues son los últimos disponibles","Nota: Los datos corresponden a 2013 pues son los últimos disponibles","Nota: Los datos corresponden a 2013 pues son los últimos disponibles","Nota: Los datos corresponden a 2013 pues son los últimos disponibles","Nota: Los datos corresponden a 2013 pues son los últimos disponibles","Nota: Los datos corresponden a 2013 pues son los últimos disponibles","Nota: Los datos corresponden a 2013 pues son los últimos disponibles","Nota: Los datos corresponden a 2013 pues son los últimos disponibles","Nota: Los datos corresponden a 2013 pues son los últimos disponibles","Nota: Los datos corresponden a 2013 pues son los últimos disponibles","Nota: Los datos corresponden a 2013 pues son los últimos disponibles","Nota: Los datos corresponden a 2013 pues son los últimos disponibles","Nota: Los datos corresponden a 2013 pues son los últimos disponibles","Nota: Los datos corresponden a 2013 pues son los últimos disponibles","Nota: Los datos corresponden a 2013 pues son los últimos disponibles","Nota: Los datos corresponden a 2013 pues son los últimos disponibles","Nota: Los datos corresponden a 2013 pues son los últimos disponibles","Nota: Los datos corresponden a 2013 pues son los últimos disponibles","Nota: Los datos corresponden a 2013 pues son los últimos disponibles","Nota: Los datos corresponden a 2013 pues son los últimos disponibles","Nota: Los datos corresponden a 2013 pues son los últimos disponibles","Nota: Los datos corresponden a 2013 pues son los últimos disponibles","Nota: Los datos corresponden a 2013 pues son los últimos disponibles","Nota: Los datos corresponden a 2013 pues son los últimos disponibles","Nota: Los datos corresponden a 2013 pues son los últimos disponibles","Nota: Los datos corresponden a 2013 pues son los últimos disponibles","Nota: Los datos corresponden a 2013 pues son los últimos disponibles","Nota: Los datos corresponden a 2013 pues son los últimos disponibles","Nota: Los datos corresponden a 2013 pues son los últimos disponibles","Nota: Los datos corresponden a 2013 pues son los últimos disponibles","Nota: Los datos corresponden a 2013 pues son los últimos disponibles","Nota: Los datos corresponden a 2013 pues son los últimos disponibles","Nota: Los datos corresponden a 2013 pues son los últimos disponibles","Nota: Los datos corresponden a 2013 pues son los últimos disponibles","Nota: Los datos corresponden a 2013 pues son los últimos disponibles","Nota: Los datos corresponden a 2013 pues son los últimos disponibles","Nota: Los datos corresponden a 2013 pues son los últimos disponibles","Nota: Los datos corresponden a 2013 pues son los últimos disponibles","Nota: Los datos corresponden a 2013 pues son los últimos disponibles","Nota: Los datos corresponden a 2013 pues son los últimos disponibles","Nota: Los datos corresponden a 2013 pues son los últimos disponibles","Nota: Los datos corresponden a 2013 pues son los últimos disponibles","Nota: Los datos corresponden a 2013 pues son los últimos disponibles","Nota: Los datos corresponden a 2013 pues son los últimos disponibles","Nota: Los datos corresponden a 2013 pues son los últimos disponibles","Nota: Los datos corresponden a 2013 pues son los últimos disponibles","Nota: Los datos corresponden a 2013 pues son los últimos disponibles","Nota: Los datos corresponden a 2013 pues son los últimos disponibles","Nota: Los datos corresponden a 2013 pues son los últimos disponibles","Nota: Los datos corresponden a 2013 pues son los últimos disponibles","Nota: Los datos corresponden a 2013 pues son los últimos disponibles","Nota: Los datos corresponden a 2013 pues son los últimos disponibles","Nota: Los datos corresponden a 2013 pues son los últimos disponibles","Nota: Los datos corresponden a 2013 pues son los últimos disponibles","Nota: Los datos corresponden a 2013 pues son los últimos disponibles","Nota: Los datos corresponden a 2013 pues son los últimos disponibles","Nota: Los datos corresponden a 2013 pues son los últimos disponibles","Nota: Los datos corresponden a 2013 pues son los últimos disponibles","Nota: Los datos corresponden a 2013 pues son los últimos disponibles","Nota: Los datos corresponden a 2013 pues son los últimos disponibles","Nota: Los datos corresponden a 2013 pues son los últimos disponibles","Nota: Los datos corresponden a 2013 pues son los últimos disponibles","Nota: Los datos corresponden a 2013 pues son los últimos disponibles","Nota: Los datos corresponden a 2013 pues son los últimos disponibles","Nota: Los datos corresponden a 2013 pues son los últimos disponibles","Nota: Los datos corresponden a 2013 pues son los últimos disponibles","Nota: Los datos corresponden a 2013 pues son los últimos disponibles","Nota: Los datos corresponden a 2013 pues son los últimos disponibles","Nota: Los datos corresponden a 2013 pues son los últimos disponibles","Nota: Los datos corresponden a 2013 pues son los últimos disponibles","Nota: Los datos corresponden a 2013 pues son los últimos disponibles","Nota: Los datos corresponden a 2013 pues son los últimos disponibles","Nota: Los datos corresponden a 2013 pues son los últimos disponibles","Nota: Los datos corresponden a 2013 pues son los últimos disponibles","Nota: Los datos corresponden a 2013 pues son los últimos disponibles","Nota: Los datos corresponden a 2013 pues son los últimos disponibles","Nota: Los datos corresponden a 2013 pues son los últimos disponibles","Nota: Los datos corresponden a 2013 pues son los últimos disponibles","Nota: Los datos corresponden a 2013 pues son los últimos disponibles","Nota: Los datos corresponden a 2013 pues son los últimos disponibles","Nota: Los datos corresponden a 2013 pues son los últimos disponibles","Nota: Los datos corresponden a 2013 pues son los últimos disponibles","Nota: Los datos corresponden a 2013 pues son los últimos disponibles","Nota: Los datos corresponden a 2013 pues son los últimos disponibles","Nota: Los datos corresponden a 2013 pues son los últimos disponibles","Nota: Los datos corresponden a 2013 pues son los últimos disponibles","Nota: Los datos corresponden a 2013 pues son los últimos disponibles","Nota: Los datos corresponden a 2013 pues son los últimos disponibles","Nota: Los datos corresponden a 2013 pues son los últimos disponibles","Nota: Los datos corresponden a 2013 pues son los últimos disponibles","Nota: Los datos corresponden a 2013 pues son los últimos disponibles","Nota: Los datos corresponden a 2013 pues son los últimos disponibles","Nota: Los datos corresponden a 2013 pues son los últimos disponibles","Nota: Los datos corresponden a 2013 pues son los últimos disponibles","Nota: Los datos corresponden a 2013 pues son los últimos disponibles","Nota: Los datos corresponden a 2013 pues son los últimos disponibles","Nota: Los datos corresponden a 2013 pues son los últimos disponibles","Nota: Los datos corresponden a 2013 pues son los últimos disponibles","Nota: Los datos corresponden a 2013 pues son los últimos disponibles","Nota: Los datos corresponden a 2013 pues son los últimos disponibles","Nota: Los datos corresponden a 2013 pues son los últimos disponibles","Nota: Los datos corresponden a 2013 pues son los últimos disponibles","Nota: Los datos corresponden a 2013 pues son los últimos disponibles","Nota: Los datos corresponden a 2013 pues son los últimos disponibles","Nota: Los datos corresponden a 2013 pues son los últimos disponibles","Nota: Los datos corresponden a 2013 pues son los últimos disponibles","Nota: Los datos corresponden a 2013 pues son los últimos disponibles","Nota: Los datos corresponden a 2013 pues son los últimos disponibles","Nota: Los datos corresponden a 2013 pues son los últimos disponibles","Nota: Los datos corresponden a 2013 pues son los últimos disponibles","Nota: Los datos corresponden a 2013 pues son los últimos disponibles","Nota: Los datos corresponden a 2013 pues son los últimos disponibles","Nota: Los datos corresponden a 2013 pues son los últimos disponibles","Nota: Los datos corresponden a 2013 pues son los últimos disponibles","Nota: Los datos corresponden a 2013 pues son los últimos disponibles","Nota: Los datos corresponden a 2013 pues son los últimos disponibles","Nota: Los datos corresponden a 2013 pues son los últimos disponibles","Nota: Los datos corresponden a 2013 pues son los últimos disponibles","Nota: Los datos corresponden a 2013 pues son los últimos disponibles","Nota: Los datos corresponden a 2013 pues son los últimos disponibles","Nota: Los datos corresponden a 2013 pues son los últimos disponibles","Nota: Los datos corresponden a 2013 pues son los últimos disponibles","Nota: Los datos corresponden a 2013 pues son los últimos disponibles","Nota: Los datos corresponden a 2013 pues son los últimos disponibles","Nota: Los datos corresponden a 2013 pues son los últimos disponibles","Nota: Los datos corresponden a 2013 pues son los últimos disponibles","Nota: Los datos corresponden a 2013 pues son los últimos disponibles","Nota: Los datos corresponden a 2013 pues son los últimos disponibles","Nota: Los datos corresponden a 2013 pues son los últimos disponibles","Nota: Los datos corresponden a 2013 pues son los últimos disponibles","Nota: Los datos corresponden a 2013 pues son los últimos disponibles","Nota: Los datos corresponden a 2013 pues son los últimos disponibles","Nota: Los datos corresponden a 2013 pues son los últimos disponibles","Nota: Los datos corresponden a 2013 pues son los últimos disponibles","Nota: Los datos corresponden a 2013 pues son los últimos disponibles","Nota: Los datos corresponden a 2013 pues son los últimos disponibles","Nota: Los datos corresponden a 2013 pues son los últimos disponibles","Nota: Los datos corresponden a 2013 pues son los últimos disponibles","Nota: Los datos corresponden a 2013 pues son los últimos disponibles","Nota: Los datos corresponden a 2013 pues son los últimos disponibles","Nota: Los datos corresponden a 2013 pues son los últimos disponibles","Nota: Los datos corresponden a 2013 pues son los últimos disponibles","Nota: Los datos corresponden a 2013 pues son los últimos disponibles","Nota: Los datos corresponden a 2013 pues son los últimos disponibles","Nota: Los datos corresponden a 2013 pues son los últimos disponibles","Nota: Los datos corresponden a 2013 pues son los últimos disponibles","Nota: Los datos corresponden a 2013 pues son los últimos disponibles","Nota: Los datos corresponden a 2013 pues son los últimos disponibles","Nota: Los datos corresponden a 2013 pues son los últimos disponibles","Nota: Los datos corresponden a 2013 pues son los últimos disponibles","Nota: Los datos corresponden a 2013 pues son los últimos disponibles","Nota: Los datos corresponden a 2013 pues son los últimos disponibles","Nota: Los datos corresponden a 2013 pues son los últimos disponibles","Nota: Los datos corresponden a 2013 pues son los últimos disponibles","Nota: Los datos corresponden a 2013 pues son los últimos disponibles","Nota: Los datos corresponden a 2013 pues son los últimos disponibles","Nota: Los datos corresponden a 2013 pues son los últimos disponibles","Nota: Los datos corresponden a 2013 pues son los últimos disponibles","Nota: Los datos corresponden a 2013 pues son los últimos disponibles","Nota: Los datos corresponden a 2013 pues son los últimos disponibles","Nota: Los datos corresponden a 2013 pues son los últimos disponibles","Nota: Los datos corresponden a 2013 pues son los últimos disponibles","Nota: Los datos corresponden a 2013 pues son los últimos disponibles","Nota: Los datos corresponden a 2013 pues son los últimos disponibles","Nota: Los datos corresponden a 2013 pues son los últimos disponibles","Nota: Los datos corresponden a 2013 pues son los últimos disponibles","Nota: Los datos corresponden a 2013 pues son los últimos disponibles","Nota: Los datos corresponden a 2013 pues son los últimos disponibles","Nota: Los datos corresponden a 2013 pues son los últimos disponibles","Nota: Los datos corresponden a 2013 pues son los últimos disponibles","Nota: Los datos corresponden a 2013 pues son los últimos disponibles","Nota: Los datos corresponden a 2013 pues son los últimos disponibles","Nota: Los datos corresponden a 2013 pues son los últimos disponibles","Nota: Los datos corresponden a 2013 pues son los últimos disponibles","Nota: Los datos corresponden a 2013 pues son los últimos disponibles","Nota: Los datos corresponden a 2013 pues son los últimos disponibles","Nota: Los datos corresponden a 2013 pues son los últimos disponibles","Nota: Los datos corresponden a 2013 pues son los últimos disponibles","Nota: Los datos corresponden a 2013 pues son los últimos disponibles","Nota: Los datos corresponden a 2013 pues son los últimos disponibles","Nota: Los datos corresponden a 2013 pues son los últimos disponibles","Nota: Los datos corresponden a 2013 pues son los últimos disponibles","Nota: Los datos corresponden a 2013 pues son los últimos disponibles","Nota: Los datos corresponden a 2013 pues son los últimos disponibles","Nota: Los datos corresponden a 2013 pues son los últimos disponibles","Nota: Los datos corresponden a 2013 pues son los últimos disponibles","Nota: Los datos corresponden a 2013 pues son los últimos disponibles","Nota: Los datos corresponden a 2013 pues son los últimos disponibles","Nota: Los datos corresponden a 2013 pues son los últimos disponibles","Nota: Los datos corresponden a 2013 pues son los últimos disponibles","Nota: Los datos corresponden a 2013 pues son los últimos disponibles","Nota: Los datos corresponden a 2013 pues son los últimos disponibles","Nota: Los datos corresponden a 2013 pues son los últimos disponibles","Nota: Los datos corresponden a 2013 pues son los últimos disponibles","Nota: Los datos corresponden a 2013 pues son los últimos disponibles","Nota: Los datos corresponden a 2013 pues son los últimos disponibles","Nota: Los datos corresponden a 2013 pues son los últimos disponibles","Nota: Los datos corresponden a 2013 pues son los últimos disponibles","Nota: Los datos corresponden a 2013 pues son los últimos disponibles","Nota: Los datos corresponden a 2013 pues son los últimos disponibles","Nota: Los datos corresponden a 2013 pues son los últimos disponibles","Nota: Los datos corresponden a 2013 pues son los últimos disponibles","Nota: Los datos corresponden a 2013 pues son los últimos disponibles","Nota: Los datos corresponden a 2013 pues son los últimos disponibles","Nota: Los datos corresponden a 2013 pues son los últimos disponibles","Nota: Los datos corresponden a 2013 pues son los últimos disponibles","Nota: Los datos corresponden a 2013 pues son los últimos disponibles","Nota: Los datos corresponden a 2013 pues son los últimos disponibles","Nota: Los datos corresponden a 2013 pues son los últimos disponibles","Nota: Los datos corresponden a 2013 pues son los últimos disponibles","Nota: Los datos corresponden a 2013 pues son los últimos disponibles","Nota: Los datos corresponden a 2013 pues son los últimos disponibles","Nota: Los datos corresponden a 2013 pues son los últimos disponibles","Nota: Los datos corresponden a 2013 pues son los últimos disponibles","Nota: Los datos corresponden a 2013 pues son los últimos disponibles","Nota: Los datos corresponden a 2013 pues son los últimos disponibles","Nota: Los datos corresponden a 2013 pues son los últimos disponibles","Nota: Los datos corresponden a 2013 pues son los últimos disponibles","Nota: Los datos corresponden a 2013 pues son los últimos disponibles","Nota: Los datos corresponden a 2013 pues son los últimos disponibles","Nota: Los datos corresponden a 2013 pues son los últimos disponibles","Nota: Los datos corresponden a 2013 pues son los últimos disponibles","Nota: Los datos corresponden a 2013 pues son los últimos disponibles","Nota: Los datos corresponden a 2013 pues son los últimos disponibles","Nota: Los datos corresponden a 2013 pues son los últimos disponibles","Nota: Los datos corresponden a 2013 pues son los últimos disponibles","Nota: Los datos corresponden a 2013 pues son los últimos disponibles","Nota: Los datos corresponden a 2013 pues son los últimos disponibles","Nota: Los datos corresponden a 2013 pues son los últimos disponibles","Nota: Los datos corresponden a 2013 pues son los últimos disponibles","Nota: Los datos corresponden a 2013 pues son los últimos disponibles","Nota: Los datos corresponden a 2013 pues son los últimos disponibles","Nota: Los datos corresponden a 2013 pues son los últimos disponibles","Nota: Los datos corresponden a 2013 pues son los últimos disponibles","Nota: Los datos corresponden a 2013 pues son los últimos disponibles","Nota: Los datos corresponden a 2013 pues son los últimos disponibles","Nota: Los datos corresponden a 2013 pues son los últimos disponibles","Nota: Los datos corresponden a 2013 pues son los últimos disponibles","Nota: Los datos corresponden a 2013 pues son los últimos disponibles","Nota: Los datos corresponden a 2013 pues son los últimos disponibles","Nota: Los datos corresponden a 2013 pues son los últimos disponibles","Nota: Los datos corresponden a 2013 pues son los últimos disponibles","Nota: Los datos corresponden a 2013 pues son los últimos disponibles","Nota: Los datos corresponden a 2013 pues son los últimos disponibles","Nota: Los datos corresponden a 2013 pues son los últimos disponibles","Nota: Los datos corresponden a 2013 pues son los últimos disponibles","Nota: Los datos corresponden a 2013 pues son los últimos disponibles","Nota: Los datos corresponden a 2013 pues son los últimos disponibles","Nota: Los datos corresponden a 2013 pues son los últimos disponibles","Nota: Los datos corresponden a 2013 pues son los últimos disponibles","Nota: Los datos corresponden a 2013 pues son los últimos disponibles","Nota: Los datos corresponden a 2013 pues son los últimos disponibles","Nota: Los datos corresponden a 2013 pues son los últimos disponibles","Nota: Los datos corresponden a 2013 pues son los últimos disponibles","Nota: Los datos corresponden a 2013 pues son los últimos disponibles","Nota: Los datos corresponden a 2013 pues son los últimos disponibles","Nota: Los datos corresponden a 2013 pues son los últimos disponibles","Nota: Los datos corresponden a 2013 pues son los últimos disponibles","Nota: Los datos corresponden a 2013 pues son los últimos disponibles","Nota: Los datos corresponden a 2013 pues son los últimos disponibles","Nota: Los datos corresponden a 2013 pues son los últimos disponibles","Nota: Los datos corresponden a 2013 pues son los últimos disponibles","Nota: Los datos corresponden a 2013 pues son los últimos disponibles","Nota: Los datos corresponden a 2013 pues son los últimos disponibles","Nota: Los datos corresponden a 2013 pues son los últimos disponibles","Nota: Los datos corresponden a 2013 pues son los últimos disponibles","Nota: Los datos corresponden a 2013 pues son los últimos disponibles","Nota: Los datos corresponden a 2013 pues son los últimos disponibles","Nota: Los datos corresponden a 2013 pues son los últimos disponibles","Nota: Los datos corresponden a 2013 pues son los últimos disponibles","Nota: Los datos corresponden a 2013 pues son los últimos disponibles","Nota: Los datos corresponden a 2013 pues son los últimos disponibles","Nota: Los datos corresponden a 2013 pues son los últimos disponibles","Nota: Los datos corresponden a 2013 pues son los últimos disponibles","Nota: Los datos corresponden a 2013 pues son los últimos disponibles","Nota: Los datos corresponden a 2013 pues son los últimos disponibles","Nota: Los datos corresponden a 2013 pues son los últimos disponibles","Nota: Los datos corresponden a 2013 pues son los últimos disponibles","Nota: Los datos corresponden a 2013 pues son los últimos disponibles","Nota: Los datos corresponden a 2013 pues son los últimos disponibles","Nota: Los datos corresponden a 2013 pues son los últimos disponibles","Nota: Los datos corresponden a 2013 pues son los últimos disponibles","Nota: Los datos corresponden a 2013 pues son los últimos disponibles","Nota: Los datos corresponden a 2013 pues son los últimos disponibles","Nota: Los datos corresponden a 2013 pues son los últimos disponibles","Nota: Los datos corresponden a 2013 pues son los últimos disponibles","Nota: Los datos corresponden a 2013 pues son los últimos disponibles","Nota: Los datos corresponden a 2013 pues son los últimos disponibles","Nota: Los datos corresponden a 2013 pues son los últimos disponibles","Nota: Los datos corresponden a 2013 pues son los últimos disponibles","Nota: Los datos corresponden a 2013 pues son los últimos disponibles","Nota: Los datos corresponden a 2013 pues son los últimos disponibles","Nota: Los datos corresponden a 2013 pues son los últimos disponibles","Nota: Los datos corresponden a 2013 pues son los últimos disponibles","Nota: Los datos corresponden a 2013 pues son los últimos disponibles","Nota: Los datos corresponden a 2013 pues son los últimos disponibles","Nota: Los datos corresponden a 2013 pues son los últimos disponibles","Nota: Los datos corresponden a 2013 pues son los últimos disponibles","Nota: Los datos corresponden a 2013 pues son los últimos disponibles","Nota: Los datos corresponden a 2013 pues son los últimos disponibles","Nota: Los datos corresponden a 2013 pues son los últimos disponibles","Nota: Los datos corresponden a 2013 pues son los últimos disponibles","Nota: Los datos corresponden a 2013 pues son los últimos disponibles","Nota: Los datos corresponden a 2013 pues son los últimos disponibles","Nota: Los datos corresponden a 2013 pues son los últimos disponibles","Nota: Los datos corresponden a 2013 pues son los últimos disponibles","Nota: Los datos corresponden a 2013 pues son los últimos disponibles","Nota: Los datos corresponden a 2013 pues son los últimos disponibles","Nota: Los datos corresponden a 2013 pues son los últimos disponibles","Nota: Los datos corresponden a 2013 pues son los últimos disponibles","Nota: Los datos corresponden a 2013 pues son los últimos disponibles","Nota: Los datos corresponden a 2013 pues son los últimos disponibles","Nota: Los datos corresponden a 2013 pues son los últimos disponibles","Nota: Los datos corresponden a 2013 pues son los últimos disponibles","Nota: Los datos corresponden a 2013 pues son los últimos disponibles","Nota: Los datos corresponden a 2013 pues son los últimos disponibles","Nota: Los datos corresponden a 2013 pues son los últimos disponibles","Nota: Los datos corresponden a 2013 pues son los últimos disponibles","Nota: Los datos corresponden a 2013 pues son los últimos disponibles","Nota: Los datos corresponden a 2013 pues son los últimos disponibles","Nota: Los datos corresponden a 2013 pues son los últimos disponibles","Nota: Los datos corresponden a 2013 pues son los últimos disponibles","Nota: Los datos corresponden a 2013 pues son los últimos disponibles","Nota: Los datos corresponden a 2013 pues son los últimos disponibles","Nota: Los datos corresponden a 2013 pues son los últimos disponibles","Nota: Los datos corresponden a 2013 pues son los últimos disponibles","Nota: Los datos corresponden a 2013 pues son los últimos disponibles","Nota: Los datos corresponden a 2013 pues son los últimos disponibles","Nota: Los datos corresponden a 2013 pues son los últimos disponibles","Nota: Los datos corresponden a 2013 pues son los últimos disponibles","Nota: Los datos corresponden a 2013 pues son los últimos disponibles","Nota: Los datos corresponden a 2013 pues son los últimos disponibles","Nota: Los datos corresponden a 2013 pues son los últimos disponibles","Nota: Los datos corresponden a 2013 pues son los últimos disponibles","Nota: Los datos corresponden a 2013 pues son los últimos disponibles","Nota: Los datos corresponden a 2013 pues son los últimos disponibles","Nota: Los datos corresponden a 2013 pues son los últimos disponibles","Nota: Los datos corresponden a 2013 pues son los últimos disponibles","Nota: Los datos corresponden a 2013 pues son los últimos disponibles","Nota: Los datos corresponden a 2013 pues son los últimos disponibles","Nota: Los datos corresponden a 2013 pues son los últimos disponibles","Nota: Los datos corresponden a 2013 pues son los últimos disponibles","Nota: Los datos corresponden a 2013 pues son los últimos disponibles","Nota: Los datos corresponden a 2013 pues son los últimos disponibles","Nota: Los datos corresponden a 2013 pues son los últimos disponibles","Nota: Los datos corresponden a 2013 pues son los últimos disponibles","Nota: Los datos corresponden a 2013 pues son los últimos disponibles","Nota: Los datos corresponden a 2013 pues son los últimos disponibles","Nota: Los datos corresponden a 2013 pues son los últimos disponibles","Nota: Los datos corresponden a 2013 pues son los últimos disponibles","Nota: Los datos corresponden a 2013 pues son los últimos disponibles","Nota: Los datos corresponden a 2013 pues son los últimos disponibles","Nota: Los datos corresponden a 2013 pues son los últimos disponibles","Nota: Los datos corresponden a 2013 pues son los últimos disponibles","Nota: Los datos corresponden a 2013 pues son los últimos disponibles","Nota: Los datos corresponden a 2013 pues son los últimos disponibles","Nota: Los datos corresponden a 2013 pues son los últimos disponibles","Nota: Los datos corresponden a 2013 pues son los últimos disponibles","Nota: Los datos corresponden a 2013 pues son los últimos disponibles","Nota: Los datos corresponden a 2013 pues son los últimos disponibles","Nota: Los datos corresponden a 2013 pues son los últimos disponibles","Nota: Los datos corresponden a 2013 pues son los últimos disponibles","Nota: Los datos corresponden a 2013 pues son los últimos disponibles","Nota: Los datos corresponden a 2013 pues son los últimos disponibles","Nota: Los datos corresponden a 2013 pues son los últimos disponibles","Nota: Los datos corresponden a 2013 pues son los últimos disponibles","Nota: Los datos corresponden a 2013 pues son los últimos disponibles","Nota: Los datos corresponden a 2013 pues son los últimos disponibles","Nota: Los datos corresponden a 2013 pues son los últimos disponibles","Nota: Los datos corresponden a 2013 pues son los últimos disponibles","Nota: Los datos corresponden a 2013 pues son los últimos disponibles","Nota: Los datos corresponden a 2013 pues son los últimos disponibles","Nota: Los datos corresponden a 2013 pues son los últimos disponibles","Nota: Los datos corresponden a 2013 pues son los últimos disponibles","Nota: Los datos corresponden a 2013 pues son los últimos disponibles","Nota: Los datos corresponden a 2013 pues son los últimos disponibles","Nota: Los datos corresponden a 2013 pues son los últimos disponibles","Nota: Los datos corresponden a 2013 pues son los últimos disponibles","Nota: Los datos corresponden a 2013 pues son los últimos disponibles","Nota: Los datos corresponden a 2013 pues son los últimos disponibles","Nota: Los datos corresponden a 2013 pues son los últimos disponibles","Nota: Los datos corresponden a 2013 pues son los últimos disponibles","Nota: Los datos corresponden a 2013 pues son los últimos disponibles","Nota: Los datos corresponden a 2013 pues son los últimos disponibles","Nota: Los datos corresponden a 2013 pues son los últimos disponibles","Nota: Los datos corresponden a 2013 pues son los últimos disponibles","Nota: Los datos corresponden a 2013 pues son los últimos disponibles","Nota: Los datos corresponden a 2013 pues son los últimos disponibles","Nota: Los datos corresponden a 2013 pues son los últimos disponibles","Nota: Los datos corresponden a 2013 pues son los últimos disponibles","Nota: Los datos corresponden a 2013 pues son los últimos disponibles","Nota: Los datos corresponden a 2013 pues son los últimos disponibles","Nota: Los datos corresponden a 2013 pues son los últimos disponibles","Nota: Los datos corresponden a 2013 pues son los últimos disponibles","Nota: Los datos corresponden a 2013 pues son los últimos disponibles","Nota: Los datos corresponden a 2013 pues son los últimos disponibles","Nota: Los datos corresponden a 2013 pues son los últimos disponibles","Nota: Los datos corresponden a 2013 pues son los últimos disponibles","Nota: Los datos corresponden a 2013 pues son los últimos disponibles","Nota: Los datos corresponden a 2013 pues son los últimos disponibles","Nota: Los datos corresponden a 2013 pues son los últimos disponibles","Nota: Los datos corresponden a 2013 pues son los últimos disponibles","Nota: Los datos corresponden a 2013 pues son los últimos disponibles","Nota: Los datos corresponden a 2013 pues son los últimos disponibles","Nota: Los datos corresponden a 2013 pues son los últimos disponibles","Nota: Los datos corresponden a 2013 pues son los últimos disponibles","Nota: Los datos corresponden a 2013 pues son los últimos disponibles","Nota: Los datos corresponden a 2013 pues son los últimos disponibles","Nota: Los datos corresponden a 2013 pues son los últimos disponibles","Nota: Los datos corresponden a 2013 pues son los últimos disponibles","Nota: Los datos corresponden a 2013 pues son los últimos disponibles","Nota: Los datos corresponden a 2013 pues son los últimos disponibles","Nota: Los datos corresponden a 2013 pues son los últimos disponibles","Nota: Los datos corresponden a 2013 pues son los últimos disponibles","Nota: Los datos corresponden a 2013 pues son los últimos disponibles","Nota: Los datos corresponden a 2013 pues son los últimos disponibles","Nota: Los datos corresponden a 2013 pues son los últimos disponibles","Nota: Los datos corresponden a 2013 pues son los últimos disponibles","Nota: Los datos corresponden a 2013 pues son los últimos disponibles","Nota: Los datos corresponden a 2013 pues son los últimos disponibles","Nota: Los datos corresponden a 2013 pues son los últimos disponibles","Nota: Los datos corresponden a 2013 pues son los últimos disponibles","Nota: Los datos corresponden a 2013 pues son los últimos disponibles","Nota: Los datos corresponden a 2013 pues son los últimos disponibles","Nota: Los datos corresponden a 2013 pues son los últimos disponibles","Nota: Los datos corresponden a 2013 pues son los últimos disponibles","Nota: Los datos corresponden a 2013 pues son los últimos disponibles","Nota: Los datos corresponden a 2013 pues son los últimos disponibles","Nota: Los datos corresponden a 2013 pues son los últimos disponibles","Nota: Los datos corresponden a 2013 pues son los últimos disponibles","Nota: Los datos corresponden a 2013 pues son los últimos disponibles","Nota: Los datos corresponden a 2013 pues son los últimos disponibles","Nota: Los datos corresponden a 2013 pues son los últimos disponibles","Nota: Los datos corresponden a 2013 pues son los últimos disponibles","Nota: Los datos corresponden a 2013 pues son los últimos disponibles","Nota: Los datos corresponden a 2013 pues son los últimos disponibles","Nota: Los datos corresponden a 2013 pues son los últimos disponibles","Nota: Los datos corresponden a 2013 pues son los últimos disponibles","Nota: Los datos corresponden a 2013 pues son los últimos disponibles","Nota: Los datos corresponden a 2013 pues son los últimos disponibles","Nota: Los datos corresponden a 2013 pues son los últimos disponibles","Nota: Los datos corresponden a 2013 pues son los últimos disponibles","Nota: Los datos corresponden a 2013 pues son los últimos disponibles","Nota: Los datos corresponden a 2013 pues son los últimos disponibles","Nota: Los datos corresponden a 2013 pues son los últimos disponibles","Nota: Los datos corresponden a 2013 pues son los últimos disponibles","Nota: Los datos corresponden a 2013 pues son los últimos disponibles","Nota: Los datos corresponden a 2013 pues son los últimos disponibles","Nota: Los datos corresponden a 2013 pues son los últimos disponibles","Nota: Los datos corresponden a 2013 pues son los últimos disponibles","Nota: Los datos corresponden a 2013 pues son los últimos disponibles","Nota: Los datos corresponden a 2013 pues son los últimos disponibles","Nota: Los datos corresponden a 2013 pues son los últimos disponibles","Nota: Los datos corresponden a 2013 pues son los últimos disponibles","Nota: Los datos corresponden a 2013 pues son los últimos disponibles","Nota: Los datos corresponden a 2013 pues son los últimos disponibles","Nota: Los datos corresponden a 2013 pues son los últimos disponibles","Nota: Los datos corresponden a 2013 pues son los últimos disponibles","Nota: Los datos corresponden a 2013 pues son los últimos disponibles","Nota: Los datos corresponden a 2013 pues son los últimos disponibles","Nota: Los datos corresponden a 2013 pues son los últimos disponibles","Nota: Los datos corresponden a 2013 pues son los últimos disponibles","Nota: Los datos corresponden a 2013 pues son los últimos disponibles","Nota: Los datos corresponden a 2013 pues son los últimos disponibles","Nota: Los datos corresponden a 2013 pues son los últimos disponibles","Nota: Los datos corresponden a 2013 pues son los últimos disponibles","Nota: Los datos corresponden a 2013 pues son los últimos disponibles","Nota: Los datos corresponden a 2013 pues son los últimos disponibles","Nota: Los datos corresponden a 2013 pues son los últimos disponibles","Nota: Los datos corresponden a 2013 pues son los últimos disponibles","Nota: Los datos corresponden a 2013 pues son los últimos disponibles","Nota: Los datos corresponden a 2013 pues son los últimos disponibles","Nota: Los datos corresponden a 2013 pues son los últimos disponibles","Nota: Los datos corresponden a 2013 pues son los últimos disponibles","Nota: Los datos corresponden a 2013 pues son los últimos disponibles","Nota: Los datos corresponden a 2013 pues son los últimos disponibles","Nota: Los datos corresponden a 2013 pues son los últimos disponibles","Nota: Los datos corresponden a 2013 pues son los últimos disponibles","Nota: Los datos corresponden a 2013 pues son los últimos disponibles","Nota: Los datos corresponden a 2013 pues son los últimos disponibles","Nota: Los datos corresponden a 2013 pues son los últimos disponibles","Nota: Los datos corresponden a 2013 pues son los últimos disponibles","Nota: Los datos corresponden a 2013 pues son los últimos disponibles","Nota: Los datos corresponden a 2013 pues son los últimos disponibles","Nota: Los datos corresponden a 2013 pues son los últimos disponibles","Nota: Los datos corresponden a 2013 pues son los últimos disponibles","Nota: Los datos corresponden a 2013 pues son los últimos disponibles","Nota: Los datos corresponden a 2013 pues son los últimos disponibles","Nota: Los datos corresponden a 2013 pues son los últimos disponibles","Nota: Los datos corresponden a 2013 pues son los últimos disponibles","Nota: Los datos corresponden a 2013 pues son los últimos disponibles","Nota: Los datos corresponden a 2013 pues son los últimos disponibles","Nota: Los datos corresponden a 2013 pues son los últimos disponibles","Nota: Los datos corresponden a 2013 pues son los últimos disponibles","Nota: Los datos corresponden a 2013 pues son los últimos disponibles","Nota: Los datos corresponden a 2013 pues son los últimos disponibles","Nota: Los datos corresponden a 2013 pues son los últimos disponibles","Nota: Los datos corresponden a 2013 pues son los últimos disponibles","Nota: Los datos corresponden a 2013 pues son los últimos disponibles","Nota: Los datos corresponden a 2013 pues son los últimos disponibles","Nota: Los datos corresponden a 2013 pues son los últimos disponibles","Nota: Los datos corresponden a 2013 pues son los últimos disponibles","Nota: Los datos corresponden a 2013 pues son los últimos disponibles","Nota: Los datos corresponden a 2013 pues son los últimos disponibles","Nota: Los datos corresponden a 2013 pues son los últimos disponibles","Nota: Los datos corresponden a 2013 pues son los últimos disponibles","Nota: Los datos corresponden a 2013 pues son los últimos disponibles","Nota: Los datos corresponden a 2013 pues son los últimos disponibles","Nota: Los datos corresponden a 2013 pues son los últimos disponibles","Nota: Los datos corresponden a 2013 pues son los últimos disponibles","Nota: Los datos corresponden a 2013 pues son los últimos disponibles","Nota: Los datos corresponden a 2013 pues son los últimos disponibles","Nota: Los datos corresponden a 2013 pues son los últimos disponibles","Nota: Los datos corresponden a 2013 pues son los últimos disponibles","Nota: Los datos corresponden a 2013 pues son los últimos disponibles","Nota: Los datos corresponden a 2013 pues son los últimos disponibles","Nota: Los datos corresponden a 2013 pues son los últimos disponibles","Nota: Los datos corresponden a 2013 pues son los últimos disponibles","Nota: Los datos corresponden a 2013 pues son los últimos disponibles","Nota: Los datos corresponden a 2013 pues son los últimos disponibles","Nota: Los datos corresponden a 2013 pues son los últimos disponibles","Nota: Los datos corresponden a 2013 pues son los últimos disponibles","Nota: Los datos corresponden a 2013 pues son los últimos disponibles","Nota: Los datos corresponden a 2013 pues son los últimos disponibles","Nota: Los datos corresponden a 2013 pues son los últimos disponibles","Nota: Los datos corresponden a 2013 pues son los últimos disponibles","Nota: Los datos corresponden a 2013 pues son los últimos disponibles","Nota: Los datos corresponden a 2013 pues son los últimos disponibles","Nota: Los datos corresponden a 2013 pues son los últimos disponibles","Nota: Los datos corresponden a 2013 pues son los últimos disponibles","Nota: Los datos corresponden a 2013 pues son los últimos disponibles","Nota: Los datos corresponden a 2013 pues son los últimos disponibles","Nota: Los datos corresponden a 2013 pues son los últimos disponibles","Nota: Los datos corresponden a 2013 pues son los últimos disponibles","Nota: Los datos corresponden a 2013 pues son los últimos disponibles","Nota: Los datos corresponden a 2013 pues son los últimos disponibles","Nota: Los datos corresponden a 2013 pues son los últimos disponibles","Nota: Los datos corresponden a 2013 pues son los últimos disponibles","Nota: Los datos corresponden a 2013 pues son los últimos disponibles","Nota: Los datos corresponden a 2013 pues son los últimos disponibles","Nota: Los datos corresponden a 2013 pues son los últimos disponibles","Nota: Los datos corresponden a 2013 pues son los últimos disponibles","Nota: Los datos corresponden a 2013 pues son los últimos disponibles","Nota: Los datos corresponden a 2013 pues son los últimos disponibles","Nota: Los datos corresponden a 2013 pues son los últimos disponibles","Nota: Los datos corresponden a 2013 pues son los últimos disponibles","Nota: Los datos corresponden a 2013 pues son los últimos disponibles","Nota: Los datos corresponden a 2013 pues son los últimos disponibles","Nota: Los datos corresponden a 2013 pues son los últimos disponibles","Nota: Los datos corresponden a 2013 pues son los últimos disponibles","Nota: Los datos corresponden a 2013 pues son los últimos disponibles","Nota: Los datos corresponden a 2013 pues son los últimos disponibles","Nota: Los datos corresponden a 2013 pues son los últimos disponibles","Nota: Los datos corresponden a 2013 pues son los últimos disponibles","Nota: Los datos corresponden a 2013 pues son los últimos disponibles","Nota: Los datos corresponden a 2013 pues son los últimos disponibles","Nota: Los datos corresponden a 2013 pues son los últimos disponibles","Nota: Los datos corresponden a 2013 pues son los últimos disponibles","Nota: Los datos corresponden a 2013 pues son los últimos disponibles","Nota: Los datos corresponden a 2013 pues son los últimos disponibles","Nota: Los datos corresponden a 2013 pues son los últimos disponibles","Nota: Los datos corresponden a 2013 pues son los últimos disponibles","Nota: Los datos corresponden a 2013 pues son los últimos disponibles","Nota: Los datos corresponden a 2013 pues son los últimos disponibles","Nota: Los datos corresponden a 2013 pues son los últimos disponibles","Nota: Los datos corresponden a 2013 pues son los últimos disponibles","Nota: Los datos corresponden a 2013 pues son los últimos disponibles","Nota: Los datos corresponden a 2013 pues son los últimos disponibles","Nota: Los datos corresponden a 2013 pues son los últimos disponibles","Nota: Los datos corresponden a 2013 pues son los últimos disponibles","Nota: Los datos corresponden a 2013 pues son los últimos disponibles","Nota: Los datos corresponden a 2013 pues son los últimos disponibles","Nota: Los datos corresponden a 2013 pues son los últimos disponibles","Nota: Los datos corresponden a 2013 pues son los últimos disponibles","Nota: Los datos corresponden a 2013 pues son los últimos disponibles","Nota: Los datos corresponden a 2013 pues son los últimos disponibles","Nota: Los datos corresponden a 2013 pues son los últimos disponibles","Nota: Los datos corresponden a 2013 pues son los últimos disponibles","Nota: Los datos corresponden a 2013 pues son los últimos disponibles","Nota: Los datos corresponden a 2013 pues son los últimos disponibles","Nota: Los datos corresponden a 2013 pues son los últimos disponibles","Nota: Los datos corresponden a 2013 pues son los últimos disponibles","Nota: Los datos corresponden a 2013 pues son los últimos disponibles","Nota: Los datos corresponden a 2013 pues son los últimos disponibles","Nota: Los datos corresponden a 2013 pues son los últimos disponibles","Nota: Los datos corresponden a 2013 pues son los últimos disponibles","Nota: Los datos corresponden a 2013 pues son los últimos disponibles","Nota: Los datos corresponden a 2013 pues son los últimos disponibles","Nota: Los datos corresponden a 2013 pues son los últimos disponibles","Nota: Los datos corresponden a 2013 pues son los últimos disponibles","Nota: Los datos corresponden a 2013 pues son los últimos disponibles","Nota: Los datos corresponden a 2013 pues son los últimos disponibles","Nota: Los datos corresponden a 2013 pues son los últimos disponibles","Nota: Los datos corresponden a 2013 pues son los últimos disponibles","Nota: Los datos corresponden a 2013 pues son los últimos disponibles","Nota: Los datos corresponden a 2013 pues son los últimos disponibles","Nota: Los datos corresponden a 2013 pues son los últimos disponibles","Nota: Los datos corresponden a 2013 pues son los últimos disponibles","Nota: Los datos corresponden a 2013 pues son los últimos disponibles","Nota: Los datos corresponden a 2013 pues son los últimos disponibles","Nota: Los datos corresponden a 2013 pues son los últimos disponibles","Nota: Los datos corresponden a 2013 pues son los últimos disponibles","Nota: Los datos corresponden a 2013 pues son los últimos disponibles","Nota: Los datos corresponden a 2013 pues son los últimos disponibles","Nota: Los datos corresponden a 2013 pues son los últimos disponibles","Nota: Los datos corresponden a 2013 pues son los últimos disponibles","Nota: Los datos corresponden a 2013 pues son los últimos disponibles","Nota: Los datos corresponden a 2013 pues son los últimos disponibles","Nota: Los datos corresponden a 2013 pues son los últimos disponibles","Nota: Los datos corresponden a 2013 pues son los últimos disponibles","Nota: Los datos corresponden a 2013 pues son los últimos disponibles","Nota: Los datos corresponden a 2013 pues son los últimos disponibles","Nota: Los datos corresponden a 2013 pues son los últimos disponibles","Nota: Los datos corresponden a 2013 pues son los últimos disponibles","Nota: Los datos corresponden a 2013 pues son los últimos disponibles","Nota: Los datos corresponden a 2013 pues son los últimos disponibles","Nota: Los datos corresponden a 2013 pues son los últimos disponibles","Nota: Los datos corresponden a 2013 pues son los últimos disponibles","Nota: Los datos corresponden a 2013 pues son los últimos disponibles","Nota: Los datos corresponden a 2013 pues son los últimos disponibles","Nota: Los datos corresponden a 2013 pues son los últimos disponibles","Nota: Los datos corresponden a 2013 pues son los últimos disponibles","Nota: Los datos corresponden a 2013 pues son los últimos disponibles","Nota: Los datos corresponden a 2013 pues son los últimos disponibles","Nota: Los datos corresponden a 2013 pues son los últimos disponibles","Nota: Los datos corresponden a 2013 pues son los últimos disponibles","Nota: Los datos corresponden a 2013 pues son los últimos disponibles","Nota: Los datos corresponden a 2013 pues son los últimos disponibles","Nota: Los datos corresponden a 2013 pues son los últimos disponibles","Nota: Los datos corresponden a 2013 pues son los últimos disponibles","Nota: Los datos corresponden a 2013 pues son los últimos disponibles","Nota: Los datos corresponden a 2013 pues son los últimos disponibles","Nota: Los datos corresponden a 2013 pues son los últimos disponibles","Nota: Los datos corresponden a 2013 pues son los últimos disponibles","Nota: Los datos corresponden a 2013 pues son los últimos disponibles","Nota: Los datos corresponden a 2013 pues son los últimos disponibles","Nota: Los datos corresponden a 2013 pues son los últimos disponibles","Nota: Los datos corresponden a 2013 pues son los últimos disponibles","Nota: Los datos corresponden a 2013 pues son los últimos disponibles","Nota: Los datos corresponden a 2013 pues son los últimos disponibles","Nota: Los datos corresponden a 2013 pues son los últimos disponibles","Nota: Los datos corresponden a 2013 pues son los últimos disponibles","Nota: Los datos corresponden a 2013 pues son los últimos disponibles","Nota: Los datos corresponden a 2013 pues son los últimos disponibles","Nota: Los datos corresponden a 2013 pues son los últimos disponibles","Nota: Los datos corresponden a 2013 pues son los últimos disponibles","Nota: Los datos corresponden a 2013 pues son los últimos disponibles","Nota: Los datos corresponden a 2013 pues son los últimos disponibles","Nota: Los datos corresponden a 2013 pues son los últimos disponibles","Nota: Los datos corresponden a 2013 pues son los últimos disponibles","Nota: Los datos corresponden a 2013 pues son los últimos disponibles","Nota: Los datos corresponden a 2013 pues son los últimos disponibles","Nota: Los datos corresponden a 2013 pues son los últimos disponibles","Nota: Los datos corresponden a 2013 pues son los últimos disponibles","Nota: Los datos corresponden a 2013 pues son los últimos disponibles","Nota: Los datos corresponden a 2013 pues son los últimos disponibles","Nota: Los datos corresponden a 2013 pues son los últimos disponibles","Nota: Los datos corresponden a 2013 pues son los últimos disponibles","Nota: Los datos corresponden a 2013 pues son los últimos disponibles","Nota: Los datos corresponden a 2013 pues son los últimos disponibles","Nota: Los datos corresponden a 2013 pues son los últimos disponibles","Nota: Los datos corresponden a 2013 pues son los últimos disponibles","Nota: Los datos corresponden a 2013 pues son los últimos disponibles","Nota: Los datos corresponden a 2013 pues son los últimos disponibles","Nota: Los datos corresponden a 2013 pues son los últimos disponibles","Nota: Los datos corresponden a 2013 pues son los últimos disponibles","Nota: Los datos corresponden a 2013 pues son los últimos disponibles","Nota: Los datos corresponden a 2013 pues son los últimos disponibles","Nota: Los datos corresponden a 2013 pues son los últimos disponibles","Nota: Los datos corresponden a 2013 pues son los últimos disponibles","Nota: Los datos corresponden a 2013 pues son los últimos disponibles","Nota: Los datos corresponden a 2013 pues son los últimos disponibles","Nota: Los datos corresponden a 2013 pues son los últimos disponibles","Nota: Los datos corresponden a 2013 pues son los últimos disponibles","Nota: Los datos corresponden a 2013 pues son los últimos disponibles","Nota: Los datos corresponden a 2013 pues son los últimos disponibles","Nota: Los datos corresponden a 2013 pues son los últimos disponibles","Nota: Los datos corresponden a 2013 pues son los últimos disponibles","Nota: Los datos corresponden a 2013 pues son los últimos disponibles","Nota: Los datos corresponden a 2013 pues son los últimos disponibles","Nota: Los datos corresponden a 2013 pues son los últimos disponibles","Nota: Los datos corresponden a 2013 pues son los últimos disponibles","Nota: Los datos corresponden a 2013 pues son los últimos disponibles","Nota: Los datos corresponden a 2013 pues son los últimos disponibles","Nota: Los datos corresponden a 2013 pues son los últimos disponibles","Nota: Los datos corresponden a 2013 pues son los últimos disponibles","Nota: Los datos corresponden a 2013 pues son los últimos disponibles","Nota: Los datos corresponden a 2013 pues son los últimos disponibles","Nota: Los datos corresponden a 2013 pues son los últimos disponibles","Nota: Los datos corresponden a 2013 pues son los últimos disponibles","Nota: Los datos corresponden a 2013 pues son los últimos disponibles","Nota: Los datos corresponden a 2013 pues son los últimos disponibles","Nota: Los datos corresponden a 2013 pues son los últimos disponibles","Nota: Los datos corresponden a 2013 pues son los últimos disponibles","Nota: Los datos corresponden a 2013 pues son los últimos disponibles","Nota: Los datos corresponden a 2013 pues son los últimos disponibles","Nota: Los datos corresponden a 2013 pues son los últimos disponibles","Nota: Los datos corresponden a 2013 pues son los últimos disponibles","Nota: Los datos corresponden a 2013 pues son los últimos disponibles","Nota: Los datos corresponden a 2013 pues son los últimos disponibles","Nota: Los datos corresponden a 2013 pues son los últimos disponibles","Nota: Los datos corresponden a 2013 pues son los últimos disponibles","Nota: Los datos corresponden a 2013 pues son los últimos disponibles","Nota: Los datos corresponden a 2013 pues son los últimos disponibles","Nota: Los datos corresponden a 2013 pues son los últimos disponibles","Nota: Los datos corresponden a 2013 pues son los últimos disponibles","Nota: Los datos corresponden a 2013 pues son los últimos disponibles","Nota: Los datos corresponden a 2013 pues son los últimos disponibles","Nota: Los datos corresponden a 2013 pues son los últimos disponibles","Nota: Los datos corresponden a 2013 pues son los últimos disponibles","Nota: Los datos corresponden a 2013 pues son los últimos disponibles","Nota: Los datos corresponden a 2013 pues son los últimos disponibles","Nota: Los datos corresponden a 2013 pues son los últimos disponibles","Nota: Los datos corresponden a 2013 pues son los últimos disponibles","Nota: Los datos corresponden a 2013 pues son los últimos disponibles","Nota: Los datos corresponden a 2013 pues son los últimos disponibles","Nota: Los datos corresponden a 2013 pues son los últimos disponibles","Nota: Los datos corresponden a 2013 pues son los últimos disponibles","Nota: Los datos corresponden a 2013 pues son los últimos disponibles","Nota: Los datos corresponden a 2013 pues son los últimos disponibles","Nota: Los datos corresponden a 2013 pues son los últimos disponibles","Nota: Los datos corresponden a 2013 pues son los últimos disponibles","Nota: Los datos corresponden a 2013 pues son los últimos disponibles","Nota: Los datos corresponden a 2013 pues son los últimos disponibles","Nota: Los datos corresponden a 2013 pues son los últimos disponibles","Nota: Los datos corresponden a 2013 pues son los últimos disponibles","Nota: Los datos corresponden a 2013 pues son los últimos disponibles","Nota: Los datos corresponden a 2013 pues son los últimos disponibles","Nota: Los datos corresponden a 2013 pues son los últimos disponibles","Nota: Los datos corresponden a 2013 pues son los últimos disponibles","Nota: Los datos corresponden a 2013 pues son los últimos disponibles","Nota: Los datos corresponden a 2013 pues son los últimos disponibles","Nota: Los datos corresponden a 2013 pues son los últimos disponibles","Nota: Los datos corresponden a 2013 pues son los últimos disponibles","Nota: Los datos corresponden a 2013 pues son los últimos disponibles","Nota: Los datos corresponden a 2013 pues son los últimos disponibles","Nota: Los datos corresponden a 2013 pues son los últimos disponibles","Nota: Los datos corresponden a 2013 pues son los últimos disponibles","Nota: Los datos corresponden a 2013 pues son los últimos disponibles","Nota: Los datos corresponden a 2013 pues son los últimos disponibles","Nota: Los datos corresponden a 2013 pues son los últimos disponibles","Nota: Los datos corresponden a 2013 pues son los últimos disponibles","Nota: Los datos corresponden a 2013 pues son los últimos disponibles","Nota: Los datos corresponden a 2013 pues son los últimos disponibles","Nota: Los datos corresponden a 2013 pues son los últimos disponibles","Nota: Los datos corresponden a 2013 pues son los últimos disponibles","Nota: Los datos corresponden a 2013 pues son los últimos disponibles","Nota: Los datos corresponden a 2013 pues son los últimos disponibles","Nota: Los datos corresponden a 2013 pues son los últimos disponibles","Nota: Los datos corresponden a 2013 pues son los últimos disponibles","Nota: Los datos corresponden a 2013 pues son los últimos disponibles","Nota: Los datos corresponden a 2013 pues son los últimos disponibles","Nota: Los datos corresponden a 2013 pues son los últimos disponibles","Nota: Los datos corresponden a 2013 pues son los últimos disponibles","Nota: Los datos corresponden a 2013 pues son los últimos disponibles","Nota: Los datos corresponden a 2013 pues son los últimos disponibles","Nota: Los datos corresponden a 2013 pues son los últimos disponibles","Nota: Los datos corresponden a 2013 pues son los últimos disponibles","Nota: Los datos corresponden a 2013 pues son los últimos disponibles","Nota: Los datos corresponden a 2013 pues son los últimos disponibles","Nota: Los datos corresponden a 2013 pues son los últimos disponibles","Nota: Los datos corresponden a 2013 pues son los últimos disponibles","Nota: Los datos corresponden a 2013 pues son los últimos disponibles","Nota: Los datos corresponden a 2013 pues son los últimos disponibles","Nota: Los datos corresponden a 2013 pues son los últimos disponibles","Nota: Los datos corresponden a 2013 pues son los últimos disponibles","Nota: Los datos corresponden a 2013 pues son los últimos disponibles","Nota: Los datos corresponden a 2013 pues son los últimos disponibles","Nota: Los datos corresponden a 2013 pues son los últimos disponibles","Nota: Los datos corresponden a 2013 pues son los últimos disponibles","Nota: Los datos corresponden a 2013 pues son los últimos disponibles","Nota: Los datos corresponden a 2013 pues son los últimos disponibles","Nota: Los datos corresponden a 2013 pues son los últimos disponibles","Nota: Los datos corresponden a 2013 pues son los últimos disponibles","Nota: Los datos corresponden a 2013 pues son los últimos disponibles","Nota: Los datos corresponden a 2013 pues son los últimos disponibles","Nota: Los datos corresponden a 2013 pues son los últimos disponibles","Nota: Los datos corresponden a 2013 pues son los últimos disponibles","Nota: Los datos corresponden a 2013 pues son los últimos disponibles","Nota: Los datos corresponden a 2013 pues son los últimos disponibles","Nota: Los datos corresponden a 2013 pues son los últimos disponibles","Nota: Los datos corresponden a 2013 pues son los últimos disponibles","Nota: Los datos corresponden a 2013 pues son los últimos disponibles","Nota: Los datos corresponden a 2013 pues son los últimos disponibles","Nota: Los datos corresponden a 2013 pues son los últimos disponibles","Nota: Los datos corresponden a 2013 pues son los últimos disponibles","Nota: Los datos corresponden a 2013 pues son los últimos disponibles","Nota: Los datos corresponden a 2013 pues son los últimos disponibles","Nota: Los datos corresponden a 2013 pues son los últimos disponibles","Nota: Los datos corresponden a 2013 pues son los últimos disponibles","Nota: Los datos corresponden a 2013 pues son los últimos disponibles","Nota: Los datos corresponden a 2013 pues son los últimos disponibles","Nota: Los datos corresponden a 2013 pues son los últimos disponibles","Nota: Los datos corresponden a 2013 pues son los últimos disponibles","Nota: Los datos corresponden a 2013 pues son los últimos disponibles","Nota: Los datos corresponden a 2013 pues son los últimos disponibles","Nota: Los datos corresponden a 2013 pues son los últimos disponibles","Nota: Los datos corresponden a 2013 pues son los últimos disponibles","Nota: Los datos corresponden a 2013 pues son los últimos disponibles","Nota: Los datos corresponden a 2013 pues son los últimos disponibles","Nota: Los datos corresponden a 2013 pues son los últimos disponibles","Nota: Los datos corresponden a 2013 pues son los últimos disponibles","Nota: Los datos corresponden a 2013 pues son los últimos disponibles","Nota: Los datos corresponden a 2013 pues son los últimos disponibles","Nota: Los datos corresponden a 2013 pues son los últimos disponibles","Nota: Los datos corresponden a 2013 pues son los últimos disponibles","Nota: Los datos corresponden a 2013 pues son los últimos disponibles","Nota: Los datos corresponden a 2013 pues son los últimos disponibles","Nota: Los datos corresponden a 2013 pues son los últimos disponibles","Nota: Los datos corresponden a 2013 pues son los últimos disponibles","Nota: Los datos corresponden a 2013 pues son los últimos disponibles","Nota: Los datos corresponden a 2013 pues son los últimos disponibles","Nota: Los datos corresponden a 2013 pues son los últimos disponibles","Nota: Los datos corresponden a 2013 pues son los últimos disponibles","Nota: Los datos corresponden a 2013 pues son los últimos disponibles","Nota: Los datos corresponden a 2013 pues son los últimos disponibles","Nota: Los datos corresponden a 2013 pues son los últimos disponibles","Nota: Los datos corresponden a 2013 pues son los últimos disponibles","Nota: Los datos corresponden a 2013 pues son los últimos disponibles","Nota: Los datos corresponden a 2013 pues son los últimos disponibles","Nota: Los datos corresponden a 2013 pues son los últimos disponibles","Nota: Los datos corresponden a 2013 pues son los últimos disponibles","Nota: Los datos corresponden a 2013 pues son los últimos disponibles","Nota: Los datos corresponden a 2013 pues son los últimos disponibles","Nota: Los datos corresponden a 2013 pues son los últimos disponibles","Nota: Los datos corresponden a 2013 pues son los últimos disponibles","Nota: Los datos corresponden a 2013 pues son los últimos disponibles","Nota: Los datos corresponden a 2013 pues son los últimos disponibles","Nota: Los datos corresponden a 2013 pues son los últimos disponibles","Nota: Los datos corresponden a 2013 pues son los últimos disponibles","Nota: Los datos corresponden a 2013 pues son los últimos disponibles","Nota: Los datos corresponden a 2013 pues son los últimos disponibles","Nota: Los datos corresponden a 2013 pues son los últimos disponibles","Nota: Los datos corresponden a 2013 pues son los últimos disponibles","Nota: Los datos corresponden a 2013 pues son los últimos disponibles","Nota: Los datos corresponden a 2013 pues son los últimos disponibles","Nota: Los datos corresponden a 2013 pues son los últimos disponibles","Nota: Los datos corresponden a 2013 pues son los últimos disponibles","Nota: Los datos corresponden a 2013 pues son los últimos disponibles","Nota: Los datos corresponden a 2013 pues son los últimos disponibles","Nota: Los datos corresponden a 2013 pues son los últimos disponibles","Nota: Los datos corresponden a 2013 pues son los últimos disponibles","Nota: Los datos corresponden a 2013 pues son los últimos disponibles","Nota: Los datos corresponden a 2013 pues son los últimos disponibles","Nota: Los datos corresponden a 2013 pues son los últimos disponibles","Nota: Los datos corresponden a 2013 pues son los últimos disponibles","Nota: Los datos corresponden a 2013 pues son los últimos disponibles","Nota: Los datos corresponden a 2013 pues son los últimos disponibles","Nota: Los datos corresponden a 2013 pues son los últimos disponibles","Nota: Los datos corresponden a 2013 pues son los últimos disponibles","Nota: Los datos corresponden a 2013 pues son los últimos disponibles","Nota: Los datos corresponden a 2013 pues son los últimos disponibles","Nota: Los datos corresponden a 2013 pues son los últimos disponibles","Nota: Los datos corresponden a 2013 pues son los últimos disponibles","Nota: Los datos corresponden a 2013 pues son los últimos disponibles","Nota: Los datos corresponden a 2013 pues son los últimos disponibles","Nota: Los datos corresponden a 2013 pues son los últimos disponibles","Nota: Los datos corresponden a 2013 pues son los últimos disponibles","Nota: Los datos corresponden a 2013 pues son los últimos disponibles","Nota: Los datos corresponden a 2013 pues son los últimos disponibles","Nota: Los datos corresponden a 2013 pues son los últimos disponibles","Nota: Los datos corresponden a 2013 pues son los últimos disponibles","Nota: Los datos corresponden a 2013 pues son los últimos disponibles","Nota: Los datos corresponden a 2013 pues son los últimos disponibles","Nota: Los datos corresponden a 2013 pues son los últimos disponibles","Nota: Los datos corresponden a 2013 pues son los últimos disponibles","Nota: Los datos corresponden a 2013 pues son los últimos disponibles","Nota: Los datos corresponden a 2013 pues son los últimos disponibles","Nota: Los datos corresponden a 2013 pues son los últimos disponibles","Nota: Los datos corresponden a 2013 pues son los últimos disponibles","Nota: Los datos corresponden a 2013 pues son los últimos disponibles","Nota: Los datos corresponden a 2013 pues son los últimos disponibles","Nota: Los datos corresponden a 2013 pues son los últimos disponibles","Nota: Los datos corresponden a 2013 pues son los últimos disponibles","Nota: Los datos corresponden a 2013 pues son los últimos disponibles","Nota: Los datos corresponden a 2013 pues son los últimos disponibles","Nota: Los datos corresponden a 2013 pues son los últimos disponibles","Nota: Los datos corresponden a 2013 pues son los últimos disponibles","Nota: Los datos corresponden a 2013 pues son los últimos disponibles","Nota: Los datos corresponden a 2013 pues son los últimos disponibles","Nota: Los datos corresponden a 2013 pues son los últimos disponibles","Nota: Los datos corresponden a 2013 pues son los últimos disponibles","Nota: Los datos corresponden a 2013 pues son los últimos disponibles","Nota: Los datos corresponden a 2013 pues son los últimos disponibles","Nota: Los datos corresponden a 2013 pues son los últimos disponibles","Nota: Los datos corresponden a 2013 pues son los últimos disponibles","Nota: Los datos corresponden a 2013 pues son los últimos disponibles","Nota: Los datos corresponden a 2013 pues son los últimos disponibles","Nota: Los datos corresponden a 2013 pues son los últimos disponibles","Nota: Los datos corresponden a 2013 pues son los últimos disponibles","Nota: Los datos corresponden a 2013 pues son los últimos disponibles","Nota: Los datos corresponden a 2013 pues son los últimos disponibles","Nota: Los datos corresponden a 2013 pues son los últimos disponibles","Nota: Los datos corresponden a 2013 pues son los últimos disponibles","Nota: Los datos corresponden a 2013 pues son los últimos disponibles","Nota: Los datos corresponden a 2013 pues son los últimos disponibles","Nota: Los datos corresponden a 2013 pues son los últimos disponibles","Nota: Los datos corresponden a 2013 pues son los últimos disponibles","Nota: Los datos corresponden a 2013 pues son los últimos disponibles","Nota: Los datos corresponden a 2013 pues son los últimos disponibles","Nota: Los datos corresponden a 2013 pues son los últimos disponibles","Nota: Los datos corresponden a 2013 pues son los últimos disponibles","Nota: Los datos corresponden a 2013 pues son los últimos disponibles","Nota: Los datos corresponden a 2013 pues son los últimos disponibles","Nota: Los datos corresponden a 2013 pues son los últimos disponibles","Nota: Los datos corresponden a 2013 pues son los últimos disponibles","Nota: Los datos corresponden a 2013 pues son los últimos disponibles","Nota: Los datos corresponden a 2013 pues son los últimos disponibles","Nota: Los datos corresponden a 2013 pues son los últimos disponibles","Nota: Los datos corresponden a 2013 pues son los últimos disponibles","Nota: Los datos corresponden a 2013 pues son los últimos disponibles","Nota: Los datos corresponden a 2013 pues son los últimos disponibles","Nota: Los datos corresponden a 2013 pues son los últimos disponibles","Nota: Los datos corresponden a 2013 pues son los últimos disponibles","Nota: Los datos corresponden a 2013 pues son los últimos disponibles","Nota: Los datos corresponden a 2013 pues son los últimos disponibles","Nota: Los datos corresponden a 2013 pues son los últimos disponibles","Nota: Los datos corresponden a 2013 pues son los últimos disponibles","Nota: Los datos corresponden a 2013 pues son los últimos disponibles","Nota: Los datos corresponden a 2013 pues son los últimos disponibles","Nota: Los datos corresponden a 2013 pues son los últimos disponibles","Nota: Los datos corresponden a 2013 pues son los últimos disponibles","Nota: Los datos corresponden a 2013 pues son los últimos disponibles","Nota: Los datos corresponden a 2013 pues son los últimos disponibles","Nota: Los datos corresponden a 2013 pues son los últimos disponibles","Nota: Los datos corresponden a 2013 pues son los últimos disponibles","Nota: Los datos corresponden a 2013 pues son los últimos disponibles","Nota: Los datos corresponden a 2013 pues son los últimos disponibles","Nota: Los datos corresponden a 2013 pues son los últimos disponibles","Nota: Los datos corresponden a 2013 pues son los últimos disponibles","Nota: Los datos corresponden a 2013 pues son los últimos disponibles","Nota: Los datos corresponden a 2013 pues son los últimos disponibles","Nota: Los datos corresponden a 2013 pues son los últimos disponibles","Nota: Los datos corresponden a 2013 pues son los últimos disponibles","Nota: Los datos corresponden a 2013 pues son los últimos disponibles","Nota: Los datos corresponden a 2013 pues son los últimos disponibles","Nota: Los datos corresponden a 2013 pues son los últimos disponibles","Nota: Los datos corresponden a 2013 pues son los últimos disponibles","Nota: Los datos corresponden a 2013 pues son los últimos disponibles","Nota: Los datos corresponden a 2013 pues son los últimos disponibles","Nota: Los datos corresponden a 2013 pues son los últimos disponibles","Nota: Los datos corresponden a 2013 pues son los últimos disponibles","Nota: Los datos corresponden a 2013 pues son los últimos disponibles","Nota: Los datos corresponden a 2013 pues son los últimos disponibles","Nota: Los datos corresponden a 2013 pues son los últimos disponibles","Nota: Los datos corresponden a 2013 pues son los últimos disponibles","Nota: Los datos corresponden a 2013 pues son los últimos disponibles","Nota: Los datos corresponden a 2013 pues son los últimos disponibles","Nota: Los datos corresponden a 2013 pues son los últimos disponibles","Nota: Los datos corresponden a 2013 pues son los últimos disponibles","Nota: Los datos corresponden a 2013 pues son los últimos disponibles","Nota: Los datos corresponden a 2013 pues son los últimos disponibles","Nota: Los datos corresponden a 2013 pues son los últimos disponibles","Nota: Los datos corresponden a 2013 pues son los últimos disponibles","Nota: Los datos corresponden a 2013 pues son los últimos disponibles","Nota: Los datos corresponden a 2013 pues son los últimos disponibles","Nota: Los datos corresponden a 2013 pues son los últimos disponibles","Nota: Los datos corresponden a 2013 pues son los últimos disponibles","Nota: Los datos corresponden a 2013 pues son los últimos disponibles","Nota: Los datos corresponden a 2013 pues son los últimos disponibles","Nota: Los datos corresponden a 2013 pues son los últimos disponibles","Nota: Los datos corresponden a 2013 pues son los últimos disponibles","Nota: Los datos corresponden a 2013 pues son los últimos disponibles","Nota: Los datos corresponden a 2013 pues son los últimos disponibles","Nota: Los datos corresponden a 2013 pues son los últimos disponibles","Nota: Los datos corresponden a 2013 pues son los últimos disponibles","Nota: Los datos corresponden a 2013 pues son los últimos disponibles","Nota: Los datos corresponden a 2013 pues son los últimos disponibles","Nota: Los datos corresponden a 2013 pues son los últimos disponibles","Nota: Los datos corresponden a 2013 pues son los últimos disponibles","Nota: Los datos corresponden a 2013 pues son los últimos disponibles","Nota: Los datos corresponden a 2013 pues son los últimos disponibles","Nota: Los datos corresponden a 2013 pues son los últimos disponibles","Nota: Los datos corresponden a 2013 pues son los últimos disponibles","Nota: Los datos corresponden a 2013 pues son los últimos disponibles","Nota: Los datos corresponden a 2013 pues son los últimos disponibles","Nota: Los datos corresponden a 2013 pues son los últimos disponibles","Nota: Los datos corresponden a 2013 pues son los últimos disponibles","Nota: Los datos corresponden a 2013 pues son los últimos disponibles","Nota: Los datos corresponden a 2013 pues son los últimos disponibles","Nota: Los datos corresponden a 2013 pues son los últimos disponibles","Nota: Los datos corresponden a 2013 pues son los últimos disponibles","Nota: Los datos corresponden a 2013 pues son los últimos disponibles","Nota: Los datos corresponden a 2013 pues son los últimos disponibles","Nota: Los datos corresponden a 2013 pues son los últimos disponibles","Nota: Los datos corresponden a 2013 pues son los últimos disponibles","Nota: Los datos corresponden a 2013 pues son los últimos disponibles","Nota: Los datos corresponden a 2013 pues son los últimos disponibles","Nota: Los datos corresponden a 2013 pues son los últimos disponibles","Nota: Los datos corresponden a 2013 pues son los últimos disponibles","Nota: Los datos corresponden a 2013 pues son los últimos disponibles","Nota: Los datos corresponden a 2013 pues son los últimos disponibles","Nota: Los datos corresponden a 2013 pues son los últimos disponibles","Nota: Los datos corresponden a 2013 pues son los últimos disponibles","Nota: Los datos corresponden a 2013 pues son los últimos disponibles","Nota: Los datos corresponden a 2013 pues son los últimos disponibles","Nota: Los datos corresponden a 2013 pues son los últimos disponibles","Nota: Los datos corresponden a 2013 pues son los últimos disponibles","Nota: Los datos corresponden a 2013 pues son los últimos disponibles","Nota: Los datos corresponden a 2013 pues son los últimos disponibles","Nota: Los datos corresponden a 2013 pues son los últimos disponibles","Nota: Los datos corresponden a 2013 pues son los últimos disponibles","Nota: Los datos corresponden a 2013 pues son los últimos disponibles","Nota: Los datos corresponden a 2013 pues son los últimos disponibles","Nota: Los datos corresponden a 2013 pues son los últimos disponibles","Nota: Los datos corresponden a 2013 pues son los últimos disponibles","Nota: Los datos corresponden a 2013 pues son los últimos disponibles","Nota: Los datos corresponden a 2013 pues son los últimos disponibles","Nota: Los datos corresponden a 2013 pues son los últimos disponibles","Nota: Los datos corresponden a 2013 pues son los últimos disponibles","Nota: Los datos corresponden a 2013 pues son los últimos disponibles","Nota: Los datos corresponden a 2013 pues son los últimos disponibles","Nota: Los datos corresponden a 2013 pues son los últimos disponibles","Nota: Los datos corresponden a 2013 pues son los últimos disponibles","Nota: Los datos corresponden a 2013 pues son los últimos disponibles","Nota: Los datos corresponden a 2013 pues son los últimos disponibles","Nota: Los datos corresponden a 2013 pues son los últimos disponibles","Nota: Los datos corresponden a 2013 pues son los últimos disponibles","Nota: Los datos corresponden a 2013 pues son los últimos disponibles","Nota: Los datos corresponden a 2013 pues son los últimos disponibles","Nota: Los datos corresponden a 2013 pues son los últimos disponibles","Nota: Los datos corresponden a 2013 pues son los últimos disponibles","Nota: Los datos corresponden a 2013 pues son los últimos disponibles","Nota: Los datos corresponden a 2013 pues son los últimos disponibles","Nota: Los datos corresponden a 2013 pues son los últimos disponibles","Nota: Los datos corresponden a 2013 pues son los últimos disponibles","Nota: Los datos corresponden a 2013 pues son los últimos disponibles","Nota: Los datos corresponden a 2013 pues son los últimos disponibles","Nota: Los datos corresponden a 2013 pues son los últimos disponibles","Nota: Los datos corresponden a 2013 pues son los últimos disponibles","Nota: Los datos corresponden a 2013 pues son los últimos disponibles","Nota: Los datos corresponden a 2013 pues son los últimos disponibles","Nota: Los datos corresponden a 2013 pues son los últimos disponibles","Nota: Los datos corresponden a 2013 pues son los últimos disponibles","Nota: Los datos corresponden a 2013 pues son los últimos disponibles","Nota: Los datos corresponden a 2013 pues son los últimos disponibles","Nota: Los datos corresponden a 2013 pues son los últimos disponibles","Nota: Los datos corresponden a 2013 pues son los últimos disponibles","Nota: Los datos corresponden a 2013 pues son los últimos disponibles","Nota: Los datos corresponden a 2013 pues son los últimos disponibles","Nota: Los datos corresponden a 2013 pues son los últimos disponibles","Nota: Los datos corresponden a 2013 pues son los últimos disponibles","Nota: Los datos corresponden a 2013 pues son los últimos disponibles","Nota: Los datos corresponden a 2013 pues son los últimos disponibles","Nota: Los datos corresponden a 2013 pues son los últimos disponibles","Nota: Los datos corresponden a 2013 pues son los últimos disponibles","Nota: Los datos corresponden a 2013 pues son los últimos disponibles","Nota: Los datos corresponden a 2013 pues son los últimos disponibles","Nota: Los datos corresponden a 2013 pues son los últimos disponibles","Nota: Los datos corresponden a 2013 pues son los últimos disponibles","Nota: Los datos corresponden a 2013 pues son los últimos disponibles","Nota: Los datos corresponden a 2013 pues son los últimos disponibles","Nota: Los datos corresponden a 2013 pues son los últimos disponibles","Nota: Los datos corresponden a 2013 pues son los últimos disponibles","Nota: Los datos corresponden a 2013 pues son los últimos disponibles","Nota: Los datos corresponden a 2013 pues son los últimos disponibles","Nota: Los datos corresponden a 2013 pues son los últimos disponibles","Nota: Los datos corresponden a 2013 pues son los últimos disponibles","Nota: Los datos corresponden a 2013 pues son los últimos disponibles","Nota: Los datos corresponden a 2013 pues son los últimos disponibles","Nota: Los datos corresponden a 2013 pues son los últimos disponibles","Nota: Los datos corresponden a 2013 pues son los últimos disponibles","Nota: Los datos corresponden a 2013 pues son los últimos disponibles","Nota: Los datos corresponden a 2013 pues son los últimos disponibles","Nota: Los datos corresponden a 2013 pues son los últimos disponibles","Nota: Los datos corresponden a 2013 pues son los últimos disponibles","Nota: Los datos corresponden a 2013 pues son los últimos disponibles","Nota: Los datos corresponden a 2013 pues son los últimos disponibles","Nota: Los datos corresponden a 2013 pues son los últimos disponibles","Nota: Los datos corresponden a 2013 pues son los últimos disponibles","Nota: Los datos corresponden a 2013 pues son los últimos disponibles","Nota: Los datos corresponden a 2013 pues son los últimos disponibles","Nota: Los datos corresponden a 2013 pues son los últimos disponibles","Nota: Los datos corresponden a 2013 pues son los últimos disponibles","Nota: Los datos corresponden a 2013 pues son los últimos disponibles","Nota: Los datos corresponden a 2013 pues son los últimos disponibles","Nota: Los datos corresponden a 2013 pues son los últimos disponibles","Nota: Los datos corresponden a 2013 pues son los últimos disponibles","Nota: Los datos corresponden a 2013 pues son los últimos disponibles","Nota: Los datos corresponden a 2013 pues son los últimos disponibles","Nota: Los datos corresponden a 2013 pues son los últimos disponibles","Nota: Los datos corresponden a 2013 pues son los últimos disponibles","Nota: Los datos corresponden a 2013 pues son los últimos disponibles","Nota: Los datos corresponden a 2013 pues son los últimos disponibles","Nota: Los datos corresponden a 2013 pues son los últimos disponibles","Nota: Los datos corresponden a 2013 pues son los últimos disponibles","Nota: Los datos corresponden a 2013 pues son los últimos disponibles","Nota: Los datos corresponden a 2013 pues son los últimos disponibles","Nota: Los datos corresponden a 2013 pues son los últimos disponibles","Nota: Los datos corresponden a 2013 pues son los últimos disponibles","Nota: Los datos corresponden a 2013 pues son los últimos disponibles","Nota: Los datos corresponden a 2013 pues son los últimos disponibles","Nota: Los datos corresponden a 2013 pues son los últimos disponibles","Nota: Los datos corresponden a 2013 pues son los últimos disponibles","Nota: Los datos corresponden a 2013 pues son los últimos disponibles","Nota: Los datos corresponden a 2013 pues son los últimos disponibles","Nota: Los datos corresponden a 2013 pues son los últimos disponibles","Nota: Los datos corresponden a 2013 pues son los últimos disponibles","Nota: Los datos corresponden a 2013 pues son los últimos disponibles","Nota: Los datos corresponden a 2013 pues son los últimos disponibles","Nota: Los datos corresponden a 2013 pues son los últimos disponibles","Nota: Los datos corresponden a 2013 pues son los últimos disponibles","Nota: Los datos corresponden a 2013 pues son los últimos disponibles","Nota: Los datos corresponden a 2013 pues son los últimos disponibles","Nota: Los datos corresponden a 2013 pues son los últimos disponibles","Nota: Los datos corresponden a 2013 pues son los últimos disponibles","Nota: Los datos corresponden a 2013 pues son los últimos disponibles","Nota: Los datos corresponden a 2013 pues son los últimos disponibles","Nota: Los datos corresponden a 2013 pues son los últimos disponibles","Nota: Los datos corresponden a 2013 pues son los últimos disponibles","Nota: Los datos corresponden a 2013 pues son los últimos disponibles","Nota: Los datos corresponden a 2013 pues son los últimos disponibles","Nota: Los datos corresponden a 2013 pues son los últimos disponibles","Nota: Los datos corresponden a 2013 pues son los últimos disponibles","Nota: Los datos corresponden a 2013 pues son los últimos disponibles","Nota: Los datos corresponden a 2013 pues son los últimos disponibles","Nota: Los datos corresponden a 2013 pues son los últimos disponibles","Nota: Los datos corresponden a 2013 pues son los últimos disponibles","Nota: Los datos corresponden a 2013 pues son los últimos disponibles","Nota: Los datos corresponden a 2013 pues son los últimos disponibles","Nota: Los datos corresponden a 2013 pues son los últimos disponibles","Nota: Los datos corresponden a 2013 pues son los últimos disponibles","Nota: Los datos corresponden a 2013 pues son los últimos disponibles","Nota: Los datos corresponden a 2013 pues son los últimos disponibles","Nota: Los datos corresponden a 2013 pues son los últimos disponibles","Nota: Los datos corresponden a 2013 pues son los últimos disponibles","Nota: Los datos corresponden a 2013 pues son los últimos disponibles","Nota: Los datos corresponden a 2013 pues son los últimos disponibles","Nota: Los datos corresponden a 2013 pues son los últimos disponibles","Nota: Los datos corresponden a 2013 pues son los últimos disponibles","Nota: Los datos corresponden a 2013 pues son los últimos disponibles","Nota: Los datos corresponden a 2013 pues son los últimos disponibles","Nota: Los datos corresponden a 2013 pues son los últimos disponibles","Nota: Los datos corresponden a 2013 pues son los últimos disponibles","Nota: Los datos corresponden a 2013 pues son los últimos disponibles","Nota: Los datos corresponden a 2013 pues son los últimos disponibles","Nota: Los datos corresponden a 2013 pues son los últimos disponibles","Nota: Los datos corresponden a 2013 pues son los últimos disponibles","Nota: Los datos corresponden a 2013 pues son los últimos disponibles","Nota: Los datos corresponden a 2013 pues son los últimos disponibles","Nota: Los datos corresponden a 2013 pues son los últimos disponibles","Nota: Los datos corresponden a 2013 pues son los últimos disponibles","Nota: Los datos corresponden a 2013 pues son los últimos disponibles","Nota: Los datos corresponden a 2013 pues son los últimos disponibles","Nota: Los datos corresponden a 2013 pues son los últimos disponibles","Nota: Los datos corresponden a 2013 pues son los últimos disponibles","Nota: Los datos corresponden a 2013 pues son los últimos disponibles","Nota: Los datos corresponden a 2013 pues son los últimos disponibles","Nota: Los datos corresponden a 2013 pues son los últimos disponibles","Nota: Los datos corresponden a 2013 pues son los últimos disponibles","Nota: Los datos corresponden a 2013 pues son los últimos disponibles","Nota: Los datos corresponden a 2013 pues son los últimos disponibles","Nota: Los datos corresponden a 2013 pues son los últimos disponibles","Nota: Los datos corresponden a 2013 pues son los últimos disponibles","Nota: Los datos corresponden a 2013 pues son los últimos disponibles","Nota: Los datos corresponden a 2013 pues son los últimos disponibles","Nota: Los datos corresponden a 2013 pues son los últimos disponibles","Nota: Los datos corresponden a 2013 pues son los últimos disponibles","Nota: Los datos corresponden a 2013 pues son los últimos disponibles","Nota: Los datos corresponden a 2013 pues son los últimos disponibles","Nota: Los datos corresponden a 2013 pues son los últimos disponibles","Nota: Los datos corresponden a 2013 pues son los últimos disponibles","Nota: Los datos corresponden a 2013 pues son los últimos disponibles","Nota: Los datos corresponden a 2013 pues son los últimos disponibles","Nota: Los datos corresponden a 2013 pues son los últimos disponibles","Nota: Los datos corresponden a 2013 pues son los últimos disponibles","Nota: Los datos corresponden a 2013 pues son los últimos disponibles","Nota: Los datos corresponden a 2013 pues son los últimos disponibles","Nota: Los datos corresponden a 2013 pues son los últimos disponibles","Nota: Los datos corresponden a 2013 pues son los últimos disponibles","Nota: Los datos corresponden a 2013 pues son los últimos disponibles","Nota: Los datos corresponden a 2013 pues son los últimos disponibles","Nota: Los datos corresponden a 2013 pues son los últimos disponibles","Nota: Los datos corresponden a 2013 pues son los últimos disponibles","Nota: Los datos corresponden a 2013 pues son los últimos disponibles","Nota: Los datos corresponden a 2013 pues son los últimos disponibles","Nota: Los datos corresponden a 2013 pues son los últimos disponibles","Nota: Los datos corresponden a 2013 pues son los últimos disponibles","Nota: Los datos corresponden a 2013 pues son los últimos disponibles","Nota: Los datos corresponden a 2013 pues son los últimos disponibles","Nota: Los datos corresponden a 2013 pues son los últimos disponibles","Nota: Los datos corresponden a 2013 pues son los últimos disponibles","Nota: Los datos corresponden a 2013 pues son los últimos disponibles","Nota: Los datos corresponden a 2013 pues son los últimos disponibles","Nota: Los datos corresponden a 2013 pues son los últimos disponibles","Nota: Los datos corresponden a 2013 pues son los últimos disponibles","Nota: Los datos corresponden a 2013 pues son los últimos disponibles","Nota: Los datos corresponden a 2013 pues son los últimos disponibles","Nota: Los datos corresponden a 2013 pues son los últimos disponibles","Nota: Los datos corresponden a 2013 pues son los últimos disponibles","Nota: Los datos corresponden a 2013 pues son los últimos disponibles","Nota: Los datos corresponden a 2013 pues son los últimos disponibles","Nota: Los datos corresponden a 2013 pues son los últimos disponibles","Nota: Los datos corresponden a 2013 pues son los últimos disponibles","Nota: Los datos corresponden a 2013 pues son los últimos disponibles","Nota: Los datos corresponden a 2013 pues son los últimos disponibles","Nota: Los datos corresponden a 2013 pues son los últimos disponibles","Nota: Los datos corresponden a 2013 pues son los últimos disponibles","Nota: Los datos corresponden a 2013 pues son los últimos disponibles","Nota: Los datos corresponden a 2013 pues son los últimos disponibles","Nota: Los datos corresponden a 2013 pues son los últimos disponibles","Nota: Los datos corresponden a 2013 pues son los últimos disponibles","Nota: Los datos corresponden a 2013 pues son los últimos disponibles","Nota: Los datos corresponden a 2013 pues son los últimos disponibles","Nota: Los datos corresponden a 2013 pues son los últimos disponibles","Nota: Los datos corresponden a 2013 pues son los últimos disponibles","Nota: Los datos corresponden a 2013 pues son los últimos disponibles","Nota: Los datos corresponden a 2013 pues son los últimos disponibles","Nota: Los datos corresponden a 2013 pues son los últimos disponibles","Nota: Los datos corresponden a 2013 pues son los últimos disponibles","Nota: Los datos corresponden a 2013 pues son los últimos disponibles","Nota: Los datos corresponden a 2013 pues son los últimos disponibles","Nota: Los datos corresponden a 2013 pues son los últimos disponibles","Nota: Los datos corresponden a 2013 pues son los últimos disponibles","Nota: Los datos corresponden a 2013 pues son los últimos disponibles","Nota: Los datos corresponden a 2013 pues son los últimos disponibles","Nota: Los datos corresponden a 2013 pues son los últimos disponibles","Nota: Los datos corresponden a 2013 pues son los últimos disponibles","Nota: Los datos corresponden a 2013 pues son los últimos disponibles","Nota: Los datos corresponden a 2013 pues son los últimos disponibles","Nota: Los datos corresponden a 2013 pues son los últimos disponibles","Nota: Los datos corresponden a 2013 pues son los últimos disponibles","Nota: Los datos corresponden a 2013 pues son los últimos disponibles","Nota: Los datos corresponden a 2013 pues son los últimos disponibles","Nota: Los datos corresponden a 2013 pues son los últimos disponibles","Nota: Los datos corresponden a 2013 pues son los últimos disponibles","Nota: Los datos corresponden a 2013 pues son los últimos disponibles","Nota: Los datos corresponden a 2013 pues son los últimos disponibles","Nota: Los datos corresponden a 2013 pues son los últimos disponibles","Nota: Los datos corresponden a 2013 pues son los últimos disponibles","Nota: Los datos corresponden a 2013 pues son los últimos disponibles","Nota: Los datos corresponden a 2013 pues son los últimos disponibles","Nota: Los datos corresponden a 2013 pues son los últimos disponibles","Nota: Los datos corresponden a 2013 pues son los últimos disponibles","Nota: Los datos corresponden a 2013 pues son los últimos disponibles","Nota: Los datos corresponden a 2013 pues son los últimos disponibles","Nota: Los datos corresponden a 2013 pues son los últimos disponibles","Nota: Los datos corresponden a 2013 pues son los últimos disponibles","Nota: Los datos corresponden a 2013 pues son los últimos disponibles","Nota: Los datos corresponden a 2013 pues son los últimos disponibles","Nota: Los datos corresponden a 2013 pues son los últimos disponibles","Nota: Los datos corresponden a 2013 pues son los últimos disponibles","Nota: Los datos corresponden a 2013 pues son los últimos disponibles","Nota: Los datos corresponden a 2013 pues son los últimos disponibles","Nota: Los datos corresponden a 2013 pues son los últimos disponibles","Nota: Los datos corresponden a 2013 pues son los últimos disponibles","Nota: Los datos corresponden a 2013 pues son los últimos disponibles","Nota: Los datos corresponden a 2013 pues son los últimos disponibles","Nota: Los datos corresponden a 2013 pues son los últimos disponibles","Nota: Los datos corresponden a 2013 pues son los últimos disponibles","Nota: Los datos corresponden a 2013 pues son los últimos disponibles","Nota: Los datos corresponden a 2013 pues son los últimos disponibles","Nota: Los datos corresponden a 2013 pues son los últimos disponibles","Nota: Los datos corresponden a 2013 pues son los últimos disponibles","Nota: Los datos corresponden a 2013 pues son los últimos disponibles","Nota: Los datos corresponden a 2013 pues son los últimos disponibles","Nota: Los datos corresponden a 2013 pues son los últimos disponibles","Nota: Los datos corresponden a 2013 pues son los últimos disponibles","Nota: Los datos corresponden a 2013 pues son los últimos disponibles","Nota: Los datos corresponden a 2013 pues son los últimos disponibles","Nota: Los datos corresponden a 2013 pues son los últimos disponibles","Nota: Los datos corresponden a 2013 pues son los últimos disponibles","Nota: Los datos corresponden a 2013 pues son los últimos disponibles","Nota: Los datos corresponden a 2013 pues son los últimos disponibles","Nota: Los datos corresponden a 2013 pues son los últimos disponibles","Nota: Los datos corresponden a 2013 pues son los últimos disponibles","Nota: Los datos corresponden a 2013 pues son los últimos disponibles","Nota: Los datos corresponden a 2013 pues son los últimos disponibles","Nota: Los datos corresponden a 2013 pues son los últimos disponibles","Nota: Los datos corresponden a 2013 pues son los últimos disponibles","Nota: Los datos corresponden a 2013 pues son los últimos disponibles","Nota: Los datos corresponden a 2013 pues son los últimos disponibles","Nota: Los datos corresponden a 2013 pues son los últimos disponibles","Nota: Los datos corresponden a 2013 pues son los últimos disponibles","Nota: Los datos corresponden a 2013 pues son los últimos disponibles","Nota: Los datos corresponden a 2013 pues son los últimos disponibles","Nota: Los datos corresponden a 2013 pues son los últimos disponibles","Nota: Los datos corresponden a 2013 pues son los últimos disponibles","Nota: Los datos corresponden a 2013 pues son los últimos disponibles","Nota: Los datos corresponden a 2013 pues son los últimos disponibles","Nota: Los datos corresponden a 2013 pues son los últimos disponibles","Nota: Los datos corresponden a 2013 pues son los últimos disponibles","Nota: Los datos corresponden a 2013 pues son los últimos disponibles","Nota: Los datos corresponden a 2013 pues son los últimos disponibles","Nota: Los datos corresponden a 2013 pues son los últimos disponibles","Nota: Los datos corresponden a 2013 pues son los últimos disponibles","Nota: Los datos corresponden a 2013 pues son los últimos disponibles","Nota: Los datos corresponden a 2013 pues son los últimos disponibles","Nota: Los datos corresponden a 2013 pues son los últimos disponibles","Nota: Los datos corresponden a 2013 pues son los últimos disponibles","Nota: Los datos corresponden a 2013 pues son los últimos disponibles","Nota: Los datos corresponden a 2013 pues son los últimos disponibles","Nota: Los datos corresponden a 2013 pues son los últimos disponibles","Nota: Los datos corresponden a 2013 pues son los últimos disponibles","Nota: Los datos corresponden a 2013 pues son los últimos disponibles","Nota: Los datos corresponden a 2013 pues son los últimos disponibles","Nota: Los datos corresponden a 2013 pues son los últimos disponibles","Nota: Los datos corresponden a 2013 pues son los últimos disponibles","Nota: Los datos corresponden a 2013 pues son los últimos disponibles","Nota: Los datos corresponden a 2013 pues son los últimos disponibles","Nota: Los datos corresponden a 2013 pues son los últimos disponibles","Nota: Los datos corresponden a 2013 pues son los últimos disponibles","Nota: Los datos corresponden a 2013 pues son los últimos disponibles","Nota: Los datos corresponden a 2013 pues son los últimos disponibles","Nota: Los datos corresponden a 2013 pues son los últimos disponibles","Nota: Los datos corresponden a 2013 pues son los últimos disponibles","Nota: Los datos corresponden a 2013 pues son los últimos disponibles","Nota: Los datos corresponden a 2013 pues son los últimos disponibles","Nota: Los datos corresponden a 2013 pues son los últimos disponibles","Nota: Los datos corresponden a 2013 pues son los últimos disponibles","Nota: Los datos corresponden a 2013 pues son los últimos disponibles","Nota: Los datos corresponden a 2013 pues son los últimos disponibles","Nota: Los datos corresponden a 2013 pues son los últimos disponibles","Nota: Los datos corresponden a 2013 pues son los últimos disponibles","Nota: Los datos corresponden a 2013 pues son los últimos disponibles","Nota: Los datos corresponden a 2013 pues son los últimos disponibles","Nota: Los datos corresponden a 2013 pues son los últimos disponibles","Nota: Los datos corresponden a 2013 pues son los últimos disponibles","Nota: Los datos corresponden a 2013 pues son los últimos disponibles","Nota: Los datos corresponden a 2013 pues son los últimos disponibles","Nota: Los datos corresponden a 2013 pues son los últimos disponibles","Nota: Los datos corresponden a 2013 pues son los últimos disponibles","Nota: Los datos corresponden a 2013 pues son los últimos disponibles","Nota: Los datos corresponden a 2013 pues son los últimos disponibles","Nota: Los datos corresponden a 2013 pues son los últimos disponibles","Nota: Los datos corresponden a 2013 pues son los últimos disponibles","Nota: Los datos corresponden a 2013 pues son los últimos disponibles","Nota: Los datos corresponden a 2013 pues son los últimos disponibles","Nota: Los datos corresponden a 2013 pues son los últimos disponibles","Nota: Los datos corresponden a 2013 pues son los últimos disponibles","Nota: Los datos corresponden a 2013 pues son los últimos disponibles","Nota: Los datos corresponden a 2013 pues son los últimos disponibles","Nota: Los datos corresponden a 2013 pues son los últimos disponibles","Nota: Los datos corresponden a 2013 pues son los últimos disponibles","Nota: Los datos corresponden a 2013 pues son los últimos disponibles","Nota: Los datos corresponden a 2013 pues son los últimos disponibles","Nota: Los datos corresponden a 2013 pues son los últimos disponibles","Nota: Los datos corresponden a 2013 pues son los últimos disponibles","Nota: Los datos corresponden a 2013 pues son los últimos disponibles","Nota: Los datos corresponden a 2013 pues son los últimos disponibles","Nota: Los datos corresponden a 2013 pues son los últimos disponibles","Nota: Los datos corresponden a 2013 pues son los últimos disponibles","Nota: Los datos corresponden a 2013 pues son los últimos disponibles","Nota: Los datos corresponden a 2013 pues son los últimos disponibles","Nota: Los datos corresponden a 2013 pues son los últimos disponibles","Nota: Los datos corresponden a 2013 pues son los últimos disponibles","Nota: Los datos corresponden a 2013 pues son los últimos disponibles","Nota: Los datos corresponden a 2013 pues son los últimos disponibles","Nota: Los datos corresponden a 2013 pues son los últimos disponibles","Nota: Los datos corresponden a 2013 pues son los últimos disponibles","Nota: Los datos corresponden a 2013 pues son los últimos disponibles","Nota: Los datos corresponden a 2013 pues son los últimos disponibles","Nota: Los datos corresponden a 2013 pues son los últimos disponibles","Nota: Los datos corresponden a 2013 pues son los últimos disponibles","Nota: Los datos corresponden a 2013 pues son los últimos disponibles","Nota: Los datos corresponden a 2013 pues son los últimos disponibles","Nota: Los datos corresponden a 2013 pues son los últimos disponibles","Nota: Los datos corresponden a 2013 pues son los últimos disponibles","Nota: Los datos corresponden a 2013 pues son los últimos disponibles","Nota: Los datos corresponden a 2013 pues son los últimos disponibles","Nota: Los datos corresponden a 2013 pues son los últimos disponibles","Nota: Los datos corresponden a 2013 pues son los últimos disponibles","Nota: Los datos corresponden a 2013 pues son los últimos disponibles","Nota: Los datos corresponden a 2013 pues son los últimos disponibles","Nota: Los datos corresponden a 2013 pues son los últimos disponibles","Nota: Los datos corresponden a 2013 pues son los últimos disponibles","Nota: Los datos corresponden a 2013 pues son los últimos disponibles","Nota: Los datos corresponden a 2013 pues son los últimos disponibles","Nota: Los datos corresponden a 2013 pues son los últimos disponibles","Nota: Los datos corresponden a 2013 pues son los últimos disponibles","Nota: Los datos corresponden a 2013 pues son los últimos disponibles","Nota: Los datos corresponden a 2013 pues son los últimos disponibles","Nota: Los datos corresponden a 2013 pues son los últimos disponibles","Nota: Los datos corresponden a 2013 pues son los últimos disponibles","Nota: Los datos corresponden a 2013 pues son los últimos disponibles","Nota: Los datos corresponden a 2013 pues son los últimos disponibles","Nota: Los datos corresponden a 2013 pues son los últimos disponibles","Nota: Los datos corresponden a 2013 pues son los últimos disponibles","Nota: Los datos corresponden a 2013 pues son los últimos disponibles","Nota: Los datos corresponden a 2013 pues son los últimos disponibles","Nota: Los datos corresponden a 2013 pues son los últimos disponibles","Nota: Los datos corresponden a 2013 pues son los últimos disponibles","Nota: Los datos corresponden a 2013 pues son los últimos disponibles","Nota: Los datos corresponden a 2013 pues son los últimos disponibles","Nota: Los datos corresponden a 2013 pues son los últimos disponibles","Nota: Los datos corresponden a 2013 pues son los últimos disponibles","Nota: Los datos corresponden a 2013 pues son los últimos disponibles","Nota: Los datos corresponden a 2013 pues son los últimos disponibles","Nota: Los datos corresponden a 2013 pues son los últimos disponibles","Nota: Los datos corresponden a 2013 pues son los últimos disponibles","Nota: Los datos corresponden a 2013 pues son los últimos disponibles","Nota: Los datos corresponden a 2013 pues son los últimos disponibles","Nota: Los datos corresponden a 2013 pues son los últimos disponibles","Nota: Los datos corresponden a 2013 pues son los últimos disponibles","Nota: Los datos corresponden a 2013 pues son los últimos disponibles","Nota: Los datos corresponden a 2013 pues son los últimos disponibles","Nota: Los datos corresponden a 2013 pues son los últimos disponibles","Nota: Los datos corresponden a 2013 pues son los últimos disponibles","Nota: Los datos corresponden a 2013 pues son los últimos disponibles","Nota: Los datos corresponden a 2013 pues son los últimos disponibles","Nota: Los datos corresponden a 2013 pues son los últimos disponibles","Nota: Los datos corresponden a 2013 pues son los últimos disponibles","Nota: Los datos corresponden a 2013 pues son los últimos disponibles","Nota: Los datos corresponden a 2013 pues son los últimos disponibles","Nota: Los datos corresponden a 2013 pues son los últimos disponibles","Nota: Los datos corresponden a 2013 pues son los últimos disponibles","Nota: Los datos corresponden a 2013 pues son los últimos disponibles","Nota: Los datos corresponden a 2013 pues son los últimos disponibles","Nota: Los datos corresponden a 2013 pues son los últimos disponibles","Nota: Los datos corresponden a 2013 pues son los últimos disponibles","Nota: Los datos corresponden a 2013 pues son los últimos disponibles","Nota: Los datos corresponden a 2013 pues son los últimos disponibles","Nota: Los datos corresponden a 2013 pues son los últimos disponibles","Nota: Los datos corresponden a 2013 pues son los últimos disponibles","Nota: Los datos corresponden a 2013 pues son los últimos disponibles","Nota: Los datos corresponden a 2013 pues son los últimos disponibles","Nota: Los datos corresponden a 2013 pues son los últimos disponibles","Nota: Los datos corresponden a 2013 pues son los últimos disponibles","Nota: Los datos corresponden a 2013 pues son los últimos disponibles","Nota: Los datos corresponden a 2013 pues son los últimos disponibles","Nota: Los datos corresponden a 2013 pues son los últimos disponibles","Nota: Los datos corresponden a 2013 pues son los últimos disponibles","Nota: Los datos corresponden a 2013 pues son los últimos disponibles","Nota: Los datos corresponden a 2013 pues son los últimos disponibles","Nota: Los datos corresponden a 2013 pues son los últimos disponibles","Nota: Los datos corresponden a 2013 pues son los últimos disponibles","Nota: Los datos corresponden a 2013 pues son los últimos disponibles","Nota: Los datos corresponden a 2013 pues son los últimos disponibles","Nota: Los datos corresponden a 2013 pues son los últimos disponibles","Nota: Los datos corresponden a 2013 pues son los últimos disponibles","Nota: Los datos corresponden a 2013 pues son los últimos disponibles","Nota: Los datos corresponden a 2013 pues son los últimos disponibles","Nota: Los datos corresponden a 2013 pues son los últimos disponibles","Nota: Los datos corresponden a 2013 pues son los últimos disponibles","Nota: Los datos corresponden a 2013 pues son los últimos disponibles","Nota: Los datos corresponden a 2013 pues son los últimos disponibles","Nota: Los datos corresponden a 2013 pues son los últimos disponibles","Nota: Los datos corresponden a 2013 pues son los últimos disponibles","Nota: Los datos corresponden a 2013 pues son los últimos disponibles","Nota: Los datos corresponden a 2013 pues son los últimos disponibles","Nota: Los datos corresponden a 2013 pues son los últimos disponibles","Nota: Los datos corresponden a 2013 pues son los últimos disponibles","Nota: Los datos corresponden a 2013 pues son los últimos disponibles","Nota: Los datos corresponden a 2013 pues son los últimos disponibles","Nota: Los datos corresponden a 2013 pues son los últimos disponibles","Nota: Los datos corresponden a 2013 pues son los últimos disponibles","Nota: Los datos corresponden a 2013 pues son los últimos disponibles","Nota: Los datos corresponden a 2013 pues son los últimos disponibles","Nota: Los datos corresponden a 2013 pues son los últimos disponibles","Nota: Los datos corresponden a 2013 pues son los últimos disponibles","Nota: Los datos corresponden a 2013 pues son los últimos disponibles","Nota: Los datos corresponden a 2013 pues son los últimos disponibles","Nota: Los datos corresponden a 2013 pues son los últimos disponibles","Nota: Los datos corresponden a 2013 pues son los últimos disponibles","Nota: Los datos corresponden a 2013 pues son los últimos disponibles","Nota: Los datos corresponden a 2013 pues son los últimos disponibles","Nota: Los datos corresponden a 2013 pues son los últimos disponibles","Nota: Los datos corresponden a 2013 pues son los últimos disponibles","Nota: Los datos corresponden a 2013 pues son los últimos disponibles","Nota: Los datos corresponden a 2013 pues son los últimos disponibles","Nota: Los datos corresponden a 2013 pues son los últimos disponibles","Nota: Los datos corresponden a 2013 pues son los últimos disponibles","Nota: Los datos corresponden a 2013 pues son los últimos disponibles","Nota: Los datos corresponden a 2013 pues son los últimos disponibles","Nota: Los datos corresponden a 2013 pues son los últimos disponibles","Nota: Los datos corresponden a 2013 pues son los últimos disponibles","Nota: Los datos corresponden a 2013 pues son los últimos disponibles","Nota: Los datos corresponden a 2013 pues son los últimos disponibles","Nota: Los datos corresponden a 2013 pues son los últimos disponibles","Nota: Los datos corresponden a 2013 pues son los últimos disponibles","Nota: Los datos corresponden a 2013 pues son los últimos disponibles","Nota: Los datos corresponden a 2013 pues son los últimos disponibles","Nota: Los datos corresponden a 2013 pues son los últimos disponibles","Nota: Los datos corresponden a 2013 pues son los últimos disponibles","Nota: Los datos corresponden a 2013 pues son los últimos disponibles","Nota: Los datos corresponden a 2013 pues son los últimos disponibles","Nota: Los datos corresponden a 2013 pues son los últimos disponibles","Nota: Los datos corresponden a 2013 pues son los últimos disponibles","Nota: Los datos corresponden a 2013 pues son los últimos disponibles","Nota: Los datos corresponden a 2013 pues son los últimos disponibles","Nota: Los datos corresponden a 2013 pues son los últimos disponibles","Nota: Los datos corresponden a 2013 pues son los últimos disponibles","Nota: Los datos corresponden a 2013 pues son los últimos disponibles","Nota: Los datos corresponden a 2013 pues son los últimos disponibles","Nota: Los datos corresponden a 2013 pues son los últimos disponibles","Nota: Los datos corresponden a 2013 pues son los últimos disponibles","Nota: Los datos corresponden a 2013 pues son los últimos disponibles","Nota: Los datos corresponden a 2013 pues son los últimos disponibles","Nota: Los datos corresponden a 2013 pues son los últimos disponibles","Nota: Los datos corresponden a 2013 pues son los últimos disponibles","Nota: Los datos corresponden a 2013 pues son los últimos disponibles","Nota: Los datos corresponden a 2013 pues son los últimos disponibles","Nota: Los datos corresponden a 2013 pues son los últimos disponibles","Nota: Los datos corresponden a 2013 pues son los últimos disponibles","Nota: Los datos corresponden a 2013 pues son los últimos disponibles","Nota: Los datos corresponden a 2013 pues son los últimos disponibles","Nota: Los datos corresponden a 2013 pues son los últimos disponibles","Nota: Los datos corresponden a 2013 pues son los últimos disponibles","Nota: Los datos corresponden a 2013 pues son los últimos disponibles","Nota: Los datos corresponden a 2013 pues son los últimos disponibles","Nota: Los datos corresponden a 2013 pues son los últimos disponibles","Nota: Los datos corresponden a 2013 pues son los últimos disponibles","Nota: Los datos corresponden a 2013 pues son los últimos disponibles","Nota: Los datos corresponden a 2013 pues son los últimos disponibles","Nota: Los datos corresponden a 2013 pues son los últimos disponibles","Nota: Los datos corresponden a 2013 pues son los últimos disponibles","Nota: Los datos corresponden a 2013 pues son los últimos disponibles","Nota: Los datos corresponden a 2013 pues son los últimos disponibles","Nota: Los datos corresponden a 2013 pues son los últimos disponibles","Nota: Los datos corresponden a 2013 pues son los últimos disponibles","Nota: Los datos corresponden a 2013 pues son los últimos disponibles","Nota: Los datos corresponden a 2013 pues son los últimos disponibles","Nota: Los datos corresponden a 2013 pues son los últimos disponibles","Nota: Los datos corresponden a 2013 pues son los últimos disponibles","Nota: Los datos corresponden a 2013 pues son los últimos disponibles","Nota: Los datos corresponden a 2013 pues son los últimos disponibles","Nota: Los datos corresponden a 2013 pues son los últimos disponibles","Nota: Los datos corresponden a 2013 pues son los últimos disponibles","Nota: Los datos corresponden a 2013 pues son los últimos disponibles","Nota: Los datos corresponden a 2013 pues son los últimos disponibles","Nota: Los datos corresponden a 2013 pues son los últimos disponibles","Nota: Los datos corresponden a 2013 pues son los últimos disponibles","Nota: Los datos corresponden a 2013 pues son los últimos disponibles","Nota: Los datos corresponden a 2013 pues son los últimos disponibles","Nota: Los datos corresponden a 2013 pues son los últimos disponibles","Nota: Los datos corresponden a 2013 pues son los últimos disponibles","Nota: Los datos corresponden a 2013 pues son los últimos disponibles","Nota: Los datos corresponden a 2013 pues son los últimos disponibles","Nota: Los datos corresponden a 2013 pues son los últimos disponibles","Nota: Los datos corresponden a 2013 pues son los últimos disponibles","Nota: Los datos corresponden a 2013 pues son los últimos disponibles","Nota: Los datos corresponden a 2013 pues son los últimos disponibles","Nota: Los datos corresponden a 2013 pues son los últimos disponibles","Nota: Los datos corresponden a 2013 pues son los últimos disponibles","Nota: Los datos corresponden a 2013 pues son los últimos disponibles","Nota: Los datos corresponden a 2013 pues son los últimos disponibles","Nota: Los datos corresponden a 2013 pues son los últimos disponibles","Nota: Los datos corresponden a 2013 pues son los últimos disponibles","Nota: Los datos corresponden a 2013 pues son los últimos disponibles","Nota: Los datos corresponden a 2013 pues son los últimos disponibles","Nota: Los datos corresponden a 2013 pues son los últimos disponibles","Nota: Los datos corresponden a 2013 pues son los últimos disponibles","Nota: Los datos corresponden a 2013 pues son los últimos disponibles","Nota: Los datos corresponden a 2013 pues son los últimos disponibles","Nota: Los datos corresponden a 2013 pues son los últimos disponibles","Nota: Los datos corresponden a 2013 pues son los últimos disponibles","Nota: Los datos corresponden a 2013 pues son los últimos disponibles","Nota: Los datos corresponden a 2013 pues son los últimos disponibles","Nota: Los datos corresponden a 2013 pues son los últimos disponibles","Nota: Los datos corresponden a 2013 pues son los últimos disponibles","Nota: Los datos corresponden a 2013 pues son los últimos disponibles","Nota: Los datos corresponden a 2013 pues son los últimos disponibles","Nota: Los datos corresponden a 2013 pues son los últimos disponibles","Nota: Los datos corresponden a 2013 pues son los últimos disponibles","Nota: Los datos corresponden a 2013 pues son los últimos disponibles","Nota: Los datos corresponden a 2013 pues son los últimos disponibles","Nota: Los datos corresponden a 2013 pues son los últimos disponibles","Nota: Los datos corresponden a 2013 pues son los últimos disponibles","Nota: Los datos corresponden a 2013 pues son los últimos disponibles","Nota: Los datos corresponden a 2013 pues son los últimos disponibles","Nota: Los datos corresponden a 2013 pues son los últimos disponibles","Nota: Los datos corresponden a 2013 pues son los últimos disponibles","Nota: Los datos corresponden a 2013 pues son los últimos disponibles","Nota: Los datos corresponden a 2013 pues son los últimos disponibles","Nota: Los datos corresponden a 2013 pues son los últimos disponibles","Nota: Los datos corresponden a 2013 pues son los últimos disponibles","Nota: Los datos corresponden a 2013 pues son los últimos disponibles","Nota: Los datos corresponden a 2013 pues son los últimos disponibles","Nota: Los datos corresponden a 2013 pues son los últimos disponibles","Nota: Los datos corresponden a 2013 pues son los últimos disponibles","Nota: Los datos corresponden a 2013 pues son los últimos disponibles","Nota: Los datos corresponden a 2013 pues son los últimos disponibles","Nota: Los datos corresponden a 2013 pues son los últimos disponibles","Nota: Los datos corresponden a 2013 pues son los últimos disponibles","Nota: Los datos corresponden a 2013 pues son los últimos disponibles","Nota: Los datos corresponden a 2013 pues son los últimos disponibles","Nota: Los datos corresponden a 2013 pues son los últimos disponibles","Nota: Los datos corresponden a 2013 pues son los últimos disponibles","Nota: Los datos corresponden a 2013 pues son los últimos disponibles","Nota: Los datos corresponden a 2013 pues son los últimos disponibles","Nota: Los datos corresponden a 2013 pues son los últimos disponibles","Nota: Los datos corresponden a 2013 pues son los últimos disponibles","Nota: Los datos corresponden a 2013 pues son los últimos disponibles","Nota: Los datos corresponden a 2013 pues son los últimos disponibles","Nota: Los datos corresponden a 2013 pues son los últimos disponibles","Nota: Los datos corresponden a 2013 pues son los últimos disponibles","Nota: Los datos corresponden a 2013 pues son los últimos disponibles","Nota: Los datos corresponden a 2013 pues son los últimos disponibles","Nota: Los datos corresponden a 2013 pues son los últimos disponibles","Nota: Los datos corresponden a 2013 pues son los últimos disponibles","Nota: Los datos corresponden a 2013 pues son los últimos disponibles","Nota: Los datos corresponden a 2013 pues son los últimos disponibles","Nota: Los datos corresponden a 2013 pues son los últimos disponibles","Nota: Los datos corresponden a 2013 pues son los últimos disponibles","Nota: Los datos corresponden a 2013 pues son los últimos disponibles","Nota: Los datos corresponden a 2013 pues son los últimos disponibles","Nota: Los datos corresponden a 2013 pues son los últimos disponibles","Nota: Los datos corresponden a 2013 pues son los últimos disponibles","Nota: Los datos corresponden a 2013 pues son los últimos disponibles","Nota: Los datos corresponden a 2013 pues son los últimos disponibles","Nota: Los datos corresponden a 2013 pues son los últimos disponibles","Nota: Los datos corresponden a 2013 pues son los últimos disponibles","Nota: Los datos corresponden a 2013 pues son los últimos disponibles","Nota: Los datos corresponden a 2013 pues son los últimos disponibles","Nota: Los datos corresponden a 2013 pues son los últimos disponibles","Nota: Los datos corresponden a 2013 pues son los últimos disponibles","Nota: Los datos corresponden a 2013 pues son los últimos disponibles","Nota: Los datos corresponden a 2013 pues son los últimos disponibles","Nota: Los datos corresponden a 2013 pues son los últimos disponibles","Nota: Los datos corresponden a 2013 pues son los últimos disponibles","Nota: Los datos corresponden a 2013 pues son los últimos disponibles","Nota: Los datos corresponden a 2013 pues son los últimos disponibles","Nota: Los datos corresponden a 2013 pues son los últimos disponibles","Nota: Los datos corresponden a 2013 pues son los últimos disponibles","Nota: Los datos corresponden a 2013 pues son los últimos disponibles","Nota: Los datos corresponden a 2013 pues son los últimos disponibles","Nota: Los datos corresponden a 2013 pues son los últimos disponibles","Nota: Los datos corresponden a 2013 pues son los últimos disponibles","Nota: Los datos corresponden a 2013 pues son los últimos disponibles","Nota: Los datos corresponden a 2013 pues son los últimos disponibles","Nota: Los datos corresponden a 2013 pues son los últimos disponibles","Nota: Los datos corresponden a 2013 pues son los últimos disponibles","Nota: Los datos corresponden a 2013 pues son los últimos disponibles","Nota: Los datos corresponden a 2013 pues son los últimos disponibles","Nota: Los datos corresponden a 2013 pues son los últimos disponibles","Nota: Los datos corresponden a 2013 pues son los últimos disponibles","Nota: Los datos corresponden a 2013 pues son los últimos disponibles","Nota: Los datos corresponden a 2013 pues son los últimos disponibles","Nota: Los datos corresponden a 2013 pues son los últimos disponibles","Nota: Los datos corresponden a 2013 pues son los últimos disponibles","Nota: Los datos corresponden a 2013 pues son los últimos disponibles","Nota: Los datos corresponden a 2013 pues son los últimos disponibles","Nota: Los datos corresponden a 2013 pues son los últimos disponibles","Nota: Los datos corresponden a 2013 pues son los últimos disponibles","Nota: Los datos corresponden a 2013 pues son los últimos disponibles","Nota: Los datos corresponden a 2013 pues son los últimos disponibles","Nota: Los datos corresponden a 2013 pues son los últimos disponibles","Nota: Los datos corresponden a 2013 pues son los últimos disponibles","Nota: Los datos corresponden a 2013 pues son los últimos disponibles","Nota: Los datos corresponden a 2013 pues son los últimos disponibles","Nota: Los datos corresponden a 2013 pues son los últimos disponibles","Nota: Los datos corresponden a 2013 pues son los últimos disponibles","Nota: Los datos corresponden a 2013 pues son los últimos disponibles","Nota: Los datos corresponden a 2013 pues son los últimos disponibles","Nota: Los datos corresponden a 2013 pues son los últimos disponibles","Nota: Los datos corresponden a 2013 pues son los últimos disponibles","Nota: Los datos corresponden a 2013 pues son los últimos disponibles","Nota: Los datos corresponden a 2013 pues son los últimos disponibles","Nota: Los datos corresponden a 2013 pues son los últimos disponibles","Nota: Los datos corresponden a 2013 pues son los últimos disponibles","Nota: Los datos corresponden a 2013 pues son los últimos disponibles","Nota: Los datos corresponden a 2013 pues son los últimos disponibles","Nota: Los datos corresponden a 2013 pues son los últimos disponibles","Nota: Los datos corresponden a 2013 pues son los últimos disponibles","Nota: Los datos corresponden a 2013 pues son los últimos disponibles","Nota: Los datos corresponden a 2013 pues son los últimos disponibles","Nota: Los datos corresponden a 2013 pues son los últimos disponibles","Nota: Los datos corresponden a 2013 pues son los últimos disponibles","Nota: Los datos corresponden a 2013 pues son los últimos disponibles","Nota: Los datos corresponden a 2013 pues son los últimos disponibles","Nota: Los datos corresponden a 2013 pues son los últimos disponibles","Nota: Los datos corresponden a 2013 pues son los últimos disponibles","Nota: Los datos corresponden a 2013 pues son los últimos disponibles","Nota: Los datos corresponden a 2013 pues son los últimos disponibles","Nota: Los datos corresponden a 2013 pues son los últimos disponibles","Nota: Los datos corresponden a 2013 pues son los últimos disponibles","Nota: Los datos corresponden a 2013 pues son los últimos disponibles","Nota: Los datos corresponden a 2013 pues son los últimos disponibles","Nota: Los datos corresponden a 2013 pues son los últimos disponibles","Nota: Los datos corresponden a 2013 pues son los últimos disponibles","Nota: Los datos corresponden a 2013 pues son los últimos disponibles","Nota: Los datos corresponden a 2013 pues son los últimos disponibles","Nota: Los datos corresponden a 2013 pues son los últimos disponibles","Nota: Los datos corresponden a 2013 pues son los últimos disponibles","Nota: Los datos corresponden a 2013 pues son los últimos disponibles","Nota: Los datos corresponden a 2013 pues son los últimos disponibles","Nota: Los datos corresponden a 2013 pues son los últimos disponibles","Nota: Los datos corresponden a 2013 pues son los últimos disponibles","Nota: Los datos corresponden a 2013 pues son los últimos disponibles","Nota: Los datos corresponden a 2013 pues son los últimos disponibles","Nota: Los datos corresponden a 2013 pues son los últimos disponibles","Nota: Los datos corresponden a 2013 pues son los últimos disponibles","Nota: Los datos corresponden a 2013 pues son los últimos disponibles","Nota: Los datos corresponden a 2013 pues son los últimos disponibles","Nota: Los datos corresponden a 2013 pues son los últimos disponibles","Nota: Los datos corresponden a 2013 pues son los últimos disponibles","Nota: Los datos corresponden a 2013 pues son los últimos disponibles","Nota: Los datos corresponden a 2013 pues son los últimos disponibles","Nota: Los datos corresponden a 2013 pues son los últimos disponibles","Nota: Los datos corresponden a 2013 pues son los últimos disponibles","Nota: Los datos corresponden a 2013 pues son los últimos disponibles","Nota: Los datos corresponden a 2013 pues son los últimos disponibles","Nota: Los datos corresponden a 2013 pues son los últimos disponibles","Nota: Los datos corresponden a 2013 pues son los últimos disponibles","Nota: Los datos corresponden a 2013 pues son los últimos disponibles","Nota: Los datos corresponden a 2013 pues son los últimos disponibles","Nota: Los datos corresponden a 2013 pues son los últimos disponibles","Nota: Los datos corresponden a 2013 pues son los últimos disponibles","Nota: Los datos corresponden a 2013 pues son los últimos disponibles","Nota: Los datos corresponden a 2013 pues son los últimos disponibles","Nota: Los datos corresponden a 2013 pues son los últimos disponibles","Nota: Los datos corresponden a 2013 pues son los últimos disponibles","Nota: Los datos corresponden a 2013 pues son los últimos disponibles","Nota: Los datos corresponden a 2013 pues son los últimos disponibles","Nota: Los datos corresponden a 2013 pues son los últimos disponibles","Nota: Los datos corresponden a 2013 pues son los últimos disponibles","Nota: Los datos corresponden a 2013 pues son los últimos disponibles","Nota: Los datos corresponden a 2013 pues son los últimos disponibles","Nota: Los datos corresponden a 2013 pues son los últimos disponibles","Nota: Los datos corresponden a 2013 pues son los últimos disponibles","Nota: Los datos corresponden a 2013 pues son los últimos disponibles","Nota: Los datos corresponden a 2013 pues son los últimos disponibles","Nota: Los datos corresponden a 2013 pues son los últimos disponibles","Nota: Los datos corresponden a 2013 pues son los últimos disponibles","Nota: Los datos corresponden a 2013 pues son los últimos disponibles","Nota: Los datos corresponden a 2013 pues son los últimos disponibles","Nota: Los datos corresponden a 2013 pues son los últimos disponibles","Nota: Los datos corresponden a 2013 pues son los últimos disponibles","Nota: Los datos corresponden a 2013 pues son los últimos disponibles","Nota: Los datos corresponden a 2013 pues son los últimos disponibles","Nota: Los datos corresponden a 2013 pues son los últimos disponibles","Nota: Los datos corresponden a 2013 pues son los últimos disponibles","Nota: Los datos corresponden a 2013 pues son los últimos disponibles","Nota: Los datos corresponden a 2013 pues son los últimos disponibles","Nota: Los datos corresponden a 2013 pues son los últimos disponibles","Nota: Los datos corresponden a 2013 pues son los últimos disponibles","Nota: Los datos corresponden a 2013 pues son los últimos disponibles","Nota: Los datos corresponden a 2013 pues son los últimos disponibles","Nota: Los datos corresponden a 2013 pues son los últimos disponibles","Nota: Los datos corresponden a 2013 pues son los últimos disponibles","Nota: Los datos corresponden a 2013 pues son los últimos disponibles","Nota: Los datos corresponden a 2013 pues son los últimos disponibles","Nota: Los datos corresponden a 2013 pues son los últimos disponibles","Nota: Los datos corresponden a 2013 pues son los últimos disponibles","Nota: Los datos corresponden a 2013 pues son los últimos disponibles","Nota: Los datos corresponden a 2013 pues son los últimos disponibles","Nota: Los datos corresponden a 2013 pues son los últimos disponibles","Nota: Los datos corresponden a 2013 pues son los últimos disponibles","Nota: Los datos corresponden a 2013 pues son los últimos disponibles","Nota: Los datos corresponden a 2013 pues son los últimos disponibles","Nota: Los datos corresponden a 2013 pues son los últimos disponibles","Nota: Los datos corresponden a 2013 pues son los últimos disponibles","Nota: Los datos corresponden a 2013 pues son los últimos disponibles","Nota: Los datos corresponden a 2013 pues son los últimos disponibles","Nota: Los datos corresponden a 2013 pues son los últimos disponibles","Nota: Los datos corresponden a 2013 pues son los últimos disponibles","Nota: Los datos corresponden a 2013 pues son los últimos disponibles","Nota: Los datos corresponden a 2013 pues son los últimos disponibles","Nota: Los datos corresponden a 2013 pues son los últimos disponibles","Nota: Los datos corresponden a 2013 pues son los últimos disponibles","Nota: Los datos corresponden a 2013 pues son los últimos disponibles","Nota: Los datos corresponden a 2013 pues son los últimos disponibles","Nota: Los datos corresponden a 2013 pues son los últimos disponibles","Nota: Los datos corresponden a 2013 pues son los últimos disponibles","Nota: Los datos corresponden a 2013 pues son los últimos disponibles","Nota: Los datos corresponden a 2013 pues son los últimos disponibles","Nota: Los datos corresponden a 2013 pues son los últimos disponibles","Nota: Los datos corresponden a 2013 pues son los últimos disponibles","Nota: Los datos corresponden a 2013 pues son los últimos disponibles","Nota: Los datos corresponden a 2013 pues son los últimos disponibles","Nota: Los datos corresponden a 2013 pues son los últimos disponibles","Nota: Los datos corresponden a 2013 pues son los últimos disponibles","Nota: Los datos corresponden a 2013 pues son los últimos disponibles","Nota: Los datos corresponden a 2013 pues son los últimos disponibles","Nota: Los datos corresponden a 2013 pues son los últimos disponibles","Nota: Los datos corresponden a 2013 pues son los últimos disponibles","Nota: Los datos corresponden a 2013 pues son los últimos disponibles","Nota: Los datos corresponden a 2013 pues son los últimos disponibles","Nota: Los datos corresponden a 2013 pues son los últimos disponibles","Nota: Los datos corresponden a 2013 pues son los últimos disponibles","Nota: Los datos corresponden a 2013 pues son los últimos disponibles","Nota: Los datos corresponden a 2013 pues son los últimos disponibles","Nota: Los datos corresponden a 2013 pues son los últimos disponibles","Nota: Los datos corresponden a 2013 pues son los últimos disponibles","Nota: Los datos corresponden a 2013 pues son los últimos disponibles","Nota: Los datos corresponden a 2013 pues son los últimos disponibles","Nota: Los datos corresponden a 2013 pues son los últimos disponibles","Nota: Los datos corresponden a 2013 pues son los últimos disponibles","Nota: Los datos corresponden a 2013 pues son los últimos disponibles","Nota: Los datos corresponden a 2013 pues son los últimos disponibles","Nota: Los datos corresponden a 2013 pues son los últimos disponibles","Nota: Los datos corresponden a 2013 pues son los últimos disponibles","Nota: Los datos corresponden a 2013 pues son los últimos disponibles","Nota: Los datos corresponden a 2013 pues son los últimos disponibles","Nota: Los datos corresponden a 2013 pues son los últimos disponibles","Nota: Los datos corresponden a 2013 pues son los últimos disponibles","Nota: Los datos corresponden a 2013 pues son los últimos disponibles","Nota: Los datos corresponden a 2013 pues son los últimos disponibles","Nota: Los datos corresponden a 2013 pues son los últimos disponibles","Nota: Los datos corresponden a 2013 pues son los últimos disponibles","Nota: Los datos corresponden a 2013 pues son los últimos disponibles","Nota: Los datos corresponden a 2013 pues son los últimos disponibles","Nota: Los datos corresponden a 2013 pues son los últimos disponibles","Nota: Los datos corresponden a 2013 pues son los últimos disponibles","Nota: Los datos corresponden a 2013 pues son los últimos disponibles","Nota: Los datos corresponden a 2013 pues son los últimos disponibles","Nota: Los datos corresponden a 2013 pues son los últimos disponibles","Nota: Los datos corresponden a 2013 pues son los últimos disponibles","Nota: Los datos corresponden a 2013 pues son los últimos disponibles","Nota: Los datos corresponden a 2013 pues son los últimos disponibles","Nota: Los datos corresponden a 2013 pues son los últimos disponibles","Nota: Los datos corresponden a 2013 pues son los últimos disponibles","Nota: Los datos corresponden a 2013 pues son los últimos disponibles","Nota: Los datos corresponden a 2013 pues son los últimos disponibles","Nota: Los datos corresponden a 2013 pues son los últimos disponibles","Nota: Los datos corresponden a 2013 pues son los últimos disponibles","Nota: Los datos corresponden a 2013 pues son los últimos disponibles","Nota: Los datos corresponden a 2013 pues son los últimos disponibles","Nota: Los datos corresponden a 2013 pues son los últimos disponibles","Nota: Los datos corresponden a 2013 pues son los últimos disponibles","Nota: Los datos corresponden a 2013 pues son los últimos disponibles","Nota: Los datos corresponden a 2013 pues son los últimos disponibles","Nota: Los datos corresponden a 2013 pues son los últimos disponibles","Nota: Los datos corresponden a 2013 pues son los últimos disponibles","Nota: Los datos corresponden a 2013 pues son los últimos disponibles","Nota: Los datos corresponden a 2013 pues son los últimos disponibles","Nota: Los datos corresponden a 2013 pues son los últimos disponibles","Nota: Los datos corresponden a 2013 pues son los últimos disponibles","Nota: Los datos corresponden a 2013 pues son los últimos disponibles","Nota: Los datos corresponden a 2013 pues son los últimos disponibles","Nota: Los datos corresponden a 2013 pues son los últimos disponibles","Nota: Los datos corresponden a 2013 pues son los últimos disponibles","Nota: Los datos corresponden a 2013 pues son los últimos disponibles","Nota: Los datos corresponden a 2013 pues son los últimos disponibles","Nota: Los datos corresponden a 2013 pues son los últimos disponibles","Nota: Los datos corresponden a 2013 pues son los últimos disponibles","Nota: Los datos corresponden a 2013 pues son los últimos disponibles","Nota: Los datos corresponden a 2013 pues son los últimos disponibles","Nota: Los datos corresponden a 2013 pues son los últimos disponibles","Nota: Los datos corresponden a 2013 pues son los últimos disponibles","Nota: Los datos corresponden a 2013 pues son los últimos disponibles","Nota: Los datos corresponden a 2013 pues son los últimos disponibles","Nota: Los datos corresponden a 2013 pues son los últimos disponibles","Nota: Los datos corresponden a 2013 pues son los últimos disponibles","Nota: Los datos corresponden a 2013 pues son los últimos disponibles","Nota: Los datos corresponden a 2013 pues son los últimos disponibles","Nota: Los datos corresponden a 2013 pues son los últimos disponibles","Nota: Los datos corresponden a 2013 pues son los últimos disponibles","Nota: Los datos corresponden a 2013 pues son los últimos disponibles","Nota: Los datos corresponden a 2013 pues son los últimos disponibles","Nota: Los datos corresponden a 2013 pues son los últimos disponibles","Nota: Los datos corresponden a 2013 pues son los últimos disponibles","Nota: Los datos corresponden a 2013 pues son los últimos disponibles","Nota: Los datos corresponden a 2013 pues son los últimos disponibles","Nota: Los datos corresponden a 2013 pues son los últimos disponibles","Nota: Los datos corresponden a 2013 pues son los últimos disponibles","Nota: Los datos corresponden a 2013 pues son los últimos disponibles","Nota: Los datos corresponden a 2013 pues son los últimos disponibles","Nota: Los datos corresponden a 2013 pues son los últimos disponibles","Nota: Los datos corresponden a 2013 pues son los últimos disponibles","Nota: Los datos corresponden a 2013 pues son los últimos disponibles","Nota: Los datos corresponden a 2013 pues son los últimos disponibles","Nota: Los datos corresponden a 2013 pues son los últimos disponibles","Nota: Los datos corresponden a 2013 pues son los últimos disponibles","Nota: Los datos corresponden a 2013 pues son los últimos disponibles","Nota: Los datos corresponden a 2013 pues son los últimos disponibles","Nota: Los datos corresponden a 2013 pues son los últimos disponibles","Nota: Los datos corresponden a 2013 pues son los últimos disponibles","Nota: Los datos corresponden a 2013 pues son los últimos disponibles","Nota: Los datos corresponden a 2013 pues son los últimos disponibles","Nota: Los datos corresponden a 2013 pues son los últimos disponibles","Nota: Los datos corresponden a 2013 pues son los últimos disponibles","Nota: Los datos corresponden a 2013 pues son los últimos disponibles","Nota: Los datos corresponden a 2013 pues son los últimos disponibles","Nota: Los datos corresponden a 2013 pues son los últimos disponibles","Nota: Los datos corresponden a 2013 pues son los últimos disponibles","Nota: Los datos corresponden a 2013 pues son los últimos disponibles","Nota: Los datos corresponden a 2013 pues son los últimos disponibles","Nota: Los datos corresponden a 2013 pues son los últimos disponibles","Nota: Los datos corresponden a 2013 pues son los últimos disponibles","Nota: Los datos corresponden a 2013 pues son los últimos disponibles","Nota: Los datos corresponden a 2013 pues son los últimos disponibles","Nota: Los datos corresponden a 2013 pues son los últimos disponibles","Nota: Los datos corresponden a 2013 pues son los últimos disponibles","Nota: Los datos corresponden a 2013 pues son los últimos disponibles","Nota: Los datos corresponden a 2013 pues son los últimos disponibles","Nota: Los datos corresponden a 2013 pues son los últimos disponibles","Nota: Los datos corresponden a 2013 pues son los últimos disponibles","Nota: Los datos corresponden a 2013 pues son los últimos disponibles","Nota: Los datos corresponden a 2013 pues son los últimos disponibles","Nota: Los datos corresponden a 2013 pues son los últimos disponibles","Nota: Los datos corresponden a 2013 pues son los últimos disponibles","Nota: Los datos corresponden a 2013 pues son los últimos disponibles","Nota: Los datos corresponden a 2013 pues son los últimos disponibles","Nota: Los datos corresponden a 2013 pues son los últimos disponibles","Nota: Los datos corresponden a 2013 pues son los últimos disponibles","Nota: Los datos corresponden a 2013 pues son los últimos disponibles","Nota: Los datos corresponden a 2013 pues son los últimos disponibles","Nota: Los datos corresponden a 2013 pues son los últimos disponibles","Nota: Los datos corresponden a 2013 pues son los últimos disponibles","Nota: Los datos corresponden a 2013 pues son los últimos disponibles","Nota: Los datos corresponden a 2013 pues son los últimos disponibles","Nota: Los datos corresponden a 2013 pues son los últimos disponibles","Nota: Los datos corresponden a 2013 pues son los últimos disponibles","Nota: Los datos corresponden a 2013 pues son los últimos disponibles","Nota: Los datos corresponden a 2013 pues son los últimos disponibles","Nota: Los datos corresponden a 2013 pues son los últimos disponibles","Nota: Los datos corresponden a 2013 pues son los últimos disponibles","Nota: Los datos corresponden a 2013 pues son los últimos disponibles","Nota: Los datos corresponden a 2013 pues son los últimos disponibles","Nota: Los datos corresponden a 2013 pues son los últimos disponibles","Nota: Los datos corresponden a 2013 pues son los últimos disponibles","Nota: Los datos corresponden a 2013 pues son los últimos disponibles","Nota: Los datos corresponden a 2013 pues son los últimos disponibles","Nota: Los datos corresponden a 2013 pues son los últimos disponibles","Nota: Los datos corresponden a 2013 pues son los últimos disponibles","Nota: Los datos corresponden a 2013 pues son los últimos disponibles","Nota: Los datos corresponden a 2013 pues son los últimos disponibles","Nota: Los datos corresponden a 2013 pues son los últimos disponibles","Nota: Los datos corresponden a 2013 pues son los últimos disponibles","Nota: Los datos corresponden a 2013 pues son los últimos disponibles","Nota: Los datos corresponden a 2013 pues son los últimos disponibles","Nota: Los datos corresponden a 2013 pues son los últimos disponibles","Nota: Los datos corresponden a 2013 pues son los últimos disponibles","Nota: Los datos corresponden a 2013 pues son los últimos disponibles","Nota: Los datos corresponden a 2013 pues son los últimos disponibles","Nota: Los datos corresponden a 2013 pues son los últimos disponibles","Nota: Los datos corresponden a 2013 pues son los últimos disponibles","Nota: Los datos corresponden a 2013 pues son los últimos disponibles","Nota: Los datos corresponden a 2013 pues son los últimos disponibles","Nota: Los datos corresponden a 2013 pues son los últimos disponibles","Nota: Los datos corresponden a 2013 pues son los últimos disponibles","Nota: Los datos corresponden a 2013 pues son los últimos disponibles","Nota: Los datos corresponden a 2013 pues son los últimos disponibles","Nota: Los datos corresponden a 2013 pues son los últimos disponibles","Nota: Los datos corresponden a 2013 pues son los últimos disponibles","Nota: Los datos corresponden a 2013 pues son los últimos disponibles","Nota: Los datos corresponden a 2013 pues son los últimos disponibles","Nota: Los datos corresponden a 2013 pues son los últimos disponibles","Nota: Los datos corresponden a 2013 pues son los últimos disponibles","Nota: Los datos corresponden a 2013 pues son los últimos disponibles","Nota: Los datos corresponden a 2013 pues son los últimos disponibles","Nota: Los datos corresponden a 2013 pues son los últimos disponibles","Nota: Los datos corresponden a 2013 pues son los últimos disponibles","Nota: Los datos corresponden a 2013 pues son los últimos disponibles","Nota: Los datos corresponden a 2013 pues son los últimos disponibles","Nota: Los datos corresponden a 2013 pues son los últimos disponibles","Nota: Los datos corresponden a 2013 pues son los últimos disponibles","Nota: Los datos corresponden a 2013 pues son los últimos disponibles","Nota: Los datos corresponden a 2013 pues son los últimos disponibles","Nota: Los datos corresponden a 2013 pues son los últimos disponibles","Nota: Los datos corresponden a 2013 pues son los últimos disponibles","Nota: Los datos corresponden a 2013 pues son los últimos disponibles","Nota: Los datos corresponden a 2013 pues son los últimos disponibles","Nota: Los datos corresponden a 2013 pues son los últimos disponibles","Nota: Los datos corresponden a 2013 pues son los últimos disponibles","Nota: Los datos corresponden a 2013 pues son los últimos disponibles","Nota: Los datos corresponden a 2013 pues son los últimos disponibles","Nota: Los datos corresponden a 2013 pues son los últimos disponibles","Nota: Los datos corresponden a 2013 pues son los últimos disponibles","Nota: Los datos corresponden a 2013 pues son los últimos disponibles","Nota: Los datos corresponden a 2013 pues son los últimos disponibles","Nota: Los datos corresponden a 2013 pues son los últimos disponibles","Nota: Los datos corresponden a 2013 pues son los últimos disponibles","Nota: Los datos corresponden a 2013 pues son los últimos disponibles","Nota: Los datos corresponden a 2013 pues son los últimos disponibles","Nota: Los datos corresponden a 2013 pues son los últimos disponibles","Nota: Los datos corresponden a 2013 pues son los últimos disponibles","Nota: Los datos corresponden a 2013 pues son los últimos disponibles","Nota: Los datos corresponden a 2013 pues son los últimos disponibles","Nota: Los datos corresponden a 2013 pues son los últimos disponibles","Nota: Los datos corresponden a 2013 pues son los últimos disponibles","Nota: Los datos corresponden a 2013 pues son los últimos disponibles","Nota: Los datos corresponden a 2013 pues son los últimos disponibles","Nota: Los datos corresponden a 2013 pues son los últimos disponibles","Nota: Los datos corresponden a 2013 pues son los últimos disponibles","Nota: Los datos corresponden a 2013 pues son los últimos disponibles","Nota: Los datos corresponden a 2013 pues son los últimos disponibles","Nota: Los datos corresponden a 2013 pues son los últimos disponibles","Nota: Los datos corresponden a 2013 pues son los últimos disponibles","Nota: Los datos corresponden a 2013 pues son los últimos disponibles","Nota: Los datos corresponden a 2013 pues son los últimos disponibles","Nota: Los datos corresponden a 2013 pues son los últimos disponibles","Nota: Los datos corresponden a 2013 pues son los últimos disponibles","Nota: Los datos corresponden a 2013 pues son los últimos disponibles","Nota: Los datos corresponden a 2013 pues son los últimos disponibles","Nota: Los datos corresponden a 2013 pues son los últimos disponibles","Nota: Los datos corresponden a 2013 pues son los últimos disponibles","Nota: Los datos corresponden a 2013 pues son los últimos disponibles","Nota: Los datos corresponden a 2013 pues son los últimos disponibles","Nota: Los datos corresponden a 2013 pues son los últimos disponibles","Nota: Los datos corresponden a 2013 pues son los últimos disponibles","Nota: Los datos corresponden a 2013 pues son los últimos disponibles","Nota: Los datos corresponden a 2013 pues son los últimos disponibles","Nota: Los datos corresponden a 2013 pues son los últimos disponibles","Nota: Los datos corresponden a 2013 pues son los últimos disponibles","Nota: Los datos corresponden a 2013 pues son los últimos disponibles","Nota: Los datos corresponden a 2013 pues son los últimos disponibles","Nota: Los datos corresponden a 2013 pues son los últimos disponibles","Nota: Los datos corresponden a 2013 pues son los últimos disponibles","Nota: Los datos corresponden a 2013 pues son los últimos disponibles","Nota: Los datos corresponden a 2013 pues son los últimos disponibles","Nota: Los datos corresponden a 2013 pues son los últimos disponibles","Nota: Los datos corresponden a 2013 pues son los últimos disponibles","Nota: Los datos corresponden a 2013 pues son los últimos disponibles","Nota: Los datos corresponden a 2013 pues son los últimos disponibles","Nota: Los datos corresponden a 2013 pues son los últimos disponibles","Nota: Los datos corresponden a 2013 pues son los últimos disponibles","Nota: Los datos corresponden a 2013 pues son los últimos disponibles","Nota: Los datos corresponden a 2013 pues son los últimos disponibles","Nota: Los datos corresponden a 2013 pues son los últimos disponibles","Nota: Los datos corresponden a 2013 pues son los últimos disponibles","Nota: Los datos corresponden a 2013 pues son los últimos disponibles","Nota: Los datos corresponden a 2013 pues son los últimos disponibles","Nota: Los datos corresponden a 2013 pues son los últimos disponibles","Nota: Los datos corresponden a 2013 pues son los últimos disponibles","Nota: Los datos corresponden a 2013 pues son los últimos disponibles","Nota: Los datos corresponden a 2013 pues son los últimos disponibles","Nota: Los datos corresponden a 2013 pues son los últimos disponibles","Nota: Los datos corresponden a 2013 pues son los últimos disponibles","Nota: Los datos corresponden a 2013 pues son los últimos disponibles","Nota: Los datos corresponden a 2013 pues son los últimos disponibles","Nota: Los datos corresponden a 2013 pues son los últimos disponibles","Nota: Los datos corresponden a 2013 pues son los últimos disponibles","Nota: Los datos corresponden a 2013 pues son los últimos disponibles","Nota: Los datos corresponden a 2013 pues son los últimos disponibles","Nota: Los datos corresponden a 2013 pues son los últimos disponibles","Nota: Los datos corresponden a 2013 pues son los últimos disponibles","Nota: Los datos corresponden a 2013 pues son los últimos disponibles","Nota: Los datos corresponden a 2013 pues son los últimos disponibles","Nota: Los datos corresponden a 2013 pues son los últimos disponibles","Nota: Los datos corresponden a 2013 pues son los últimos disponibles","Nota: Los datos corresponden a 2013 pues son los últimos disponibles","Nota: Los datos corresponden a 2013 pues son los últimos disponibles","Nota: Los datos corresponden a 2013 pues son los últimos disponibles","Nota: Los datos corresponden a 2013 pues son los últimos disponibles","Nota: Los datos corresponden a 2013 pues son los últimos disponibles","Nota: Los datos corresponden a 2013 pues son los últimos disponibles","Nota: Los datos corresponden a 2013 pues son los últimos disponibles","Nota: Los datos corresponden a 2013 pues son los últimos disponibles","Nota: Los datos corresponden a 2013 pues son los últimos disponibles","Nota: Los datos corresponden a 2013 pues son los últimos disponibles","Nota: Los datos corresponden a 2013 pues son los últimos disponibles","Nota: Los datos corresponden a 2013 pues son los últimos disponibles","Nota: Los datos corresponden a 2013 pues son los últimos disponibles","Nota: Los datos corresponden a 2013 pues son los últimos disponibles","Nota: Los datos corresponden a 2013 pues son los últimos disponibles","Nota: Los datos corresponden a 2013 pues son los últimos disponibles","Nota: Los datos corresponden a 2013 pues son los últimos disponibles","Nota: Los datos corresponden a 2013 pues son los últimos disponibles","Nota: Los datos corresponden a 2013 pues son los últimos disponibles","Nota: Los datos corresponden a 2013 pues son los últimos disponibles","Nota: Los datos corresponden a 2013 pues son los últimos disponibles","Nota: Los datos corresponden a 2013 pues son los últimos disponibles","Nota: Los datos corresponden a 2013 pues son los últimos disponibles","Nota: Los datos corresponden a 2013 pues son los últimos disponibles","Nota: Los datos corresponden a 2013 pues son los últimos disponibles","Nota: Los datos corresponden a 2013 pues son los últimos disponibles","Nota: Los datos corresponden a 2013 pues son los últimos disponibles","Nota: Los datos corresponden a 2013 pues son los últimos disponibles","Nota: Los datos corresponden a 2013 pues son los últimos disponibles","Nota: Los datos corresponden a 2013 pues son los últimos disponibles","Nota: Los datos corresponden a 2013 pues son los últimos disponibles","Nota: Los datos corresponden a 2013 pues son los últimos disponibles","Nota: Los datos corresponden a 2013 pues son los últimos disponibles","Nota: Los datos corresponden a 2013 pues son los últimos disponibles","Nota: Los datos corresponden a 2013 pues son los últimos disponibles","Nota: Los datos corresponden a 2013 pues son los últimos disponibles","Nota: Los datos corresponden a 2013 pues son los últimos disponibles","Nota: Los datos corresponden a 2013 pues son los últimos disponibles","Nota: Los datos corresponden a 2013 pues son los últimos disponibles","Nota: Los datos corresponden a 2013 pues son los últimos disponibles","Nota: Los datos corresponden a 2013 pues son los últimos disponibles","Nota: Los datos corresponden a 2013 pues son los últimos disponibles","Nota: Los datos corresponden a 2013 pues son los últimos disponibles","Nota: Los datos corresponden a 2013 pues son los últimos disponibles","Nota: Los datos corresponden a 2013 pues son los últimos disponibles","Nota: Los datos corresponden a 2013 pues son los últimos disponibles","Nota: Los datos corresponden a 2013 pues son los últimos disponibles","Nota: Los datos corresponden a 2013 pues son los últimos disponibles","Nota: Los datos corresponden a 2013 pues son los últimos disponibles","Nota: Los datos corresponden a 2013 pues son los últimos disponibles","Nota: Los datos corresponden a 2013 pues son los últimos disponibles","Nota: Los datos corresponden a 2013 pues son los últimos disponibles","Nota: Los datos corresponden a 2013 pues son los últimos disponibles","Nota: Los datos corresponden a 2013 pues son los últimos disponibles","Nota: Los datos corresponden a 2013 pues son los últimos disponibles","Nota: Los datos corresponden a 2013 pues son los últimos disponibles","Nota: Los datos corresponden a 2013 pues son los últimos disponibles","Nota: Los datos corresponden a 2013 pues son los últimos disponibles","Nota: Los datos corresponden a 2013 pues son los últimos disponibles","Nota: Los datos corresponden a 2013 pues son los últimos disponibles","Nota: Los datos corresponden a 2013 pues son los últimos disponibles","Nota: Los datos corresponden a 2013 pues son los últimos disponibles","Nota: Los datos corresponden a 2013 pues son los últimos disponibles","Nota: Los datos corresponden a 2013 pues son los últimos disponibles","Nota: Los datos corresponden a 2013 pues son los últimos disponibles","Nota: Los datos corresponden a 2013 pues son los últimos disponibles","Nota: Los datos corresponden a 2013 pues son los últimos disponibles","Nota: Los datos corresponden a 2013 pues son los últimos disponibles","Nota: Los datos corresponden a 2013 pues son los últimos disponibles","Nota: Los datos corresponden a 2013 pues son los últimos disponibles","Nota: Los datos corresponden a 2013 pues son los últimos disponibles","Nota: Los datos corresponden a 2013 pues son los últimos disponibles","Nota: Los datos corresponden a 2013 pues son los últimos disponibles","Nota: Los datos corresponden a 2013 pues son los últimos disponibles","Nota: Los datos corresponden a 2013 pues son los últimos disponibles","Nota: Los datos corresponden a 2013 pues son los últimos disponibles","Nota: Los datos corresponden a 2013 pues son los últimos disponibles","Nota: Los datos corresponden a 2013 pues son los últimos disponibles","Nota: Los datos corresponden a 2013 pues son los últimos disponibles","Nota: Los datos corresponden a 2013 pues son los últimos disponibles","Nota: Los datos corresponden a 2013 pues son los últimos disponibles","Nota: Los datos corresponden a 2013 pues son los últimos disponibles","Nota: Los datos corresponden a 2013 pues son los últimos disponibles","Nota: Los datos corresponden a 2013 pues son los últimos disponibles","Nota: Los datos corresponden a 2013 pues son los últimos disponibles","Nota: Los datos corresponden a 2013 pues son los últimos disponibles","Nota: Los datos corresponden a 2013 pues son los últimos disponibles","Nota: Los datos corresponden a 2013 pues son los últimos disponibles","Nota: Los datos corresponden a 2013 pues son los últimos disponibles","Nota: Los datos corresponden a 2013 pues son los últimos disponibles","Nota: Los datos corresponden a 2013 pues son los últimos disponibles","Nota: Los datos corresponden a 2013 pues son los últimos disponibles","Nota: Los datos corresponden a 2013 pues son los últimos disponibles","Nota: Los datos corresponden a 2013 pues son los últimos disponibles","Nota: Los datos corresponden a 2013 pues son los últimos disponibles","Nota: Los datos corresponden a 2013 pues son los últimos disponibles","Nota: Los datos corresponden a 2013 pues son los últimos disponibles","Nota: Los datos corresponden a 2013 pues son los últimos disponibles","Nota: Los datos corresponden a 2013 pues son los últimos disponibles","Nota: Los datos corresponden a 2013 pues son los últimos disponibles","Nota: Los datos corresponden a 2013 pues son los últimos disponibles","Nota: Los datos corresponden a 2013 pues son los últimos disponibles","Nota: Los datos corresponden a 2013 pues son los últimos disponibles","Nota: Los datos corresponden a 2013 pues son los últimos disponibles","Nota: Los datos corresponden a 2013 pues son los últimos disponibles","Nota: Los datos corresponden a 2013 pues son los últimos disponibles","Nota: Los datos corresponden a 2013 pues son los últimos disponibles","Nota: Los datos corresponden a 2013 pues son los últimos disponibles","Nota: Los datos corresponden a 2013 pues son los últimos disponibles","Nota: Los datos corresponden a 2013 pues son los últimos disponibles","Nota: Los datos corresponden a 2013 pues son los últimos disponibles","Nota: Los datos corresponden a 2013 pues son los últimos disponibles","Nota: Los datos corresponden a 2013 pues son los últimos disponibles","Nota: Los datos corresponden a 2013 pues son los últimos disponibles","Nota: Los datos corresponden a 2013 pues son los últimos disponibles","Nota: Los datos corresponden a 2013 pues son los últimos disponibles","Nota: Los datos corresponden a 2013 pues son los últimos disponibles","Nota: Los datos corresponden a 2013 pues son los últimos disponibles","Nota: Los datos corresponden a 2013 pues son los últimos disponibles","Nota: Los datos corresponden a 2013 pues son los últimos disponibles","Nota: Los datos corresponden a 2013 pues son los últimos disponibles","Nota: Los datos corresponden a 2013 pues son los últimos disponibles","Nota: Los datos corresponden a 2013 pues son los últimos disponibles","Nota: Los datos corresponden a 2013 pues son los últimos disponibles","Nota: Los datos corresponden a 2013 pues son los últimos disponibles","Nota: Los datos corresponden a 2013 pues son los últimos disponibles","Nota: Los datos corresponden a 2013 pues son los últimos disponibles","Nota: Los datos corresponden a 2013 pues son los últimos disponibles","Nota: Los datos corresponden a 2013 pues son los últimos disponibles","Nota: Los datos corresponden a 2013 pues son los últimos disponibles","Nota: Los datos corresponden a 2013 pues son los últimos disponibles","Nota: Los datos corresponden a 2013 pues son los últimos disponibles","Nota: Los datos corresponden a 2013 pues son los últimos disponibles","Nota: Los datos corresponden a 2013 pues son los últimos disponibles","Nota: Los datos corresponden a 2013 pues son los últimos disponibles","Nota: Los datos corresponden a 2013 pues son los últimos disponibles","Nota: Los datos corresponden a 2013 pues son los últimos disponibles","Nota: Los datos corresponden a 2013 pues son los últimos disponibles","Nota: Los datos corresponden a 2013 pues son los últimos disponibles","Nota: Los datos corresponden a 2013 pues son los últimos disponibles","Nota: Los datos corresponden a 2013 pues son los últimos disponibles","Nota: Los datos corresponden a 2013 pues son los últimos disponibles","Nota: Los datos corresponden a 2013 pues son los últimos disponibles","Nota: Los datos corresponden a 2013 pues son los últimos disponibles","Nota: Los datos corresponden a 2013 pues son los últimos disponibles","Nota: Los datos corresponden a 2013 pues son los últimos disponibles","Nota: Los datos corresponden a 2013 pues son los últimos disponibles","Nota: Los datos corresponden a 2013 pues son los últimos disponibles","Nota: Los datos corresponden a 2013 pues son los últimos disponibles","Nota: Los datos corresponden a 2013 pues son los últimos disponibles","Nota: Los datos corresponden a 2013 pues son los últimos disponibles","Nota: Los datos corresponden a 2013 pues son los últimos disponibles","Nota: Los datos corresponden a 2013 pues son los últimos disponibles","Nota: Los datos corresponden a 2013 pues son los últimos disponibles","Nota: Los datos corresponden a 2013 pues son los últimos disponibles","Nota: Los datos corresponden a 2013 pues son los últimos disponibles","Nota: Los datos corresponden a 2013 pues son los últimos disponibles","Nota: Los datos corresponden a 2013 pues son los últimos disponibles","Nota: Los datos corresponden a 2013 pues son los últimos disponibles","Nota: Los datos corresponden a 2013 pues son los últimos disponibles","Nota: Los datos corresponden a 2013 pues son los últimos disponibles","Nota: Los datos corresponden a 2013 pues son los últimos disponibles","Nota: Los datos corresponden a 2013 pues son los últimos disponibles","Nota: Los datos corresponden a 2013 pues son los últimos disponibles","Nota: Los datos corresponden a 2013 pues son los últimos disponibles","Nota: Los datos corresponden a 2013 pues son los últimos disponibles","Nota: Los datos corresponden a 2013 pues son los últimos disponibles","Nota: Los datos corresponden a 2013 pues son los últimos disponibles","Nota: Los datos corresponden a 2013 pues son los últimos disponibles","Nota: Los datos corresponden a 2013 pues son los últimos disponibles","Nota: Los datos corresponden a 2013 pues son los últimos disponibles","Nota: Los datos corresponden a 2013 pues son los últimos disponibles","Nota: Los datos corresponden a 2013 pues son los últimos disponibles","Nota: Los datos corresponden a 2013 pues son los últimos disponibles","Nota: Los datos corresponden a 2013 pues son los últimos disponibles","Nota: Los datos corresponden a 2013 pues son los últimos disponibles","Nota: Los datos corresponden a 2013 pues son los últimos disponibles","Nota: Los datos corresponden a 2013 pues son los últimos disponibles","Nota: Los datos corresponden a 2013 pues son los últimos disponibles","Nota: Los datos corresponden a 2013 pues son los últimos disponibles","Nota: Los datos corresponden a 2013 pues son los últimos disponibles","Nota: Los datos corresponden a 2013 pues son los últimos disponibles","Nota: Los datos corresponden a 2013 pues son los últimos disponibles","Nota: Los datos corresponden a 2013 pues son los últimos disponibles","Nota: Los datos corresponden a 2013 pues son los últimos disponibles","Nota: Los datos corresponden a 2013 pues son los últimos disponibles","Nota: Los datos corresponden a 2013 pues son los últimos disponibles","Nota: Los datos corresponden a 2013 pues son los últimos disponibles","Nota: Los datos corresponden a 2013 pues son los últimos disponibles","Nota: Los datos corresponden a 2013 pues son los últimos disponibles","Nota: Los datos corresponden a 2013 pues son los últimos disponibles","Nota: Los datos corresponden a 2013 pues son los últimos disponibles","Nota: Los datos corresponden a 2013 pues son los últimos disponibles","Nota: Los datos corresponden a 2013 pues son los últimos disponibles","Nota: Los datos corresponden a 2013 pues son los últimos disponibles","Nota: Los datos corresponden a 2013 pues son los últimos disponibles","Nota: Los datos corresponden a 2013 pues son los últimos disponibles","Nota: Los datos corresponden a 2013 pues son los últimos disponibles","Nota: Los datos corresponden a 2013 pues son los últimos disponibles","Nota: Los datos corresponden a 2013 pues son los últimos disponibles","Nota: Los datos corresponden a 2013 pues son los últimos disponibles","Nota: Los datos corresponden a 2013 pues son los últimos disponibles","Nota: Los datos corresponden a 2013 pues son los últimos disponibles","Nota: Los datos corresponden a 2013 pues son los últimos disponibles","Nota: Los datos corresponden a 2013 pues son los últimos disponibles","Nota: Los datos corresponden a 2013 pues son los últimos disponibles","Nota: Los datos corresponden a 2013 pues son los últimos disponibles","Nota: Los datos corresponden a 2013 pues son los últimos disponibles","Nota: Los datos corresponden a 2013 pues son los últimos disponibles","Nota: Los datos corresponden a 2013 pues son los últimos disponibles","Nota: Los datos corresponden a 2013 pues son los últimos disponibles","Nota: Los datos corresponden a 2013 pues son los últimos disponibles","Nota: Los datos corresponden a 2013 pues son los últimos disponibles","Nota: Los datos corresponden a 2013 pues son los últimos disponibles","Nota: Los datos corresponden a 2013 pues son los últimos disponibles","Nota: Los datos corresponden a 2013 pues son los últimos disponibles","Nota: Los datos corresponden a 2013 pues son los últimos disponibles","Nota: Los datos corresponden a 2013 pues son los últimos disponibles","Nota: Los datos corresponden a 2013 pues son los últimos disponibles","Nota: Los datos corresponden a 2013 pues son los últimos disponibles","Nota: Los datos corresponden a 2013 pues son los últimos disponibles","Nota: Los datos corresponden a 2013 pues son los últimos disponibles","Nota: Los datos corresponden a 2013 pues son los últimos disponibles","Nota: Los datos corresponden a 2013 pues son los últimos disponibles","Nota: Los datos corresponden a 2013 pues son los últimos disponibles","Nota: Los datos corresponden a 2013 pues son los últimos disponibles","Nota: Los datos corresponden a 2013 pues son los últimos disponibles","Nota: Los datos corresponden a 2013 pues son los últimos disponibles","Nota: Los datos corresponden a 2013 pues son los últimos disponibles","Nota: Los datos corresponden a 2013 pues son los últimos disponibles","Nota: Los datos corresponden a 2013 pues son los últimos disponibles","Nota: Los datos corresponden a 2013 pues son los últimos disponibles","Nota: Los datos corresponden a 2013 pues son los últimos disponibles","Nota: Los datos corresponden a 2013 pues son los últimos disponibles","Nota: Los datos corresponden a 2013 pues son los últimos disponibles","Nota: Los datos corresponden a 2013 pues son los últimos disponibles","Nota: Los datos corresponden a 2013 pues son los últimos disponibles","Nota: Los datos corresponden a 2013 pues son los últimos disponibles","Nota: Los datos corresponden a 2013 pues son los últimos disponibles","Nota: Los datos corresponden a 2013 pues son los últimos disponibles","Nota: Los datos corresponden a 2013 pues son los últimos disponibles","Nota: Los datos corresponden a 2013 pues son los últimos disponibles","Nota: Los datos corresponden a 2013 pues son los últimos disponibles","Nota: Los datos corresponden a 2013 pues son los últimos disponibles","Nota: Los datos corresponden a 2013 pues son los últimos disponibles","Nota: Los datos corresponden a 2013 pues son los últimos disponibles","Nota: Los datos corresponden a 2013 pues son los últimos disponibles","Nota: Los datos corresponden a 2013 pues son los últimos disponibles","Nota: Los datos corresponden a 2013 pues son los últimos disponibles","Nota: Los datos corresponden a 2013 pues son los últimos disponibles","Nota: Los datos corresponden a 2013 pues son los últimos disponibles","Nota: Los datos corresponden a 2013 pues son los últimos disponibles","Nota: Los datos corresponden a 2013 pues son los últimos disponibles","Nota: Los datos corresponden a 2013 pues son los últimos disponibles","Nota: Los datos corresponden a 2013 pues son los últimos disponibles","Nota: Los datos corresponden a 2013 pues son los últimos disponibles","Nota: Los datos corresponden a 2013 pues son los últimos disponibles","Nota: Los datos corresponden a 2013 pues son los últimos disponibles","Nota: Los datos corresponden a 2013 pues son los últimos disponibles","Nota: Los datos corresponden a 2013 pues son los últimos disponibles","Nota: Los datos corresponden a 2013 pues son los últimos disponibles","Nota: Los datos corresponden a 2013 pues son los últimos disponibles","Nota: Los datos corresponden a 2013 pues son los últimos disponibles","Nota: Los datos corresponden a 2013 pues son los últimos disponibles","Nota: Los datos corresponden a 2013 pues son los últimos disponibles","Nota: Los datos corresponden a 2013 pues son los últimos disponibles","Nota: Los datos corresponden a 2013 pues son los últimos disponibles","Nota: Los datos corresponden a 2013 pues son los últimos disponibles","Nota: Los datos corresponden a 2013 pues son los últimos disponibles","Nota: Los datos corresponden a 2013 pues son los últimos disponibles","Nota: Los datos corresponden a 2013 pues son los últimos disponibles","Nota: Los datos corresponden a 2013 pues son los últimos disponibles","Nota: Los datos corresponden a 2013 pues son los últimos disponibles","Nota: Los datos corresponden a 2013 pues son los últimos disponibles","Nota: Los datos corresponden a 2013 pues son los últimos disponibles","Nota: Los datos corresponden a 2013 pues son los últimos disponibles","Nota: Los datos corresponden a 2013 pues son los últimos disponibles","Nota: Los datos corresponden a 2013 pues son los últimos disponibles","Nota: Los datos corresponden a 2013 pues son los últimos disponibles","Nota: Los datos corresponden a 2013 pues son los últimos disponibles","Nota: Los datos corresponden a 2013 pues son los últimos disponibles","Nota: Los datos corresponden a 2013 pues son los últimos disponibles","Nota: Los datos corresponden a 2013 pues son los últimos disponibles","Nota: Los datos corresponden a 2013 pues son los últimos disponibles","Nota: Los datos corresponden a 2013 pues son los últimos disponibles","Nota: Los datos corresponden a 2013 pues son los últimos disponibles","Nota: Los datos corresponden a 2013 pues son los últimos disponibles","Nota: Los datos corresponden a 2013 pues son los últimos disponibles","Nota: Los datos corresponden a 2013 pues son los últimos disponibles","Nota: Los datos corresponden a 2013 pues son los últimos disponibles","Nota: Los datos corresponden a 2013 pues son los últimos disponibles","Nota: Los datos corresponden a 2013 pues son los últimos disponibles","Nota: Los datos corresponden a 2013 pues son los últimos disponibles","Nota: Los datos corresponden a 2013 pues son los últimos disponibles","Nota: Los datos corresponden a 2013 pues son los últimos disponibles","Nota: Los datos corresponden a 2013 pues son los últimos disponibles","Nota: Los datos corresponden a 2013 pues son los últimos disponibles","Nota: Los datos corresponden a 2013 pues son los últimos disponibles","Nota: Los datos corresponden a 2013 pues son los últimos disponibles","Nota: Los datos corresponden a 2013 pues son los últimos disponibles","Nota: Los datos corresponden a 2013 pues son los últimos disponibles","Nota: Los datos corresponden a 2013 pues son los últimos disponibles","Nota: Los datos corresponden a 2013 pues son los últimos disponibles","Nota: Los datos corresponden a 2013 pues son los últimos disponibles","Nota: Los datos corresponden a 2013 pues son los últimos disponibles","Nota: Los datos corresponden a 2013 pues son los últimos disponibles","Nota: Los datos corresponden a 2013 pues son los últimos disponibles","Nota: Los datos corresponden a 2013 pues son los últimos disponibles","Nota: Los datos corresponden a 2013 pues son los últimos disponibles","Nota: Los datos corresponden a 2013 pues son los últimos disponibles","Nota: Los datos corresponden a 2013 pues son los últimos disponibles","Nota: Los datos corresponden a 2013 pues son los últimos disponibles","Nota: Los datos corresponden a 2013 pues son los últimos disponibles","Nota: Los datos corresponden a 2013 pues son los últimos disponibles","Nota: Los datos corresponden a 2013 pues son los últimos disponibles","Nota: Los datos corresponden a 2013 pues son los últimos disponibles","Nota: Los datos corresponden a 2013 pues son los últimos disponibles","Nota: Los datos corresponden a 2013 pues son los últimos disponibles","Nota: Los datos corresponden a 2013 pues son los últimos disponibles","Nota: Los datos corresponden a 2013 pues son los últimos disponibles","Nota: Los datos corresponden a 2013 pues son los últimos disponibles","Nota: Los datos corresponden a 2013 pues son los últimos disponibles","Nota: Los datos corresponden a 2013 pues son los últimos disponibles","Nota: Los datos corresponden a 2013 pues son los últimos disponibles","Nota: Los datos corresponden a 2013 pues son los últimos disponibles","Nota: Los datos corresponden a 2013 pues son los últimos disponibles","Nota: Los datos corresponden a 2013 pues son los últimos disponibles","Nota: Los datos corresponden a 2013 pues son los últimos disponibles","Nota: Los datos corresponden a 2013 pues son los últimos disponibles","Nota: Los datos corresponden a 2013 pues son los últimos disponibles","Nota: Los datos corresponden a 2013 pues son los últimos disponibles","Nota: Los datos corresponden a 2013 pues son los últimos disponibles","Nota: Los datos corresponden a 2013 pues son los últimos disponibles","Nota: Los datos corresponden a 2013 pues son los últimos disponibles","Nota: Los datos corresponden a 2013 pues son los últimos disponibles","Nota: Los datos corresponden a 2013 pues son los últimos disponibles","Nota: Los datos corresponden a 2013 pues son los últimos disponibles","Nota: Los datos corresponden a 2013 pues son los últimos disponibles","Nota: Los datos corresponden a 2013 pues son los últimos disponibles","Nota: Los datos corresponden a 2013 pues son los últimos disponibles","Nota: Los datos corresponden a 2013 pues son los últimos disponibles","Nota: Los datos corresponden a 2013 pues son los últimos disponibles","Nota: Los datos corresponden a 2013 pues son los últimos disponibles","Nota: Los datos corresponden a 2013 pues son los últimos disponibles","Nota: Los datos corresponden a 2013 pues son los últimos disponibles","Nota: Los datos corresponden a 2013 pues son los últimos disponibles","Nota: Los datos corresponden a 2013 pues son los últimos disponibles","Nota: Los datos corresponden a 2013 pues son los últimos disponibles","Nota: Los datos corresponden a 2013 pues son los últimos disponibles","Nota: Los datos corresponden a 2013 pues son los últimos disponibles","Nota: Los datos corresponden a 2013 pues son los últimos disponibles","Nota: Los datos corresponden a 2013 pues son los últimos disponibles","Nota: Los datos corresponden a 2013 pues son los últimos disponibles","Nota: Los datos corresponden a 2013 pues son los últimos disponibles","Nota: Los datos corresponden a 2013 pues son los últimos disponibles","Nota: Los datos corresponden a 2013 pues son los últimos disponibles","Nota: Los datos corresponden a 2013 pues son los últimos disponibles","Nota: Los datos corresponden a 2013 pues son los últimos disponibles","Nota: Los datos corresponden a 2013 pues son los últimos disponibles","Nota: Los datos corresponden a 2013 pues son los últimos disponibles","Nota: Los datos corresponden a 2013 pues son los últimos disponibles","Nota: Los datos corresponden a 2013 pues son los últimos disponibles","Nota: Los datos corresponden a 2013 pues son los últimos disponibles","Nota: Los datos corresponden a 2013 pues son los últimos disponibles","Nota: Los datos corresponden a 2013 pues son los últimos disponibles","Nota: Los datos corresponden a 2013 pues son los últimos disponibles","Nota: Los datos corresponden a 2013 pues son los últimos disponibles","Nota: Los datos corresponden a 2013 pues son los últimos disponibles","Nota: Los datos corresponden a 2013 pues son los últimos disponibles","Nota: Los datos corresponden a 2013 pues son los últimos disponibles","Nota: Los datos corresponden a 2013 pues son los últimos disponibles","Nota: Los datos corresponden a 2013 pues son los últimos disponibles","Nota: Los datos corresponden a 2013 pues son los últimos disponibles","Nota: Los datos corresponden a 2013 pues son los últimos disponibles","Nota: Los datos corresponden a 2013 pues son los últimos disponibles","Nota: Los datos corresponden a 2013 pues son los últimos disponibles","Nota: Los datos corresponden a 2013 pues son los últimos disponibles","Nota: Los datos corresponden a 2013 pues son los últimos disponibles","Nota: Los datos corresponden a 2013 pues son los últimos disponibles","Nota: Los datos corresponden a 2013 pues son los últimos disponibles","Nota: Los datos corresponden a 2013 pues son los últimos disponibles","Nota: Los datos corresponden a 2013 pues son los últimos disponibles","Nota: Los datos corresponden a 2013 pues son los últimos disponibles","Nota: Los datos corresponden a 2013 pues son los últimos disponibles","Nota: Los datos corresponden a 2013 pues son los últimos disponibles","Nota: Los datos corresponden a 2013 pues son los últimos disponibles","Nota: Los datos corresponden a 2013 pues son los últimos disponibles","Nota: Los datos corresponden a 2013 pues son los últimos disponibles","Nota: Los datos corresponden a 2013 pues son los últimos disponibles","Nota: Los datos corresponden a 2013 pues son los últimos disponibles","Nota: Los datos corresponden a 2013 pues son los últimos disponibles","Nota: Los datos corresponden a 2013 pues son los últimos disponibles","Nota: Los datos corresponden a 2013 pues son los últimos disponibles","Nota: Los datos corresponden a 2013 pues son los últimos disponibles","Nota: Los datos corresponden a 2013 pues son los últimos disponibles","Nota: Los datos corresponden a 2013 pues son los últimos disponibles","Nota: Los datos corresponden a 2013 pues son los últimos disponibles","Nota: Los datos corresponden a 2013 pues son los últimos disponibles","Nota: Los datos corresponden a 2013 pues son los últimos disponibles","Nota: Los datos corresponden a 2013 pues son los últimos disponibles","Nota: Los datos corresponden a 2013 pues son los últimos disponibles","Nota: Los datos corresponden a 2013 pues son los últimos disponibles","Nota: Los datos corresponden a 2013 pues son los últimos disponibles","Nota: Los datos corresponden a 2013 pues son los últimos disponibles","Nota: Los datos corresponden a 2013 pues son los últimos disponibles","Nota: Los datos corresponden a 2013 pues son los últimos disponibles","Nota: Los datos corresponden a 2013 pues son los últimos disponibles","Nota: Los datos corresponden a 2013 pues son los últimos disponibles","Nota: Los datos corresponden a 2013 pues son los últimos disponibles","Nota: Los datos corresponden a 2013 pues son los últimos disponibles","Nota: Los datos corresponden a 2013 pues son los últimos disponibles","Nota: Los datos corresponden a 2013 pues son los últimos disponibles","Nota: Los datos corresponden a 2013 pues son los últimos disponibles","Nota: Los datos corresponden a 2013 pues son los últimos disponibles","Nota: Los datos corresponden a 2013 pues son los últimos disponibles","Nota: Los datos corresponden a 2013 pues son los últimos disponibles","Nota: Los datos corresponden a 2013 pues son los últimos disponibles","Nota: Los datos corresponden a 2013 pues son los últimos disponibles","Nota: Los datos corresponden a 2013 pues son los últimos disponibles","Nota: Los datos corresponden a 2013 pues son los últimos disponibles","Nota: Los datos corresponden a 2013 pues son los últimos disponibles","Nota: Los datos corresponden a 2013 pues son los últimos disponibles","Nota: Los datos corresponden a 2013 pues son los últimos disponibles","Nota: Los datos corresponden a 2013 pues son los últimos disponibles","Nota: Los datos corresponden a 2013 pues son los últimos disponibles","Nota: Los datos corresponden a 2013 pues son los últimos disponibles","Nota: Los datos corresponden a 2013 pues son los últimos disponibles","Nota: Los datos corresponden a 2013 pues son los últimos disponibles","Nota: Los datos corresponden a 2013 pues son los últimos disponibles","Nota: Los datos corresponden a 2013 pues son los últimos disponibles","Nota: Los datos corresponden a 2013 pues son los últimos disponibles","Nota: Los datos corresponden a 2013 pues son los últimos disponibles","Nota: Los datos corresponden a 2013 pues son los últimos disponibles","Nota: Los datos corresponden a 2013 pues son los últimos disponibles","Nota: Los datos corresponden a 2013 pues son los últimos disponibles","Nota: Los datos corresponden a 2013 pues son los últimos disponibles","Nota: Los datos corresponden a 2013 pues son los últimos disponibles","Nota: Los datos corresponden a 2013 pues son los últimos disponibles","Nota: Los datos corresponden a 2013 pues son los últimos disponibles","Nota: Los datos corresponden a 2013 pues son los últimos disponibles","Nota: Los datos corresponden a 2013 pues son los últimos disponibles","Nota: Los datos corresponden a 2013 pues son los últimos disponibles","Nota: Los datos corresponden a 2013 pues son los últimos disponibles","Nota: Los datos corresponden a 2013 pues son los últimos disponibles","Nota: Los datos corresponden a 2013 pues son los últimos disponibles","Nota: Los datos corresponden a 2013 pues son los últimos disponibles","Nota: Los datos corresponden a 2013 pues son los últimos disponibles","Nota: Los datos corresponden a 2013 pues son los últimos disponibles","Nota: Los datos corresponden a 2013 pues son los últimos disponibles","Nota: Los datos corresponden a 2013 pues son los últimos disponibles","Nota: Los datos corresponden a 2013 pues son los últimos disponibles","Nota: Los datos corresponden a 2013 pues son los últimos disponibles","Nota: Los datos corresponden a 2013 pues son los últimos disponibles","Nota: Los datos corresponden a 2013 pues son los últimos disponibles","Nota: Los datos corresponden a 2013 pues son los últimos disponibles","Nota: Los datos corresponden a 2013 pues son los últimos disponibles","Nota: Los datos corresponden a 2013 pues son los últimos disponibles","Nota: Los datos corresponden a 2013 pues son los últimos disponibles","Nota: Los datos corresponden a 2013 pues son los últimos disponibles","Nota: Los datos corresponden a 2013 pues son los últimos disponibles","Nota: Los datos corresponden a 2013 pues son los últimos disponibles","Nota: Los datos corresponden a 2013 pues son los últimos disponibles","Nota: Los datos corresponden a 2013 pues son los últimos disponibles","Nota: Los datos corresponden a 2013 pues son los últimos disponibles","Nota: Los datos corresponden a 2013 pues son los últimos disponibles","Nota: Los datos corresponden a 2013 pues son los últimos disponibles","Nota: Los datos corresponden a 2013 pues son los últimos disponibles","Nota: Los datos corresponden a 2013 pues son los últimos disponibles","Nota: Los datos corresponden a 2013 pues son los últimos disponibles","Nota: Los datos corresponden a 2013 pues son los últimos disponibles","Nota: Los datos corresponden a 2013 pues son los últimos disponibles","Nota: Los datos corresponden a 2013 pues son los últimos disponibles","Nota: Los datos corresponden a 2013 pues son los últimos disponibles","Nota: Los datos corresponden a 2013 pues son los últimos disponibles","Nota: Los datos corresponden a 2013 pues son los últimos disponibles","Nota: Los datos corresponden a 2013 pues son los últimos disponibles","Nota: Los datos corresponden a 2013 pues son los últimos disponibles","Nota: Los datos corresponden a 2013 pues son los últimos disponibles","Nota: Los datos corresponden a 2013 pues son los últimos disponibles","Nota: Los datos corresponden a 2013 pues son los últimos disponibles","Nota: Los datos corresponden a 2013 pues son los últimos disponibles","Nota: Los datos corresponden a 2013 pues son los últimos disponibles","Nota: Los datos corresponden a 2013 pues son los últimos disponibles","Nota: Los datos corresponden a 2013 pues son los últimos disponibles","Nota: Los datos corresponden a 2013 pues son los últimos disponibles","Nota: Los datos corresponden a 2013 pues son los últimos disponibles","Nota: Los datos corresponden a 2013 pues son los últimos disponibles","Nota: Los datos corresponden a 2013 pues son los últimos disponibles","Nota: Los datos corresponden a 2013 pues son los últimos disponibles","Nota: Los datos corresponden a 2013 pues son los últimos disponibles","Nota: Los datos corresponden a 2013 pues son los últimos disponibles","Nota: Los datos corresponden a 2013 pues son los últimos disponibles","Nota: Los datos corresponden a 2013 pues son los últimos disponibles","Nota: Los datos corresponden a 2013 pues son los últimos disponibles","Nota: Los datos corresponden a 2013 pues son los últimos disponibles","Nota: Los datos corresponden a 2013 pues son los últimos disponibles","Nota: Los datos corresponden a 2013 pues son los últimos disponibles","Nota: Los datos corresponden a 2013 pues son los últimos disponibles","Nota: Los datos corresponden a 2013 pues son los últimos disponibles","Nota: Los datos corresponden a 2013 pues son los últimos disponibles","Nota: Los datos corresponden a 2013 pues son los últimos disponibles","Nota: Los datos corresponden a 2013 pues son los últimos disponibles","Nota: Los datos corresponden a 2013 pues son los últimos disponibles","Nota: Los datos corresponden a 2013 pues son los últimos disponibles","Nota: Los datos corresponden a 2013 pues son los últimos disponibles","Nota: Los datos corresponden a 2013 pues son los últimos disponibles","Nota: Los datos corresponden a 2013 pues son los últimos disponibles","Nota: Los datos corresponden a 2013 pues son los últimos disponibles","Nota: Los datos corresponden a 2013 pues son los últimos disponibles","Nota: Los datos corresponden a 2013 pues son los últimos disponibles","Nota: Los datos corresponden a 2013 pues son los últimos disponibles","Nota: Los datos corresponden a 2013 pues son los últimos disponibles","Nota: Los datos corresponden a 2013 pues son los últimos disponibles","Nota: Los datos corresponden a 2013 pues son los últimos disponibles","Nota: Los datos corresponden a 2013 pues son los últimos disponibles","Nota: Los datos corresponden a 2013 pues son los últimos disponibles","Nota: Los datos corresponden a 2013 pues son los últimos disponibles","Nota: Los datos corresponden a 2013 pues son los últimos disponibles","Nota: Los datos corresponden a 2013 pues son los últimos disponibles","Nota: Los datos corresponden a 2013 pues son los últimos disponibles","Nota: Los datos corresponden a 2013 pues son los últimos disponibles","Nota: Los datos corresponden a 2013 pues son los últimos disponibles","Nota: Los datos corresponden a 2013 pues son los últimos disponibles","Nota: Los datos corresponden a 2013 pues son los últimos disponibles","Nota: Los datos corresponden a 2013 pues son los últimos disponibles","Nota: Los datos corresponden a 2013 pues son los últimos disponibles","Nota: Los datos corresponden a 2013 pues son los últimos disponibles","Nota: Los datos corresponden a 2013 pues son los últimos disponibles","Nota: Los datos corresponden a 2013 pues son los últimos disponibles","Nota: Los datos corresponden a 2013 pues son los últimos disponibles","Nota: Los datos corresponden a 2013 pues son los últimos disponibles","Nota: Los datos corresponden a 2013 pues son los últimos disponibles","Nota: Los datos corresponden a 2013 pues son los últimos disponibles","Nota: Los datos corresponden a 2013 pues son los últimos disponibles","Nota: Los datos corresponden a 2013 pues son los últimos disponibles","Nota: Los datos corresponden a 2013 pues son los últimos disponibles","Nota: Los datos corresponden a 2013 pues son los últimos disponibles","Nota: Los datos corresponden a 2013 pues son los últimos disponibles","Nota: Los datos corresponden a 2013 pues son los últimos disponibles","Nota: Los datos corresponden a 2013 pues son los últimos disponibles","Nota: Los datos corresponden a 2013 pues son los últimos disponibles","Nota: Los datos corresponden a 2013 pues son los últimos disponibles","Nota: Los datos corresponden a 2013 pues son los últimos disponibles","Nota: Los datos corresponden a 2013 pues son los últimos disponibles","Nota: Los datos corresponden a 2013 pues son los últimos disponibles","Nota: Los datos corresponden a 2013 pues son los últimos disponibles","Nota: Los datos corresponden a 2013 pues son los últimos disponibles","Nota: Los datos corresponden a 2013 pues son los últimos disponibles","Nota: Los datos corresponden a 2013 pues son los últimos disponibles","Nota: Los datos corresponden a 2013 pues son los últimos disponibles","Nota: Los datos corresponden a 2013 pues son los últimos disponibles","Nota: Los datos corresponden a 2013 pues son los últimos disponibles","Nota: Los datos corresponden a 2013 pues son los últimos disponibles","Nota: Los datos corresponden a 2013 pues son los últimos disponibles","Nota: Los datos corresponden a 2013 pues son los últimos disponibles","Nota: Los datos corresponden a 2013 pues son los últimos disponibles","Nota: Los datos corresponden a 2013 pues son los últimos disponibles","Nota: Los datos corresponden a 2013 pues son los últimos disponibles","Nota: Los datos corresponden a 2013 pues son los últimos disponibles","Nota: Los datos corresponden a 2013 pues son los últimos disponibles","Nota: Los datos corresponden a 2013 pues son los últimos disponibles","Nota: Los datos corresponden a 2013 pues son los últimos disponibles","Nota: Los datos corresponden a 2013 pues son los últimos disponibles","Nota: Los datos corresponden a 2013 pues son los últimos disponibles","Nota: Los datos corresponden a 2013 pues son los últimos disponibles","Nota: Los datos corresponden a 2013 pues son los últimos disponibles","Nota: Los datos corresponden a 2013 pues son los últimos disponibles","Nota: Los datos corresponden a 2013 pues son los últimos disponibles","Nota: Los datos corresponden a 2013 pues son los últimos disponibles","Nota: Los datos corresponden a 2013 pues son los últimos disponibles","Nota: Los datos corresponden a 2013 pues son los últimos disponibles","Nota: Los datos corresponden a 2013 pues son los últimos disponibles","Nota: Los datos corresponden a 2013 pues son los últimos disponibles","Nota: Los datos corresponden a 2013 pues son los últimos disponibles","Nota: Los datos corresponden a 2013 pues son los últimos disponibles","Nota: Los datos corresponden a 2013 pues son los últimos disponibles","Nota: Los datos corresponden a 2013 pues son los últimos disponibles","Nota: Los datos corresponden a 2013 pues son los últimos disponibles","Nota: Los datos corresponden a 2013 pues son los últimos disponibles","Nota: Los datos corresponden a 2013 pues son los últimos disponibles","Nota: Los datos corresponden a 2013 pues son los últimos disponibles","Nota: Los datos corresponden a 2013 pues son los últimos disponibles","Nota: Los datos corresponden a 2013 pues son los últimos disponibles","Nota: Los datos corresponden a 2013 pues son los últimos disponibles","Nota: Los datos corresponden a 2013 pues son los últimos disponibles","Nota: Los datos corresponden a 2013 pues son los últimos disponibles","Nota: Los datos corresponden a 2013 pues son los últimos disponibles","Nota: Los datos corresponden a 2013 pues son los últimos disponibles","Nota: Los datos corresponden a 2013 pues son los últimos disponibles","Nota: Los datos corresponden a 2013 pues son los últimos disponibles","Nota: Los datos corresponden a 2013 pues son los últimos disponibles","Nota: Los datos corresponden a 2013 pues son los últimos disponibles","Nota: Los datos corresponden a 2013 pues son los últimos disponibles","Nota: Los datos corresponden a 2013 pues son los últimos disponibles","Nota: Los datos corresponden a 2013 pues son los últimos disponibles","Nota: Los datos corresponden a 2013 pues son los últimos disponibles","Nota: Los datos corresponden a 2013 pues son los últimos disponibles","Nota: Los datos corresponden a 2013 pues son los últimos disponibles","Nota: Los datos corresponden a 2013 pues son los últimos disponibles","Nota: Los datos corresponden a 2013 pues son los últimos disponibles","Nota: Los datos corresponden a 2013 pues son los últimos disponibles","Nota: Los datos corresponden a 2013 pues son los últimos disponibles","Nota: Los datos corresponden a 2013 pues son los últimos disponibles","Nota: Los datos corresponden a 2013 pues son los últimos disponibles","Nota: Los datos corresponden a 2013 pues son los últimos disponibles","Nota: Los datos corresponden a 2013 pues son los últimos disponibles","Nota: Los datos corresponden a 2013 pues son los últimos disponibles","Nota: Los datos corresponden a 2013 pues son los últimos disponibles","Nota: Los datos corresponden a 2013 pues son los últimos disponibles","Nota: Los datos corresponden a 2013 pues son los últimos disponibles","Nota: Los datos corresponden a 2013 pues son los últimos disponibles","Nota: Los datos corresponden a 2013 pues son los últimos disponibles","Nota: Los datos corresponden a 2013 pues son los últimos disponibles","Nota: Los datos corresponden a 2013 pues son los últimos disponibles","Nota: Los datos corresponden a 2013 pues son los últimos disponibles","Nota: Los datos corresponden a 2013 pues son los últimos disponibles","Nota: Los datos corresponden a 2013 pues son los últimos disponibles","Nota: Los datos corresponden a 2013 pues son los últimos disponibles","Nota: Los datos corresponden a 2013 pues son los últimos disponibles","Nota: Los datos corresponden a 2013 pues son los últimos disponibles","Nota: Los datos corresponden a 2013 pues son los últimos disponibles","Nota: Los datos corresponden a 2013 pues son los últimos disponibles","Nota: Los datos corresponden a 2013 pues son los últimos disponibles","Nota: Los datos corresponden a 2013 pues son los últimos disponibles","Nota: Los datos corresponden a 2013 pues son los últimos disponibles","Nota: Los datos corresponden a 2013 pues son los últimos disponibles","Nota: Los datos corresponden a 2013 pues son los últimos disponibles","Nota: Los datos corresponden a 2013 pues son los últimos disponibles","Nota: Los datos corresponden a 2013 pues son los últimos disponibles","Nota: Los datos corresponden a 2013 pues son los últimos disponibles","Nota: Los datos corresponden a 2013 pues son los últimos disponibles","Nota: Los datos corresponden a 2013 pues son los últimos disponibles","Nota: Los datos corresponden a 2013 pues son los últimos disponibles","Nota: Los datos corresponden a 2013 pues son los últimos disponibles","Nota: Los datos corresponden a 2013 pues son los últimos disponibles","Nota: Los datos corresponden a 2013 pues son los últimos disponibles","Nota: Los datos corresponden a 2013 pues son los últimos disponibles","Nota: Los datos corresponden a 2013 pues son los últimos disponibles","Nota: Los datos corresponden a 2013 pues son los últimos disponibles","Nota: Los datos corresponden a 2013 pues son los últimos disponibles","Nota: Los datos corresponden a 2013 pues son los últimos disponibles","Nota: Los datos corresponden a 2013 pues son los últimos disponibles","Nota: Los datos corresponden a 2013 pues son los últimos disponibles","Nota: Los datos corresponden a 2013 pues son los últimos disponibles","Nota: Los datos corresponden a 2013 pues son los últimos disponibles","Nota: Los datos corresponden a 2013 pues son los últimos disponibles","Nota: Los datos corresponden a 2013 pues son los últimos disponibles","Nota: Los datos corresponden a 2013 pues son los últimos disponibles","Nota: Los datos corresponden a 2013 pues son los últimos disponibles","Nota: Los datos corresponden a 2013 pues son los últimos disponibles","Nota: Los datos corresponden a 2013 pues son los últimos disponibles","Nota: Los datos corresponden a 2013 pues son los últimos disponibles","Nota: Los datos corresponden a 2013 pues son los últimos disponibles","Nota: Los datos corresponden a 2013 pues son los últimos disponibles","Nota: Los datos corresponden a 2013 pues son los últimos disponibles","Nota: Los datos corresponden a 2013 pues son los últimos disponibles","Nota: Los datos corresponden a 2013 pues son los últimos disponibles","Nota: Los datos corresponden a 2013 pues son los últimos disponibles","Nota: Los datos corresponden a 2013 pues son los últimos disponibles","Nota: Los datos corresponden a 2013 pues son los últimos disponibles","Nota: Los datos corresponden a 2013 pues son los últimos disponibles","Nota: Los datos corresponden a 2013 pues son los últimos disponibles","Nota: Los datos corresponden a 2013 pues son los últimos disponibles","Nota: Los datos corresponden a 2013 pues son los últimos disponibles","Nota: Los datos corresponden a 2013 pues son los últimos disponibles","Nota: Los datos corresponden a 2013 pues son los últimos disponibles","Nota: Los datos corresponden a 2013 pues son los últimos disponibles","Nota: Los datos corresponden a 2013 pues son los últimos disponibles","Nota: Los datos corresponden a 2013 pues son los últimos disponibles","Nota: Los datos corresponden a 2013 pues son los últimos disponibles","Nota: Los datos corresponden a 2013 pues son los últimos disponibles","Nota: Los datos corresponden a 2013 pues son los últimos disponibles","Nota: Los datos corresponden a 2013 pues son los últimos disponibles","Nota: Los datos corresponden a 2013 pues son los últimos disponibles","Nota: Los datos corresponden a 2013 pues son los últimos disponibles","Nota: Los datos corresponden a 2013 pues son los últimos disponibles","Nota: Los datos corresponden a 2013 pues son los últimos disponibles","Nota: Los datos corresponden a 2013 pues son los últimos disponibles","Nota: Los datos corresponden a 2013 pues son los últimos disponibles","Nota: Los datos corresponden a 2013 pues son los últimos disponibles","Nota: Los datos corresponden a 2013 pues son los últimos disponibles","Nota: Los datos corresponden a 2013 pues son los últimos disponibles","Nota: Los datos corresponden a 2013 pues son los últimos disponibles","Nota: Los datos corresponden a 2013 pues son los últimos disponibles","Nota: Los datos corresponden a 2013 pues son los últimos disponibles","Nota: Los datos corresponden a 2013 pues son los últimos disponibles","Nota: Los datos corresponden a 2013 pues son los últimos disponibles","Nota: Los datos corresponden a 2013 pues son los últimos disponibles","Nota: Los datos corresponden a 2013 pues son los últimos disponibles","Nota: Los datos corresponden a 2013 pues son los últimos disponibles","Nota: Los datos corresponden a 2013 pues son los últimos disponibles","Nota: Los datos corresponden a 2013 pues son los últimos disponibles","Nota: Los datos corresponden a 2013 pues son los últimos disponibles","Nota: Los datos corresponden a 2013 pues son los últimos disponibles","Nota: Los datos corresponden a 2013 pues son los últimos disponibles","Nota: Los datos corresponden a 2013 pues son los últimos disponibles","Nota: Los datos corresponden a 2013 pues son los últimos disponibles","Nota: Los datos corresponden a 2013 pues son los últimos disponibles","Nota: Los datos corresponden a 2013 pues son los últimos disponibles","Nota: Los datos corresponden a 2013 pues son los últimos disponibles","Nota: Los datos corresponden a 2013 pues son los últimos disponibles","Nota: Los datos corresponden a 2013 pues son los últimos disponibles","Nota: Los datos corresponden a 2013 pues son los últimos disponibles","Nota: Los datos corresponden a 2013 pues son los últimos disponibles","Nota: Los datos corresponden a 2013 pues son los últimos disponibles","Nota: Los datos corresponden a 2013 pues son los últimos disponibles","Nota: Los datos corresponden a 2013 pues son los últimos disponibles","Nota: Los datos corresponden a 2013 pues son los últimos disponibles","Nota: Los datos corresponden a 2013 pues son los últimos disponibles","Nota: Los datos corresponden a 2013 pues son los últimos disponibles","Nota: Los datos corresponden a 2013 pues son los últimos disponibles","Nota: Los datos corresponden a 2013 pues son los últimos disponibles","Nota: Los datos corresponden a 2013 pues son los últimos disponibles","Nota: Los datos corresponden a 2013 pues son los últimos disponibles","Nota: Los datos corresponden a 2013 pues son los últimos disponibles","Nota: Los datos corresponden a 2013 pues son los últimos disponibles","Nota: Los datos corresponden a 2013 pues son los últimos disponibles","Nota: Los datos corresponden a 2013 pues son los últimos disponibles","Nota: Los datos corresponden a 2013 pues son los últimos disponibles","Nota: Los datos corresponden a 2013 pues son los últimos disponibles","Nota: Los datos corresponden a 2013 pues son los últimos disponibles","Nota: Los datos corresponden a 2013 pues son los últimos disponibles","Nota: Los datos corresponden a 2013 pues son los últimos disponibles","Nota: Los datos corresponden a 2013 pues son los últimos disponibles","Nota: Los datos corresponden a 2013 pues son los últimos disponibles","Nota: Los datos corresponden a 2013 pues son los últimos disponibles","Nota: Los datos corresponden a 2013 pues son los últimos disponibles","Nota: Los datos corresponden a 2013 pues son los últimos disponibles","Nota: Los datos corresponden a 2013 pues son los últimos disponibles","Nota: Los datos corresponden a 2013 pues son los últimos disponibles","Nota: Los datos corresponden a 2013 pues son los últimos disponibles","Nota: Los datos corresponden a 2013 pues son los últimos disponibles","Nota: Los datos corresponden a 2013 pues son los últimos disponibles","Nota: Los datos corresponden a 2013 pues son los últimos disponibles","Nota: Los datos corresponden a 2013 pues son los últimos disponibles","Nota: Los datos corresponden a 2013 pues son los últimos disponibles","Nota: Los datos corresponden a 2013 pues son los últimos disponibles","Nota: Los datos corresponden a 2013 pues son los últimos disponibles","Nota: Los datos corresponden a 2013 pues son los últimos disponibles","Nota: Los datos corresponden a 2013 pues son los últimos disponibles","Nota: Los datos corresponden a 2013 pues son los últimos disponibles","Nota: Los datos corresponden a 2013 pues son los últimos disponibles","Nota: Los datos corresponden a 2013 pues son los últimos disponibles","Nota: Los datos corresponden a 2013 pues son los últimos disponibles","Nota: Los datos corresponden a 2013 pues son los últimos disponibles","Nota: Los datos corresponden a 2013 pues son los últimos disponibles","Nota: Los datos corresponden a 2013 pues son los últimos disponibles","Nota: Los datos corresponden a 2013 pues son los últimos disponibles","Nota: Los datos corresponden a 2013 pues son los últimos disponibles","Nota: Los datos corresponden a 2013 pues son los últimos disponibles","Nota: Los datos corresponden a 2013 pues son los últimos disponibles","Nota: Los datos corresponden a 2013 pues son los últimos disponibles","Nota: Los datos corresponden a 2013 pues son los últimos disponibles","Nota: Los datos corresponden a 2013 pues son los últimos disponibles","Nota: Los datos corresponden a 2013 pues son los últimos disponibles","Nota: Los datos corresponden a 2013 pues son los últimos disponibles","Nota: Los datos corresponden a 2013 pues son los últimos disponibles","Nota: Los datos corresponden a 2013 pues son los últimos disponibles","Nota: Los datos corresponden a 2013 pues son los últimos disponibles","Nota: Los datos corresponden a 2013 pues son los últimos disponibles","Nota: Los datos corresponden a 2013 pues son los últimos disponibles","Nota: Los datos corresponden a 2013 pues son los últimos disponibles","Nota: Los datos corresponden a 2013 pues son los últimos disponibles","Nota: Los datos corresponden a 2013 pues son los últimos disponibles","Nota: Los datos corresponden a 2013 pues son los últimos disponibles","Nota: Los datos corresponden a 2013 pues son los últimos disponibles","Nota: Los datos corresponden a 2013 pues son los últimos disponibles","Nota: Los datos corresponden a 2013 pues son los últimos disponibles","Nota: Los datos corresponden a 2013 pues son los últimos disponibles","Nota: Los datos corresponden a 2013 pues son los últimos disponibles","Nota: Los datos corresponden a 2013 pues son los últimos disponibles","Nota: Los datos corresponden a 2013 pues son los últimos disponibles","Nota: Los datos corresponden a 2013 pues son los últimos disponibles","Nota: Los datos corresponden a 2013 pues son los últimos disponibles","Nota: Los datos corresponden a 2013 pues son los últimos disponibles","Nota: Los datos corresponden a 2013 pues son los últimos disponibles","Nota: Los datos corresponden a 2013 pues son los últimos disponibles","Nota: Los datos corresponden a 2013 pues son los últimos disponibles","Nota: Los datos corresponden a 2013 pues son los últimos disponibles","Nota: Los datos corresponden a 2013 pues son los últimos disponibles","Nota: Los datos corresponden a 2013 pues son los últimos disponibles","Nota: Los datos corresponden a 2013 pues son los últimos disponibles","Nota: Los datos corresponden a 2013 pues son los últimos disponibles","Nota: Los datos corresponden a 2013 pues son los últimos disponibles","Nota: Los datos corresponden a 2013 pues son los últimos disponibles","Nota: Los datos corresponden a 2013 pues son los últimos disponibles","Nota: Los datos corresponden a 2013 pues son los últimos disponibles","Nota: Los datos corresponden a 2013 pues son los últimos disponibles","Nota: Los datos corresponden a 2013 pues son los últimos disponibles","Nota: Los datos corresponden a 2013 pues son los últimos disponibles","Nota: Los datos corresponden a 2013 pues son los últimos disponibles","Nota: Los datos corresponden a 2013 pues son los últimos disponibles","Nota: Los datos corresponden a 2013 pues son los últimos disponibles","Nota: Los datos corresponden a 2013 pues son los últimos disponibles","Nota: Los datos corresponden a 2013 pues son los últimos disponibles","Nota: Los datos corresponden a 2013 pues son los últimos disponibles","Nota: Los datos corresponden a 2013 pues son los últimos disponibles","Nota: Los datos corresponden a 2013 pues son los últimos disponibles","Nota: Los datos corresponden a 2013 pues son los últimos disponibles","Nota: Los datos corresponden a 2013 pues son los últimos disponibles","Nota: Los datos corresponden a 2013 pues son los últimos disponibles","Nota: Los datos corresponden a 2013 pues son los últimos disponibles","Nota: Los datos corresponden a 2013 pues son los últimos disponibles","Nota: Los datos corresponden a 2013 pues son los últimos disponibles","Nota: Los datos corresponden a 2013 pues son los últimos disponibles","Nota: Los datos corresponden a 2013 pues son los últimos disponibles","Nota: Los datos corresponden a 2013 pues son los últimos disponibles","Nota: Los datos corresponden a 2013 pues son los últimos disponibles","Nota: Los datos corresponden a 2013 pues son los últimos disponibles","Nota: Los datos corresponden a 2013 pues son los últimos disponibles","Nota: Los datos corresponden a 2013 pues son los últimos disponibles","Nota: Los datos corresponden a 2013 pues son los últimos disponibles","Nota: Los datos corresponden a 2013 pues son los últimos disponibles","Nota: Los datos corresponden a 2013 pues son los últimos disponibles","Nota: Los datos corresponden a 2013 pues son los últimos disponibles","Nota: Los datos corresponden a 2013 pues son los últimos disponibles","Nota: Los datos corresponden a 2013 pues son los últimos disponibles","Nota: Los datos corresponden a 2013 pues son los últimos disponibles","Nota: Los datos corresponden a 2013 pues son los últimos disponibles","Nota: Los datos corresponden a 2013 pues son los últimos disponibles","Nota: Los datos corresponden a 2013 pues son los últimos disponibles","Nota: Los datos corresponden a 2013 pues son los últimos disponibles","Nota: Los datos corresponden a 2013 pues son los últimos disponibles","Nota: Los datos corresponden a 2013 pues son los últimos disponibles","Nota: Los datos corresponden a 2013 pues son los últimos disponibles","Nota: Los datos corresponden a 2013 pues son los últimos disponibles","Nota: Los datos corresponden a 2013 pues son los últimos disponibles","Nota: Los datos corresponden a 2013 pues son los últimos disponibles","Nota: Los datos corresponden a 2013 pues son los últimos disponibles","Nota: Los datos corresponden a 2013 pues son los últimos disponibles","Nota: Los datos corresponden a 2013 pues son los últimos disponibles","Nota: Los datos corresponden a 2013 pues son los últimos disponibles","Nota: Los datos corresponden a 2013 pues son los últimos disponibles","Nota: Los datos corresponden a 2013 pues son los últimos disponibles","Nota: Los datos corresponden a 2013 pues son los últimos disponibles","Nota: Los datos corresponden a 2013 pues son los últimos disponibles","Nota: Los datos corresponden a 2013 pues son los últimos disponibles","Nota: Los datos corresponden a 2013 pues son los últimos disponibles","Nota: Los datos corresponden a 2013 pues son los últimos disponibles","Nota: Los datos corresponden a 2013 pues son los últimos disponibles","Nota: Los datos corresponden a 2013 pues son los últimos disponibles","Nota: Los datos corresponden a 2013 pues son los últimos disponibles","Nota: Los datos corresponden a 2013 pues son los últimos disponibles","Nota: Los datos corresponden a 2013 pues son los últimos disponibles","Nota: Los datos corresponden a 2013 pues son los últimos disponibles","Nota: Los datos corresponden a 2013 pues son los últimos disponibles","Nota: Los datos corresponden a 2013 pues son los últimos disponibles","Nota: Los datos corresponden a 2013 pues son los últimos disponibles","Nota: Los datos corresponden a 2013 pues son los últimos disponibles","Nota: Los datos corresponden a 2013 pues son los últimos disponibles","Nota: Los datos corresponden a 2013 pues son los últimos disponibles","Nota: Los datos corresponden a 2013 pues son los últimos disponibles","Nota: Los datos corresponden a 2013 pues son los últimos disponibles","Nota: Los datos corresponden a 2013 pues son los últimos disponibles","Nota: Los datos corresponden a 2013 pues son los últimos disponibles","Nota: Los datos corresponden a 2013 pues son los últimos disponibles","Nota: Los datos corresponden a 2013 pues son los últimos disponibles","Nota: Los datos corresponden a 2013 pues son los últimos disponibles","Nota: Los datos corresponden a 2013 pues son los últimos disponibles","Nota: Los datos corresponden a 2013 pues son los últimos disponibles","Nota: Los datos corresponden a 2013 pues son los últimos disponibles","Nota: Los datos corresponden a 2013 pues son los últimos disponibles","Nota: Los datos corresponden a 2013 pues son los últimos disponibles","Nota: Los datos corresponden a 2013 pues son los últimos disponibles","Nota: Los datos corresponden a 2013 pues son los últimos disponibles","Nota: Los datos corresponden a 2013 pues son los últimos disponibles","Nota: Los datos corresponden a 2013 pues son los últimos disponibles","Nota: Los datos corresponden a 2013 pues son los últimos disponibles","Nota: Los datos corresponden a 2013 pues son los últimos disponibles","Nota: Los datos corresponden a 2013 pues son los últimos disponibles","Nota: Los datos corresponden a 2013 pues son los últimos disponibles","Nota: Los datos corresponden a 2013 pues son los últimos disponibles","Nota: Los datos corresponden a 2013 pues son los últimos disponibles","Nota: Los datos corresponden a 2013 pues son los últimos disponibles","Nota: Los datos corresponden a 2013 pues son los últimos disponibles","Nota: Los datos corresponden a 2013 pues son los últimos disponibles","Nota: Los datos corresponden a 2013 pues son los últimos disponibles","Nota: Los datos corresponden a 2013 pues son los últimos disponibles","Nota: Los datos corresponden a 2013 pues son los últimos disponibles","Nota: Los datos corresponden a 2013 pues son los últimos disponibles","Nota: Los datos corresponden a 2013 pues son los últimos disponibles","Nota: Los datos corresponden a 2013 pues son los últimos disponibles","Nota: Los datos corresponden a 2013 pues son los últimos disponibles","Nota: Los datos corresponden a 2013 pues son los últimos disponibles","Nota: Los datos corresponden a 2013 pues son los últimos disponibles","Nota: Los datos corresponden a 2013 pues son los últimos disponibles","Nota: Los datos corresponden a 2013 pues son los últimos disponibles","Nota: Los datos corresponden a 2013 pues son los últimos disponibles","Nota: Los datos corresponden a 2013 pues son los últimos disponibles","Nota: Los datos corresponden a 2013 pues son los últimos disponibles","Nota: Los datos corresponden a 2013 pues son los últimos disponibles","Nota: Los datos corresponden a 2013 pues son los últimos disponibles","Nota: Los datos corresponden a 2013 pues son los últimos disponibles","Nota: Los datos corresponden a 2013 pues son los últimos disponibles","Nota: Los datos corresponden a 2013 pues son los últimos disponibles","Nota: Los datos corresponden a 2013 pues son los últimos disponibles","Nota: Los datos corresponden a 2013 pues son los últimos disponibles","Nota: Los datos corresponden a 2013 pues son los últimos disponibles","Nota: Los datos corresponden a 2013 pues son los últimos disponibles","Nota: Los datos corresponden a 2013 pues son los últimos disponibles","Nota: Los datos corresponden a 2013 pues son los últimos disponibles","Nota: Los datos corresponden a 2013 pues son los últimos disponibles","Nota: Los datos corresponden a 2013 pues son los últimos disponibles","Nota: Los datos corresponden a 2013 pues son los últimos disponibles","Nota: Los datos corresponden a 2013 pues son los últimos disponibles","Nota: Los datos corresponden a 2013 pues son los últimos disponibles","Nota: Los datos corresponden a 2013 pues son los últimos disponibles","Nota: Los datos corresponden a 2013 pues son los últimos disponibles","Nota: Los datos corresponden a 2013 pues son los últimos disponibles","Nota: Los datos corresponden a 2013 pues son los últimos disponibles","Nota: Los datos corresponden a 2013 pues son los últimos disponibles","Nota: Los datos corresponden a 2013 pues son los últimos disponibles","Nota: Los datos corresponden a 2013 pues son los últimos disponibles","Nota: Los datos corresponden a 2013 pues son los últimos disponibles","Nota: Los datos corresponden a 2013 pues son los últimos disponibles","Nota: Los datos corresponden a 2013 pues son los últimos disponibles","Nota: Los datos corresponden a 2013 pues son los últimos disponibles","Nota: Los datos corresponden a 2013 pues son los últimos disponibles","Nota: Los datos corresponden a 2013 pues son los últimos disponibles","Nota: Los datos corresponden a 2013 pues son los últimos disponibles","Nota: Los datos corresponden a 2013 pues son los últimos disponibles","Nota: Los datos corresponden a 2013 pues son los últimos disponibles","Nota: Los datos corresponden a 2013 pues son los últimos disponibles","Nota: Los datos corresponden a 2013 pues son los últimos disponibles","Nota: Los datos corresponden a 2013 pues son los últimos disponibles","Nota: Los datos corresponden a 2013 pues son los últimos disponibles","Nota: Los datos corresponden a 2013 pues son los últimos disponibles","Nota: Los datos corresponden a 2013 pues son los últimos disponibles","Nota: Los datos corresponden a 2013 pues son los últimos disponibles","Nota: Los datos corresponden a 2013 pues son los últimos disponibles","Nota: Los datos corresponden a 2013 pues son los últimos disponibles","Nota: Los datos corresponden a 2013 pues son los últimos disponibles","Nota: Los datos corresponden a 2013 pues son los últimos disponibles","Nota: Los datos corresponden a 2013 pues son los últimos disponibles","Nota: Los datos corresponden a 2013 pues son los últimos disponibles","Nota: Los datos corresponden a 2013 pues son los últimos disponibles","Nota: Los datos corresponden a 2013 pues son los últimos disponibles","Nota: Los datos corresponden a 2013 pues son los últimos disponibles","Nota: Los datos corresponden a 2013 pues son los últimos disponibles","Nota: Los datos corresponden a 2013 pues son los últimos disponibles","Nota: Los datos corresponden a 2013 pues son los últimos disponibles","Nota: Los datos corresponden a 2013 pues son los últimos disponibles","Nota: Los datos corresponden a 2013 pues son los últimos disponibles","Nota: Los datos corresponden a 2013 pues son los últimos disponibles","Nota: Los datos corresponden a 2013 pues son los últimos disponibles","Nota: Los datos corresponden a 2013 pues son los últimos disponibles","Nota: Los datos corresponden a 2013 pues son los últimos disponibles","Nota: Los datos corresponden a 2013 pues son los últimos disponibles","Nota: Los datos corresponden a 2013 pues son los últimos disponibles","Nota: Los datos corresponden a 2013 pues son los últimos disponibles","Nota: Los datos corresponden a 2013 pues son los últimos disponibles","Nota: Los datos corresponden a 2013 pues son los últimos disponibles","Nota: Los datos corresponden a 2013 pues son los últimos disponibles","Nota: Los datos corresponden a 2013 pues son los últimos disponibles","Nota: Los datos corresponden a 2013 pues son los últimos disponibles","Nota: Los datos corresponden a 2013 pues son los últimos disponibles","Nota: Los datos corresponden a 2013 pues son los últimos disponibles","Nota: Los datos corresponden a 2013 pues son los últimos disponibles","Nota: Los datos corresponden a 2013 pues son los últimos disponibles","Nota: Los datos corresponden a 2013 pues son los últimos disponibles","Nota: Los datos corresponden a 2013 pues son los últimos disponibles","Nota: Los datos corresponden a 2013 pues son los últimos disponibles","Nota: Los datos corresponden a 2013 pues son los últimos disponibles","Nota: Los datos corresponden a 2013 pues son los últimos disponibles","Nota: Los datos corresponden a 2013 pues son los últimos disponibles","Nota: Los datos corresponden a 2013 pues son los últimos disponibles","Nota: Los datos corresponden a 2013 pues son los últimos disponibles","Nota: Los datos corresponden a 2013 pues son los últimos disponibles","Nota: Los datos corresponden a 2013 pues son los últimos disponibles","Nota: Los datos corresponden a 2013 pues son los últimos disponibles","Nota: Los datos corresponden a 2013 pues son los últimos disponibles","Nota: Los datos corresponden a 2013 pues son los últimos disponibles","Nota: Los datos corresponden a 2013 pues son los últimos disponibles","Nota: Los datos corresponden a 2013 pues son los últimos disponibles","Nota: Los datos corresponden a 2013 pues son los últimos disponibles","Nota: Los datos corresponden a 2013 pues son los últimos disponibles","Nota: Los datos corresponden a 2013 pues son los últimos disponibles","Nota: Los datos corresponden a 2013 pues son los últimos disponibles","Nota: Los datos corresponden a 2013 pues son los últimos disponibles","Nota: Los datos corresponden a 2013 pues son los últimos disponibles","Nota: Los datos corresponden a 2013 pues son los últimos disponibles","Nota: Los datos corresponden a 2013 pues son los últimos disponibles","Nota: Los datos corresponden a 2013 pues son los últimos disponibles","Nota: Los datos corresponden a 2013 pues son los últimos disponibles","Nota: Los datos corresponden a 2013 pues son los últimos disponibles","Nota: Los datos corresponden a 2013 pues son los últimos disponibles","Nota: Los datos corresponden a 2013 pues son los últimos disponibles","Nota: Los datos corresponden a 2013 pues son los últimos disponibles","Nota: Los datos corresponden a 2013 pues son los últimos disponibles","Nota: Los datos corresponden a 2013 pues son los últimos disponibles","Nota: Los datos corresponden a 2013 pues son los últimos disponibles","Nota: Los datos corresponden a 2013 pues son los últimos disponibles","Nota: Los datos corresponden a 2013 pues son los últimos disponibles","Nota: Los datos corresponden a 2013 pues son los últimos disponibles","Nota: Los datos corresponden a 2013 pues son los últimos disponibles","Nota: Los datos corresponden a 2013 pues son los últimos disponibles","Nota: Los datos corresponden a 2013 pues son los últimos disponibles","Nota: Los datos corresponden a 2013 pues son los últimos disponibles","Nota: Los datos corresponden a 2013 pues son los últimos disponibles","Nota: Los datos corresponden a 2013 pues son los últimos disponibles","Nota: Los datos corresponden a 2013 pues son los últimos disponibles","Nota: Los datos corresponden a 2013 pues son los últimos disponibles","Nota: Los datos corresponden a 2013 pues son los últimos disponibles","Nota: Los datos corresponden a 2013 pues son los últimos disponibles","Nota: Los datos corresponden a 2013 pues son los últimos disponibles","Nota: Los datos corresponden a 2013 pues son los últimos disponibles","Nota: Los datos corresponden a 2013 pues son los últimos disponibles","Nota: Los datos corresponden a 2013 pues son los últimos disponibles","Nota: Los datos corresponden a 2013 pues son los últimos disponibles","Nota: Los datos corresponden a 2013 pues son los últimos disponibles","Nota: Los datos corresponden a 2013 pues son los últimos disponibles","Nota: Los datos corresponden a 2013 pues son los últimos disponibles","Nota: Los datos corresponden a 2013 pues son los últimos disponibles","Nota: Los datos corresponden a 2013 pues son los últimos disponibles","Nota: Los datos corresponden a 2013 pues son los últimos disponibles","Nota: Los datos corresponden a 2013 pues son los últimos disponibles","Nota: Los datos corresponden a 2013 pues son los últimos disponibles","Nota: Los datos corresponden a 2013 pues son los últimos disponibles","Nota: Los datos corresponden a 2013 pues son los últimos disponibles","Nota: Los datos corresponden a 2013 pues son los últimos disponibles","Nota: Los datos corresponden a 2013 pues son los últimos disponibles","Nota: Los datos corresponden a 2013 pues son los últimos disponibles","Nota: Los datos corresponden a 2013 pues son los últimos disponibles","Nota: Los datos corresponden a 2013 pues son los últimos disponibles","Nota: Los datos corresponden a 2013 pues son los últimos disponibles","Nota: Los datos corresponden a 2013 pues son los últimos disponibles","Nota: Los datos corresponden a 2013 pues son los últimos disponibles","Nota: Los datos corresponden a 2013 pues son los últimos disponibles","Nota: Los datos corresponden a 2013 pues son los últimos disponibles","Nota: Los datos corresponden a 2013 pues son los últimos disponibles","Nota: Los datos corresponden a 2013 pues son los últimos disponibles","Nota: Los datos corresponden a 2013 pues son los últimos disponibles","Nota: Los datos corresponden a 2013 pues son los últimos disponibles","Nota: Los datos corresponden a 2013 pues son los últimos disponibles","Nota: Los datos corresponden a 2013 pues son los últimos disponibles","Nota: Los datos corresponden a 2013 pues son los últimos disponibles","Nota: Los datos corresponden a 2013 pues son los últimos disponibles","Nota: Los datos corresponden a 2013 pues son los últimos disponibles","Nota: Los datos corresponden a 2013 pues son los últimos disponibles","Nota: Los datos corresponden a 2013 pues son los últimos disponibles","Nota: Los datos corresponden a 2013 pues son los últimos disponibles","Nota: Los datos corresponden a 2013 pues son los últimos disponibles","Nota: Los datos corresponden a 2013 pues son los últimos disponibles","Nota: Los datos corresponden a 2013 pues son los últimos disponibles","Nota: Los datos corresponden a 2013 pues son los últimos disponibles","Nota: Los datos corresponden a 2013 pues son los últimos disponibles","Nota: Los datos corresponden a 2013 pues son los últimos disponibles","Nota: Los datos corresponden a 2013 pues son los últimos disponibles","Nota: Los datos corresponden a 2013 pues son los últimos disponibles","Nota: Los datos corresponden a 2013 pues son los últimos disponibles","Nota: Los datos corresponden a 2013 pues son los últimos disponibles","Nota: Los datos corresponden a 2013 pues son los últimos disponibles","Nota: Los datos corresponden a 2013 pues son los últimos disponibles","Nota: Los datos corresponden a 2013 pues son los últimos disponibles","Nota: Los datos corresponden a 2013 pues son los últimos disponibles","Nota: Los datos corresponden a 2013 pues son los últimos disponibles","Nota: Los datos corresponden a 2013 pues son los últimos disponibles","Nota: Los datos corresponden a 2013 pues son los últimos disponibles","Nota: Los datos corresponden a 2013 pues son los últimos disponibles","Nota: Los datos corresponden a 2013 pues son los últimos disponibles","Nota: Los datos corresponden a 2013 pues son los últimos disponibles","Nota: Los datos corresponden a 2013 pues son los últimos disponibles","Nota: Los datos corresponden a 2013 pues son los últimos disponibles","Nota: Los datos corresponden a 2013 pues son los últimos disponibles","Nota: Los datos corresponden a 2013 pues son los últimos disponibles","Nota: Los datos corresponden a 2013 pues son los últimos disponibles","Nota: Los datos corresponden a 2013 pues son los últimos disponibles","Nota: Los datos corresponden a 2013 pues son los últimos disponibles","Nota: Los datos corresponden a 2013 pues son los últimos disponibles","Nota: Los datos corresponden a 2013 pues son los últimos disponibles","Nota: Los datos corresponden a 2013 pues son los últimos disponibles","Nota: Los datos corresponden a 2013 pues son los últimos disponibles","Nota: Los datos corresponden a 2013 pues son los últimos disponibles","Nota: Los datos corresponden a 2013 pues son los últimos disponibles","Nota: Los datos corresponden a 2013 pues son los últimos disponibles","Nota: Los datos corresponden a 2013 pues son los últimos disponibles","Nota: Los datos corresponden a 2013 pues son los últimos disponibles","Nota: Los datos corresponden a 2013 pues son los últimos disponibles","Nota: Los datos corresponden a 2013 pues son los últimos disponibles","Nota: Los datos corresponden a 2013 pues son los últimos disponibles","Nota: Los datos corresponden a 2013 pues son los últimos disponibles","Nota: Los datos corresponden a 2013 pues son los últimos disponibles","Nota: Los datos corresponden a 2013 pues son los últimos disponibles","Nota: Los datos corresponden a 2013 pues son los últimos disponibles","Nota: Los datos corresponden a 2013 pues son los últimos disponibles","Nota: Los datos corresponden a 2013 pues son los últimos disponibles","Nota: Los datos corresponden a 2013 pues son los últimos disponibles","Nota: Los datos corresponden a 2013 pues son los últimos disponibles","Nota: Los datos corresponden a 2013 pues son los últimos disponibles","Nota: Los datos corresponden a 2013 pues son los últimos disponibles","Nota: Los datos corresponden a 2013 pues son los últimos disponibles","Nota: Los datos corresponden a 2013 pues son los últimos disponibles","Nota: Los datos corresponden a 2013 pues son los últimos disponibles","Nota: Los datos corresponden a 2013 pues son los últimos disponibles","Nota: Los datos corresponden a 2013 pues son los últimos disponibles","Nota: Los datos corresponden a 2013 pues son los últimos disponibles","Nota: Los datos corresponden a 2013 pues son los últimos disponibles","Nota: Los datos corresponden a 2013 pues son los últimos disponibles","Nota: Los datos corresponden a 2013 pues son los últimos disponibles","Nota: Los datos corresponden a 2013 pues son los últimos disponibles","Nota: Los datos corresponden a 2013 pues son los últimos disponibles","Nota: Los datos corresponden a 2013 pues son los últimos disponibles","Nota: Los datos corresponden a 2013 pues son los últimos disponibles","Nota: Los datos corresponden a 2013 pues son los últimos disponibles","Nota: Los datos corresponden a 2013 pues son los últimos disponibles","Nota: Los datos corresponden a 2013 pues son los últimos disponibles","Nota: Los datos corresponden a 2013 pues son los últimos disponibles","Nota: Los datos corresponden a 2013 pues son los últimos disponibles","Nota: Los datos corresponden a 2013 pues son los últimos disponibles","Nota: Los datos corresponden a 2013 pues son los últimos disponibles","Nota: Los datos corresponden a 2013 pues son los últimos disponibles","Nota: Los datos corresponden a 2013 pues son los últimos disponibles","Nota: Los datos corresponden a 2013 pues son los últimos disponibles","Nota: Los datos corresponden a 2013 pues son los últimos disponibles","Nota: Los datos corresponden a 2013 pues son los últimos disponibles","Nota: Los datos corresponden a 2013 pues son los últimos disponibles","Nota: Los datos corresponden a 2013 pues son los últimos disponibles","Nota: Los datos corresponden a 2013 pues son los últimos disponibles","Nota: Los datos corresponden a 2013 pues son los últimos disponibles","Nota: Los datos corresponden a 2013 pues son los últimos disponibles","Nota: Los datos corresponden a 2013 pues son los últimos disponibles","Nota: Los datos corresponden a 2013 pues son los últimos disponibles","Nota: Los datos corresponden a 2013 pues son los últimos disponibles","Nota: Los datos corresponden a 2013 pues son los últimos disponibles","Nota: Los datos corresponden a 2013 pues son los últimos disponibles","Nota: Los datos corresponden a 2013 pues son los últimos disponibles","Nota: Los datos corresponden a 2013 pues son los últimos disponibles","Nota: Los datos corresponden a 2013 pues son los últimos disponibles","Nota: Los datos corresponden a 2013 pues son los últimos disponibles","Nota: Los datos corresponden a 2013 pues son los últimos disponibles","Nota: Los datos corresponden a 2013 pues son los últimos disponibles","Nota: Los datos corresponden a 2013 pues son los últimos disponibles","Nota: Los datos corresponden a 2013 pues son los últimos disponibles","Nota: Los datos corresponden a 2013 pues son los últimos disponibles","Nota: Los datos corresponden a 2013 pues son los últimos disponibles","Nota: Los datos corresponden a 2013 pues son los últimos disponibles","Nota: Los datos corresponden a 2013 pues son los últimos disponibles","Nota: Los datos corresponden a 2013 pues son los últimos disponibles","Nota: Los datos corresponden a 2013 pues son los últimos disponibles","Nota: Los datos corresponden a 2013 pues son los últimos disponibles","Nota: Los datos corresponden a 2013 pues son los últimos disponibles","Nota: Los datos corresponden a 2013 pues son los últimos disponibles","Nota: Los datos corresponden a 2013 pues son los últimos disponibles","Nota: Los datos corresponden a 2013 pues son los últimos disponibles","Nota: Los datos corresponden a 2013 pues son los últimos disponibles","Nota: Los datos corresponden a 2013 pues son los últimos disponibles","Nota: Los datos corresponden a 2013 pues son los últimos disponibles","Nota: Los datos corresponden a 2013 pues son los últimos disponibles","Nota: Los datos corresponden a 2013 pues son los últimos disponibles","Nota: Los datos corresponden a 2013 pues son los últimos disponibles","Nota: Los datos corresponden a 2013 pues son los últimos disponibles","Nota: Los datos corresponden a 2013 pues son los últimos disponibles","Nota: Los datos corresponden a 2013 pues son los últimos disponibles","Nota: Los datos corresponden a 2013 pues son los últimos disponibles","Nota: Los datos corresponden a 2013 pues son los últimos disponibles","Nota: Los datos corresponden a 2013 pues son los últimos disponibles","Nota: Los datos corresponden a 2013 pues son los últimos disponibles","Nota: Los datos corresponden a 2013 pues son los últimos disponibles","Nota: Los datos corresponden a 2013 pues son los últimos disponibles","Nota: Los datos corresponden a 2013 pues son los últimos disponibles","Nota: Los datos corresponden a 2013 pues son los últimos disponibles","Nota: Los datos corresponden a 2013 pues son los últimos disponibles","Nota: Los datos corresponden a 2013 pues son los últimos disponibles","Nota: Los datos corresponden a 2013 pues son los últimos disponibles","Nota: Los datos corresponden a 2013 pues son los últimos disponibles","Nota: Los datos corresponden a 2013 pues son los últimos disponibles","Nota: Los datos corresponden a 2013 pues son los últimos disponibles","Nota: Los datos corresponden a 2013 pues son los últimos disponibles","Nota: Los datos corresponden a 2013 pues son los últimos disponibles","Nota: Los datos corresponden a 2013 pues son los últimos disponibles","Nota: Los datos corresponden a 2013 pues son los últimos disponibles","Nota: Los datos corresponden a 2013 pues son los últimos disponibles","Nota: Los datos corresponden a 2013 pues son los últimos disponibles","Nota: Los datos corresponden a 2013 pues son los últimos disponibles","Nota: Los datos corresponden a 2013 pues son los últimos disponibles","Nota: Los datos corresponden a 2013 pues son los últimos disponibles","Nota: Los datos corresponden a 2013 pues son los últimos disponibles","Nota: Los datos corresponden a 2013 pues son los últimos disponibles","Nota: Los datos corresponden a 2013 pues son los últimos disponibles","Nota: Los datos corresponden a 2013 pues son los últimos disponibles","Nota: Los datos corresponden a 2013 pues son los últimos disponibles","Nota: Los datos corresponden a 2013 pues son los últimos disponibles","Nota: Los datos corresponden a 2013 pues son los últimos disponibles","Nota: Los datos corresponden a 2013 pues son los últimos disponibles","Nota: Los datos corresponden a 2013 pues son los últimos disponibles","Nota: Los datos corresponden a 2013 pues son los últimos disponibles","Nota: Los datos corresponden a 2013 pues son los últimos disponibles","Nota: Los datos corresponden a 2013 pues son los últimos disponibles","Nota: Los datos corresponden a 2013 pues son los últimos disponibles","Nota: Los datos corresponden a 2013 pues son los últimos disponibles","Nota: Los datos corresponden a 2013 pues son los últimos disponibles","Nota: Los datos corresponden a 2013 pues son los últimos disponibles","Nota: Los datos corresponden a 2013 pues son los últimos disponibles","Nota: Los datos corresponden a 2013 pues son los últimos disponibles","Nota: Los datos corresponden a 2013 pues son los últimos disponibles","Nota: Los datos corresponden a 2013 pues son los últimos disponibles","Nota: Los datos corresponden a 2013 pues son los últimos disponibles","Nota: Los datos corresponden a 2013 pues son los últimos disponibles","Nota: Los datos corresponden a 2013 pues son los últimos disponibles","Nota: Los datos corresponden a 2013 pues son los últimos disponibles","Nota: Los datos corresponden a 2013 pues son los últimos disponibles","Nota: Los datos corresponden a 2013 pues son los últimos disponibles","Nota: Los datos corresponden a 2013 pues son los últimos disponibles","Nota: Los datos corresponden a 2013 pues son los últimos disponibles","Nota: Los datos corresponden a 2013 pues son los últimos disponibles","Nota: Los datos corresponden a 2013 pues son los últimos disponibles","Nota: Los datos corresponden a 2013 pues son los últimos disponibles","Nota: Los datos corresponden a 2013 pues son los últimos disponibles","Nota: Los datos corresponden a 2013 pues son los últimos disponibles","Nota: Los datos corresponden a 2013 pues son los últimos disponibles","Nota: Los datos corresponden a 2013 pues son los últimos disponibles","Nota: Los datos corresponden a 2013 pues son los últimos disponibles","Nota: Los datos corresponden a 2013 pues son los últimos disponibles","Nota: Los datos corresponden a 2013 pues son los últimos disponibles","Nota: Los datos corresponden a 2013 pues son los últimos disponibles","Nota: Los datos corresponden a 2013 pues son los últimos disponibles","Nota: Los datos corresponden a 2013 pues son los últimos disponibles","Nota: Los datos corresponden a 2013 pues son los últimos disponibles","Nota: Los datos corresponden a 2013 pues son los últimos disponibles","Nota: Los datos corresponden a 2013 pues son los últimos disponibles","Nota: Los datos corresponden a 2013 pues son los últimos disponibles","Nota: Los datos corresponden a 2013 pues son los últimos disponibles","Nota: Los datos corresponden a 2013 pues son los últimos disponibles","Nota: Los datos corresponden a 2013 pues son los últimos disponibles","Nota: Los datos corresponden a 2013 pues son los últimos disponibles","Nota: Los datos corresponden a 2013 pues son los últimos disponibles","Nota: Los datos corresponden a 2013 pues son los últimos disponibles","Nota: Los datos corresponden a 2013 pues son los últimos disponibles","Nota: Los datos corresponden a 2013 pues son los últimos disponibles","Nota: Los datos corresponden a 2013 pues son los últimos disponibles","Nota: Los datos corresponden a 2013 pues son los últimos disponibles","Nota: Los datos corresponden a 2013 pues son los últimos disponibles","Nota: Los datos corresponden a 2013 pues son los últimos disponibles","Nota: Los datos corresponden a 2013 pues son los últimos disponibles","Nota: Los datos corresponden a 2013 pues son los últimos disponibles","Nota: Los datos corresponden a 2013 pues son los últimos disponibles","Nota: Los datos corresponden a 2013 pues son los últimos disponibles","Nota: Los datos corresponden a 2013 pues son los últimos disponibles","Nota: Los datos corresponden a 2013 pues son los últimos disponibles","Nota: Los datos corresponden a 2013 pues son los últimos disponibles","Nota: Los datos corresponden a 2013 pues son los últimos disponibles","Nota: Los datos corresponden a 2013 pues son los últimos disponibles","Nota: Los datos corresponden a 2013 pues son los últimos disponibles","Nota: Los datos corresponden a 2013 pues son los últimos disponibles","Nota: Los datos corresponden a 2013 pues son los últimos disponibles","Nota: Los datos corresponden a 2013 pues son los últimos disponibles","Nota: Los datos corresponden a 2013 pues son los últimos disponibles","Nota: Los datos corresponden a 2013 pues son los últimos disponibles","Nota: Los datos corresponden a 2013 pues son los últimos disponibles","Nota: Los datos corresponden a 2013 pues son los últimos disponibles","Nota: Los datos corresponden a 2013 pues son los últimos disponibles","Nota: Los datos corresponden a 2013 pues son los últimos disponibles","Nota: Los datos corresponden a 2013 pues son los últimos disponibles","Nota: Los datos corresponden a 2013 pues son los últimos disponibles","Nota: Los datos corresponden a 2013 pues son los últimos disponibles","Nota: Los datos corresponden a 2013 pues son los últimos disponibles","Nota: Los datos corresponden a 2013 pues son los últimos disponibles","Nota: Los datos corresponden a 2013 pues son los últimos disponibles","Nota: Los datos corresponden a 2013 pues son los últimos disponibles","Nota: Los datos corresponden a 2013 pues son los últimos disponibles","Nota: Los datos corresponden a 2013 pues son los últimos disponibles","Nota: Los datos corresponden a 2013 pues son los últimos disponibles","Nota: Los datos corresponden a 2013 pues son los últimos disponibles","Nota: Los datos corresponden a 2013 pues son los últimos disponibles","Nota: Los datos corresponden a 2013 pues son los últimos disponibles","Nota: Los datos corresponden a 2013 pues son los últimos disponibles","Nota: Los datos corresponden a 2013 pues son los últimos disponibles","Nota: Los datos corresponden a 2013 pues son los últimos disponibles","Nota: Los datos corresponden a 2013 pues son los últimos disponibles","Nota: Los datos corresponden a 2013 pues son los últimos disponibles","Nota: Los datos corresponden a 2013 pues son los últimos disponibles","Nota: Los datos corresponden a 2013 pues son los últimos disponibles","Nota: Los datos corresponden a 2013 pues son los últimos disponibles","Nota: Los datos corresponden a 2013 pues son los últimos disponibles","Nota: Los datos corresponden a 2013 pues son los últimos disponibles","Nota: Los datos corresponden a 2013 pues son los últimos disponibles","Nota: Los datos corresponden a 2013 pues son los últimos disponibles","Nota: Los datos corresponden a 2013 pues son los últimos disponibles","Nota: Los datos corresponden a 2013 pues son los últimos disponibles","Nota: Los datos corresponden a 2013 pues son los últimos disponibles","Nota: Los datos corresponden a 2013 pues son los últimos disponibles","Nota: Los datos corresponden a 2013 pues son los últimos disponibles","Nota: Los datos corresponden a 2013 pues son los últimos disponibles","Nota: Los datos corresponden a 2013 pues son los últimos disponibles","Nota: Los datos corresponden a 2013 pues son los últimos disponibles","Nota: Los datos corresponden a 2013 pues son los últimos disponibles","Nota: Los datos corresponden a 2013 pues son los últimos disponibles","Nota: Los datos corresponden a 2013 pues son los últimos disponibles","Nota: Los datos corresponden a 2013 pues son los últimos disponibles","Nota: Los datos corresponden a 2013 pues son los últimos disponibles","Nota: Los datos corresponden a 2013 pues son los últimos disponibles","Nota: Los datos corresponden a 2013 pues son los últimos disponibles","Nota: Los datos corresponden a 2013 pues son los últimos disponibles","Nota: Los datos corresponden a 2013 pues son los últimos disponibles","Nota: Los datos corresponden a 2013 pues son los últimos disponibles","Nota: Los datos corresponden a 2013 pues son los últimos disponibles","Nota: Los datos corresponden a 2013 pues son los últimos disponibles","Nota: Los datos corresponden a 2013 pues son los últimos disponibles","Nota: Los datos corresponden a 2013 pues son los últimos disponibles","Nota: Los datos corresponden a 2013 pues son los últimos disponibles","Nota: Los datos corresponden a 2013 pues son los últimos disponibles","Nota: Los datos corresponden a 2013 pues son los últimos disponibles","Nota: Los datos corresponden a 2013 pues son los últimos disponibles","Nota: Los datos corresponden a 2013 pues son los últimos disponibles","Nota: Los datos corresponden a 2013 pues son los últimos disponibles","Nota: Los datos corresponden a 2013 pues son los últimos disponibles","Nota: Los datos corresponden a 2013 pues son los últimos disponibles","Nota: Los datos corresponden a 2013 pues son los últimos disponibles","Nota: Los datos corresponden a 2013 pues son los últimos disponibles","Nota: Los datos corresponden a 2013 pues son los últimos disponibles","Nota: Los datos corresponden a 2013 pues son los últimos disponibles","Nota: Los datos corresponden a 2013 pues son los últimos disponibles","Nota: Los datos corresponden a 2013 pues son los últimos disponibles","Nota: Los datos corresponden a 2013 pues son los últimos disponibles","Nota: Los datos corresponden a 2013 pues son los últimos disponibles","Nota: Los datos corresponden a 2013 pues son los últimos disponibles","Nota: Los datos corresponden a 2013 pues son los últimos disponibles","Nota: Los datos corresponden a 2013 pues son los últimos disponibles","Nota: Los datos corresponden a 2013 pues son los últimos disponibles","Nota: Los datos corresponden a 2013 pues son los últimos disponibles","Nota: Los datos corresponden a 2013 pues son los últimos disponibles","Nota: Los datos corresponden a 2013 pues son los últimos disponibles","Nota: Los datos corresponden a 2013 pues son los últimos disponibles","Nota: Los datos corresponden a 2013 pues son los últimos disponibles","Nota: Los datos corresponden a 2013 pues son los últimos disponibles","Nota: Los datos corresponden a 2013 pues son los últimos disponibles","Nota: Los datos corresponden a 2013 pues son los últimos disponibles","Nota: Los datos corresponden a 2013 pues son los últimos disponibles","Nota: Los datos corresponden a 2013 pues son los últimos disponibles","Nota: Los datos corresponden a 2013 pues son los últimos disponibles","Nota: Los datos corresponden a 2013 pues son los últimos disponibles","Nota: Los datos corresponden a 2013 pues son los últimos disponibles","Nota: Los datos corresponden a 2013 pues son los últimos disponibles","Nota: Los datos corresponden a 2013 pues son los últimos disponibles","Nota: Los datos corresponden a 2013 pues son los últimos disponibles","Nota: Los datos corresponden a 2013 pues son los últimos disponibles","Nota: Los datos corresponden a 2013 pues son los últimos disponibles","Nota: Los datos corresponden a 2013 pues son los últimos disponibles","Nota: Los datos corresponden a 2013 pues son los últimos disponibles","Nota: Los datos corresponden a 2013 pues son los últimos disponibles","Nota: Los datos corresponden a 2013 pues son los últimos disponibles","Nota: Los datos corresponden a 2013 pues son los últimos disponibles","Nota: Los datos corresponden a 2013 pues son los últimos disponibles","Nota: Los datos corresponden a 2013 pues son los últimos disponibles","Nota: Los datos corresponden a 2013 pues son los últimos disponibles","Nota: Los datos corresponden a 2013 pues son los últimos disponibles","Nota: Los datos corresponden a 2013 pues son los últimos disponibles","Nota: Los datos corresponden a 2013 pues son los últimos disponibles","Nota: Los datos corresponden a 2013 pues son los últimos disponibles","Nota: Los datos corresponden a 2013 pues son los últimos disponibles","Nota: Los datos corresponden a 2013 pues son los últimos disponibles","Nota: Los datos corresponden a 2013 pues son los últimos disponibles","Nota: Los datos corresponden a 2013 pues son los últimos disponibles","Nota: Los datos corresponden a 2013 pues son los últimos disponibles","Nota: Los datos corresponden a 2013 pues son los últimos disponibles","Nota: Los datos corresponden a 2013 pues son los últimos disponibles","Nota: Los datos corresponden a 2013 pues son los últimos disponibles","Nota: Los datos corresponden a 2013 pues son los últimos disponibles","Nota: Los datos corresponden a 2013 pues son los últimos disponibles","Nota: Los datos corresponden a 2013 pues son los últimos disponibles","Nota: Los datos corresponden a 2013 pues son los últimos disponibles","Nota: Los datos corresponden a 2013 pues son los últimos disponibles","Nota: Los datos corresponden a 2013 pues son los últimos disponibles","Nota: Los datos corresponden a 2013 pues son los últimos disponibles","Nota: Los datos corresponden a 2013 pues son los últimos disponibles","Nota: Los datos corresponden a 2013 pues son los últimos disponibles","Nota: Los datos corresponden a 2013 pues son los últimos disponibles","Nota: Los datos corresponden a 2013 pues son los últimos disponibles","Nota: Los datos corresponden a 2013 pues son los últimos disponibles","Nota: Los datos corresponden a 2013 pues son los últimos disponibles","Nota: Los datos corresponden a 2013 pues son los últimos disponibles","Nota: Los datos corresponden a 2013 pues son los últimos disponibles","Nota: Los datos corresponden a 2013 pues son los últimos disponibles","Nota: Los datos corresponden a 2013 pues son los últimos disponibles","Nota: Los datos corresponden a 2013 pues son los últimos disponibles","Nota: Los datos corresponden a 2013 pues son los últimos disponibles","Nota: Los datos corresponden a 2013 pues son los últimos disponibles","Nota: Los datos corresponden a 2013 pues son los últimos disponibles","Nota: Los datos corresponden a 2013 pues son los últimos disponibles","Nota: Los datos corresponden a 2013 pues son los últimos disponibles","Nota: Los datos corresponden a 2013 pues son los últimos disponibles","Nota: Los datos corresponden a 2013 pues son los últimos disponibles","Nota: Los datos corresponden a 2013 pues son los últimos disponibles","Nota: Los datos corresponden a 2013 pues son los últimos disponibles","Nota: Los datos corresponden a 2013 pues son los últimos disponibles","Nota: Los datos corresponden a 2013 pues son los últimos disponibles","Nota: Los datos corresponden a 2013 pues son los últimos disponibles","Nota: Los datos corresponden a 2013 pues son los últimos disponibles","Nota: Los datos corresponden a 2013 pues son los últimos disponibles","Nota: Los datos corresponden a 2013 pues son los últimos disponibles","Nota: Los datos corresponden a 2013 pues son los últimos disponibles","Nota: Los datos corresponden a 2013 pues son los últimos disponibles","Nota: Los datos corresponden a 2013 pues son los últimos disponibles","Nota: Los datos corresponden a 2013 pues son los últimos disponibles","Nota: Los datos corresponden a 2013 pues son los últimos disponibles","Nota: Los datos corresponden a 2013 pues son los últimos disponibles","Nota: Los datos corresponden a 2013 pues son los últimos disponibles","Nota: Los datos corresponden a 2013 pues son los últimos disponibles","Nota: Los datos corresponden a 2013 pues son los últimos disponibles","Nota: Los datos corresponden a 2013 pues son los últimos disponibles","Nota: Los datos corresponden a 2013 pues son los últimos disponibles","Nota: Los datos corresponden a 2013 pues son los últimos disponibles","Nota: Los datos corresponden a 2013 pues son los últimos disponibles","Nota: Los datos corresponden a 2013 pues son los últimos disponibles","Nota: Los datos corresponden a 2013 pues son los últimos disponibles","Nota: Los datos corresponden a 2013 pues son los últimos disponibles","Nota: Los datos corresponden a 2013 pues son los últimos disponibles","Nota: Los datos corresponden a 2013 pues son los últimos disponibles","Nota: Los datos corresponden a 2013 pues son los últimos disponibles","Nota: Los datos corresponden a 2013 pues son los últimos disponibles","Nota: Los datos corresponden a 2013 pues son los últimos disponibles","Nota: Los datos corresponden a 2013 pues son los últimos disponibles","Nota: Los datos corresponden a 2013 pues son los últimos disponibles","Nota: Los datos corresponden a 2013 pues son los últimos disponibles","Nota: Los datos corresponden a 2013 pues son los últimos disponibles","Nota: Los datos corresponden a 2013 pues son los últimos disponibles","Nota: Los datos corresponden a 2013 pues son los últimos disponibles","Nota: Los datos corresponden a 2013 pues son los últimos disponibles","Nota: Los datos corresponden a 2013 pues son los últimos disponibles","Nota: Los datos corresponden a 2013 pues son los últimos disponibles","Nota: Los datos corresponden a 2013 pues son los últimos disponibles","Nota: Los datos corresponden a 2013 pues son los últimos disponibles","Nota: Los datos corresponden a 2013 pues son los últimos disponibles","Nota: Los datos corresponden a 2013 pues son los últimos disponibles","Nota: Los datos corresponden a 2013 pues son los últimos disponibles","Nota: Los datos corresponden a 2013 pues son los últimos disponibles","Nota: Los datos corresponden a 2013 pues son los últimos disponibles","Nota: Los datos corresponden a 2013 pues son los últimos disponibles","Nota: Los datos corresponden a 2013 pues son los últimos disponibles","Nota: Los datos corresponden a 2013 pues son los últimos disponibles","Nota: Los datos corresponden a 2013 pues son los últimos disponibles","Nota: Los datos corresponden a 2013 pues son los últimos disponibles","Nota: Los datos corresponden a 2013 pues son los últimos disponibles","Nota: Los datos corresponden a 2013 pues son los últimos disponibles","Nota: Los datos corresponden a 2013 pues son los últimos disponibles","Nota: Los datos corresponden a 2013 pues son los últimos disponibles","Nota: Los datos corresponden a 2013 pues son los últimos disponibles","Nota: Los datos corresponden a 2013 pues son los últimos disponibles","Nota: Los datos corresponden a 2013 pues son los últimos disponibles","Nota: Los datos corresponden a 2013 pues son los últimos disponibles","Nota: Los datos corresponden a 2013 pues son los últimos disponibles","Nota: Los datos corresponden a 2013 pues son los últimos disponibles","Nota: Los datos corresponden a 2013 pues son los últimos disponibles","Nota: Los datos corresponden a 2013 pues son los últimos disponibles","Nota: Los datos corresponden a 2013 pues son los últimos disponibles","Nota: Los datos corresponden a 2013 pues son los últimos disponibles","Nota: Los datos corresponden a 2013 pues son los últimos disponibles","Nota: Los datos corresponden a 2013 pues son los últimos disponibles","Nota: Los datos corresponden a 2013 pues son los últimos disponibles","Nota: Los datos corresponden a 2013 pues son los últimos disponibles","Nota: Los datos corresponden a 2013 pues son los últimos disponibles","Nota: Los datos corresponden a 2013 pues son los últimos disponibles","Nota: Los datos corresponden a 2013 pues son los últimos disponibles","Nota: Los datos corresponden a 2013 pues son los últimos disponibles","Nota: Los datos corresponden a 2013 pues son los últimos disponibles","Nota: Los datos corresponden a 2013 pues son los últimos disponibles","Nota: Los datos corresponden a 2013 pues son los últimos disponibles","Nota: Los datos corresponden a 2013 pues son los últimos disponibles","Nota: Los datos corresponden a 2013 pues son los últimos disponibles","Nota: Los datos corresponden a 2013 pues son los últimos disponibles","Nota: Los datos corresponden a 2013 pues son los últimos disponibles","Nota: Los datos corresponden a 2013 pues son los últimos disponibles","Nota: Los datos corresponden a 2013 pues son los últimos disponibles","Nota: Los datos corresponden a 2013 pues son los últimos disponibles","Nota: Los datos corresponden a 2013 pues son los últimos disponibles","Nota: Los datos corresponden a 2013 pues son los últimos disponibles","Nota: Los datos corresponden a 2013 pues son los últimos disponibles","Nota: Los datos corresponden a 2013 pues son los últimos disponibles","Nota: Los datos corresponden a 2013 pues son los últimos disponibles","Nota: Los datos corresponden a 2013 pues son los últimos disponibles","Nota: Los datos corresponden a 2013 pues son los últimos disponibles","Nota: Los datos corresponden a 2013 pues son los últimos disponibles","Nota: Los datos corresponden a 2013 pues son los últimos disponibles","Nota: Los datos corresponden a 2013 pues son los últimos disponibles","Nota: Los datos corresponden a 2013 pues son los últimos disponibles","Nota: Los datos corresponden a 2013 pues son los últimos disponibles","Nota: Los datos corresponden a 2013 pues son los últimos disponibles","Nota: Los datos corresponden a 2013 pues son los últimos disponibles","Nota: Los datos corresponden a 2013 pues son los últimos disponibles","Nota: Los datos corresponden a 2013 pues son los últimos disponibles","Nota: Los datos corresponden a 2013 pues son los últimos disponibles","Nota: Los datos corresponden a 2013 pues son los últimos disponibles","Nota: Los datos corresponden a 2013 pues son los últimos disponibles","Nota: Los datos corresponden a 2013 pues son los últimos disponibles","Nota: Los datos corresponden a 2013 pues son los últimos disponibles","Nota: Los datos corresponden a 2013 pues son los últimos disponibles","Nota: Los datos corresponden a 2013 pues son los últimos disponibles","Nota: Los datos corresponden a 2013 pues son los últimos disponibles","Nota: Los datos corresponden a 2013 pues son los últimos disponibles","Nota: Los datos corresponden a 2013 pues son los últimos disponibles","Nota: Los datos corresponden a 2013 pues son los últimos disponibles","Nota: Los datos corresponden a 2013 pues son los últimos disponibles","Nota: Los datos corresponden a 2013 pues son los últimos disponibles","Nota: Los datos corresponden a 2013 pues son los últimos disponibles","Nota: Los datos corresponden a 2013 pues son los últimos disponibles","Nota: Los datos corresponden a 2013 pues son los últimos disponibles","Nota: Los datos corresponden a 2013 pues son los últimos disponibles","Nota: Los datos corresponden a 2013 pues son los últimos disponibles","Nota: Los datos corresponden a 2013 pues son los últimos disponibles","Nota: Los datos corresponden a 2013 pues son los últimos disponibles","Nota: Los datos corresponden a 2013 pues son los últimos disponibles","Nota: Los datos corresponden a 2013 pues son los últimos disponibles","Nota: Los datos corresponden a 2013 pues son los últimos disponibles","Nota: Los datos corresponden a 2013 pues son los últimos disponibles","Nota: Los datos corresponden a 2013 pues son los últimos disponibles","Nota: Los datos corresponden a 2013 pues son los últimos disponibles","Nota: Los datos corresponden a 2013 pues son los últimos disponibles","Nota: Los datos corresponden a 2013 pues son los últimos disponibles","Nota: Los datos corresponden a 2013 pues son los últimos disponibles","Nota: Los datos corresponden a 2013 pues son los últimos disponibles","Nota: Los datos corresponden a 2013 pues son los últimos disponibles","Nota: Los datos corresponden a 2013 pues son los últimos disponibles","Nota: Los datos corresponden a 2013 pues son los últimos disponibles","Nota: Los datos corresponden a 2013 pues son los últimos disponibles","Nota: Los datos corresponden a 2013 pues son los últimos disponibles","Nota: Los datos corresponden a 2013 pues son los últimos disponibles","Nota: Los datos corresponden a 2013 pues son los últimos disponibles","Nota: Los datos corresponden a 2013 pues son los últimos disponibles","Nota: Los datos corresponden a 2013 pues son los últimos disponibles","Nota: Los datos corresponden a 2013 pues son los últimos disponibles","Nota: Los datos corresponden a 2013 pues son los últimos disponibles","Nota: Los datos corresponden a 2013 pues son los últimos disponibles","Nota: Los datos corresponden a 2013 pues son los últimos disponibles","Nota: Los datos corresponden a 2013 pues son los últimos disponibles","Nota: Los datos corresponden a 2013 pues son los últimos disponibles","Nota: Los datos corresponden a 2013 pues son los últimos disponibles","Nota: Los datos corresponden a 2013 pues son los últimos disponibles","Nota: Los datos corresponden a 2013 pues son los últimos disponibles","Nota: Los datos corresponden a 2013 pues son los últimos disponibles","Nota: Los datos corresponden a 2013 pues son los últimos disponibles","Nota: Los datos corresponden a 2013 pues son los últimos disponibles","Nota: Los datos corresponden a 2013 pues son los últimos disponibles","Nota: Los datos corresponden a 2013 pues son los últimos disponibles","Nota: Los datos corresponden a 2013 pues son los últimos disponibles","Nota: Los datos corresponden a 2013 pues son los últimos disponibles","Nota: Los datos corresponden a 2013 pues son los últimos disponibles","Nota: Los datos corresponden a 2013 pues son los últimos disponibles","Nota: Los datos corresponden a 2013 pues son los últimos disponibles","Nota: Los datos corresponden a 2013 pues son los últimos disponibles","Nota: Los datos corresponden a 2013 pues son los últimos disponibles","Nota: Los datos corresponden a 2013 pues son los últimos disponibles","Nota: Los datos corresponden a 2013 pues son los últimos disponibles","Nota: Los datos corresponden a 2013 pues son los últimos disponibles","Nota: Los datos corresponden a 2013 pues son los últimos disponibles","Nota: Los datos corresponden a 2013 pues son los últimos disponibles","Nota: Los datos corresponden a 2013 pues son los últimos disponibles","Nota: Los datos corresponden a 2013 pues son los últimos disponibles","Nota: Los datos corresponden a 2013 pues son los últimos disponibles","Nota: Los datos corresponden a 2013 pues son los últimos disponibles","Nota: Los datos corresponden a 2013 pues son los últimos disponibles","Nota: Los datos corresponden a 2013 pues son los últimos disponibles","Nota: Los datos corresponden a 2013 pues son los últimos disponibles","Nota: Los datos corresponden a 2013 pues son los últimos disponibles","Nota: Los datos corresponden a 2013 pues son los últimos disponibles","Nota: Los datos corresponden a 2013 pues son los últimos disponibles","Nota: Los datos corresponden a 2013 pues son los últimos disponibles","Nota: Los datos corresponden a 2013 pues son los últimos disponibles","Nota: Los datos corresponden a 2013 pues son los últimos disponibles","Nota: Los datos corresponden a 2013 pues son los últimos disponibles","Nota: Los datos corresponden a 2013 pues son los últimos disponibles","Nota: Los datos corresponden a 2013 pues son los últimos disponibles","Nota: Los datos corresponden a 2013 pues son los últimos disponibles","Nota: Los datos corresponden a 2013 pues son los últimos disponibles","Nota: Los datos corresponden a 2013 pues son los últimos disponibles","Nota: Los datos corresponden a 2013 pues son los últimos disponibles","Nota: Los datos corresponden a 2013 pues son los últimos disponibles","Nota: Los datos corresponden a 2013 pues son los últimos disponibles","Nota: Los datos corresponden a 2013 pues son los últimos disponibles","Nota: Los datos corresponden a 2013 pues son los últimos disponibles","Nota: Los datos corresponden a 2013 pues son los últimos disponibles","Nota: Los datos corresponden a 2013 pues son los últimos disponibles","Nota: Los datos corresponden a 2013 pues son los últimos disponibles","Nota: Los datos corresponden a 2013 pues son los últimos disponibles","Nota: Los datos corresponden a 2013 pues son los últimos disponibles","Nota: Los datos corresponden a 2013 pues son los últimos disponibles","Nota: Los datos corresponden a 2013 pues son los últimos disponibles","Nota: Los datos corresponden a 2013 pues son los últimos disponibles","Nota: Los datos corresponden a 2013 pues son los últimos disponibles","Nota: Los datos corresponden a 2013 pues son los últimos disponibles","Nota: Los datos corresponden a 2013 pues son los últimos disponibles","Nota: Los datos corresponden a 2013 pues son los últimos disponibles","Nota: Los datos corresponden a 2013 pues son los últimos disponibles","Nota: Los datos corresponden a 2013 pues son los últimos disponibles","Nota: Los datos corresponden a 2013 pues son los últimos disponibles","Nota: Los datos corresponden a 2013 pues son los últimos disponibles","Nota: Los datos corresponden a 2013 pues son los últimos disponibles","Nota: Los datos corresponden a 2013 pues son los últimos disponibles","Nota: Los datos corresponden a 2013 pues son los últimos disponibles","Nota: Los datos corresponden a 2013 pues son los últimos disponibles","Nota: Los datos corresponden a 2013 pues son los últimos disponibles","Nota: Los datos corresponden a 2013 pues son los últimos disponibles","Nota: Los datos corresponden a 2013 pues son los últimos disponibles","Nota: Los datos corresponden a 2013 pues son los últimos disponibles","Nota: Los datos corresponden a 2013 pues son los últimos disponibles","Nota: Los datos corresponden a 2013 pues son los últimos disponibles","Nota: Los datos corresponden a 2013 pues son los últimos disponibles","Nota: Los datos corresponden a 2013 pues son los últimos disponibles","Nota: Los datos corresponden a 2013 pues son los últimos disponibles","Nota: Los datos corresponden a 2013 pues son los últimos disponibles","Nota: Los datos corresponden a 2013 pues son los últimos disponibles","Nota: Los datos corresponden a 2013 pues son los últimos disponibles","Nota: Los datos corresponden a 2013 pues son los últimos disponibles","Nota: Los datos corresponden a 2013 pues son los últimos disponibles","Nota: Los datos corresponden a 2013 pues son los últimos disponibles","Nota: Los datos corresponden a 2013 pues son los últimos disponibles","Nota: Los datos corresponden a 2013 pues son los últimos disponibles","Nota: Los datos corresponden a 2013 pues son los últimos disponibles","Nota: Los datos corresponden a 2013 pues son los últimos disponibles","Nota: Los datos corresponden a 2013 pues son los últimos disponibles","Nota: Los datos corresponden a 2013 pues son los últimos disponibles","Nota: Los datos corresponden a 2013 pues son los últimos disponibles","Nota: Los datos corresponden a 2013 pues son los últimos disponibles","Nota: Los datos corresponden a 2013 pues son los últimos disponibles","Nota: Los datos corresponden a 2013 pues son los últimos disponibles","Nota: Los datos corresponden a 2013 pues son los últimos disponibles","Nota: Los datos corresponden a 2013 pues son los últimos disponibles","Nota: Los datos corresponden a 2013 pues son los últimos disponibles","Nota: Los datos corresponden a 2013 pues son los últimos disponibles","Nota: Los datos corresponden a 2013 pues son los últimos disponibles","Nota: Los datos corresponden a 2013 pues son los últimos disponibles","Nota: Los datos corresponden a 2013 pues son los últimos disponibles","Nota: Los datos corresponden a 2013 pues son los últimos disponibles","Nota: Los datos corresponden a 2013 pues son los últimos disponibles","Nota: Los datos corresponden a 2013 pues son los últimos disponibles","Nota: Los datos corresponden a 2013 pues son los últimos disponibles","Nota: Los datos corresponden a 2013 pues son los últimos disponibles","Nota: Los datos corresponden a 2013 pues son los últimos disponibles","Nota: Los datos corresponden a 2013 pues son los últimos disponibles","Nota: Los datos corresponden a 2013 pues son los últimos disponibles","Nota: Los datos corresponden a 2013 pues son los últimos disponibles","Nota: Los datos corresponden a 2013 pues son los últimos disponibles","Nota: Los datos corresponden a 2013 pues son los últimos disponibles","Nota: Los datos corresponden a 2013 pues son los últimos disponibles","Nota: Los datos corresponden a 2013 pues son los últimos disponibles","Nota: Los datos corresponden a 2013 pues son los últimos disponibles","Nota: Los datos corresponden a 2013 pues son los últimos disponibles","Nota: Los datos corresponden a 2013 pues son los últimos disponibles","Nota: Los datos corresponden a 2013 pues son los últimos disponibles","Nota: Los datos corresponden a 2013 pues son los últimos disponibles","Nota: Los datos corresponden a 2013 pues son los últimos disponibles","Nota: Los datos corresponden a 2013 pues son los últimos disponibles","Nota: Los datos corresponden a 2013 pues son los últimos disponibles","Nota: Los datos corresponden a 2013 pues son los últimos disponibles","Nota: Los datos corresponden a 2013 pues son los últimos disponibles","Nota: Los datos corresponden a 2013 pues son los últimos disponibles","Nota: Los datos corresponden a 2013 pues son los últimos disponibles","Nota: Los datos corresponden a 2013 pues son los últimos disponibles","Nota: Los datos corresponden a 2013 pues son los últimos disponibles","Nota: Los datos corresponden a 2013 pues son los últimos disponibles","Nota: Los datos corresponden a 2013 pues son los últimos disponibles","Nota: Los datos corresponden a 2013 pues son los últimos disponibles","Nota: Los datos corresponden a 2013 pues son los últimos disponibles","Nota: Los datos corresponden a 2013 pues son los últimos disponibles","Nota: Los datos corresponden a 2013 pues son los últimos disponibles","Nota: Los datos corresponden a 2013 pues son los últimos disponibles","Nota: Los datos corresponden a 2013 pues son los últimos disponibles","Nota: Los datos corresponden a 2013 pues son los últimos disponibles","Nota: Los datos corresponden a 2013 pues son los últimos disponibles","Nota: Los datos corresponden a 2013 pues son los últimos disponibles","Nota: Los datos corresponden a 2013 pues son los últimos disponibles","Nota: Los datos corresponden a 2013 pues son los últimos disponibles","Nota: Los datos corresponden a 2013 pues son los últimos disponibles","Nota: Los datos corresponden a 2013 pues son los últimos disponibles","Nota: Los datos corresponden a 2013 pues son los últimos disponibles","Nota: Los datos corresponden a 2013 pues son los últimos disponibles","Nota: Los datos corresponden a 2013 pues son los últimos disponibles","Nota: Los datos corresponden a 2013 pues son los últimos disponibles","Nota: Los datos corresponden a 2013 pues son los últimos disponibles","Nota: Los datos corresponden a 2013 pues son los últimos disponibles","Nota: Los datos corresponden a 2013 pues son los últimos disponibles","Nota: Los datos corresponden a 2013 pues son los últimos disponibles","Nota: Los datos corresponden a 2013 pues son los últimos disponibles","Nota: Los datos corresponden a 2013 pues son los últimos disponibles","Nota: Los datos corresponden a 2013 pues son los últimos disponibles","Nota: Los datos corresponden a 2013 pues son los últimos disponibles","Nota: Los datos corresponden a 2013 pues son los últimos disponibles","Nota: Los datos corresponden a 2013 pues son los últimos disponibles","Nota: Los datos corresponden a 2013 pues son los últimos disponibles","Nota: Los datos corresponden a 2013 pues son los últimos disponibles","Nota: Los datos corresponden a 2013 pues son los últimos disponibles","Nota: Los datos corresponden a 2013 pues son los últimos disponibles","Nota: Los datos corresponden a 2013 pues son los últimos disponibles","Nota: Los datos corresponden a 2013 pues son los últimos disponibles","Nota: Los datos corresponden a 2013 pues son los últimos disponibles","Nota: Los datos corresponden a 2013 pues son los últimos disponibles","Nota: Los datos corresponden a 2013 pues son los últimos disponibles","Nota: Los datos corresponden a 2013 pues son los últimos disponibles","Nota: Los datos corresponden a 2013 pues son los últimos disponibles","Nota: Los datos corresponden a 2013 pues son los últimos disponibles","Nota: Los datos corresponden a 2013 pues son los últimos disponibles","Nota: Los datos corresponden a 2013 pues son los últimos disponibles","Nota: Los datos corresponden a 2013 pues son los últimos disponibles","Nota: Los datos corresponden a 2013 pues son los últimos disponibles","Nota: Los datos corresponden a 2013 pues son los últimos disponibles","Nota: Los datos corresponden a 2013 pues son los últimos disponibles","Nota: Los datos corresponden a 2013 pues son los últimos disponibles","Nota: Los datos corresponden a 2013 pues son los últimos disponibles","Nota: Los datos corresponden a 2013 pues son los últimos disponibles","Nota: Los datos corresponden a 2013 pues son los últimos disponibles","Nota: Los datos corresponden a 2013 pues son los últimos disponibles","Nota: Los datos corresponden a 2013 pues son los últimos disponibles","Nota: Los datos corresponden a 2013 pues son los últimos disponibles","Nota: Los datos corresponden a 2013 pues son los últimos disponibles","Nota: Los datos corresponden a 2013 pues son los últimos disponibles","Nota: Los datos corresponden a 2013 pues son los últimos disponibles","Nota: Los datos corresponden a 2013 pues son los últimos disponibles","Nota: Los datos corresponden a 2013 pues son los últimos disponibles","Nota: Los datos corresponden a 2013 pues son los últimos disponibles","Nota: Los datos corresponden a 2013 pues son los últimos disponibles","Nota: Los datos corresponden a 2013 pues son los últimos disponibles","Nota: Los datos corresponden a 2013 pues son los últimos disponibles","Nota: Los datos corresponden a 2013 pues son los últimos disponibles","Nota: Los datos corresponden a 2013 pues son los últimos disponibles","Nota: Los datos corresponden a 2013 pues son los últimos disponibles","Nota: Los datos corresponden a 2013 pues son los últimos disponibles","Nota: Los datos corresponden a 2013 pues son los últimos disponibles","Nota: Los datos corresponden a 2013 pues son los últimos disponibles","Nota: Los datos corresponden a 2013 pues son los últimos disponibles","Nota: Los datos corresponden a 2013 pues son los últimos disponibles","Nota: Los datos corresponden a 2013 pues son los últimos disponibles","Nota: Los datos corresponden a 2013 pues son los últimos disponibles","Nota: Los datos corresponden a 2013 pues son los últimos disponibles","Nota: Los datos corresponden a 2013 pues son los últimos disponibles","Nota: Los datos corresponden a 2013 pues son los últimos disponibles","Nota: Los datos corresponden a 2013 pues son los últimos disponibles","Nota: Los datos corresponden a 2013 pues son los últimos disponibles","Nota: Los datos corresponden a 2013 pues son los últimos disponibles","Nota: Los datos corresponden a 2013 pues son los últimos disponibles","Nota: Los datos corresponden a 2013 pues son los últimos disponibles","Nota: Los datos corresponden a 2013 pues son los últimos disponibles","Nota: Los datos corresponden a 2013 pues son los últimos disponibles","Nota: Los datos corresponden a 2013 pues son los últimos disponibles","Nota: Los datos corresponden a 2013 pues son los últimos disponibles","Nota: Los datos corresponden a 2013 pues son los últimos disponibles","Nota: Los datos corresponden a 2013 pues son los últimos disponibles","Nota: Los datos corresponden a 2013 pues son los últimos disponibles","Nota: Los datos corresponden a 2013 pues son los últimos disponibles","Nota: Los datos corresponden a 2013 pues son los últimos disponibles","Nota: Los datos corresponden a 2013 pues son los últimos disponibles","Nota: Los datos corresponden a 2013 pues son los últimos disponibles","Nota: Los datos corresponden a 2013 pues son los últimos disponibles","Nota: Los datos corresponden a 2013 pues son los últimos disponibles","Nota: Los datos corresponden a 2013 pues son los últimos disponibles","Nota: Los datos corresponden a 2013 pues son los últimos disponibles","Nota: Los datos corresponden a 2013 pues son los últimos disponibles","Nota: Los datos corresponden a 2013 pues son los últimos disponibles","Nota: Los datos corresponden a 2013 pues son los últimos disponibles","Nota: Los datos corresponden a 2013 pues son los últimos disponibles","Nota: Los datos corresponden a 2013 pues son los últimos disponibles","Nota: Los datos corresponden a 2013 pues son los últimos disponibles","Nota: Los datos corresponden a 2013 pues son los últimos disponibles","Nota: Los datos corresponden a 2013 pues son los últimos disponibles","Nota: Los datos corresponden a 2013 pues son los últimos disponibles","Nota: Los datos corresponden a 2013 pues son los últimos disponibles","Nota: Los datos corresponden a 2013 pues son los últimos disponibles","Nota: Los datos corresponden a 2013 pues son los últimos disponibles","Nota: Los datos corresponden a 2013 pues son los últimos disponibles","Nota: Los datos corresponden a 2013 pues son los últimos disponibles","Nota: Los datos corresponden a 2013 pues son los últimos disponibles","Nota: Los datos corresponden a 2013 pues son los últimos disponibles","Nota: Los datos corresponden a 2013 pues son los últimos disponibles","Nota: Los datos corresponden a 2013 pues son los últimos disponibles","Nota: Los datos corresponden a 2013 pues son los últimos disponibles","Nota: Los datos corresponden a 2013 pues son los últimos disponibles","Nota: Los datos corresponden a 2013 pues son los últimos disponibles","Nota: Los datos corresponden a 2013 pues son los últimos disponibles","Nota: Los datos corresponden a 2013 pues son los últimos disponibles","Nota: Los datos corresponden a 2013 pues son los últimos disponibles","Nota: Los datos corresponden a 2013 pues son los últimos disponibles","Nota: Los datos corresponden a 2013 pues son los últimos disponibles","Nota: Los datos corresponden a 2013 pues son los últimos disponibles","Nota: Los datos corresponden a 2013 pues son los últimos disponibles","Nota: Los datos corresponden a 2013 pues son los últimos disponibles","Nota: Los datos corresponden a 2013 pues son los últimos disponibles","Nota: Los datos corresponden a 2013 pues son los últimos disponibles","Nota: Los datos corresponden a 2013 pues son los últimos disponibles","Nota: Los datos corresponden a 2013 pues son los últimos disponibles","Nota: Los datos corresponden a 2013 pues son los últimos disponibles","Nota: Los datos corresponden a 2013 pues son los últimos disponibles","Nota: Los datos corresponden a 2013 pues son los últimos disponibles","Nota: Los datos corresponden a 2013 pues son los últimos disponibles","Nota: Los datos corresponden a 2013 pues son los últimos disponibles","Nota: Los datos corresponden a 2013 pues son los últimos disponibles","Nota: Los datos corresponden a 2013 pues son los últimos disponibles","Nota: Los datos corresponden a 2013 pues son los últimos disponibles","Nota: Los datos corresponden a 2013 pues son los últimos disponibles","Nota: Los datos corresponden a 2013 pues son los últimos disponibles","Nota: Los datos corresponden a 2013 pues son los últimos disponibles","Nota: Los datos corresponden a 2013 pues son los últimos disponibles","Nota: Los datos corresponden a 2013 pues son los últimos disponibles","Nota: Los datos corresponden a 2013 pues son los últimos disponibles","Nota: Los datos corresponden a 2013 pues son los últimos disponibles","Nota: Los datos corresponden a 2013 pues son los últimos disponibles","Nota: Los datos corresponden a 2013 pues son los últimos disponibles","Nota: Los datos corresponden a 2013 pues son los últimos disponibles","Nota: Los datos corresponden a 2013 pues son los últimos disponibles","Nota: Los datos corresponden a 2013 pues son los últimos disponibles","Nota: Los datos corresponden a 2013 pues son los últimos disponibles","Nota: Los datos corresponden a 2013 pues son los últimos disponibles","Nota: Los datos corresponden a 2013 pues son los últimos disponibles","Nota: Los datos corresponden a 2013 pues son los últimos disponibles","Nota: Los datos corresponden a 2013 pues son los últimos disponibles","Nota: Los datos corresponden a 2013 pues son los últimos disponibles","Nota: Los datos corresponden a 2013 pues son los últimos disponibles","Nota: Los datos corresponden a 2013 pues son los últimos disponibles","Nota: Los datos corresponden a 2013 pues son los últimos disponibles","Nota: Los datos corresponden a 2013 pues son los últimos disponibles","Nota: Los datos corresponden a 2013 pues son los últimos disponibles","Nota: Los datos corresponden a 2013 pues son los últimos disponibles","Nota: Los datos corresponden a 2013 pues son los últimos disponibles","Nota: Los datos corresponden a 2013 pues son los últimos disponibles","Nota: Los datos corresponden a 2013 pues son los últimos disponibles","Nota: Los datos corresponden a 2013 pues son los últimos disponibles","Nota: Los datos corresponden a 2013 pues son los últimos disponibles","Nota: Los datos corresponden a 2013 pues son los últimos disponibles","Nota: Los datos corresponden a 2013 pues son los últimos disponibles","Nota: Los datos corresponden a 2013 pues son los últimos disponibles","Nota: Los datos corresponden a 2013 pues son los últimos disponibles","Nota: Los datos corresponden a 2013 pues son los últimos disponibles","Nota: Los datos corresponden a 2013 pues son los últimos disponibles","Nota: Los datos corresponden a 2013 pues son los últimos disponibles","Nota: Los datos corresponden a 2013 pues son los últimos disponibles","Nota: Los datos corresponden a 2013 pues son los últimos disponibles","Nota: Los datos corresponden a 2013 pues son los últimos disponibles","Nota: Los datos corresponden a 2013 pues son los últimos disponibles","Nota: Los datos corresponden a 2013 pues son los últimos disponibles","Nota: Los datos corresponden a 2013 pues son los últimos disponibles","Nota: Los datos corresponden a 2013 pues son los últimos disponibles","Nota: Los datos corresponden a 2013 pues son los últimos disponibles","Nota: Los datos corresponden a 2013 pues son los últimos disponibles","Nota: Los datos corresponden a 2013 pues son los últimos disponibles","Nota: Los datos corresponden a 2013 pues son los últimos disponibles","Nota: Los datos corresponden a 2013 pues son los últimos disponibles","Nota: Los datos corresponden a 2013 pues son los últimos disponibles","Nota: Los datos corresponden a 2013 pues son los últimos disponibles","Nota: Los datos corresponden a 2013 pues son los últimos disponibles","Nota: Los datos corresponden a 2013 pues son los últimos disponibles","Nota: Los datos corresponden a 2013 pues son los últimos disponibles","Nota: Los datos corresponden a 2013 pues son los últimos disponibles","Nota: Los datos corresponden a 2013 pues son los últimos disponibles","Nota: Los datos corresponden a 2013 pues son los últimos disponibles","Nota: Los datos corresponden a 2013 pues son los últimos disponibles","Nota: Los datos corresponden a 2013 pues son los últimos disponibles","Nota: Los datos corresponden a 2013 pues son los últimos disponibles","Nota: Los datos corresponden a 2013 pues son los últimos disponibles","Nota: Los datos corresponden a 2013 pues son los últimos disponibles","Nota: Los datos corresponden a 2013 pues son los últimos disponibles","Nota: Los datos corresponden a 2013 pues son los últimos disponibles","Nota: Los datos corresponden a 2013 pues son los últimos disponibles","Nota: Los datos corresponden a 2013 pues son los últimos disponibles","Nota: Los datos corresponden a 2013 pues son los últimos disponibles","Nota: Los datos corresponden a 2013 pues son los últimos disponibles","Nota: Los datos corresponden a 2013 pues son los últimos disponibles","Nota: Los datos corresponden a 2013 pues son los últimos disponibles","Nota: Los datos corresponden a 2013 pues son los últimos disponibles","Nota: Los datos corresponden a 2013 pues son los últimos disponibles","Nota: Los datos corresponden a 2013 pues son los últimos disponibles","Nota: Los datos corresponden a 2013 pues son los últimos disponibles","Nota: Los datos corresponden a 2013 pues son los últimos disponibles","Nota: Los datos corresponden a 2013 pues son los últimos disponibles","Nota: Los datos corresponden a 2013 pues son los últimos disponibles","Nota: Los datos corresponden a 2013 pues son los últimos disponibles","Nota: Los datos corresponden a 2013 pues son los últimos disponibles","Nota: Los datos corresponden a 2013 pues son los últimos disponibles","Nota: Los datos corresponden a 2013 pues son los últimos disponibles","Nota: Los datos corresponden a 2013 pues son los últimos disponibles","Nota: Los datos corresponden a 2013 pues son los últimos disponibles","Nota: Los datos corresponden a 2013 pues son los últimos disponibles","Nota: Los datos corresponden a 2013 pues son los últimos disponibles","Nota: Los datos corresponden a 2013 pues son los últimos disponibles","Nota: Los datos corresponden a 2013 pues son los últimos disponibles","Nota: Los datos corresponden a 2013 pues son los últimos disponibles","Nota: Los datos corresponden a 2013 pues son los últimos disponibles","Nota: Los datos corresponden a 2013 pues son los últimos disponibles","Nota: Los datos corresponden a 2013 pues son los últimos disponibles","Nota: Los datos corresponden a 2013 pues son los últimos disponibles","Nota: Los datos corresponden a 2013 pues son los últimos disponibles","Nota: Los datos corresponden a 2013 pues son los últimos disponibles","Nota: Los datos corresponden a 2013 pues son los últimos disponibles","Nota: Los datos corresponden a 2013 pues son los últimos disponibles","Nota: Los datos corresponden a 2013 pues son los últimos disponibles","Nota: Los datos corresponden a 2013 pues son los últimos disponibles","Nota: Los datos corresponden a 2013 pues son los últimos disponibles","Nota: Los datos corresponden a 2013 pues son los últimos disponibles","Nota: Los datos corresponden a 2013 pues son los últimos disponibles","Nota: Los datos corresponden a 2013 pues son los últimos disponibles","Nota: Los datos corresponden a 2013 pues son los últimos disponibles","Nota: Los datos corresponden a 2013 pues son los últimos disponibles","Nota: Los datos corresponden a 2013 pues son los últimos disponibles","Nota: Los datos corresponden a 2013 pues son los últimos disponibles","Nota: Los datos corresponden a 2013 pues son los últimos disponibles","Nota: Los datos corresponden a 2013 pues son los últimos disponibles","Nota: Los datos corresponden a 2013 pues son los últimos disponibles","Nota: Los datos corresponden a 2013 pues son los últimos disponibles","Nota: Los datos corresponden a 2013 pues son los últimos disponibles","Nota: Los datos corresponden a 2013 pues son los últimos disponibles","Nota: Los datos corresponden a 2013 pues son los últimos disponibles","Nota: Los datos corresponden a 2013 pues son los últimos disponibles","Nota: Los datos corresponden a 2013 pues son los últimos disponibles","Nota: Los datos corresponden a 2013 pues son los últimos disponibles","Nota: Los datos corresponden a 2013 pues son los últimos disponibles","Nota: Los datos corresponden a 2013 pues son los últimos disponibles","Nota: Los datos corresponden a 2013 pues son los últimos disponibles","Nota: Los datos corresponden a 2013 pues son los últimos disponibles","Nota: Los datos corresponden a 2013 pues son los últimos disponibles","Nota: Los datos corresponden a 2013 pues son los últimos disponibles","Nota: Los datos corresponden a 2013 pues son los últimos disponibles","Nota: Los datos corresponden a 2013 pues son los últimos disponibles","Nota: Los datos corresponden a 2013 pues son los últimos disponibles","Nota: Los datos corresponden a 2013 pues son los últimos disponibles","Nota: Los datos corresponden a 2013 pues son los últimos disponibles","Nota: Los datos corresponden a 2013 pues son los últimos disponibles","Nota: Los datos corresponden a 2013 pues son los últimos disponibles","Nota: Los datos corresponden a 2013 pues son los últimos disponibles","Nota: Los datos corresponden a 2013 pues son los últimos disponibles","Nota: Los datos corresponden a 2013 pues son los últimos disponibles","Nota: Los datos corresponden a 2013 pues son los últimos disponibles","Nota: Los datos corresponden a 2013 pues son los últimos disponibles","Nota: Los datos corresponden a 2013 pues son los últimos disponibles","Nota: Los datos corresponden a 2013 pues son los últimos disponibles","Nota: Los datos corresponden a 2013 pues son los últimos disponibles","Nota: Los datos corresponden a 2013 pues son los últimos disponibles","Nota: Los datos corresponden a 2013 pues son los últimos disponibles","Nota: Los datos corresponden a 2013 pues son los últimos disponibles","Nota: Los datos corresponden a 2013 pues son los últimos disponibles","Nota: Los datos corresponden a 2013 pues son los últimos disponibles","Nota: Los datos corresponden a 2013 pues son los últimos disponibles","Nota: Los datos corresponden a 2013 pues son los últimos disponibles","Nota: Los datos corresponden a 2013 pues son los últimos disponibles","Nota: Los datos corresponden a 2013 pues son los últimos disponibles","Nota: Los datos corresponden a 2013 pues son los últimos disponibles","Nota: Los datos corresponden a 2013 pues son los últimos disponibles","Nota: Los datos corresponden a 2013 pues son los últimos disponibles","Nota: Los datos corresponden a 2013 pues son los últimos disponibles","Nota: Los datos corresponden a 2013 pues son los últimos disponibles","Nota: Los datos corresponden a 2013 pues son los últimos disponibles","Nota: Los datos corresponden a 2013 pues son los últimos disponibles","Nota: Los datos corresponden a 2013 pues son los últimos disponibles","Nota: Los datos corresponden a 2013 pues son los últimos disponibles","Nota: Los datos corresponden a 2013 pues son los últimos disponibles","Nota: Los datos corresponden a 2013 pues son los últimos disponibles","Nota: Los datos corresponden a 2013 pues son los últimos disponibles","Nota: Los datos corresponden a 2013 pues son los últimos disponibles","Nota: Los datos corresponden a 2013 pues son los últimos disponibles","Nota: Los datos corresponden a 2013 pues son los últimos disponibles","Nota: Los datos corresponden a 2013 pues son los últimos disponibles","Nota: Los datos corresponden a 2013 pues son los últimos disponibles","Nota: Los datos corresponden a 2013 pues son los últimos disponibles","Nota: Los datos corresponden a 2013 pues son los últimos disponibles","Nota: Los datos corresponden a 2013 pues son los últimos disponibles","Nota: Los datos corresponden a 2013 pues son los últimos disponibles","Nota: Los datos corresponden a 2013 pues son los últimos disponibles","Nota: Los datos corresponden a 2013 pues son los últimos disponibles","Nota: Los datos corresponden a 2013 pues son los últimos disponibles","Nota: Los datos corresponden a 2013 pues son los últimos disponibles","Nota: Los datos corresponden a 2013 pues son los últimos disponibles","Nota: Los datos corresponden a 2013 pues son los últimos disponibles","Nota: Los datos corresponden a 2013 pues son los últimos disponibles","Nota: Los datos corresponden a 2013 pues son los últimos disponibles","Nota: Los datos corresponden a 2013 pues son los últimos disponibles","Nota: Los datos corresponden a 2013 pues son los últimos disponibles","Nota: Los datos corresponden a 2013 pues son los últimos disponibles","Nota: Los datos corresponden a 2013 pues son los últimos disponibles","Nota: Los datos corresponden a 2013 pues son los últimos disponibles","Nota: Los datos corresponden a 2013 pues son los últimos disponibles","Nota: Los datos corresponden a 2013 pues son los últimos disponibles","Nota: Los datos corresponden a 2013 pues son los últimos disponibles","Nota: Los datos corresponden a 2013 pues son los últimos disponibles","Nota: Los datos corresponden a 2013 pues son los últimos disponibles","Nota: Los datos corresponden a 2013 pues son los últimos disponibles","Nota: Los datos corresponden a 2013 pues son los últimos disponibles","Nota: Los datos corresponden a 2013 pues son los últimos disponibles","Nota: Los datos corresponden a 2013 pues son los últimos disponibles","Nota: Los datos corresponden a 2013 pues son los últimos disponibles","Nota: Los datos corresponden a 2013 pues son los últimos disponibles","Nota: Los datos corresponden a 2013 pues son los últimos disponibles","Nota: Los datos corresponden a 2013 pues son los últimos disponibles","Nota: Los datos corresponden a 2013 pues son los últimos disponibles","Nota: Los datos corresponden a 2013 pues son los últimos disponibles","Nota: Los datos corresponden a 2013 pues son los últimos disponibles","Nota: Los datos corresponden a 2013 pues son los últimos disponibles","Nota: Los datos corresponden a 2013 pues son los últimos disponibles","Nota: Los datos corresponden a 2013 pues son los últimos disponibles","Nota: Los datos corresponden a 2013 pues son los últimos disponibles","Nota: Los datos corresponden a 2013 pues son los últimos disponibles","Nota: Los datos corresponden a 2013 pues son los últimos disponibles","Nota: Los datos corresponden a 2013 pues son los últimos disponibles","Nota: Los datos corresponden a 2013 pues son los últimos disponibles","Nota: Los datos corresponden a 2013 pues son los últimos disponibles","Nota: Los datos corresponden a 2013 pues son los últimos disponibles","Nota: Los datos corresponden a 2013 pues son los últimos disponibles","Nota: Los datos corresponden a 2013 pues son los últimos disponibles","Nota: Los datos corresponden a 2013 pues son los últimos disponibles","Nota: Los datos corresponden a 2013 pues son los últimos disponibles","Nota: Los datos corresponden a 2013 pues son los últimos disponibles","Nota: Los datos corresponden a 2013 pues son los últimos disponibles","Nota: Los datos corresponden a 2013 pues son los últimos disponibles","Nota: Los datos corresponden a 2013 pues son los últimos disponibles","Nota: Los datos corresponden a 2013 pues son los últimos disponibles","Nota: Los datos corresponden a 2013 pues son los últimos disponibles","Nota: Los datos corresponden a 2013 pues son los últimos disponibles","Nota: Los datos corresponden a 2013 pues son los últimos disponibles","Nota: Los datos corresponden a 2013 pues son los últimos disponibles","Nota: Los datos corresponden a 2013 pues son los últimos disponibles","Nota: Los datos corresponden a 2013 pues son los últimos disponibles","Nota: Los datos corresponden a 2013 pues son los últimos disponibles","Nota: Los datos corresponden a 2013 pues son los últimos disponibles","Nota: Los datos corresponden a 2013 pues son los últimos disponibles","Nota: Los datos corresponden a 2013 pues son los últimos disponibles","Nota: Los datos corresponden a 2013 pues son los últimos disponibles","Nota: Los datos corresponden a 2013 pues son los últimos disponibles","Nota: Los datos corresponden a 2013 pues son los últimos disponibles","Nota: Los datos corresponden a 2013 pues son los últimos disponibles","Nota: Los datos corresponden a 2013 pues son los últimos disponibles","Nota: Los datos corresponden a 2013 pues son los últimos disponibles","Nota: Los datos corresponden a 2013 pues son los últimos disponibles","Nota: Los datos corresponden a 2013 pues son los últimos disponibles","Nota: Los datos corresponden a 2013 pues son los últimos disponibles","Nota: Los datos corresponden a 2013 pues son los últimos disponibles","Nota: Los datos corresponden a 2013 pues son los últimos disponibles","Nota: Los datos corresponden a 2013 pues son los últimos disponibles","Nota: Los datos corresponden a 2013 pues son los últimos disponibles","Nota: Los datos corresponden a 2013 pues son los últimos disponibles","Nota: Los datos corresponden a 2013 pues son los últimos disponibles","Nota: Los datos corresponden a 2013 pues son los últimos disponibles","Nota: Los datos corresponden a 2013 pues son los últimos disponibles","Nota: Los datos corresponden a 2013 pues son los últimos disponibles","Nota: Los datos corresponden a 2013 pues son los últimos disponibles","Nota: Los datos corresponden a 2013 pues son los últimos disponibles","Nota: Los datos corresponden a 2013 pues son los últimos disponibles","Nota: Los datos corresponden a 2013 pues son los últimos disponibles","Nota: Los datos corresponden a 2013 pues son los últimos disponibles","Nota: Los datos corresponden a 2013 pues son los últimos disponibles","Nota: Los datos corresponden a 2013 pues son los últimos disponibles","Nota: Los datos corresponden a 2013 pues son los últimos disponibles","Nota: Los datos corresponden a 2013 pues son los últimos disponibles","Nota: Los datos corresponden a 2013 pues son los últimos disponibles","Nota: Los datos corresponden a 2013 pues son los últimos disponibles","Nota: Los datos corresponden a 2013 pues son los últimos disponibles","Nota: Los datos corresponden a 2013 pues son los últimos disponibles","Nota: Los datos corresponden a 2013 pues son los últimos disponibles","Nota: Los datos corresponden a 2013 pues son los últimos disponibles","Nota: Los datos corresponden a 2013 pues son los últimos disponibles","Nota: Los datos corresponden a 2013 pues son los últimos disponibles","Nota: Los datos corresponden a 2013 pues son los últimos disponibles","Nota: Los datos corresponden a 2013 pues son los últimos disponibles","Nota: Los datos corresponden a 2013 pues son los últimos disponibles","Nota: Los datos corresponden a 2013 pues son los últimos disponibles","Nota: Los datos corresponden a 2013 pues son los últimos disponibles","Nota: Los datos corresponden a 2013 pues son los últimos disponibles","Nota: Los datos corresponden a 2013 pues son los últimos disponibles","Nota: Los datos corresponden a 2013 pues son los últimos disponibles","Nota: Los datos corresponden a 2013 pues son los últimos disponibles","Nota: Los datos corresponden a 2013 pues son los últimos disponibles","Nota: Los datos corresponden a 2013 pues son los últimos disponibles","Nota: Los datos corresponden a 2013 pues son los últimos disponibles","Nota: Los datos corresponden a 2013 pues son los últimos disponibles","Nota: Los datos corresponden a 2013 pues son los últimos disponibles","Nota: Los datos corresponden a 2013 pues son los últimos disponibles","Nota: Los datos corresponden a 2013 pues son los últimos disponibles","Nota: Los datos corresponden a 2013 pues son los últimos disponibles","Nota: Los datos corresponden a 2013 pues son los últimos disponibles","Nota: Los datos corresponden a 2013 pues son los últimos disponibles","Nota: Los datos corresponden a 2013 pues son los últimos disponibles","Nota: Los datos corresponden a 2013 pues son los últimos disponibles","Nota: Los datos corresponden a 2013 pues son los últimos disponibles","Nota: Los datos corresponden a 2013 pues son los últimos disponibles","Nota: Los datos corresponden a 2013 pues son los últimos disponibles","Nota: Los datos corresponden a 2013 pues son los últimos disponibles","Nota: Los datos corresponden a 2013 pues son los últimos disponibles","Nota: Los datos corresponden a 2013 pues son los últimos disponibles","Nota: Los datos corresponden a 2013 pues son los últimos disponibles","Nota: Los datos corresponden a 2013 pues son los últimos disponibles","Nota: Los datos corresponden a 2013 pues son los últimos disponibles","Nota: Los datos corresponden a 2013 pues son los últimos disponibles","Nota: Los datos corresponden a 2013 pues son los últimos disponibles","Nota: Los datos corresponden a 2013 pues son los últimos disponibles","Nota: Los datos corresponden a 2013 pues son los últimos disponibles","Nota: Los datos corresponden a 2013 pues son los últimos disponibles","Nota: Los datos corresponden a 2013 pues son los últimos disponibles","Nota: Los datos corresponden a 2013 pues son los últimos disponibles","Nota: Los datos corresponden a 2013 pues son los últimos disponibles","Nota: Los datos corresponden a 2013 pues son los últimos disponibles","Nota: Los datos corresponden a 2013 pues son los últimos disponibles","Nota: Los datos corresponden a 2013 pues son los últimos disponibles","Nota: Los datos corresponden a 2013 pues son los últimos disponibles","Nota: Los datos corresponden a 2013 pues son los últimos disponibles","Nota: Los datos corresponden a 2013 pues son los últimos disponibles","Nota: Los datos corresponden a 2013 pues son los últimos disponibles","Nota: Los datos corresponden a 2013 pues son los últimos disponibles","Nota: Los datos corresponden a 2013 pues son los últimos disponibles","Nota: Los datos corresponden a 2013 pues son los últimos disponibles","Nota: Los datos corresponden a 2013 pues son los últimos disponibles","Nota: Los datos corresponden a 2013 pues son los últimos disponibles","Nota: Los datos corresponden a 2013 pues son los últimos disponibles","Nota: Los datos corresponden a 2013 pues son los últimos disponibles","Nota: Los datos corresponden a 2013 pues son los últimos disponibles","Nota: Los datos corresponden a 2013 pues son los últimos disponibles","Nota: Los datos corresponden a 2013 pues son los últimos disponibles","Nota: Los datos corresponden a 2013 pues son los últimos disponibles","Nota: Los datos corresponden a 2013 pues son los últimos disponibles","Nota: Los datos corresponden a 2013 pues son los últimos disponibles","Nota: Los datos corresponden a 2013 pues son los últimos disponibles","Nota: Los datos corresponden a 2013 pues son los últimos disponibles","Nota: Los datos corresponden a 2013 pues son los últimos disponibles","Nota: Los datos corresponden a 2013 pues son los últimos disponibles","Nota: Los datos corresponden a 2013 pues son los últimos disponibles","Nota: Los datos corresponden a 2013 pues son los últimos disponibles","Nota: Los datos corresponden a 2013 pues son los últimos disponibles","Nota: Los datos corresponden a 2013 pues son los últimos disponibles","Nota: Los datos corresponden a 2013 pues son los últimos disponibles","Nota: Los datos corresponden a 2013 pues son los últimos disponibles","Nota: Los datos corresponden a 2013 pues son los últimos disponibles","Nota: Los datos corresponden a 2013 pues son los últimos disponibles","Nota: Los datos corresponden a 2013 pues son los últimos disponibles","Nota: Los datos corresponden a 2013 pues son los últimos disponibles","Nota: Los datos corresponden a 2013 pues son los últimos disponibles","Nota: Los datos corresponden a 2013 pues son los últimos disponibles","Nota: Los datos corresponden a 2013 pues son los últimos disponibles","Nota: Los datos corresponden a 2013 pues son los últimos disponibles","Nota: Los datos corresponden a 2013 pues son los últimos disponibles","Nota: Los datos corresponden a 2013 pues son los últimos disponibles","Nota: Los datos corresponden a 2013 pues son los últimos disponibles","Nota: Los datos corresponden a 2013 pues son los últimos disponibles","Nota: Los datos corresponden a 2013 pues son los últimos disponibles","Nota: Los datos corresponden a 2013 pues son los últimos disponibles","Nota: Los datos corresponden a 2013 pues son los últimos disponibles","Nota: Los datos corresponden a 2013 pues son los últimos disponibles","Nota: Los datos corresponden a 2013 pues son los últimos disponibles","Nota: Los datos corresponden a 2013 pues son los últimos disponibles","Nota: Los datos corresponden a 2013 pues son los últimos disponibles","Nota: Los datos corresponden a 2013 pues son los últimos disponibles","Nota: Los datos corresponden a 2013 pues son los últimos disponibles","Nota: Los datos corresponden a 2013 pues son los últimos disponibles","Nota: Los datos corresponden a 2013 pues son los últimos disponibles","Nota: Los datos corresponden a 2013 pues son los últimos disponibles","Nota: Los datos corresponden a 2013 pues son los últimos disponibles","Nota: Los datos corresponden a 2013 pues son los últimos disponibles","Nota: Los datos corresponden a 2013 pues son los últimos disponibles","Nota: Los datos corresponden a 2013 pues son los últimos disponibles","Nota: Los datos corresponden a 2013 pues son los últimos disponibles","Nota: Los datos corresponden a 2013 pues son los últimos disponibles","Nota: Los datos corresponden a 2013 pues son los últimos disponibles","Nota: Los datos corresponden a 2013 pues son los últimos disponibles","Nota: Los datos corresponden a 2013 pues son los últimos disponibles","Nota: Los datos corresponden a 2013 pues son los últimos disponibles","Nota: Los datos corresponden a 2013 pues son los últimos disponibles","Nota: Los datos corresponden a 2013 pues son los últimos disponibles","Nota: Los datos corresponden a 2013 pues son los últimos disponibles","Nota: Los datos corresponden a 2013 pues son los últimos disponibles","Nota: Los datos corresponden a 2013 pues son los últimos disponibles","Nota: Los datos corresponden a 2013 pues son los últimos disponibles","Nota: Los datos corresponden a 2013 pues son los últimos disponibles","Nota: Los datos corresponden a 2013 pues son los últimos disponibles","Nota: Los datos corresponden a 2013 pues son los últimos disponibles","Nota: Los datos corresponden a 2013 pues son los últimos disponibles","Nota: Los datos corresponden a 2013 pues son los últimos disponibles","Nota: Los datos corresponden a 2013 pues son los últimos disponibles","Nota: Los datos corresponden a 2013 pues son los últimos disponibles","Nota: Los datos corresponden a 2013 pues son los últimos disponibles","Nota: Los datos corresponden a 2013 pues son los últimos disponibles","Nota: Los datos corresponden a 2013 pues son los últimos disponibles","Nota: Los datos corresponden a 2013 pues son los últimos disponibles","Nota: Los datos corresponden a 2013 pues son los últimos disponibles","Nota: Los datos corresponden a 2013 pues son los últimos disponibles","Nota: Los datos corresponden a 2013 pues son los últimos disponibles","Nota: Los datos corresponden a 2013 pues son los últimos disponibles","Nota: Los datos corresponden a 2013 pues son los últimos disponibles","Nota: Los datos corresponden a 2013 pues son los últimos disponibles","Nota: Los datos corresponden a 2013 pues son los últimos disponibles","Nota: Los datos corresponden a 2013 pues son los últimos disponibles","Nota: Los datos corresponden a 2013 pues son los últimos disponibles","Nota: Los datos corresponden a 2013 pues son los últimos disponibles","Nota: Los datos corresponden a 2013 pues son los últimos disponibles","Nota: Los datos corresponden a 2013 pues son los últimos disponibles","Nota: Los datos corresponden a 2013 pues son los últimos disponibles","Nota: Los datos corresponden a 2013 pues son los últimos disponibles","Nota: Los datos corresponden a 2013 pues son los últimos disponibles","Nota: Los datos corresponden a 2013 pues son los últimos disponibles","Nota: Los datos corresponden a 2013 pues son los últimos disponibles","Nota: Los datos corresponden a 2013 pues son los últimos disponibles","Nota: Los datos corresponden a 2013 pues son los últimos disponibles","Nota: Los datos corresponden a 2013 pues son los últimos disponibles","Nota: Los datos corresponden a 2013 pues son los últimos disponibles","Nota: Los datos corresponden a 2013 pues son los últimos disponibles","Nota: Los datos corresponden a 2013 pues son los últimos disponibles","Nota: Los datos corresponden a 2013 pues son los últimos disponibles","Nota: Los datos corresponden a 2013 pues son los últimos disponibles","Nota: Los datos corresponden a 2013 pues son los últimos disponibles","Nota: Los datos corresponden a 2013 pues son los últimos disponibles","Nota: Los datos corresponden a 2013 pues son los últimos disponibles","Nota: Los datos corresponden a 2013 pues son los últimos disponibles","Nota: Los datos corresponden a 2013 pues son los últimos disponibles","Nota: Los datos corresponden a 2013 pues son los últimos disponibles","Nota: Los datos corresponden a 2013 pues son los últimos disponibles","Nota: Los datos corresponden a 2013 pues son los últimos disponibles","Nota: Los datos corresponden a 2013 pues son los últimos disponibles","Nota: Los datos corresponden a 2013 pues son los últimos disponibles","Nota: Los datos corresponden a 2013 pues son los últimos disponibles","Nota: Los datos corresponden a 2013 pues son los últimos disponibles","Nota: Los datos corresponden a 2013 pues son los últimos disponibles","Nota: Los datos corresponden a 2013 pues son los últimos disponibles","Nota: Los datos corresponden a 2013 pues son los últimos disponibles","Nota: Los datos corresponden a 2013 pues son los últimos disponibles","Nota: Los datos corresponden a 2013 pues son los últimos disponibles","Nota: Los datos corresponden a 2013 pues son los últimos disponibles","Nota: Los datos corresponden a 2013 pues son los últimos disponibles","Nota: Los datos corresponden a 2013 pues son los últimos disponibles","Nota: Los datos corresponden a 2013 pues son los últimos disponibles","Nota: Los datos corresponden a 2013 pues son los últimos disponibles","Nota: Los datos corresponden a 2013 pues son los últimos disponibles","Nota: Los datos corresponden a 2013 pues son los últimos disponibles","Nota: Los datos corresponden a 2013 pues son los últimos disponibles","Nota: Los datos corresponden a 2013 pues son los últimos disponibles","Nota: Los datos corresponden a 2013 pues son los últimos disponibles","Nota: Los datos corresponden a 2013 pues son los últimos disponibles","Nota: Los datos corresponden a 2013 pues son los últimos disponibles","Nota: Los datos corresponden a 2013 pues son los últimos disponibles","Nota: Los datos corresponden a 2013 pues son los últimos disponibles","Nota: Los datos corresponden a 2013 pues son los últimos disponibles","Nota: Los datos corresponden a 2013 pues son los últimos disponibles","Nota: Los datos corresponden a 2013 pues son los últimos disponibles","Nota: Los datos corresponden a 2013 pues son los últimos disponibles","Nota: Los datos corresponden a 2013 pues son los últimos disponibles","Nota: Los datos corresponden a 2013 pues son los últimos disponibles","Nota: Los datos corresponden a 2013 pues son los últimos disponibles","Nota: Los datos corresponden a 2013 pues son los últimos disponibles","Nota: Los datos corresponden a 2013 pues son los últimos disponibles","Nota: Los datos corresponden a 2013 pues son los últimos disponibles","Nota: Los datos corresponden a 2013 pues son los últimos disponibles","Nota: Los datos corresponden a 2013 pues son los últimos disponibles","Nota: Los datos corresponden a 2013 pues son los últimos disponibles","Nota: Los datos corresponden a 2013 pues son los últimos disponibles","Nota: Los datos corresponden a 2013 pues son los últimos disponibles","Nota: Los datos corresponden a 2013 pues son los últimos disponibles","Nota: Los datos corresponden a 2013 pues son los últimos disponibles","Nota: Los datos corresponden a 2013 pues son los últimos disponibles","Nota: Los datos corresponden a 2013 pues son los últimos disponibles","Nota: Los datos corresponden a 2013 pues son los últimos disponibles","Nota: Los datos corresponden a 2013 pues son los últimos disponibles","Nota: Los datos corresponden a 2013 pues son los últimos disponibles","Nota: Los datos corresponden a 2013 pues son los últimos disponibles","Nota: Los datos corresponden a 2013 pues son los últimos disponibles","Nota: Los datos corresponden a 2013 pues son los últimos disponibles","Nota: Los datos corresponden a 2013 pues son los últimos disponibles","Nota: Los datos corresponden a 2013 pues son los últimos disponibles","Nota: Los datos corresponden a 2013 pues son los últimos disponibles","Nota: Los datos corresponden a 2013 pues son los últimos disponibles","Nota: Los datos corresponden a 2013 pues son los últimos disponibles","Nota: Los datos corresponden a 2013 pues son los últimos disponibles","Nota: Los datos corresponden a 2013 pues son los últimos disponibles","Nota: Los datos corresponden a 2013 pues son los últimos disponibles","Nota: Los datos corresponden a 2013 pues son los últimos disponibles","Nota: Los datos corresponden a 2013 pues son los últimos disponibles","Nota: Los datos corresponden a 2013 pues son los últimos disponibles","Nota: Los datos corresponden a 2013 pues son los últimos disponibles","Nota: Los datos corresponden a 2013 pues son los últimos disponibles","Nota: Los datos corresponden a 2013 pues son los últimos disponibles","Nota: Los datos corresponden a 2013 pues son los últimos disponibles","Nota: Los datos corresponden a 2013 pues son los últimos disponibles","Nota: Los datos corresponden a 2013 pues son los últimos disponibles","Nota: Los datos corresponden a 2013 pues son los últimos disponibles","Nota: Los datos corresponden a 2013 pues son los últimos disponibles","Nota: Los datos corresponden a 2013 pues son los últimos disponibles","Nota: Los datos corresponden a 2013 pues son los últimos disponibles","Nota: Los datos corresponden a 2013 pues son los últimos disponibles","Nota: Los datos corresponden a 2013 pues son los últimos disponibles","Nota: Los datos corresponden a 2013 pues son los últimos disponibles","Nota: Los datos corresponden a 2013 pues son los últimos disponibles","Nota: Los datos corresponden a 2013 pues son los últimos disponibles","Nota: Los datos corresponden a 2013 pues son los últimos disponibles","Nota: Los datos corresponden a 2013 pues son los últimos disponibles","Nota: Los datos corresponden a 2013 pues son los últimos disponibles","Nota: Los datos corresponden a 2013 pues son los últimos disponibles","Nota: Los datos corresponden a 2013 pues son los últimos disponibles","Nota: Los datos corresponden a 2013 pues son los últimos disponibles","Nota: Los datos corresponden a 2013 pues son los últimos disponibles","Nota: Los datos corresponden a 2013 pues son los últimos disponibles","Nota: Los datos corresponden a 2013 pues son los últimos disponibles","Nota: Los datos corresponden a 2013 pues son los últimos disponibles","Nota: Los datos corresponden a 2013 pues son los últimos disponibles","Nota: Los datos corresponden a 2013 pues son los últimos disponibles","Nota: Los datos corresponden a 2013 pues son los últimos disponibles","Nota: Los datos corresponden a 2013 pues son los últimos disponibles","Nota: Los datos corresponden a 2013 pues son los últimos disponibles","Nota: Los datos corresponden a 2013 pues son los últimos disponibles","Nota: Los datos corresponden a 2013 pues son los últimos disponibles","Nota: Los datos corresponden a 2013 pues son los últimos disponibles","Nota: Los datos corresponden a 2013 pues son los últimos disponibles","Nota: Los datos corresponden a 2013 pues son los últimos disponibles","Nota: Los datos corresponden a 2013 pues son los últimos disponibles","Nota: Los datos corresponden a 2013 pues son los últimos disponibles","Nota: Los datos corresponden a 2013 pues son los últimos disponibles","Nota: Los datos corresponden a 2013 pues son los últimos disponibles","Nota: Los datos corresponden a 2013 pues son los últimos disponibles","Nota: Los datos corresponden a 2013 pues son los últimos disponibles","Nota: Los datos corresponden a 2013 pues son los últimos disponibles","Nota: Los datos corresponden a 2013 pues son los últimos disponibles","Nota: Los datos corresponden a 2013 pues son los últimos disponibles","Nota: Los datos corresponden a 2013 pues son los últimos disponibles","Nota: Los datos corresponden a 2013 pues son los últimos disponibles","Nota: Los datos corresponden a 2013 pues son los últimos disponibles","Nota: Los datos corresponden a 2013 pues son los últimos disponibles","Nota: Los datos corresponden a 2013 pues son los últimos disponibles","Nota: Los datos corresponden a 2013 pues son los últimos disponibles","Nota: Los datos corresponden a 2013 pues son los últimos disponibles","Nota: Los datos corresponden a 2013 pues son los últimos disponibles","Nota: Los datos corresponden a 2013 pues son los últimos disponibles","Nota: Los datos corresponden a 2013 pues son los últimos disponibles","Nota: Los datos corresponden a 2013 pues son los últimos disponibles","Nota: Los datos corresponden a 2013 pues son los últimos disponibles","Nota: Los datos corresponden a 2013 pues son los últimos disponibles","Nota: Los datos corresponden a 2013 pues son los últimos disponibles","Nota: Los datos corresponden a 2013 pues son los últimos disponibles","Nota: Los datos corresponden a 2013 pues son los últimos disponibles","Nota: Los datos corresponden a 2013 pues son los últimos disponibles","Nota: Los datos corresponden a 2013 pues son los últimos disponibles","Nota: Los datos corresponden a 2013 pues son los últimos disponibles","Nota: Los datos corresponden a 2013 pues son los últimos disponibles","Nota: Los datos corresponden a 2013 pues son los últimos disponibles","Nota: Los datos corresponden a 2013 pues son los últimos disponibles","Nota: Los datos corresponden a 2013 pues son los últimos disponibles","Nota: Los datos corresponden a 2013 pues son los últimos disponibles","Nota: Los datos corresponden a 2013 pues son los últimos disponibles","Nota: Los datos corresponden a 2013 pues son los últimos disponibles","Nota: Los datos corresponden a 2013 pues son los últimos disponibles","Nota: Los datos corresponden a 2013 pues son los últimos disponibles","Nota: Los datos corresponden a 2013 pues son los últimos disponibles","Nota: Los datos corresponden a 2013 pues son los últimos disponibles","Nota: Los datos corresponden a 2013 pues son los últimos disponibles","Nota: Los datos corresponden a 2013 pues son los últimos disponibles","Nota: Los datos corresponden a 2013 pues son los últimos disponibles","Nota: Los datos corresponden a 2013 pues son los últimos disponibles","Nota: Los datos corresponden a 2013 pues son los últimos disponibles","Nota: Los datos corresponden a 2013 pues son los últimos disponibles","Nota: Los datos corresponden a 2013 pues son los últimos disponibles","Nota: Los datos corresponden a 2013 pues son los últimos disponibles","Nota: Los datos corresponden a 2013 pues son los últimos disponibles","Nota: Los datos corresponden a 2013 pues son los últimos disponibles","Nota: Los datos corresponden a 2013 pues son los últimos disponibles","Nota: Los datos corresponden a 2013 pues son los últimos disponibles","Nota: Los datos corresponden a 2013 pues son los últimos disponibles","Nota: Los datos corresponden a 2013 pues son los últimos disponibles","Nota: Los datos corresponden a 2013 pues son los últimos disponibles","Nota: Los datos corresponden a 2013 pues son los últimos disponibles","Nota: Los datos corresponden a 2013 pues son los últimos disponibles","Nota: Los datos corresponden a 2013 pues son los últimos disponibles","Nota: Los datos corresponden a 2013 pues son los últimos disponibles","Nota: Los datos corresponden a 2013 pues son los últimos disponibles","Nota: Los datos corresponden a 2013 pues son los últimos disponibles","Nota: Los datos corresponden a 2013 pues son los últimos disponibles","Nota: Los datos corresponden a 2013 pues son los últimos disponibles","Nota: Los datos corresponden a 2013 pues son los últimos disponibles","Nota: Los datos corresponden a 2013 pues son los últimos disponibles","Nota: Los datos corresponden a 2013 pues son los últimos disponibles","Nota: Los datos corresponden a 2013 pues son los últimos disponibles","Nota: Los datos corresponden a 2013 pues son los últimos disponibles","Nota: Los datos corresponden a 2013 pues son los últimos disponibles","Nota: Los datos corresponden a 2013 pues son los últimos disponibles","Nota: Los datos corresponden a 2013 pues son los últimos disponibles","Nota: Los datos corresponden a 2013 pues son los últimos disponibles","Nota: Los datos corresponden a 2013 pues son los últimos disponibles","Nota: Los datos corresponden a 2013 pues son los últimos disponibles","Nota: Los datos corresponden a 2013 pues son los últimos disponibles","Nota: Los datos corresponden a 2013 pues son los últimos disponibles","Nota: Los datos corresponden a 2013 pues son los últimos disponibles","Nota: Los datos corresponden a 2013 pues son los últimos disponibles","Nota: Los datos corresponden a 2013 pues son los últimos disponibles","Nota: Los datos corresponden a 2013 pues son los últimos disponibles","Nota: Los datos corresponden a 2013 pues son los últimos disponibles","Nota: Los datos corresponden a 2013 pues son los últimos disponibles","Nota: Los datos corresponden a 2013 pues son los últimos disponibles","Nota: Los datos corresponden a 2013 pues son los últimos disponibles","Nota: Los datos corresponden a 2013 pues son los últimos disponibles","Nota: Los datos corresponden a 2013 pues son los últimos disponibles","Nota: Los datos corresponden a 2013 pues son los últimos disponibles","Nota: Los datos corresponden a 2013 pues son los últimos disponibles","Nota: Los datos corresponden a 2013 pues son los últimos disponibles","Nota: Los datos corresponden a 2013 pues son los últimos disponibles","Nota: Los datos corresponden a 2013 pues son los últimos disponibles","Nota: Los datos corresponden a 2013 pues son los últimos disponibles","Nota: Los datos corresponden a 2013 pues son los últimos disponibles","Nota: Los datos corresponden a 2013 pues son los últimos disponibles","Nota: Los datos corresponden a 2013 pues son los últimos disponibles","Nota: Los datos corresponden a 2013 pues son los últimos disponibles","Nota: Los datos corresponden a 2013 pues son los últimos disponibles","Nota: Los datos corresponden a 2013 pues son los últimos disponibles","Nota: Los datos corresponden a 2013 pues son los últimos disponibles","Nota: Los datos corresponden a 2013 pues son los últimos disponibles","Nota: Los datos corresponden a 2013 pues son los últimos disponibles","Nota: Los datos corresponden a 2013 pues son los últimos disponibles","Nota: Los datos corresponden a 2013 pues son los últimos disponibles","Nota: Los datos corresponden a 2013 pues son los últimos disponibles","Nota: Los datos corresponden a 2013 pues son los últimos disponibles","Nota: Los datos corresponden a 2013 pues son los últimos disponibles","Nota: Los datos corresponden a 2013 pues son los últimos disponibles","Nota: Los datos corresponden a 2013 pues son los últimos disponibles","Nota: Los datos corresponden a 2013 pues son los últimos disponibles","Nota: Los datos corresponden a 2013 pues son los últimos disponibles","Nota: Los datos corresponden a 2013 pues son los últimos disponibles","Nota: Los datos corresponden a 2013 pues son los últimos disponibles","Nota: Los datos corresponden a 2013 pues son los últimos disponibles","Nota: Los datos corresponden a 2013 pues son los últimos disponibles","Nota: Los datos corresponden a 2013 pues son los últimos disponibles","Nota: Los datos corresponden a 2013 pues son los últimos disponibles","Nota: Los datos corresponden a 2013 pues son los últimos disponibles","Nota: Los datos corresponden a 2013 pues son los últimos disponibles","Nota: Los datos corresponden a 2013 pues son los últimos disponibles","Nota: Los datos corresponden a 2013 pues son los últimos disponibles","Nota: Los datos corresponden a 2013 pues son los últimos disponibles","Nota: Los datos corresponden a 2013 pues son los últimos disponibles","Nota: Los datos corresponden a 2013 pues son los últimos disponibles","Nota: Los datos corresponden a 2013 pues son los últimos disponibles","Nota: Los datos corresponden a 2013 pues son los últimos disponibles","Nota: Los datos corresponden a 2013 pues son los últimos disponibles","Nota: Los datos corresponden a 2013 pues son los últimos disponibles","Nota: Los datos corresponden a 2013 pues son los últimos disponibles","Nota: Los datos corresponden a 2013 pues son los últimos disponibles","Nota: Los datos corresponden a 2013 pues son los últimos disponibles","Nota: Los datos corresponden a 2013 pues son los últimos disponibles","Nota: Los datos corresponden a 2013 pues son los últimos disponibles","Nota: Los datos corresponden a 2013 pues son los últimos disponibles","Nota: Los datos corresponden a 2013 pues son los últimos disponibles","Nota: Los datos corresponden a 2013 pues son los últimos disponibles","Nota: Los datos corresponden a 2013 pues son los últimos disponibles","Nota: Los datos corresponden a 2013 pues son los últimos disponibles","Nota: Los datos corresponden a 2013 pues son los últimos disponibles","Nota: Los datos corresponden a 2013 pues son los últimos disponibles","Nota: Los datos corresponden a 2013 pues son los últimos disponibles","Nota: Los datos corresponden a 2013 pues son los últimos disponibles","Nota: Los datos corresponden a 2013 pues son los últimos disponibles","Nota: Los datos corresponden a 2013 pues son los últimos disponibles","Nota: Los datos corresponden a 2013 pues son los últimos disponibles","Nota: Los datos corresponden a 2013 pues son los últimos disponibles","Nota: Los datos corresponden a 2013 pues son los últimos disponibles","Nota: Los datos corresponden a 2013 pues son los últimos disponibles","Nota: Los datos corresponden a 2013 pues son los últimos disponibles","Nota: Los datos corresponden a 2013 pues son los últimos disponibles","Nota: Los datos corresponden a 2013 pues son los últimos disponibles","Nota: Los datos corresponden a 2013 pues son los últimos disponibles","Nota: Los datos corresponden a 2013 pues son los últimos disponibles","Nota: Los datos corresponden a 2013 pues son los últimos disponibles","Nota: Los datos corresponden a 2013 pues son los últimos disponibles","Nota: Los datos corresponden a 2013 pues son los últimos disponibles","Nota: Los datos corresponden a 2013 pues son los últimos disponibles","Nota: Los datos corresponden a 2013 pues son los últimos disponibles","Nota: Los datos corresponden a 2013 pues son los últimos disponibles","Nota: Los datos corresponden a 2013 pues son los últimos disponibles","Nota: Los datos corresponden a 2013 pues son los últimos disponibles","Nota: Los datos corresponden a 2013 pues son los últimos disponibles","Nota: Los datos corresponden a 2013 pues son los últimos disponibles","Nota: Los datos corresponden a 2013 pues son los últimos disponibles","Nota: Los datos corresponden a 2013 pues son los últimos disponibles","Nota: Los datos corresponden a 2013 pues son los últimos disponibles","Nota: Los datos corresponden a 2013 pues son los últimos disponibles","Nota: Los datos corresponden a 2013 pues son los últimos disponibles","Nota: Los datos corresponden a 2013 pues son los últimos disponibles","Nota: Los datos corresponden a 2013 pues son los últimos disponibles","Nota: Los datos corresponden a 2013 pues son los últimos disponibles","Nota: Los datos corresponden a 2013 pues son los últimos disponibles","Nota: Los datos corresponden a 2013 pues son los últimos disponibles","Nota: Los datos corresponden a 2013 pues son los últimos disponibles","Nota: Los datos corresponden a 2013 pues son los últimos disponibles","Nota: Los datos corresponden a 2013 pues son los últimos disponibles","Nota: Los datos corresponden a 2013 pues son los últimos disponibles","Nota: Los datos corresponden a 2013 pues son los últimos disponibles","Nota: Los datos corresponden a 2013 pues son los últimos disponibles","Nota: Los datos corresponden a 2013 pues son los últimos disponibles","Nota: Los datos corresponden a 2013 pues son los últimos disponibles","Nota: Los datos corresponden a 2013 pues son los últimos disponibles","Nota: Los datos corresponden a 2013 pues son los últimos disponibles","Nota: Los datos corresponden a 2013 pues son los últimos disponibles","Nota: Los datos corresponden a 2013 pues son los últimos disponibles","Nota: Los datos corresponden a 2013 pues son los últimos disponibles","Nota: Los datos corresponden a 2013 pues son los últimos disponibles","Nota: Los datos corresponden a 2013 pues son los últimos disponibles","Nota: Los datos corresponden a 2013 pues son los últimos disponibles","Nota: Los datos corresponden a 2013 pues son los últimos disponibles","Nota: Los datos corresponden a 2013 pues son los últimos disponibles","Nota: Los datos corresponden a 2013 pues son los últimos disponibles","Nota: Los datos corresponden a 2013 pues son los últimos disponibles","Nota: Los datos corresponden a 2013 pues son los últimos disponibles","Nota: Los datos corresponden a 2013 pues son los últimos disponibles","Nota: Los datos corresponden a 2013 pues son los últimos disponibles","Nota: Los datos corresponden a 2013 pues son los últimos disponibles","Nota: Los datos corresponden a 2013 pues son los últimos disponibles","Nota: Los datos corresponden a 2013 pues son los últimos disponibles","Nota: Los datos corresponden a 2013 pues son los últimos disponibles","Nota: Los datos corresponden a 2013 pues son los últimos disponibles","Nota: Los datos corresponden a 2013 pues son los últimos disponibles","Nota: Los datos corresponden a 2013 pues son los últimos disponibles","Nota: Los datos corresponden a 2013 pues son los últimos disponibles","Nota: Los datos corresponden a 2013 pues son los últimos disponibles","Nota: Los datos corresponden a 2013 pues son los últimos disponibles","Nota: Los datos corresponden a 2013 pues son los últimos disponibles","Nota: Los datos corresponden a 2013 pues son los últimos disponibles","Nota: Los datos corresponden a 2013 pues son los últimos disponibles","Nota: Los datos corresponden a 2013 pues son los últimos disponibles","Nota: Los datos corresponden a 2013 pues son los últimos disponibles","Nota: Los datos corresponden a 2013 pues son los últimos disponibles","Nota: Los datos corresponden a 2013 pues son los últimos disponibles","Nota: Los datos corresponden a 2013 pues son los últimos disponibles","Nota: Los datos corresponden a 2013 pues son los últimos disponibles","Nota: Los datos corresponden a 2013 pues son los últimos disponibles","Nota: Los datos corresponden a 2013 pues son los últimos disponibles","Nota: Los datos corresponden a 2013 pues son los últimos disponibles","Nota: Los datos corresponden a 2013 pues son los últimos disponibles","Nota: Los datos corresponden a 2013 pues son los últimos disponibles","Nota: Los datos corresponden a 2013 pues son los últimos disponibles","Nota: Los datos corresponden a 2013 pues son los últimos disponibles","Nota: Los datos corresponden a 2013 pues son los últimos disponibles","Nota: Los datos corresponden a 2013 pues son los últimos disponibles","Nota: Los datos corresponden a 2013 pues son los últimos disponibles","Nota: Los datos corresponden a 2013 pues son los últimos disponibles","Nota: Los datos corresponden a 2013 pues son los últimos disponibles","Nota: Los datos corresponden a 2013 pues son los últimos disponibles","Nota: Los datos corresponden a 2013 pues son los últimos disponibles","Nota: Los datos corresponden a 2013 pues son los últimos disponibles","Nota: Los datos corresponden a 2013 pues son los últimos disponibles","Nota: Los datos corresponden a 2013 pues son los últimos disponibles","Nota: Los datos corresponden a 2013 pues son los últimos disponibles","Nota: Los datos corresponden a 2013 pues son los últimos disponibles","Nota: Los datos corresponden a 2013 pues son los últimos disponibles","Nota: Los datos corresponden a 2013 pues son los últimos disponibles","Nota: Los datos corresponden a 2013 pues son los últimos disponibles","Nota: Los datos corresponden a 2013 pues son los últimos disponibles","Nota: Los datos corresponden a 2013 pues son los últimos disponibles","Nota: Los datos corresponden a 2013 pues son los últimos disponibles","Nota: Los datos corresponden a 2013 pues son los últimos disponibles","Nota: Los datos corresponden a 2013 pues son los últimos disponibles","Nota: Los datos corresponden a 2013 pues son los últimos disponibles","Nota: Los datos corresponden a 2013 pues son los últimos disponibles","Nota: Los datos corresponden a 2013 pues son los últimos disponibles","Nota: Los datos corresponden a 2013 pues son los últimos disponibles","Nota: Los datos corresponden a 2013 pues son los últimos disponibles","Nota: Los datos corresponden a 2013 pues son los últimos disponibles","Nota: Los datos corresponden a 2013 pues son los últimos disponibles","Nota: Los datos corresponden a 2013 pues son los últimos disponibles","Nota: Los datos corresponden a 2013 pues son los últimos disponibles","Nota: Los datos corresponden a 2013 pues son los últimos disponibles","Nota: Los datos corresponden a 2013 pues son los últimos disponibles","Nota: Los datos corresponden a 2013 pues son los últimos disponibles","Nota: Los datos corresponden a 2013 pues son los últimos disponibles","Nota: Los datos corresponden a 2013 pues son los últimos disponibles","Nota: Los datos corresponden a 2013 pues son los últimos disponibles","Nota: Los datos corresponden a 2013 pues son los últimos disponibles","Nota: Los datos corresponden a 2013 pues son los últimos disponibles","Nota: Los datos corresponden a 2013 pues son los últimos disponibles","Nota: Los datos corresponden a 2013 pues son los últimos disponibles","Nota: Los datos corresponden a 2013 pues son los últimos disponibles","Nota: Los datos corresponden a 2013 pues son los últimos disponibles","Nota: Los datos corresponden a 2013 pues son los últimos disponibles","Nota: Los datos corresponden a 2013 pues son los últimos disponibles","Nota: Los datos corresponden a 2013 pues son los últimos disponibles","Nota: Los datos corresponden a 2013 pues son los últimos disponibles","Nota: Los datos corresponden a 2013 pues son los últimos disponibles","Nota: Los datos corresponden a 2013 pues son los últimos disponibles","Nota: Los datos corresponden a 2013 pues son los últimos disponibles","Nota: Los datos corresponden a 2013 pues son los últimos disponibles","Nota: Los datos corresponden a 2013 pues son los últimos disponibles","Nota: Los datos corresponden a 2013 pues son los últimos disponibles","Nota: Los datos corresponden a 2013 pues son los últimos disponibles","Nota: Los datos corresponden a 2013 pues son los últimos disponibles","Nota: Los datos corresponden a 2013 pues son los últimos disponibles","Nota: Los datos corresponden a 2013 pues son los últimos disponibles","Nota: Los datos corresponden a 2013 pues son los últimos disponibles","Nota: Los datos corresponden a 2013 pues son los últimos disponibles","Nota: Los datos corresponden a 2013 pues son los últimos disponibles","Nota: Los datos corresponden a 2013 pues son los últimos disponibles","Nota: Los datos corresponden a 2013 pues son los últimos disponibles","Nota: Los datos corresponden a 2013 pues son los últimos disponibles","Nota: Los datos corresponden a 2013 pues son los últimos disponibles","Nota: Los datos corresponden a 2013 pues son los últimos disponibles","Nota: Los datos corresponden a 2013 pues son los últimos disponibles","Nota: Los datos corresponden a 2013 pues son los últimos disponibles","Nota: Los datos corresponden a 2013 pues son los últimos disponibles","Nota: Los datos corresponden a 2013 pues son los últimos disponibles","Nota: Los datos corresponden a 2013 pues son los últimos disponibles","Nota: Los datos corresponden a 2013 pues son los últimos disponibles","Nota: Los datos corresponden a 2013 pues son los últimos disponibles","Nota: Los datos corresponden a 2013 pues son los últimos disponibles","Nota: Los datos corresponden a 2013 pues son los últimos disponibles","Nota: Los datos corresponden a 2013 pues son los últimos disponibles","Nota: Los datos corresponden a 2013 pues son los últimos disponibles","Nota: Los datos corresponden a 2013 pues son los últimos disponibles","Nota: Los datos corresponden a 2013 pues son los últimos disponibles","Nota: Los datos corresponden a 2013 pues son los últimos disponibles","Nota: Los datos corresponden a 2013 pues son los últimos disponibles","Nota: Los datos corresponden a 2013 pues son los últimos disponibles","Nota: Los datos corresponden a 2013 pues son los últimos disponibles","Nota: Los datos corresponden a 2013 pues son los últimos disponibles","Nota: Los datos corresponden a 2013 pues son los últimos disponibles","Nota: Los datos corresponden a 2013 pues son los últimos disponibles","Nota: Los datos corresponden a 2013 pues son los últimos disponibles","Nota: Los datos corresponden a 2013 pues son los últimos disponibles","Nota: Los datos corresponden a 2013 pues son los últimos disponibles","Nota: Los datos corresponden a 2013 pues son los últimos disponibles","Nota: Los datos corresponden a 2013 pues son los últimos disponibles","Nota: Los datos corresponden a 2013 pues son los últimos disponibles","Nota: Los datos corresponden a 2013 pues son los últimos disponibles","Nota: Los datos corresponden a 2013 pues son los últimos disponibles","Nota: Los datos corresponden a 2013 pues son los últimos disponibles","Nota: Los datos corresponden a 2013 pues son los últimos disponibles","Nota: Los datos corresponden a 2013 pues son los últimos disponibles","Nota: Los datos corresponden a 2013 pues son los últimos disponibles","Nota: Los datos corresponden a 2013 pues son los últimos disponibles","Nota: Los datos corresponden a 2013 pues son los últimos disponibles","Nota: Los datos corresponden a 2013 pues son los últimos disponibles","Nota: Los datos corresponden a 2013 pues son los últimos disponibles","Nota: Los datos corresponden a 2013 pues son los últimos disponibles","Nota: Los datos corresponden a 2013 pues son los últimos disponibles","Nota: Los datos corresponden a 2013 pues son los últimos disponibles","Nota: Los datos corresponden a 2013 pues son los últimos disponibles","Nota: Los datos corresponden a 2013 pues son los últimos disponibles","Nota: Los datos corresponden a 2013 pues son los últimos disponibles","Nota: Los datos corresponden a 2013 pues son los últimos disponibles","Nota: Los datos corresponden a 2013 pues son los últimos disponibles","Nota: Los datos corresponden a 2013 pues son los últimos disponibles","Nota: Los datos corresponden a 2013 pues son los últimos disponibles","Nota: Los datos corresponden a 2013 pues son los últimos disponibles","Nota: Los datos corresponden a 2013 pues son los últimos disponibles","Nota: Los datos corresponden a 2013 pues son los últimos disponibles","Nota: Los datos corresponden a 2013 pues son los últimos disponibles","Nota: Los datos corresponden a 2013 pues son los últimos disponibles","Nota: Los datos corresponden a 2013 pues son los últimos disponibles","Nota: Los datos corresponden a 2013 pues son los últimos disponibles","Nota: Los datos corresponden a 2013 pues son los últimos disponibles","Nota: Los datos corresponden a 2013 pues son los últimos disponibles","Nota: Los datos corresponden a 2013 pues son los últimos disponibles","Nota: Los datos corresponden a 2013 pues son los últimos disponibles","Nota: Los datos corresponden a 2013 pues son los últimos disponibles","Nota: Los datos corresponden a 2013 pues son los últimos disponibles","Nota: Los datos corresponden a 2013 pues son los últimos disponibles","Nota: Los datos corresponden a 2013 pues son los últimos disponibles","Nota: Los datos corresponden a 2013 pues son los últimos disponibles","Nota: Los datos corresponden a 2013 pues son los últimos disponibles","Nota: Los datos corresponden a 2013 pues son los últimos disponibles","Nota: Los datos corresponden a 2013 pues son los últimos disponibles","Nota: Los datos corresponden a 2013 pues son los últimos disponibles","Nota: Los datos corresponden a 2013 pues son los últimos disponibles","Nota: Los datos corresponden a 2013 pues son los últimos disponibles","Nota: Los datos corresponden a 2013 pues son los últimos disponibles","Nota: Los datos corresponden a 2013 pues son los últimos disponibles","Nota: Los datos corresponden a 2013 pues son los últimos disponibles","Nota: Los datos corresponden a 2013 pues son los últimos disponibles","Nota: Los datos corresponden a 2013 pues son los últimos disponibles","Nota: Los datos corresponden a 2013 pues son los últimos disponibles","Nota: Los datos corresponden a 2013 pues son los últimos disponibles","Nota: Los datos corresponden a 2013 pues son los últimos disponibles","Nota: Los datos corresponden a 2013 pues son los últimos disponibles","Nota: Los datos corresponden a 2013 pues son los últimos disponibles","Nota: Los datos corresponden a 2013 pues son los últimos disponibles","Nota: Los datos corresponden a 2013 pues son los últimos disponibles","Nota: Los datos corresponden a 2013 pues son los últimos disponibles","Nota: Los datos corresponden a 2013 pues son los últimos disponibles","Nota: Los datos corresponden a 2013 pues son los últimos disponibles","Nota: Los datos corresponden a 2013 pues son los últimos disponibles","Nota: Los datos corresponden a 2013 pues son los últimos disponibles","Nota: Los datos corresponden a 2013 pues son los últimos disponibles","Nota: Los datos corresponden a 2013 pues son los últimos disponibles","Nota: Los datos corresponden a 2013 pues son los últimos disponibles","Nota: Los datos corresponden a 2013 pues son los últimos disponibles","Nota: Los datos corresponden a 2013 pues son los últimos disponibles","Nota: Los datos corresponden a 2013 pues son los últimos disponibles","Nota: Los datos corresponden a 2013 pues son los últimos disponibles","Nota: Los datos corresponden a 2013 pues son los últimos disponibles","Nota: Los datos corresponden a 2013 pues son los últimos disponibles","Nota: Los datos corresponden a 2013 pues son los últimos disponibles","Nota: Los datos corresponden a 2013 pues son los últimos disponibles","Nota: Los datos corresponden a 2013 pues son los últimos disponibles","Nota: Los datos corresponden a 2013 pues son los últimos disponibles","Nota: Los datos corresponden a 2013 pues son los últimos disponibles","Nota: Los datos corresponden a 2013 pues son los últimos disponibles","Nota: Los datos corresponden a 2013 pues son los últimos disponibles","Nota: Los datos corresponden a 2013 pues son los últimos disponibles","Nota: Los datos corresponden a 2013 pues son los últimos disponibles","Nota: Los datos corresponden a 2013 pues son los últimos disponibles","Nota: Los datos corresponden a 2013 pues son los últimos disponibles","Nota: Los datos corresponden a 2013 pues son los últimos disponibles","Nota: Los datos corresponden a 2013 pues son los últimos disponibles","Nota: Los datos corresponden a 2013 pues son los últimos disponibles","Nota: Los datos corresponden a 2013 pues son los últimos disponibles","Nota: Los datos corresponden a 2013 pues son los últimos disponibles","Nota: Los datos corresponden a 2013 pues son los últimos disponibles","Nota: Los datos corresponden a 2013 pues son los últimos disponibles","Nota: Los datos corresponden a 2013 pues son los últimos disponibles","Nota: Los datos corresponden a 2013 pues son los últimos disponibles","Nota: Los datos corresponden a 2013 pues son los últimos disponibles","Nota: Los datos corresponden a 2013 pues son los últimos disponibles","Nota: Los datos corresponden a 2013 pues son los últimos disponibles","Nota: Los datos corresponden a 2013 pues son los últimos disponibles","Nota: Los datos corresponden a 2013 pues son los últimos disponibles","Nota: Los datos corresponden a 2013 pues son los últimos disponibles","Nota: Los datos corresponden a 2013 pues son los últimos disponibles","Nota: Los datos corresponden a 2013 pues son los últimos disponibles","Nota: Los datos corresponden a 2013 pues son los últimos disponibles","Nota: Los datos corresponden a 2013 pues son los últimos disponibles","Nota: Los datos corresponden a 2013 pues son los últimos disponibles","Nota: Los datos corresponden a 2013 pues son los últimos disponibles","Nota: Los datos corresponden a 2013 pues son los últimos disponibles","Nota: Los datos corresponden a 2013 pues son los últimos disponibles","Nota: Los datos corresponden a 2013 pues son los últimos disponibles","Nota: Los datos corresponden a 2013 pues son los últimos disponibles","Nota: Los datos corresponden a 2013 pues son los últimos disponibles","Nota: Los datos corresponden a 2013 pues son los últimos disponibles","Nota: Los datos corresponden a 2013 pues son los últimos disponibles","Nota: Los datos corresponden a 2013 pues son los últimos disponibles","Nota: Los datos corresponden a 2013 pues son los últimos disponibles","Nota: Los datos corresponden a 2013 pues son los últimos disponibles","Nota: Los datos corresponden a 2013 pues son los últimos disponibles","Nota: Los datos corresponden a 2013 pues son los últimos disponibles","Nota: Los datos corresponden a 2013 pues son los últimos disponibles","Nota: Los datos corresponden a 2013 pues son los últimos disponibles","Nota: Los datos corresponden a 2013 pues son los últimos disponibles","Nota: Los datos corresponden a 2013 pues son los últimos disponibles","Nota: Los datos corresponden a 2013 pues son los últimos disponibles","Nota: Los datos corresponden a 2013 pues son los últimos disponibles","Nota: Los datos corresponden a 2013 pues son los últimos disponibles","Nota: Los datos corresponden a 2013 pues son los últimos disponibles","Nota: Los datos corresponden a 2013 pues son los últimos disponibles","Nota: Los datos corresponden a 2013 pues son los últimos disponibles","Nota: Los datos corresponden a 2013 pues son los últimos disponibles","Nota: Los datos corresponden a 2013 pues son los últimos disponibles","Nota: Los datos corresponden a 2013 pues son los últimos disponibles","Nota: Los datos corresponden a 2013 pues son los últimos disponibles","Nota: Los datos corresponden a 2013 pues son los últimos disponibles","Nota: Los datos corresponden a 2013 pues son los últimos disponibles","Nota: Los datos corresponden a 2013 pues son los últimos disponibles","Nota: Los datos corresponden a 2013 pues son los últimos disponibles","Nota: Los datos corresponden a 2013 pues son los últimos disponibles","Nota: Los datos corresponden a 2013 pues son los últimos disponibles","Nota: Los datos corresponden a 2013 pues son los últimos disponibles","Nota: Los datos corresponden a 2013 pues son los últimos disponibles","Nota: Los datos corresponden a 2013 pues son los últimos disponibles","Nota: Los datos corresponden a 2013 pues son los últimos disponibles","Nota: Los datos corresponden a 2013 pues son los últimos disponibles","Nota: Los datos corresponden a 2013 pues son los últimos disponibles","Nota: Los datos corresponden a 2013 pues son los últimos disponibles","Nota: Los datos corresponden a 2013 pues son los últimos disponibles","Nota: Los datos corresponden a 2013 pues son los últimos disponibles","Nota: Los datos corresponden a 2013 pues son los últimos disponibles","Nota: Los datos corresponden a 2013 pues son los últimos disponibles","Nota: Los datos corresponden a 2013 pues son los últimos disponibles","Nota: Los datos corresponden a 2013 pues son los últimos disponibles","Nota: Los datos corresponden a 2013 pues son los últimos disponibles","Nota: Los datos corresponden a 2013 pues son los últimos disponibles","Nota: Los datos corresponden a 2013 pues son los últimos disponibles","Nota: Los datos corresponden a 2013 pues son los últimos disponibles","Nota: Los datos corresponden a 2013 pues son los últimos disponibles","Nota: Los datos corresponden a 2013 pues son los últimos disponibles","Nota: Los datos corresponden a 2013 pues son los últimos disponibles","Nota: Los datos corresponden a 2013 pues son los últimos disponibles","Nota: Los datos corresponden a 2013 pues son los últimos disponibles","Nota: Los datos corresponden a 2013 pues son los últimos disponibles","Nota: Los datos corresponden a 2013 pues son los últimos disponibles","Nota: Los datos corresponden a 2013 pues son los últimos disponibles","Nota: Los datos corresponden a 2013 pues son los últimos disponibles","Nota: Los datos corresponden a 2013 pues son los últimos disponibles","Nota: Los datos corresponden a 2013 pues son los últimos disponibles","Nota: Los datos corresponden a 2013 pues son los últimos disponibles","Nota: Los datos corresponden a 2013 pues son los últimos disponibles","Nota: Los datos corresponden a 2013 pues son los últimos disponibles","Nota: Los datos corresponden a 2013 pues son los últimos disponibles","Nota: Los datos corresponden a 2013 pues son los últimos disponibles","Nota: Los datos corresponden a 2013 pues son los últimos disponibles","Nota: Los datos corresponden a 2013 pues son los últimos disponibles","Nota: Los datos corresponden a 2013 pues son los últimos disponibles","Nota: Los datos corresponden a 2013 pues son los últimos disponibles","Nota: Los datos corresponden a 2013 pues son los últimos disponibles","Nota: Los datos corresponden a 2013 pues son los últimos disponibles","Nota: Los datos corresponden a 2013 pues son los últimos disponibles","Nota: Los datos corresponden a 2013 pues son los últimos disponibles","Nota: Los datos corresponden a 2013 pues son los últimos disponibles","Nota: Los datos corresponden a 2013 pues son los últimos disponibles","Nota: Los datos corresponden a 2013 pues son los últimos disponibles","Nota: Los datos corresponden a 2013 pues son los últimos disponibles","Nota: Los datos corresponden a 2013 pues son los últimos disponibles","Nota: Los datos corresponden a 2013 pues son los últimos disponibles","Nota: Los datos corresponden a 2013 pues son los últimos disponibles","Nota: Los datos corresponden a 2013 pues son los últimos disponibles","Nota: Los datos corresponden a 2013 pues son los últimos disponibles","Nota: Los datos corresponden a 2013 pues son los últimos disponibles","Nota: Los datos corresponden a 2013 pues son los últimos disponibles","Nota: Los datos corresponden a 2013 pues son los últimos disponibles","Nota: Los datos corresponden a 2013 pues son los últimos disponibles","Nota: Los datos corresponden a 2013 pues son los últimos disponibles","Nota: Los datos corresponden a 2013 pues son los últimos disponibles","Nota: Los datos corresponden a 2013 pues son los últimos disponibles","Nota: Los datos corresponden a 2013 pues son los últimos disponibles","Nota: Los datos corresponden a 2013 pues son los últimos disponibles","Nota: Los datos corresponden a 2013 pues son los últimos disponibles","Nota: Los datos corresponden a 2013 pues son los últimos disponibles","Nota: Los datos corresponden a 2013 pues son los últimos disponibles","Nota: Los datos corresponden a 2013 pues son los últimos disponibles","Nota: Los datos corresponden a 2013 pues son los últimos disponibles","Nota: Los datos corresponden a 2013 pues son los últimos disponibles","Nota: Los datos corresponden a 2013 pues son los últimos disponibles","Nota: Los datos corresponden a 2013 pues son los últimos disponibles","Nota: Los datos corresponden a 2013 pues son los últimos disponibles","Nota: Los datos corresponden a 2013 pues son los últimos disponibles","Nota: Los datos corresponden a 2013 pues son los últimos disponibles","Nota: Los datos corresponden a 2013 pues son los últimos disponibles","Nota: Los datos corresponden a 2013 pues son los últimos disponibles","Nota: Los datos corresponden a 2013 pues son los últimos disponibles","Nota: Los datos corresponden a 2013 pues son los últimos disponibles","Nota: Los datos corresponden a 2013 pues son los últimos disponibles","Nota: Los datos corresponden a 2013 pues son los últimos disponibles","Nota: Los datos corresponden a 2013 pues son los últimos disponibles","Nota: Los datos corresponden a 2013 pues son los últimos disponibles","Nota: Los datos corresponden a 2013 pues son los últimos disponibles","Nota: Los datos corresponden a 2013 pues son los últimos disponibles","Nota: Los datos corresponden a 2013 pues son los últimos disponibles","Nota: Los datos corresponden a 2013 pues son los últimos disponibles","Nota: Los datos corresponden a 2013 pues son los últimos disponibles","Nota: Los datos corresponden a 2013 pues son los últimos disponibles","Nota: Los datos corresponden a 2013 pues son los últimos disponibles","Nota: Los datos corresponden a 2013 pues son los últimos disponibles","Nota: Los datos corresponden a 2013 pues son los últimos disponibles","Nota: Los datos corresponden a 2013 pues son los últimos disponibles","Nota: Los datos corresponden a 2013 pues son los últimos disponibles","Nota: Los datos corresponden a 2013 pues son los últimos disponibles","Nota: Los datos corresponden a 2013 pues son los últimos disponibles","Nota: Los datos corresponden a 2013 pues son los últimos disponibles","Nota: Los datos corresponden a 2013 pues son los últimos disponibles","Nota: Los datos corresponden a 2013 pues son los últimos disponibles","Nota: Los datos corresponden a 2013 pues son los últimos disponibles","Nota: Los datos corresponden a 2013 pues son los últimos disponibles","Nota: Los datos corresponden a 2013 pues son los últimos disponibles","Nota: Los datos corresponden a 2013 pues son los últimos disponibles","Nota: Los datos corresponden a 2013 pues son los últimos disponibles","Nota: Los datos corresponden a 2013 pues son los últimos disponibles","Nota: Los datos corresponden a 2013 pues son los últimos disponibles","Nota: Los datos corresponden a 2013 pues son los últimos disponibles","Nota: Los datos corresponden a 2013 pues son los últimos disponibles","Nota: Los datos corresponden a 2013 pues son los últimos disponibles","Nota: Los datos corresponden a 2013 pues son los últimos disponibles","Nota: Los datos corresponden a 2013 pues son los últimos disponibles","Nota: Los datos corresponden a 2013 pues son los últimos disponibles","Nota: Los datos corresponden a 2013 pues son los últimos disponibles","Nota: Los datos corresponden a 2013 pues son los últimos disponibles","Nota: Los datos corresponden a 2013 pues son los últimos disponibles","Nota: Los datos corresponden a 2013 pues son los últimos disponibles","Nota: Los datos corresponden a 2013 pues son los últimos disponibles","Nota: Los datos corresponden a 2013 pues son los últimos disponibles","Nota: Los datos corresponden a 2013 pues son los últimos disponibles","Nota: Los datos corresponden a 2013 pues son los últimos disponibles","Nota: Los datos corresponden a 2013 pues son los últimos disponibles","Nota: Los datos corresponden a 2013 pues son los últimos disponibles","Nota: Los datos corresponden a 2013 pues son los últimos disponibles","Nota: Los datos corresponden a 2013 pues son los últimos disponibles","Nota: Los datos corresponden a 2013 pues son los últimos disponibles","Nota: Los datos corresponden a 2013 pues son los últimos disponibles","Nota: Los datos corresponden a 2013 pues son los últimos disponibles","Nota: Los datos corresponden a 2013 pues son los últimos disponibles","Nota: Los datos corresponden a 2013 pues son los últimos disponibles","Nota: Los datos corresponden a 2013 pues son los últimos disponibles","Nota: Los datos corresponden a 2013 pues son los últimos disponibles","Nota: Los datos corresponden a 2013 pues son los últimos disponibles","Nota: Los datos corresponden a 2013 pues son los últimos disponibles","Nota: Los datos corresponden a 2013 pues son los últimos disponibles","Nota: Los datos corresponden a 2013 pues son los últimos disponibles","Nota: Los datos corresponden a 2013 pues son los últimos disponibles","Nota: Los datos corresponden a 2013 pues son los últimos disponibles","Nota: Los datos corresponden a 2013 pues son los últimos disponibles","Nota: Los datos corresponden a 2013 pues son los últimos disponibles","Nota: Los datos corresponden a 2013 pues son los últimos disponibles","Nota: Los datos corresponden a 2013 pues son los últimos disponibles","Nota: Los datos corresponden a 2013 pues son los últimos disponibles","Nota: Los datos corresponden a 2013 pues son los últimos disponibles","Nota: Los datos corresponden a 2013 pues son los últimos disponibles","Nota: Los datos corresponden a 2013 pues son los últimos disponibles","Nota: Los datos corresponden a 2013 pues son los últimos disponibles","Nota: Los datos corresponden a 2013 pues son los últimos disponibles","Nota: Los datos corresponden a 2013 pues son los últimos disponibles","Nota: Los datos corresponden a 2013 pues son los últimos disponibles","Nota: Los datos corresponden a 2013 pues son los últimos disponibles","Nota: Los datos corresponden a 2013 pues son los últimos disponibles","Nota: Los datos corresponden a 2013 pues son los últimos disponibles","Nota: Los datos corresponden a 2013 pues son los últimos disponibles","Nota: Los datos corresponden a 2013 pues son los últimos disponibles","Nota: Los datos corresponden a 2013 pues son los últimos disponibles","Nota: Los datos corresponden a 2013 pues son los últimos disponibles","Nota: Los datos corresponden a 2013 pues son los últimos disponibles","Nota: Los datos corresponden a 2013 pues son los últimos disponibles","Nota: Los datos corresponden a 2013 pues son los últimos disponibles","Nota: Los datos corresponden a 2013 pues son los últimos disponibles","Nota: Los datos corresponden a 2013 pues son los últimos disponibles","Nota: Los datos corresponden a 2013 pues son los últimos disponibles","Nota: Los datos corresponden a 2013 pues son los últimos disponibles","Nota: Los datos corresponden a 2013 pues son los últimos disponibles","Nota: Los datos corresponden a 2013 pues son los últimos disponibles","Nota: Los datos corresponden a 2013 pues son los últimos disponibles","Nota: Los datos corresponden a 2013 pues son los últimos disponibles","Nota: Los datos corresponden a 2013 pues son los últimos disponibles","Nota: Los datos corresponden a 2013 pues son los últimos disponibles","Nota: Los datos corresponden a 2013 pues son los últimos disponibles","Nota: Los datos corresponden a 2013 pues son los últimos disponibles","Nota: Los datos corresponden a 2013 pues son los últimos disponibles","Nota: Los datos corresponden a 2013 pues son los últimos disponibles","Nota: Los datos corresponden a 2013 pues son los últimos disponibles","Nota: Los datos corresponden a 2013 pues son los últimos disponibles","Nota: Los datos corresponden a 2013 pues son los últimos disponibles","Nota: Los datos corresponden a 2013 pues son los últimos disponibles","Nota: Los datos corresponden a 2013 pues son los últimos disponibles","Nota: Los datos corresponden a 2013 pues son los últimos disponibles","Nota: Los datos corresponden a 2013 pues son los últimos disponibles","Nota: Los datos corresponden a 2013 pues son los últimos disponibles","Nota: Los datos corresponden a 2013 pues son los últimos disponibles","Nota: Los datos corresponden a 2013 pues son los últimos disponibles","Nota: Los datos corresponden a 2013 pues son los últimos disponibles","Nota: Los datos corresponden a 2013 pues son los últimos disponibles","Nota: Los datos corresponden a 2013 pues son los últimos disponibles","Nota: Los datos corresponden a 2013 pues son los últimos disponibles","Nota: Los datos corresponden a 2013 pues son los últimos disponibles","Nota: Los datos corresponden a 2013 pues son los últimos disponibles","Nota: Los datos corresponden a 2013 pues son los últimos disponibles","Nota: Los datos corresponden a 2013 pues son los últimos disponibles","Nota: Los datos corresponden a 2013 pues son los últimos disponibles","Nota: Los datos corresponden a 2013 pues son los últimos disponibles","Nota: Los datos corresponden a 2013 pues son los últimos disponibles","Nota: Los datos corresponden a 2013 pues son los últimos disponibles","Nota: Los datos corresponden a 2013 pues son los últimos disponibles","Nota: Los datos corresponden a 2013 pues son los últimos disponibles","Nota: Los datos corresponden a 2013 pues son los últimos disponibles","Nota: Los datos corresponden a 2013 pues son los últimos disponibles","Nota: Los datos corresponden a 2013 pues son los últimos disponibles","Nota: Los datos corresponden a 2013 pues son los últimos disponibles","Nota: Los datos corresponden a 2013 pues son los últimos disponibles","Nota: Los datos corresponden a 2013 pues son los últimos disponibles","Nota: Los datos corresponden a 2013 pues son los últimos disponibles","Nota: Los datos corresponden a 2013 pues son los últimos disponibles","Nota: Los datos corresponden a 2013 pues son los últimos disponibles","Nota: Los datos corresponden a 2013 pues son los últimos disponibles","Nota: Los datos corresponden a 2013 pues son los últimos disponibles","Nota: Los datos corresponden a 2013 pues son los últimos disponibles","Nota: Los datos corresponden a 2013 pues son los últimos disponibles","Nota: Los datos corresponden a 2013 pues son los últimos disponibles","Nota: Los datos corresponden a 2013 pues son los últimos disponibles","Nota: Los datos corresponden a 2013 pues son los últimos disponibles","Nota: Los datos corresponden a 2013 pues son los últimos disponibles","Nota: Los datos corresponden a 2013 pues son los últimos disponibles","Nota: Los datos corresponden a 2013 pues son los últimos disponibles","Nota: Los datos corresponden a 2013 pues son los últimos disponibles","Nota: Los datos corresponden a 2013 pues son los últimos disponibles","Nota: Los datos corresponden a 2013 pues son los últimos disponibles","Nota: Los datos corresponden a 2013 pues son los últimos disponibles","Nota: Los datos corresponden a 2013 pues son los últimos disponibles","Nota: Los datos corresponden a 2013 pues son los últimos disponibles","Nota: Los datos corresponden a 2013 pues son los últimos disponibles","Nota: Los datos corresponden a 2013 pues son los últimos disponibles","Nota: Los datos corresponden a 2013 pues son los últimos disponibles","Nota: Los datos corresponden a 2013 pues son los últimos disponibles","Nota: Los datos corresponden a 2013 pues son los últimos disponibles","Nota: Los datos corresponden a 2013 pues son los últimos disponibles","Nota: Los datos corresponden a 2013 pues son los últimos disponibles","Nota: Los datos corresponden a 2013 pues son los últimos disponibles","Nota: Los datos corresponden a 2013 pues son los últimos disponibles","Nota: Los datos corresponden a 2013 pues son los últimos disponibles","Nota: Los datos corresponden a 2013 pues son los últimos disponibles","Nota: Los datos corresponden a 2013 pues son los últimos disponibles","Nota: Los datos corresponden a 2013 pues son los últimos disponibles","Nota: Los datos corresponden a 2013 pues son los últimos disponibles","Nota: Los datos corresponden a 2013 pues son los últimos disponibles","Nota: Los datos corresponden a 2013 pues son los últimos disponibles","Nota: Los datos corresponden a 2013 pues son los últimos disponibles","Nota: Los datos corresponden a 2013 pues son los últimos disponibles","Nota: Los datos corresponden a 2013 pues son los últimos disponibles","Nota: Los datos corresponden a 2013 pues son los últimos disponibles","Nota: Los datos corresponden a 2013 pues son los últimos disponibles","Nota: Los datos corresponden a 2013 pues son los últimos disponibles","Nota: Los datos corresponden a 2013 pues son los últimos disponibles","Nota: Los datos corresponden a 2013 pues son los últimos disponibles","Nota: Los datos corresponden a 2013 pues son los últimos disponibles","Nota: Los datos corresponden a 2013 pues son los últimos disponibles","Nota: Los datos corresponden a 2013 pues son los últimos disponibles","Nota: Los datos corresponden a 2013 pues son los últimos disponibles","Nota: Los datos corresponden a 2013 pues son los últimos disponibles","Nota: Los datos corresponden a 2013 pues son los últimos disponibles","Nota: Los datos corresponden a 2013 pues son los últimos disponibles","Nota: Los datos corresponden a 2013 pues son los últimos disponibles","Nota: Los datos corresponden a 2013 pues son los últimos disponibles","Nota: Los datos corresponden a 2013 pues son los últimos disponibles","Nota: Los datos corresponden a 2013 pues son los últimos disponibles","Nota: Los datos corresponden a 2013 pues son los últimos disponibles","Nota: Los datos corresponden a 2013 pues son los últimos disponibles","Nota: Los datos corresponden a 2013 pues son los últimos disponibles","Nota: Los datos corresponden a 2013 pues son los últimos disponibles","Nota: Los datos corresponden a 2013 pues son los últimos disponibles","Nota: Los datos corresponden a 2013 pues son los últimos disponibles","Nota: Los datos corresponden a 2013 pues son los últimos disponibles","Nota: Los datos corresponden a 2013 pues son los últimos disponibles","Nota: Los datos corresponden a 2013 pues son los últimos disponibles","Nota: Los datos corresponden a 2013 pues son los últimos disponibles","Nota: Los datos corresponden a 2013 pues son los últimos disponibles","Nota: Los datos corresponden a 2013 pues son los últimos disponibles","Nota: Los datos corresponden a 2013 pues son los últimos disponibles","Nota: Los datos corresponden a 2013 pues son los últimos disponibles","Nota: Los datos corresponden a 2013 pues son los últimos disponibles","Nota: Los datos corresponden a 2013 pues son los últimos disponibles","Nota: Los datos corresponden a 2013 pues son los últimos disponibles","Nota: Los datos corresponden a 2013 pues son los últimos disponibles","Nota: Los datos corresponden a 2013 pues son los últimos disponibles","Nota: Los datos corresponden a 2013 pues son los últimos disponibles","Nota: Los datos corresponden a 2013 pues son los últimos disponibles","Nota: Los datos corresponden a 2013 pues son los últimos disponibles","Nota: Los datos corresponden a 2013 pues son los últimos disponibles","Nota: Los datos corresponden a 2013 pues son los últimos disponibles","Nota: Los datos corresponden a 2013 pues son los últimos disponibles","Nota: Los datos corresponden a 2013 pues son los últimos disponibles","Nota: Los datos corresponden a 2013 pues son los últimos disponibles","Nota: Los datos corresponden a 2013 pues son los últimos disponibles","Nota: Los datos corresponden a 2013 pues son los últimos disponibles","Nota: Los datos corresponden a 2013 pues son los últimos disponibles","Nota: Los datos corresponden a 2013 pues son los últimos disponibles","Nota: Los datos corresponden a 2013 pues son los últimos disponibles","Nota: Los datos corresponden a 2013 pues son los últimos disponibles","Nota: Los datos corresponden a 2013 pues son los últimos disponibles","Nota: Los datos corresponden a 2013 pues son los últimos disponibles","Nota: Los datos corresponden a 2013 pues son los últimos disponibles","Nota: Los datos corresponden a 2013 pues son los últimos disponibles","Nota: Los datos corresponden a 2013 pues son los últimos disponibles","Nota: Los datos corresponden a 2013 pues son los últimos disponibles","Nota: Los datos corresponden a 2013 pues son los últimos disponibles","Nota: Los datos corresponden a 2013 pues son los últimos disponibles","Nota: Los datos corresponden a 2013 pues son los últimos disponibles","Nota: Los datos corresponden a 2013 pues son los últimos disponibles","Nota: Los datos corresponden a 2013 pues son los últimos disponibles","Nota: Los datos corresponden a 2013 pues son los últimos disponibles","Nota: Los datos corresponden a 2013 pues son los últimos disponibles","Nota: Los datos corresponden a 2013 pues son los últimos disponibles","Nota: Los datos corresponden a 2013 pues son los últimos disponibles","Nota: Los datos corresponden a 2013 pues son los últimos disponibles","Nota: Los datos corresponden a 2013 pues son los últimos disponibles","Nota: Los datos corresponden a 2013 pues son los últimos disponibles","Nota: Los datos corresponden a 2013 pues son los últimos disponibles","Nota: Los datos corresponden a 2013 pues son los últimos disponibles","Nota: Los datos corresponden a 2013 pues son los últimos disponibles","Nota: Los datos corresponden a 2013 pues son los últimos disponibles","Nota: Los datos corresponden a 2013 pues son los últimos disponibles","Nota: Los datos corresponden a 2013 pues son los últimos disponibles","Nota: Los datos corresponden a 2013 pues son los últimos disponibles","Nota: Los datos corresponden a 2013 pues son los últimos disponibles","Nota: Los datos corresponden a 2013 pues son los últimos disponibles","Nota: Los datos corresponden a 2013 pues son los últimos disponibles","Nota: Los datos corresponden a 2013 pues son los últimos disponibles","Nota: Los datos corresponden a 2013 pues son los últimos disponibles","Nota: Los datos corresponden a 2013 pues son los últimos disponibles","Nota: Los datos corresponden a 2013 pues son los últimos disponibles","Nota: Los datos corresponden a 2013 pues son los últimos disponibles","Nota: Los datos corresponden a 2013 pues son los últimos disponibles","Nota: Los datos corresponden a 2013 pues son los últimos disponibles","Nota: Los datos corresponden a 2013 pues son los últimos disponibles","Nota: Los datos corresponden a 2013 pues son los últimos disponibles","Nota: Los datos corresponden a 2013 pues son los últimos disponibles","Nota: Los datos corresponden a 2013 pues son los últimos disponibles","Nota: Los datos corresponden a 2013 pues son los últimos disponibles","Nota: Los datos corresponden a 2013 pues son los últimos disponibles","Nota: Los datos corresponden a 2013 pues son los últimos disponibles","Nota: Los datos corresponden a 2013 pues son los últimos disponibles","Nota: Los datos corresponden a 2013 pues son los últimos disponibles","Nota: Los datos corresponden a 2013 pues son los últimos disponibles","Nota: Los datos corresponden a 2013 pues son los últimos disponibles","Nota: Los datos corresponden a 2013 pues son los últimos disponibles","Nota: Los datos corresponden a 2013 pues son los últimos disponibles","Nota: Los datos corresponden a 2013 pues son los últimos disponibles","Nota: Los datos corresponden a 2013 pues son los últimos disponibles","Nota: Los datos corresponden a 2013 pues son los últimos disponibles","Nota: Los datos corresponden a 2013 pues son los últimos disponibles","Nota: Los datos corresponden a 2013 pues son los últimos disponibles","Nota: Los datos corresponden a 2013 pues son los últimos disponibles","Nota: Los datos corresponden a 2013 pues son los últimos disponibles","Nota: Los datos corresponden a 2013 pues son los últimos disponibles","Nota: Los datos corresponden a 2013 pues son los últimos disponibles","Nota: Los datos corresponden a 2013 pues son los últimos disponibles","Nota: Los datos corresponden a 2013 pues son los últimos disponibles","Nota: Los datos corresponden a 2013 pues son los últimos disponibles","Nota: Los datos corresponden a 2013 pues son los últimos disponibles","Nota: Los datos corresponden a 2013 pues son los últimos disponibles","Nota: Los datos corresponden a 2013 pues son los últimos disponibles","Nota: Los datos corresponden a 2013 pues son los últimos disponibles","Nota: Los datos corresponden a 2013 pues son los últimos disponibles","Nota: Los datos corresponden a 2013 pues son los últimos disponibles","Nota: Los datos corresponden a 2013 pues son los últimos disponibles","Nota: Los datos corresponden a 2013 pues son los últimos disponibles","Nota: Los datos corresponden a 2013 pues son los últimos disponibles","Nota: Los datos corresponden a 2013 pues son los últimos disponibles","Nota: Los datos corresponden a 2013 pues son los últimos disponibles","Nota: Los datos corresponden a 2013 pues son los últimos disponibles","Nota: Los datos corresponden a 2013 pues son los últimos disponibles","Nota: Los datos corresponden a 2013 pues son los últimos disponibles","Nota: Los datos corresponden a 2013 pues son los últimos disponibles","Nota: Los datos corresponden a 2013 pues son los últimos disponibles","Nota: Los datos corresponden a 2013 pues son los últimos disponibles","Nota: Los datos corresponden a 2013 pues son los últimos disponibles","Nota: Los datos corresponden a 2013 pues son los últimos disponibles","Nota: Los datos corresponden a 2013 pues son los últimos disponibles","Nota: Los datos corresponden a 2013 pues son los últimos disponibles","Nota: Los datos corresponden a 2013 pues son los últimos disponibles","Nota: Los datos corresponden a 2013 pues son los últimos disponibles","Nota: Los datos corresponden a 2013 pues son los últimos disponibles","Nota: Los datos corresponden a 2013 pues son los últimos disponibles","Nota: Los datos corresponden a 2013 pues son los últimos disponibles","Nota: Los datos corresponden a 2013 pues son los últimos disponibles","Nota: Los datos corresponden a 2013 pues son los últimos disponibles","Nota: Los datos corresponden a 2013 pues son los últimos disponibles","Nota: Los datos corresponden a 2013 pues son los últimos disponibles","Nota: Los datos corresponden a 2013 pues son los últimos disponibles","Nota: Los datos corresponden a 2013 pues son los últimos disponibles","Nota: Los datos corresponden a 2013 pues son los últimos disponibles","Nota: Los datos corresponden a 2013 pues son los últimos disponibles","Nota: Los datos corresponden a 2013 pues son los últimos disponibles","Nota: Los datos corresponden a 2013 pues son los últimos disponibles","Nota: Los datos corresponden a 2013 pues son los últimos disponibles","Nota: Los datos corresponden a 2013 pues son los últimos disponibles","Nota: Los datos corresponden a 2013 pues son los últimos disponibles","Nota: Los datos corresponden a 2013 pues son los últimos disponibles","Nota: Los datos corresponden a 2013 pues son los últimos disponibles","Nota: Los datos corresponden a 2013 pues son los últimos disponibles","Nota: Los datos corresponden a 2013 pues son los últimos disponibles","Nota: Los datos corresponden a 2013 pues son los últimos disponibles","Nota: Los datos corresponden a 2013 pues son los últimos disponibles","Nota: Los datos corresponden a 2013 pues son los últimos disponibles","Nota: Los datos corresponden a 2013 pues son los últimos disponibles","Nota: Los datos corresponden a 2013 pues son los últimos disponibles","Nota: Los datos corresponden a 2013 pues son los últimos disponibles","Nota: Los datos corresponden a 2013 pues son los últimos disponibles","Nota: Los datos corresponden a 2013 pues son los últimos disponibles","Nota: Los datos corresponden a 2013 pues son los últimos disponibles","Nota: Los datos corresponden a 2013 pues son los últimos disponibles","Nota: Los datos corresponden a 2013 pues son los últimos disponibles","Nota: Los datos corresponden a 2013 pues son los últimos disponibles","Nota: Los datos corresponden a 2013 pues son los últimos disponibles","Nota: Los datos corresponden a 2013 pues son los últimos disponibles","Nota: Los datos corresponden a 2013 pues son los últimos disponibles","Nota: Los datos corresponden a 2013 pues son los últimos disponibles","Nota: Los datos corresponden a 2013 pues son los últimos disponibles","Nota: Los datos corresponden a 2013 pues son los últimos disponibles","Nota: Los datos corresponden a 2013 pues son los últimos disponibles","Nota: Los datos corresponden a 2013 pues son los últimos disponibles","Nota: Los datos corresponden a 2013 pues son los últimos disponibles","Nota: Los datos corresponden a 2013 pues son los últimos disponibles","Nota: Los datos corresponden a 2013 pues son los últimos disponibles","Nota: Los datos corresponden a 2013 pues son los últimos disponibles","Nota: Los datos corresponden a 2013 pues son los últimos disponibles","Nota: Los datos corresponden a 2013 pues son los últimos disponibles","Nota: Los datos corresponden a 2013 pues son los últimos disponibles","Nota: Los datos corresponden a 2013 pues son los últimos disponibles","Nota: Los datos corresponden a 2013 pues son los últimos disponibles","Nota: Los datos corresponden a 2013 pues son los últimos disponibles","Nota: Los datos corresponden a 2013 pues son los últimos disponibles","Nota: Los datos corresponden a 2013 pues son los últimos disponibles","Nota: Los datos corresponden a 2013 pues son los últimos disponibles","Nota: Los datos corresponden a 2013 pues son los últimos disponibles","Nota: Los datos corresponden a 2013 pues son los últimos disponibles","Nota: Los datos corresponden a 2013 pues son los últimos disponibles","Nota: Los datos corresponden a 2013 pues son los últimos disponibles","Nota: Los datos corresponden a 2013 pues son los últimos disponibles","Nota: Los datos corresponden a 2013 pues son los últimos disponibles","Nota: Los datos corresponden a 2013 pues son los últimos disponibles","Nota: Los datos corresponden a 2013 pues son los últimos disponibles","Nota: Los datos corresponden a 2013 pues son los últimos disponibles","Nota: Los datos corresponden a 2013 pues son los últimos disponibles","Nota: Los datos corresponden a 2013 pues son los últimos disponibles","Nota: Los datos corresponden a 2013 pues son los últimos disponibles","Nota: Los datos corresponden a 2013 pues son los últimos disponibles","Nota: Los datos corresponden a 2013 pues son los últimos disponibles","Nota: Los datos corresponden a 2013 pues son los últimos disponibles","Nota: Los datos corresponden a 2013 pues son los últimos disponibles","Nota: Los datos corresponden a 2013 pues son los últimos disponibles","Nota: Los datos corresponden a 2013 pues son los últimos disponibles","Nota: Los datos corresponden a 2013 pues son los últimos disponibles","Nota: Los datos corresponden a 2013 pues son los últimos disponibles","Nota: Los datos corresponden a 2013 pues son los últimos disponibles","Nota: Los datos corresponden a 2013 pues son los últimos disponibles","Nota: Los datos corresponden a 2013 pues son los últimos disponibles","Nota: Los datos corresponden a 2013 pues son los últimos disponibles","Nota: Los datos corresponden a 2013 pues son los últimos disponibles","Nota: Los datos corresponden a 2013 pues son los últimos disponibles","Nota: Los datos corresponden a 2013 pues son los últimos disponibles","Nota: Los datos corresponden a 2013 pues son los últimos disponibles","Nota: Los datos corresponden a 2013 pues son los últimos disponibles","Nota: Los datos corresponden a 2013 pues son los últimos disponibles","Nota: Los datos corresponden a 2013 pues son los últimos disponibles","Nota: Los datos corresponden a 2013 pues son los últimos disponibles","Nota: Los datos corresponden a 2013 pues son los últimos disponibles","Nota: Los datos corresponden a 2013 pues son los últimos disponibles","Nota: Los datos corresponden a 2013 pues son los últimos disponibles","Nota: Los datos corresponden a 2013 pues son los últimos disponibles","Nota: Los datos corresponden a 2013 pues son los últimos disponibles","Nota: Los datos corresponden a 2013 pues son los últimos disponibles","Nota: Los datos corresponden a 2013 pues son los últimos disponibles","Nota: Los datos corresponden a 2013 pues son los últimos disponibles","Nota: Los datos corresponden a 2013 pues son los últimos disponibles","Nota: Los datos corresponden a 2013 pues son los últimos disponibles","Nota: Los datos corresponden a 2013 pues son los últimos disponibles","Nota: Los datos corresponden a 2013 pues son los últimos disponibles","Nota: Los datos corresponden a 2013 pues son los últimos disponibles","Nota: Los datos corresponden a 2013 pues son los últimos disponibles","Nota: Los datos corresponden a 2013 pues son los últimos disponibles","Nota: Los datos corresponden a 2013 pues son los últimos disponibles","Nota: Los datos corresponden a 2013 pues son los últimos disponibles","Nota: Los datos corresponden a 2013 pues son los últimos disponibles","Nota: Los datos corresponden a 2013 pues son los últimos disponibles","Nota: Los datos corresponden a 2013 pues son los últimos disponibles","Nota: Los datos corresponden a 2013 pues son los últimos disponibles","Nota: Los datos corresponden a 2013 pues son los últimos disponibles","Nota: Los datos corresponden a 2013 pues son los últimos disponibles","Nota: Los datos corresponden a 2013 pues son los últimos disponibles","Nota: Los datos corresponden a 2013 pues son los últimos disponibles","Nota: Los datos corresponden a 2013 pues son los últimos disponibles","Nota: Los datos corresponden a 2013 pues son los últimos disponibles","Nota: Los datos corresponden a 2013 pues son los últimos disponibles","Nota: Los datos corresponden a 2013 pues son los últimos disponibles","Nota: Los datos corresponden a 2013 pues son los últimos disponibles","Nota: Los datos corresponden a 2013 pues son los últimos disponibles","Nota: Los datos corresponden a 2013 pues son los últimos disponibles","Nota: Los datos corresponden a 2013 pues son los últimos disponibles","Nota: Los datos corresponden a 2013 pues son los últimos disponibles","Nota: Los datos corresponden a 2013 pues son los últimos disponibles","Nota: Los datos corresponden a 2013 pues son los últimos disponibles","Nota: Los datos corresponden a 2013 pues son los últimos disponibles","Nota: Los datos corresponden a 2013 pues son los últimos disponibles","Nota: Los datos corresponden a 2013 pues son los últimos disponibles","Nota: Los datos corresponden a 2013 pues son los últimos disponibles","Nota: Los datos corresponden a 2013 pues son los últimos disponibles","Nota: Los datos corresponden a 2013 pues son los últimos disponibles","Nota: Los datos corresponden a 2013 pues son los últimos disponibles","Nota: Los datos corresponden a 2013 pues son los últimos disponibles","Nota: Los datos corresponden a 2013 pues son los últimos disponibles","Nota: Los datos corresponden a 2013 pues son los últimos disponibles","Nota: Los datos corresponden a 2013 pues son los últimos disponibles","Nota: Los datos corresponden a 2013 pues son los últimos disponibles","Nota: Los datos corresponden a 2013 pues son los últimos disponibles","Nota: Los datos corresponden a 2013 pues son los últimos disponibles","Nota: Los datos corresponden a 2013 pues son los últimos disponibles","Nota: Los datos corresponden a 2013 pues son los últimos disponibles","Nota: Los datos corresponden a 2013 pues son los últimos disponibles","Nota: Los datos corresponden a 2013 pues son los últimos disponibles","Nota: Los datos corresponden a 2013 pues son los últimos disponibles","Nota: Los datos corresponden a 2013 pues son los últimos disponibles","Nota: Los datos corresponden a 2013 pues son los últimos disponibles","Nota: Los datos corresponden a 2013 pues son los últimos disponibles","Nota: Los datos corresponden a 2013 pues son los últimos disponibles","Nota: Los datos corresponden a 2013 pues son los últimos disponibles","Nota: Los datos corresponden a 2013 pues son los últimos disponibles","Nota: Los datos corresponden a 2013 pues son los últimos disponibles","Nota: Los datos corresponden a 2013 pues son los últimos disponibles","Nota: Los datos corresponden a 2013 pues son los últimos disponibles","Nota: Los datos corresponden a 2013 pues son los últimos disponibles","Nota: Los datos corresponden a 2013 pues son los últimos disponibles","Nota: Los datos corresponden a 2013 pues son los últimos disponibles","Nota: Los datos corresponden a 2013 pues son los últimos disponibles","Nota: Los datos corresponden a 2013 pues son los últimos disponibles","Nota: Los datos corresponden a 2013 pues son los últimos disponibles","Nota: Los datos corresponden a 2013 pues son los últimos disponibles","Nota: Los datos corresponden a 2013 pues son los últimos disponibles","Nota: Los datos corresponden a 2013 pues son los últimos disponibles","Nota: Los datos corresponden a 2013 pues son los últimos disponibles","Nota: Los datos corresponden a 2013 pues son los últimos disponibles","Nota: Los datos corresponden a 2013 pues son los últimos disponibles","Nota: Los datos corresponden a 2013 pues son los últimos disponibles","Nota: Los datos corresponden a 2013 pues son los últimos disponibles","Nota: Los datos corresponden a 2013 pues son los últimos disponibles","Nota: Los datos corresponden a 2013 pues son los últimos disponibles","Nota: Los datos corresponden a 2013 pues son los últimos disponibles","Nota: Los datos corresponden a 2013 pues son los últimos disponibles","Nota: Los datos corresponden a 2013 pues son los últimos disponibles","Nota: Los datos corresponden a 2013 pues son los últimos disponibles","Nota: Los datos corresponden a 2013 pues son los últimos disponibles","Nota: Los datos corresponden a 2013 pues son los últimos disponibles","Nota: Los datos corresponden a 2013 pues son los últimos disponibles","Nota: Los datos corresponden a 2013 pues son los últimos disponibles","Nota: Los datos corresponden a 2013 pues son los últimos disponibles","Nota: Los datos corresponden a 2013 pues son los últimos disponibles","Nota: Los datos corresponden a 2013 pues son los últimos disponibles","Nota: Los datos corresponden a 2013 pues son los últimos disponibles","Nota: Los datos corresponden a 2013 pues son los últimos disponibles","Nota: Los datos corresponden a 2013 pues son los últimos disponibles","Nota: Los datos corresponden a 2013 pues son los últimos disponibles","Nota: Los datos corresponden a 2013 pues son los últimos disponibles","Nota: Los datos corresponden a 2013 pues son los últimos disponibles","Nota: Los datos corresponden a 2013 pues son los últimos disponibles","Nota: Los datos corresponden a 2013 pues son los últimos disponibles","Nota: Los datos corresponden a 2013 pues son los últimos disponibles","Nota: Los datos corresponden a 2013 pues son los últimos disponibles","Nota: Los datos corresponden a 2013 pues son los últimos disponibles","Nota: Los datos corresponden a 2013 pues son los últimos disponibles","Nota: Los datos corresponden a 2013 pues son los últimos disponibles","Nota: Los datos corresponden a 2013 pues son los últimos disponibles","Nota: Los datos corresponden a 2013 pues son los últimos disponibles","Nota: Los datos corresponden a 2013 pues son los últimos disponibles","Nota: Los datos corresponden a 2013 pues son los últimos disponibles","Nota: Los datos corresponden a 2013 pues son los últimos disponibles","Nota: Los datos corresponden a 2013 pues son los últimos disponibles","Nota: Los datos corresponden a 2013 pues son los últimos disponibles","Nota: Los datos corresponden a 2013 pues son los últimos disponibles","Nota: Los datos corresponden a 2013 pues son los últimos disponibles","Nota: Los datos corresponden a 2013 pues son los últimos disponibles","Nota: Los datos corresponden a 2013 pues son los últimos disponibles","Nota: Los datos corresponden a 2013 pues son los últimos disponibles","Nota: Los datos corresponden a 2013 pues son los últimos disponibles","Nota: Los datos corresponden a 2013 pues son los últimos disponibles","Nota: Los datos corresponden a 2013 pues son los últimos disponibles","Nota: Los datos corresponden a 2013 pues son los últimos disponibles","Nota: Los datos corresponden a 2013 pues son los últimos disponibles","Nota: Los datos corresponden a 2013 pues son los últimos disponibles","Nota: Los datos corresponden a 2013 pues son los últimos disponibles","Nota: Los datos corresponden a 2013 pues son los últimos disponibles","Nota: Los datos corresponden a 2013 pues son los últimos disponibles","Nota: Los datos corresponden a 2013 pues son los últimos disponibles","Nota: Los datos corresponden a 2013 pues son los últimos disponibles","Nota: Los datos corresponden a 2013 pues son los últimos disponibles","Nota: Los datos corresponden a 2013 pues son los últimos disponibles","Nota: Los datos corresponden a 2013 pues son los últimos disponibles","Nota: Los datos corresponden a 2013 pues son los últimos disponibles","Nota: Los datos corresponden a 2013 pues son los últimos disponibles","Nota: Los datos corresponden a 2013 pues son los últimos disponibles","Nota: Los datos corresponden a 2013 pues son los últimos disponibles","Nota: Los datos corresponden a 2013 pues son los últimos disponibles","Nota: Los datos corresponden a 2013 pues son los últimos disponibles","Nota: Los datos corresponden a 2013 pues son los últimos disponibles","Nota: Los datos corresponden a 2013 pues son los últimos disponibles","Nota: Los datos corresponden a 2013 pues son los últimos disponibles","Nota: Los datos corresponden a 2013 pues son los últimos disponibles","Nota: Los datos corresponden a 2013 pues son los últimos disponibles","Nota: Los datos corresponden a 2013 pues son los últimos disponibles","Nota: Los datos corresponden a 2013 pues son los últimos disponibles","Nota: Los datos corresponden a 2013 pues son los últimos disponibles","Nota: Los datos corresponden a 2013 pues son los últimos disponibles","Nota: Los datos corresponden a 2013 pues son los últimos disponibles","Nota: Los datos corresponden a 2013 pues son los últimos disponibles","Nota: Los datos corresponden a 2013 pues son los últimos disponibles","Nota: Los datos corresponden a 2013 pues son los últimos disponibles","Nota: Los datos corresponden a 2013 pues son los últimos disponibles","Nota: Los datos corresponden a 2013 pues son los últimos disponibles","Nota: Los datos corresponden a 2013 pues son los últimos disponibles","Nota: Los datos corresponden a 2013 pues son los últimos disponibles","Nota: Los datos corresponden a 2013 pues son los últimos disponibles","Nota: Los datos corresponden a 2013 pues son los últimos disponibles","Nota: Los datos corresponden a 2013 pues son los últimos disponibles","Nota: Los datos corresponden a 2013 pues son los últimos disponibles","Nota: Los datos corresponden a 2013 pues son los últimos disponibles","Nota: Los datos corresponden a 2013 pues son los últimos disponibles","Nota: Los datos corresponden a 2013 pues son los últimos disponibles","Nota: Los datos corresponden a 2013 pues son los últimos disponibles","Nota: Los datos corresponden a 2013 pues son los últimos disponibles","Nota: Los datos corresponden a 2013 pues son los últimos disponibles","Nota: Los datos corresponden a 2013 pues son los últimos disponibles","Nota: Los datos corresponden a 2013 pues son los últimos disponibles","Nota: Los datos corresponden a 2013 pues son los últimos disponibles","Nota: Los datos corresponden a 2013 pues son los últimos disponibles","Nota: Los datos corresponden a 2013 pues son los últimos disponibles","Nota: Los datos corresponden a 2013 pues son los últimos disponibles","Nota: Los datos corresponden a 2013 pues son los últimos disponibles","Nota: Los datos corresponden a 2013 pues son los últimos disponibles","Nota: Los datos corresponden a 2013 pues son los últimos disponibles","Nota: Los datos corresponden a 2013 pues son los últimos disponibles","Nota: Los datos corresponden a 2013 pues son los últimos disponibles","Nota: Los datos corresponden a 2013 pues son los últimos disponibles","Nota: Los datos corresponden a 2013 pues son los últimos disponibles","Nota: Los datos corresponden a 2013 pues son los últimos disponibles","Nota: Los datos corresponden a 2013 pues son los últimos disponibles","Nota: Los datos corresponden a 2013 pues son los últimos disponibles","Nota: Los datos corresponden a 2013 pues son los últimos disponibles","Nota: Los datos corresponden a 2013 pues son los últimos disponibles","Nota: Los datos corresponden a 2013 pues son los últimos disponibles","Nota: Los datos corresponden a 2013 pues son los últimos disponibles","Nota: Los datos corresponden a 2013 pues son los últimos disponibles","Nota: Los datos corresponden a 2013 pues son los últimos disponibles","Nota: Los datos corresponden a 2013 pues son los últimos disponibles","Nota: Los datos corresponden a 2013 pues son los últimos disponibles","Nota: Los datos corresponden a 2013 pues son los últimos disponibles","Nota: Los datos corresponden a 2013 pues son los últimos disponibles","Nota: Los datos corresponden a 2013 pues son los últimos disponibles","Nota: Los datos corresponden a 2013 pues son los últimos disponibles","Nota: Los datos corresponden a 2013 pues son los últimos disponibles","Nota: Los datos corresponden a 2013 pues son los últimos disponibles","Nota: Los datos corresponden a 2013 pues son los últimos disponibles","Nota: Los datos corresponden a 2013 pues son los últimos disponibles","Nota: Los datos corresponden a 2013 pues son los últimos disponibles","Nota: Los datos corresponden a 2013 pues son los últimos disponibles","Nota: Los datos corresponden a 2013 pues son los últimos disponibles","Nota: Los datos corresponden a 2013 pues son los últimos disponibles","Nota: Los datos corresponden a 2013 pues son los últimos disponibles","Nota: Los datos corresponden a 2013 pues son los últimos disponibles","Nota: Los datos corresponden a 2013 pues son los últimos disponibles","Nota: Los datos corresponden a 2013 pues son los últimos disponibles","Nota: Los datos corresponden a 2013 pues son los últimos disponibles","Nota: Los datos corresponden a 2013 pues son los últimos disponibles","Nota: Los datos corresponden a 2013 pues son los últimos disponibles","Nota: Los datos corresponden a 2013 pues son los últimos disponibles","Nota: Los datos corresponden a 2013 pues son los últimos disponibles","Nota: Los datos corresponden a 2013 pues son los últimos disponibles","Nota: Los datos corresponden a 2013 pues son los últimos disponibles","Nota: Los datos corresponden a 2013 pues son los últimos disponibles","Nota: Los datos corresponden a 2013 pues son los últimos disponibles","Nota: Los datos corresponden a 2013 pues son los últimos disponibles","Nota: Los datos corresponden a 2013 pues son los últimos disponibles","Nota: Los datos corresponden a 2013 pues son los últimos disponibles","Nota: Los datos corresponden a 2013 pues son los últimos disponibles","Nota: Los datos corresponden a 2013 pues son los últimos disponibles","Nota: Los datos corresponden a 2013 pues son los últimos disponibles","Nota: Los datos corresponden a 2013 pues son los últimos disponibles","Nota: Los datos corresponden a 2013 pues son los últimos disponibles","Nota: Los datos corresponden a 2013 pues son los últimos disponibles","Nota: Los datos corresponden a 2013 pues son los últimos disponibles","Nota: Los datos corresponden a 2013 pues son los últimos disponibles","Nota: Los datos corresponden a 2013 pues son los últimos disponibles","Nota: Los datos corresponden a 2013 pues son los últimos disponibles","Nota: Los datos corresponden a 2013 pues son los últimos disponibles","Nota: Los datos corresponden a 2013 pues son los últimos disponibles","Nota: Los datos corresponden a 2013 pues son los últimos disponibles","Nota: Los datos corresponden a 2013 pues son los últimos disponibles","Nota: Los datos corresponden a 2013 pues son los últimos disponibles","Nota: Los datos corresponden a 2013 pues son los últimos disponibles","Nota: Los datos corresponden a 2013 pues son los últimos disponibles","Nota: Los datos corresponden a 2013 pues son los últimos disponibles","Nota: Los datos corresponden a 2013 pues son los últimos disponibles","Nota: Los datos corresponden a 2013 pues son los últimos disponibles","Nota: Los datos corresponden a 2013 pues son los últimos disponibles","Nota: Los datos corresponden a 2013 pues son los últimos disponibles","Nota: Los datos corresponden a 2013 pues son los últimos disponibles","Nota: Los datos corresponden a 2013 pues son los últimos disponibles","Nota: Los datos corresponden a 2013 pues son los últimos disponibles","Nota: Los datos corresponden a 2013 pues son los últimos disponibles","Nota: Los datos corresponden a 2013 pues son los últimos disponibles","Nota: Los datos corresponden a 2013 pues son los últimos disponibles","Nota: Los datos corresponden a 2013 pues son los últimos disponibles","Nota: Los datos corresponden a 2013 pues son los últimos disponibles","Nota: Los datos corresponden a 2013 pues son los últimos disponibles","Nota: Los datos corresponden a 2013 pues son los últimos disponibles","Nota: Los datos corresponden a 2013 pues son los últimos disponibles","Nota: Los datos corresponden a 2013 pues son los últimos disponibles","Nota: Los datos corresponden a 2013 pues son los últimos disponibles","Nota: Los datos corresponden a 2013 pues son los últimos disponibles","Nota: Los datos corresponden a 2013 pues son los últimos disponibles","Nota: Los datos corresponden a 2013 pues son los últimos disponibles","Nota: Los datos corresponden a 2013 pues son los últimos disponibles","Nota: Los datos corresponden a 2013 pues son los últimos disponibles","Nota: Los datos corresponden a 2013 pues son los últimos disponibles","Nota: Los datos corresponden a 2013 pues son los últimos disponibles","Nota: Los datos corresponden a 2013 pues son los últimos disponibles","Nota: Los datos corresponden a 2013 pues son los últimos disponibles","Nota: Los datos corresponden a 2013 pues son los últimos disponibles","Nota: Los datos corresponden a 2013 pues son los últimos disponibles","Nota: Los datos corresponden a 2013 pues son los últimos disponibles","Nota: Los datos corresponden a 2013 pues son los últimos disponibles","Nota: Los datos corresponden a 2013 pues son los últimos disponibles","Nota: Los datos corresponden a 2013 pues son los últimos disponibles","Nota: Los datos corresponden a 2013 pues son los últimos disponibles","Nota: Los datos corresponden a 2013 pues son los últimos disponibles","Nota: Los datos corresponden a 2013 pues son los últimos disponibles","Nota: Los datos corresponden a 2013 pues son los últimos disponibles","Nota: Los datos corresponden a 2013 pues son los últimos disponibles","Nota: Los datos corresponden a 2013 pues son los últimos disponibles","Nota: Los datos corresponden a 2013 pues son los últimos disponibles","Nota: Los datos corresponden a 2013 pues son los últimos disponibles","Nota: Los datos corresponden a 2013 pues son los últimos disponibles","Nota: Los datos corresponden a 2013 pues son los últimos disponibles","Nota: Los datos corresponden a 2013 pues son los últimos disponibles","Nota: Los datos corresponden a 2013 pues son los últimos disponibles","Nota: Los datos corresponden a 2013 pues son los últimos disponibles","Nota: Los datos corresponden a 2013 pues son los últimos disponibles","Nota: Los datos corresponden a 2013 pues son los últimos disponibles","Nota: Los datos corresponden a 2013 pues son los últimos disponibles","Nota: Los datos corresponden a 2013 pues son los últimos disponibles","Nota: Los datos corresponden a 2013 pues son los últimos disponibles","Nota: Los datos corresponden a 2013 pues son los últimos disponibles","Nota: Los datos corresponden a 2013 pues son los últimos disponibles","Nota: Los datos corresponden a 2013 pues son los últimos disponibles","Nota: Los datos corresponden a 2013 pues son los últimos disponibles","Nota: Los datos corresponden a 2013 pues son los últimos disponibles","Nota: Los datos corresponden a 2013 pues son los últimos disponibles","Nota: Los datos corresponden a 2013 pues son los últimos disponibles","Nota: Los datos corresponden a 2013 pues son los últimos disponibles","Nota: Los datos corresponden a 2013 pues son los últimos disponibles","Nota: Los datos corresponden a 2013 pues son los últimos disponibles","Nota: Los datos corresponden a 2013 pues son los últimos disponibles","Nota: Los datos corresponden a 2013 pues son los últimos disponibles","Nota: Los datos corresponden a 2013 pues son los últimos disponibles","Nota: Los datos corresponden a 2013 pues son los últimos disponibles","Nota: Los datos corresponden a 2013 pues son los últimos disponibles","Nota: Los datos corresponden a 2013 pues son los últimos disponibles","Nota: Los datos corresponden a 2013 pues son los últimos disponibles","Nota: Los datos corresponden a 2013 pues son los últimos disponibles","Nota: Los datos corresponden a 2013 pues son los últimos disponibles","Nota: Los datos corresponden a 2013 pues son los últimos disponibles","Nota: Los datos corresponden a 2013 pues son los últimos disponibles","Nota: Los datos corresponden a 2013 pues son los últimos disponibles","Nota: Los datos corresponden a 2013 pues son los últimos disponibles","Nota: Los datos corresponden a 2013 pues son los últimos disponibles","Nota: Los datos corresponden a 2013 pues son los últimos disponibles","Nota: Los datos corresponden a 2013 pues son los últimos disponibles","Nota: Los datos corresponden a 2013 pues son los últimos disponibles","Nota: Los datos corresponden a 2013 pues son los últimos disponibles","Nota: Los datos corresponden a 2013 pues son los últimos disponibles","Nota: Los datos corresponden a 2013 pues son los últimos disponibles","Nota: Los datos corresponden a 2013 pues son los últimos disponibles","Nota: Los datos corresponden a 2013 pues son los últimos disponibles","Nota: Los datos corresponden a 2013 pues son los últimos disponibles","Nota: Los datos corresponden a 2013 pues son los últimos disponibles","Nota: Los datos corresponden a 2013 pues son los últimos disponibles","Nota: Los datos corresponden a 2013 pues son los últimos disponibles","Nota: Los datos corresponden a 2013 pues son los últimos disponibles","Nota: Los datos corresponden a 2013 pues son los últimos disponibles","Nota: Los datos corresponden a 2013 pues son los últimos disponibles","Nota: Los datos corresponden a 2013 pues son los últimos disponibles","Nota: Los datos corresponden a 2013 pues son los últimos disponibles","Nota: Los datos corresponden a 2013 pues son los últimos disponibles","Nota: Los datos corresponden a 2013 pues son los últimos disponibles","Nota: Los datos corresponden a 2013 pues son los últimos disponibles","Nota: Los datos corresponden a 2013 pues son los últimos disponibles","Nota: Los datos corresponden a 2013 pues son los últimos disponibles","Nota: Los datos corresponden a 2013 pues son los últimos disponibles","Nota: Los datos corresponden a 2013 pues son los últimos disponibles","Nota: Los datos corresponden a 2013 pues son los últimos disponibles","Nota: Los datos corresponden a 2013 pues son los últimos disponibles","Nota: Los datos corresponden a 2013 pues son los últimos disponibles","Nota: Los datos corresponden a 2013 pues son los últimos disponibles","Nota: Los datos corresponden a 2013 pues son los últimos disponibles","Nota: Los datos corresponden a 2013 pues son los últimos disponibles","Nota: Los datos corresponden a 2013 pues son los últimos disponibles","Nota: Los datos corresponden a 2013 pues son los últimos disponibles","Nota: Los datos corresponden a 2013 pues son los últimos disponibles","Nota: Los datos corresponden a 2013 pues son los últimos disponibles","Nota: Los datos corresponden a 2013 pues son los últimos disponibles","Nota: Los datos corresponden a 2013 pues son los últimos disponibles","Nota: Los datos corresponden a 2013 pues son los últimos disponibles","Nota: Los datos corresponden a 2013 pues son los últimos disponibles","Nota: Los datos corresponden a 2013 pues son los últimos disponibles","Nota: Los datos corresponden a 2013 pues son los últimos disponibles","Nota: Los datos corresponden a 2013 pues son los últimos disponibles","Nota: Los datos corresponden a 2013 pues son los últimos disponibles","Nota: Los datos corresponden a 2013 pues son los últimos disponibles","Nota: Los datos corresponden a 2013 pues son los últimos disponibles","Nota: Los datos corresponden a 2013 pues son los últimos disponibles","Nota: Los datos corresponden a 2013 pues son los últimos disponibles","Nota: Los datos corresponden a 2013 pues son los últimos disponibles","Nota: Los datos corresponden a 2013 pues son los últimos disponibles","Nota: Los datos corresponden a 2013 pues son los últimos disponibles","Nota: Los datos corresponden a 2013 pues son los últimos disponibles","Nota: Los datos corresponden a 2013 pues son los últimos disponibles","Nota: Los datos corresponden a 2013 pues son los últimos disponibles","Nota: Los datos corresponden a 2013 pues son los últimos disponibles","Nota: Los datos corresponden a 2013 pues son los últimos disponibles","Nota: Los datos corresponden a 2013 pues son los últimos disponibles","Nota: Los datos corresponden a 2013 pues son los últimos disponibles","Nota: Los datos corresponden a 2013 pues son los últimos disponibles","Nota: Los datos corresponden a 2013 pues son los últimos disponibles","Nota: Los datos corresponden a 2013 pues son los últimos disponibles","Nota: Los datos corresponden a 2013 pues son los últimos disponibles","Nota: Los datos corresponden a 2013 pues son los últimos disponibles","Nota: Los datos corresponden a 2013 pues son los últimos disponibles","Nota: Los datos corresponden a 2013 pues son los últimos disponibles","Nota: Los datos corresponden a 2013 pues son los últimos disponibles","Nota: Los datos corresponden a 2013 pues son los últimos disponibles","Nota: Los datos corresponden a 2013 pues son los últimos disponibles","Nota: Los datos corresponden a 2013 pues son los últimos disponibles","Nota: Los datos corresponden a 2013 pues son los últimos disponibles","Nota: Los datos corresponden a 2013 pues son los últimos disponibles","Nota: Los datos corresponden a 2013 pues son los últimos disponibles","Nota: Los datos corresponden a 2013 pues son los últimos disponibles","Nota: Los datos corresponden a 2013 pues son los últimos disponibles","Nota: Los datos corresponden a 2013 pues son los últimos disponibles","Nota: Los datos corresponden a 2013 pues son los últimos disponibles","Nota: Los datos corresponden a 2013 pues son los últimos disponibles","Nota: Los datos corresponden a 2013 pues son los últimos disponibles","Nota: Los datos corresponden a 2013 pues son los últimos disponibles","Nota: Los datos corresponden a 2013 pues son los últimos disponibles","Nota: Los datos corresponden a 2013 pues son los últimos disponibles","Nota: Los datos corresponden a 2013 pues son los últimos disponibles","Nota: Los datos corresponden a 2013 pues son los últimos disponibles","Nota: Los datos corresponden a 2013 pues son los últimos disponibles","Nota: Los datos corresponden a 2013 pues son los últimos disponibles","Nota: Los datos corresponden a 2013 pues son los últimos disponibles","Nota: Los datos corresponden a 2013 pues son los últimos disponibles","Nota: Los datos corresponden a 2013 pues son los últimos disponibles","Nota: Los datos corresponden a 2013 pues son los últimos disponibles","Nota: Los datos corresponden a 2013 pues son los últimos disponibles","Nota: Los datos corresponden a 2013 pues son los últimos disponibles","Nota: Los datos corresponden a 2013 pues son los últimos disponibles","Nota: Los datos corresponden a 2013 pues son los últimos disponibles","Nota: Los datos corresponden a 2013 pues son los últimos disponibles","Nota: Los datos corresponden a 2013 pues son los últimos disponibles","Nota: Los datos corresponden a 2013 pues son los últimos disponibles","Nota: Los datos corresponden a 2013 pues son los últimos disponibles","Nota: Los datos corresponden a 2013 pues son los últimos disponibles","Nota: Los datos corresponden a 2013 pues son los últimos disponibles","Nota: Los datos corresponden a 2013 pues son los últimos disponibles","Nota: Los datos corresponden a 2013 pues son los últimos disponibles","Nota: Los datos corresponden a 2013 pues son los últimos disponibles","Nota: Los datos corresponden a 2013 pues son los últimos disponibles","Nota: Los datos corresponden a 2013 pues son los últimos disponibles","Nota: Los datos corresponden a 2013 pues son los últimos disponibles","Nota: Los datos corresponden a 2013 pues son los últimos disponibles","Nota: Los datos corresponden a 2013 pues son los últimos disponibles","Nota: Los datos corresponden a 2013 pues son los últimos disponibles","Nota: Los datos corresponden a 2013 pues son los últimos disponibles","Nota: Los datos corresponden a 2013 pues son los últimos disponibles","Nota: Los datos corresponden a 2013 pues son los últimos disponibles","Nota: Los datos corresponden a 2013 pues son los últimos disponibles","Nota: Los datos corresponden a 2013 pues son los últimos disponibles","Nota: Los datos corresponden a 2013 pues son los últimos disponibles","Nota: Los datos corresponden a 2013 pues son los últimos disponibles","Nota: Los datos corresponden a 2013 pues son los últimos disponibles","Nota: Los datos corresponden a 2013 pues son los últimos disponibles","Nota: Los datos corresponden a 2013 pues son los últimos disponibles","Nota: Los datos corresponden a 2013 pues son los últimos disponibles","Nota: Los datos corresponden a 2013 pues son los últimos disponibles","Nota: Los datos corresponden a 2013 pues son los últimos disponibles","Nota: Los datos corresponden a 2013 pues son los últimos disponibles","Nota: Los datos corresponden a 2013 pues son los últimos disponibles","Nota: Los datos corresponden a 2013 pues son los últimos disponibles","Nota: Los datos corresponden a 2013 pues son los últimos disponibles","Nota: Los datos corresponden a 2013 pues son los últimos disponibles","Nota: Los datos corresponden a 2013 pues son los últimos disponibles","Nota: Los datos corresponden a 2013 pues son los últimos disponibles","Nota: Los datos corresponden a 2013 pues son los últimos disponibles","Nota: Los datos corresponden a 2013 pues son los últimos disponibles","Nota: Los datos corresponden a 2013 pues son los últimos disponibles","Nota: Los datos corresponden a 2013 pues son los últimos disponibles","Nota: Los datos corresponden a 2013 pues son los últimos disponibles","Nota: Los datos corresponden a 2013 pues son los últimos disponibles","Nota: Los datos corresponden a 2013 pues son los últimos disponibles","Nota: Los datos corresponden a 2013 pues son los últimos disponibles","Nota: Los datos corresponden a 2013 pues son los últimos disponibles","Nota: Los datos corresponden a 2013 pues son los últimos disponibles","Nota: Los datos corresponden a 2013 pues son los últimos disponibles","Nota: Los datos corresponden a 2013 pues son los últimos disponibles","Nota: Los datos corresponden a 2013 pues son los últimos disponibles","Nota: Los datos corresponden a 2013 pues son los últimos disponibles","Nota: Los datos corresponden a 2013 pues son los últimos disponibles","Nota: Los datos corresponden a 2013 pues son los últimos disponibles","Nota: Los datos corresponden a 2013 pues son los últimos disponibles","Nota: Los datos corresponden a 2013 pues son los últimos disponibles","Nota: Los datos corresponden a 2013 pues son los últimos disponibles","Nota: Los datos corresponden a 2013 pues son los últimos disponibles","Nota: Los datos corresponden a 2013 pues son los últimos disponibles","Nota: Los datos corresponden a 2013 pues son los últimos disponibles","Nota: Los datos corresponden a 2013 pues son los últimos disponibles","Nota: Los datos corresponden a 2013 pues son los últimos disponibles","Nota: Los datos corresponden a 2013 pues son los últimos disponibles","Nota: Los datos corresponden a 2013 pues son los últimos disponibles","Nota: Los datos corresponden a 2013 pues son los últimos disponibles","Nota: Los datos corresponden a 2013 pues son los últimos disponibles","Nota: Los datos corresponden a 2013 pues son los últimos disponibles","Nota: Los datos corresponden a 2013 pues son los últimos disponibles","Nota: Los datos corresponden a 2013 pues son los últimos disponibles","Nota: Los datos corresponden a 2013 pues son los últimos disponibles","Nota: Los datos corresponden a 2013 pues son los últimos disponibles","Nota: Los datos corresponden a 2013 pues son los últimos disponibles","Nota: Los datos corresponden a 2013 pues son los últimos disponibles","Nota: Los datos corresponden a 2013 pues son los últimos disponibles","Nota: Los datos corresponden a 2013 pues son los últimos disponibles","Nota: Los datos corresponden a 2013 pues son los últimos disponibles","Nota: Los datos corresponden a 2013 pues son los últimos disponibles","Nota: Los datos corresponden a 2013 pues son los últimos disponibles","Nota: Los datos corresponden a 2013 pues son los últimos disponibles","Nota: Los datos corresponden a 2013 pues son los últimos disponibles","Nota: Los datos corresponden a 2013 pues son los últimos disponibles","Nota: Los datos corresponden a 2013 pues son los últimos disponibles","Nota: Los datos corresponden a 2013 pues son los últimos disponibles","Nota: Los datos corresponden a 2013 pues son los últimos disponibles","Nota: Los datos corresponden a 2013 pues son los últimos disponibles","Nota: Los datos corresponden a 2013 pues son los últimos disponibles","Nota: Los datos corresponden a 2013 pues son los últimos disponibles","Nota: Los datos corresponden a 2013 pues son los últimos disponibles","Nota: Los datos corresponden a 2013 pues son los últimos disponibles","Nota: Los datos corresponden a 2013 pues son los últimos disponibles","Nota: Los datos corresponden a 2013 pues son los últimos disponibles","Nota: Los datos corresponden a 2013 pues son los últimos disponibles","Nota: Los datos corresponden a 2013 pues son los últimos disponibles","Nota: Los datos corresponden a 2013 pues son los últimos disponibles","Nota: Los datos corresponden a 2013 pues son los últimos disponibles","Nota: Los datos corresponden a 2013 pues son los últimos disponibles","Nota: Los datos corresponden a 2013 pues son los últimos disponibles","Nota: Los datos corresponden a 2013 pues son los últimos disponibles","Nota: Los datos corresponden a 2013 pues son los últimos disponibles","Nota: Los datos corresponden a 2013 pues son los últimos disponibles","Nota: Los datos corresponden a 2013 pues son los últimos disponibles","Nota: Los datos corresponden a 2013 pues son los últimos disponibles","Nota: Los datos corresponden a 2013 pues son los últimos disponibles","Nota: Los datos corresponden a 2013 pues son los últimos disponibles","Nota: Los datos corresponden a 2013 pues son los últimos disponibles","Nota: Los datos corresponden a 2013 pues son los últimos disponibles","Nota: Los datos corresponden a 2013 pues son los últimos disponibles","Nota: Los datos corresponden a 2013 pues son los últimos disponibles","Nota: Los datos corresponden a 2013 pues son los últimos disponibles","Nota: Los datos corresponden a 2013 pues son los últimos disponibles","Nota: Los datos corresponden a 2013 pues son los últimos disponibles","Nota: Los datos corresponden a 2013 pues son los últimos disponibles","Nota: Los datos corresponden a 2013 pues son los últimos disponibles","Nota: Los datos corresponden a 2013 pues son los últimos disponibles","Nota: Los datos corresponden a 2013 pues son los últimos disponibles","Nota: Los datos corresponden a 2013 pues son los últimos disponibles","Nota: Los datos corresponden a 2013 pues son los últimos disponibles","Nota: Los datos corresponden a 2013 pues son los últimos disponibles","Nota: Los datos corresponden a 2013 pues son los últimos disponibles","Nota: Los datos corresponden a 2013 pues son los últimos disponibles","Nota: Los datos corresponden a 2013 pues son los últimos disponibles","Nota: Los datos corresponden a 2013 pues son los últimos disponibles","Nota: Los datos corresponden a 2013 pues son los últimos disponibles","Nota: Los datos corresponden a 2013 pues son los últimos disponibles","Nota: Los datos corresponden a 2013 pues son los últimos disponibles","Nota: Los datos corresponden a 2013 pues son los últimos disponibles","Nota: Los datos corresponden a 2013 pues son los últimos disponibles","Nota: Los datos corresponden a 2013 pues son los últimos disponibles","Nota: Los datos corresponden a 2013 pues son los últimos disponibles","Nota: Los datos corresponden a 2013 pues son los últimos disponibles","Nota: Los datos corresponden a 2013 pues son los últimos disponibles","Nota: Los datos corresponden a 2013 pues son los últimos disponibles","Nota: Los datos corresponden a 2013 pues son los últimos disponibles","Nota: Los datos corresponden a 2013 pues son los últimos disponibles","Nota: Los datos corresponden a 2013 pues son los últimos disponibles","Nota: Los datos corresponden a 2013 pues son los últimos disponibles","Nota: Los datos corresponden a 2013 pues son los últimos disponibles","Nota: Los datos corresponden a 2013 pues son los últimos disponibles","Nota: Los datos corresponden a 2013 pues son los últimos disponibles","Nota: Los datos corresponden a 2013 pues son los últimos disponibles","Nota: Los datos corresponden a 2013 pues son los últimos disponibles","Nota: Los datos corresponden a 2013 pues son los últimos disponibles","Nota: Los datos corresponden a 2013 pues son los últimos disponibles","Nota: Los datos corresponden a 2013 pues son los últimos disponibles","Nota: Los datos corresponden a 2013 pues son los últimos disponibles","Nota: Los datos corresponden a 2013 pues son los últimos disponibles","Nota: Los datos corresponden a 2013 pues son los últimos disponibles","Nota: Los datos corresponden a 2013 pues son los últimos disponibles","Nota: Los datos corresponden a 2013 pues son los últimos disponibles","Nota: Los datos corresponden a 2013 pues son los últimos disponibles","Nota: Los datos corresponden a 2013 pues son los últimos disponibles","Nota: Los datos corresponden a 2013 pues son los últimos disponibles","Nota: Los datos corresponden a 2013 pues son los últimos disponibles","Nota: Los datos corresponden a 2013 pues son los últimos disponibles","Nota: Los datos corresponden a 2013 pues son los últimos disponibles","Nota: Los datos corresponden a 2013 pues son los últimos disponibles","Nota: Los datos corresponden a 2013 pues son los últimos disponibles","Nota: Los datos corresponden a 2013 pues son los últimos disponibles","Nota: Los datos corresponden a 2013 pues son los últimos disponibles","Nota: Los datos corresponden a 2013 pues son los últimos disponibles","Nota: Los datos corresponden a 2013 pues son los últimos disponibles","Nota: Los datos corresponden a 2013 pues son los últimos disponibles","Nota: Los datos corresponden a 2013 pues son los últimos disponibles","Nota: Los datos corresponden a 2013 pues son los últimos disponibles","Nota: Los datos corresponden a 2013 pues son los últimos disponibles","Nota: Los datos corresponden a 2013 pues son los últimos disponibles","Nota: Los datos corresponden a 2013 pues son los últimos disponibles","Nota: Los datos corresponden a 2013 pues son los últimos disponibles","Nota: Los datos corresponden a 2013 pues son los últimos disponibles","Nota: Los datos corresponden a 2013 pues son los últimos disponibles","Nota: Los datos corresponden a 2013 pues son los últimos disponibles","Nota: Los datos corresponden a 2013 pues son los últimos disponibles","Nota: Los datos corresponden a 2013 pues son los últimos disponibles","Nota: Los datos corresponden a 2013 pues son los últimos disponibles","Nota: Los datos corresponden a 2013 pues son los últimos disponibles","Nota: Los datos corresponden a 2013 pues son los últimos disponibles","Nota: Los datos corresponden a 2013 pues son los últimos disponibles","Nota: Los datos corresponden a 2013 pues son los últimos disponibles","Nota: Los datos corresponden a 2013 pues son los últimos disponibles","Nota: Los datos corresponden a 2013 pues son los últimos disponibles","Nota: Los datos corresponden a 2013 pues son los últimos disponibles","Nota: Los datos corresponden a 2013 pues son los últimos disponibles","Nota: Los datos corresponden a 2013 pues son los últimos disponibles","Nota: Los datos corresponden a 2013 pues son los últimos disponibles","Nota: Los datos corresponden a 2013 pues son los últimos disponibles","Nota: Los datos corresponden a 2013 pues son los últimos disponibles","Nota: Los datos corresponden a 2013 pues son los últimos disponibles","Nota: Los datos corresponden a 2013 pues son los últimos disponibles","Nota: Los datos corresponden a 2013 pues son los últimos disponibles","Nota: Los datos corresponden a 2013 pues son los últimos disponibles","Nota: Los datos corresponden a 2013 pues son los últimos disponibles","Nota: Los datos corresponden a 2013 pues son los últimos disponibles","Nota: Los datos corresponden a 2013 pues son los últimos disponibles","Nota: Los datos corresponden a 2013 pues son los últimos disponibles","Nota: Los datos corresponden a 2013 pues son los últimos disponibles","Nota: Los datos corresponden a 2013 pues son los últimos disponibles","Nota: Los datos corresponden a 2013 pues son los últimos disponibles","Nota: Los datos corresponden a 2013 pues son los últimos disponibles","Nota: Los datos corresponden a 2013 pues son los últimos disponibles","Nota: Los datos corresponden a 2013 pues son los últimos disponibles","Nota: Los datos corresponden a 2013 pues son los últimos disponibles","Nota: Los datos corresponden a 2013 pues son los últimos disponibles","Nota: Los datos corresponden a 2013 pues son los últimos disponibles","Nota: Los datos corresponden a 2013 pues son los últimos disponibles","Nota: Los datos corresponden a 2013 pues son los últimos disponibles","Nota: Los datos corresponden a 2013 pues son los últimos disponibles","Nota: Los datos corresponden a 2013 pues son los últimos disponibles","Nota: Los datos corresponden a 2013 pues son los últimos disponibles","Nota: Los datos corresponden a 2013 pues son los últimos disponibles","Nota: Los datos corresponden a 2013 pues son los últimos disponibles","Nota: Los datos corresponden a 2013 pues son los últimos disponibles","Nota: Los datos corresponden a 2013 pues son los últimos disponibles","Nota: Los datos corresponden a 2013 pues son los últimos disponibles","Nota: Los datos corresponden a 2013 pues son los últimos disponibles","Nota: Los datos corresponden a 2013 pues son los últimos disponibles","Nota: Los datos corresponden a 2013 pues son los últimos disponibles","Nota: Los datos corresponden a 2013 pues son los últimos disponibles","Nota: Los datos corresponden a 2013 pues son los últimos disponibles","Nota: Los datos corresponden a 2013 pues son los últimos disponibles","Nota: Los datos corresponden a 2013 pues son los últimos disponibles","Nota: Los datos corresponden a 2013 pues son los últimos disponibles","Nota: Los datos corresponden a 2013 pues son los últimos disponibles","Nota: Los datos corresponden a 2013 pues son los últimos disponibles","Nota: Los datos corresponden a 2013 pues son los últimos disponibles","Nota: Los datos corresponden a 2013 pues son los últimos disponibles","Nota: Los datos corresponden a 2013 pues son los últimos disponibles","Nota: Los datos corresponden a 2013 pues son los últimos disponibles","Nota: Los datos corresponden a 2013 pues son los últimos disponibles","Nota: Los datos corresponden a 2013 pues son los últimos disponibles","Nota: Los datos corresponden a 2013 pues son los últimos disponibles","Nota: Los datos corresponden a 2013 pues son los últimos disponibles","Nota: Los datos corresponden a 2013 pues son los últimos disponibles","Nota: Los datos corresponden a 2013 pues son los últimos disponibles","Nota: Los datos corresponden a 2013 pues son los últimos disponibles","Nota: Los datos corresponden a 2013 pues son los últimos disponibles","Nota: Los datos corresponden a 2013 pues son los últimos disponibles","Nota: Los datos corresponden a 2013 pues son los últimos disponibles","Nota: Los datos corresponden a 2013 pues son los últimos disponibles","Nota: Los datos corresponden a 2013 pues son los últimos disponibles","Nota: Los datos corresponden a 2013 pues son los últimos disponibles","Nota: Los datos corresponden a 2013 pues son los últimos disponibles","Nota: Los datos corresponden a 2013 pues son los últimos disponibles","Nota: Los datos corresponden a 2013 pues son los últimos disponibles","Nota: Los datos corresponden a 2013 pues son los últimos disponibles","Nota: Los datos corresponden a 2013 pues son los últimos disponibles","Nota: Los datos corresponden a 2013 pues son los últimos disponibles","Nota: Los datos corresponden a 2013 pues son los últimos disponibles","Nota: Los datos corresponden a 2013 pues son los últimos disponibles","Nota: Los datos corresponden a 2013 pues son los últimos disponibles","Nota: Los datos corresponden a 2013 pues son los últimos disponibles","Nota: Los datos corresponden a 2013 pues son los últimos disponibles","Nota: Los datos corresponden a 2013 pues son los últimos disponibles","Nota: Los datos corresponden a 2013 pues son los últimos disponibles","Nota: Los datos corresponden a 2013 pues son los últimos disponibles","Nota: Los datos corresponden a 2013 pues son los últimos disponibles","Nota: Los datos corresponden a 2013 pues son los últimos disponibles","Nota: Los datos corresponden a 2013 pues son los últimos disponibles","Nota: Los datos corresponden a 2013 pues son los últimos disponibles","Nota: Los datos corresponden a 2013 pues son los últimos disponibles","Nota: Los datos corresponden a 2013 pues son los últimos disponibles","Nota: Los datos corresponden a 2013 pues son los últimos disponibles","Nota: Los datos corresponden a 2013 pues son los últimos disponibles","Nota: Los datos corresponden a 2013 pues son los últimos disponibles","Nota: Los datos corresponden a 2013 pues son los últimos disponibles","Nota: Los datos corresponden a 2013 pues son los últimos disponibles","Nota: Los datos corresponden a 2013 pues son los últimos disponibles","Nota: Los datos corresponden a 2013 pues son los últimos disponibles","Nota: Los datos corresponden a 2013 pues son los últimos disponibles","Nota: Los datos corresponden a 2013 pues son los últimos disponibles","Nota: Los datos corresponden a 2013 pues son los últimos disponibles","Nota: Los datos corresponden a 2013 pues son los últimos disponibles","Nota: Los datos corresponden a 2013 pues son los últimos disponibles","Nota: Los datos corresponden a 2013 pues son los últimos disponibles","Nota: Los datos corresponden a 2013 pues son los últimos disponibles","Nota: Los datos corresponden a 2013 pues son los últimos disponibles","Nota: Los datos corresponden a 2013 pues son los últimos disponibles","Nota: Los datos corresponden a 2013 pues son los últimos disponibles","Nota: Los datos corresponden a 2013 pues son los últimos disponibles","Nota: Los datos corresponden a 2013 pues son los últimos disponibles","Nota: Los datos corresponden a 2013 pues son los últimos disponibles","Nota: Los datos corresponden a 2013 pues son los últimos disponibles","Nota: Los datos corresponden a 2013 pues son los últimos disponibles","Nota: Los datos corresponden a 2013 pues son los últimos disponibles","Nota: Los datos corresponden a 2013 pues son los últimos disponibles","Nota: Los datos corresponden a 2013 pues son los últimos disponibles","Nota: Los datos corresponden a 2013 pues son los últimos disponibles","Nota: Los datos corresponden a 2013 pues son los últimos disponibles","Nota: Los datos corresponden a 2013 pues son los últimos disponibles","Nota: Los datos corresponden a 2013 pues son los últimos disponibles","Nota: Los datos corresponden a 2013 pues son los últimos disponibles","Nota: Los datos corresponden a 2013 pues son los últimos disponibles","Nota: Los datos corresponden a 2013 pues son los últimos disponibles","Nota: Los datos corresponden a 2013 pues son los últimos disponibles","Nota: Los datos corresponden a 2013 pues son los últimos disponibles","Nota: Los datos corresponden a 2013 pues son los últimos disponibles","Nota: Los datos corresponden a 2013 pues son los últimos disponibles","Nota: Los datos corresponden a 2013 pues son los últimos disponibles","Nota: Los datos corresponden a 2013 pues son los últimos disponibles","Nota: Los datos corresponden a 2013 pues son los últimos disponibles","Nota: Los datos corresponden a 2013 pues son los últimos disponibles","Nota: Los datos corresponden a 2013 pues son los últimos disponibles","Nota: Los datos corresponden a 2013 pues son los últimos disponibles","Nota: Los datos corresponden a 2013 pues son los últimos disponibles","Nota: Los datos corresponden a 2013 pues son los últimos disponibles","Nota: Los datos corresponden a 2013 pues son los últimos disponibles","Nota: Los datos corresponden a 2013 pues son los últimos disponibles","Nota: Los datos corresponden a 2013 pues son los últimos disponibles","Nota: Los datos corresponden a 2013 pues son los últimos disponibles","Nota: Los datos corresponden a 2013 pues son los últimos disponibles","Nota: Los datos corresponden a 2013 pues son los últimos disponibles","Nota: Los datos corresponden a 2013 pues son los últimos disponibles","Nota: Los datos corresponden a 2013 pues son los últimos disponibles","Nota: Los datos corresponden a 2013 pues son los últimos disponibles","Nota: Los datos corresponden a 2013 pues son los últimos disponibles","Nota: Los datos corresponden a 2013 pues son los últimos disponibles","Nota: Los datos corresponden a 2013 pues son los últimos disponibles","Nota: Los datos corresponden a 2013 pues son los últimos disponibles","Nota: Los datos corresponden a 2013 pues son los últimos disponibles","Nota: Los datos corresponden a 2013 pues son los últimos disponibles","Nota: Los datos corresponden a 2013 pues son los últimos disponibles","Nota: Los datos corresponden a 2013 pues son los últimos disponibles","Nota: Los datos corresponden a 2013 pues son los últimos disponibles","Nota: Los datos corresponden a 2013 pues son los últimos disponibles","Nota: Los datos corresponden a 2013 pues son los últimos disponibles","Nota: Los datos corresponden a 2013 pues son los últimos disponibles","Nota: Los datos corresponden a 2013 pues son los últimos disponibles","Nota: Los datos corresponden a 2013 pues son los últimos disponibles","Nota: Los datos corresponden a 2013 pues son los últimos disponibles","Nota: Los datos corresponden a 2013 pues son los últimos disponibles","Nota: Los datos corresponden a 2013 pues son los últimos disponibles","Nota: Los datos corresponden a 2013 pues son los últimos disponibles","Nota: Los datos corresponden a 2013 pues son los últimos disponibles","Nota: Los datos corresponden a 2013 pues son los últimos disponibles","Nota: Los datos corresponden a 2013 pues son los últimos disponibles","Nota: Los datos corresponden a 2013 pues son los últimos disponibles","Nota: Los datos corresponden a 2013 pues son los últimos disponibles","Nota: Los datos corresponden a 2013 pues son los últimos disponibles","Nota: Los datos corresponden a 2013 pues son los últimos disponibles","Nota: Los datos corresponden a 2013 pues son los últimos disponibles","Nota: Los datos corresponden a 2013 pues son los últimos disponibles","Nota: Los datos corresponden a 2013 pues son los últimos disponibles","Nota: Los datos corresponden a 2013 pues son los últimos disponibles","Nota: Los datos corresponden a 2013 pues son los últimos disponibles","Nota: Los datos corresponden a 2013 pues son los últimos disponibles","Nota: Los datos corresponden a 2013 pues son los últimos disponibles","Nota: Los datos corresponden a 2013 pues son los últimos disponibles","Nota: Los datos corresponden a 2013 pues son los últimos disponibles","Nota: Los datos corresponden a 2013 pues son los últimos disponibles","Nota: Los datos corresponden a 2013 pues son los últimos disponibles","Nota: Los datos corresponden a 2013 pues son los últimos disponibles","Nota: Los datos corresponden a 2013 pues son los últimos disponibles","Nota: Los datos corresponden a 2013 pues son los últimos disponibles","Nota: Los datos corresponden a 2013 pues son los últimos disponibles","Nota: Los datos corresponden a 2013 pues son los últimos disponibles","Nota: Los datos corresponden a 2013 pues son los últimos disponibles","Nota: Los datos corresponden a 2013 pues son los últimos disponibles","Nota: Los datos corresponden a 2013 pues son los últimos disponibles","Nota: Los datos corresponden a 2013 pues son los últimos disponibles","Nota: Los datos corresponden a 2013 pues son los últimos disponibles","Nota: Los datos corresponden a 2013 pues son los últimos disponibles","Nota: Los datos corresponden a 2013 pues son los últimos disponibles","Nota: Los datos corresponden a 2013 pues son los últimos disponibles","Nota: Los datos corresponden a 2013 pues son los últimos disponibles","Nota: Los datos corresponden a 2013 pues son los últimos disponibles","Nota: Los datos corresponden a 2013 pues son los últimos disponibles","Nota: Los datos corresponden a 2013 pues son los últimos disponibles","Nota: Los datos corresponden a 2013 pues son los últimos disponibles","Nota: Los datos corresponden a 2013 pues son los últimos disponibles","Nota: Los datos corresponden a 2013 pues son los últimos disponibles","Nota: Los datos corresponden a 2013 pues son los últimos disponibles","Nota: Los datos corresponden a 2013 pues son los últimos disponibles","Nota: Los datos corresponden a 2013 pues son los últimos disponibles","Nota: Los datos corresponden a 2013 pues son los últimos disponibles","Nota: Los datos corresponden a 2013 pues son los últimos disponibles","Nota: Los datos corresponden a 2013 pues son los últimos disponibles","Nota: Los datos corresponden a 2013 pues son los últimos disponibles","Nota: Los datos corresponden a 2013 pues son los últimos disponibles","Nota: Los datos corresponden a 2013 pues son los últimos disponibles","Nota: Los datos corresponden a 2013 pues son los últimos disponibles","Nota: Los datos corresponden a 2013 pues son los últimos disponibles","Nota: Los datos corresponden a 2013 pues son los últimos disponibles","Nota: Los datos corresponden a 2013 pues son los últimos disponibles","Nota: Los datos corresponden a 2013 pues son los últimos disponibles","Nota: Los datos corresponden a 2013 pues son los últimos disponibles","Nota: Los datos corresponden a 2013 pues son los últimos disponibles","Nota: Los datos corresponden a 2013 pues son los últimos disponibles","Nota: Los datos corresponden a 2013 pues son los últimos disponibles","Nota: Los datos corresponden a 2013 pues son los últimos disponibles","Nota: Los datos corresponden a 2013 pues son los últimos disponibles","Nota: Los datos corresponden a 2013 pues son los últimos disponibles","Nota: Los datos corresponden a 2013 pues son los últimos disponibles","Nota: Los datos corresponden a 2013 pues son los últimos disponibles","Nota: Los datos corresponden a 2013 pues son los últimos disponibles","Nota: Los datos corresponden a 2013 pues son los últimos disponibles","Nota: Los datos corresponden a 2013 pues son los últimos disponibles","Nota: Los datos corresponden a 2013 pues son los últimos disponibles","Nota: Los datos corresponden a 2013 pues son los últimos disponibles","Nota: Los datos corresponden a 2013 pues son los últimos disponibles","Nota: Los datos corresponden a 2013 pues son los últimos disponibles","Nota: Los datos corresponden a 2013 pues son los últimos disponibles","Nota: Los datos corresponden a 2013 pues son los últimos disponibles","Nota: Los datos corresponden a 2013 pues son los últimos disponibles","Nota: Los datos corresponden a 2013 pues son los últimos disponibles","Nota: Los datos corresponden a 2013 pues son los últimos disponibles","Nota: Los datos corresponden a 2013 pues son los últimos disponibles","Nota: Los datos corresponden a 2013 pues son los últimos disponibles","Nota: Los datos corresponden a 2013 pues son los últimos disponibles","Nota: Los datos corresponden a 2013 pues son los últimos disponibles","Nota: Los datos corresponden a 2013 pues son los últimos disponibles","Nota: Los datos corresponden a 2013 pues son los últimos disponibles","Nota: Los datos corresponden a 2013 pues son los últimos disponibles","Nota: Los datos corresponden a 2013 pues son los últimos disponibles","Nota: Los datos corresponden a 2013 pues son los últimos disponibles","Nota: Los datos corresponden a 2013 pues son los últimos disponibles","Nota: Los datos corresponden a 2013 pues son los últimos disponibles","Nota: Los datos corresponden a 2013 pues son los últimos disponibles","Nota: Los datos corresponden a 2013 pues son los últimos disponibles","Nota: Los datos corresponden a 2013 pues son los últimos disponibles","Nota: Los datos corresponden a 2013 pues son los últimos disponibles","Nota: Los datos corresponden a 2013 pues son los últimos disponibles","Nota: Los datos corresponden a 2013 pues son los últimos disponibles","Nota: Los datos corresponden a 2013 pues son los últimos disponibles","Nota: Los datos corresponden a 2013 pues son los últimos disponibles","Nota: Los datos corresponden a 2013 pues son los últimos disponibles","Nota: Los datos corresponden a 2013 pues son los últimos disponibles","Nota: Los datos corresponden a 2013 pues son los últimos disponibles","Nota: Los datos corresponden a 2013 pues son los últimos disponibles","Nota: Los datos corresponden a 2013 pues son los últimos disponibles","Nota: Los datos corresponden a 2013 pues son los últimos disponibles","Nota: Los datos corresponden a 2013 pues son los últimos disponibles","Nota: Los datos corresponden a 2013 pues son los últimos disponibles","Nota: Los datos corresponden a 2013 pues son los últimos disponibles","Nota: Los datos corresponden a 2013 pues son los últimos disponibles","Nota: Los datos corresponden a 2013 pues son los últimos disponibles","Nota: Los datos corresponden a 2013 pues son los últimos disponibles","Nota: Los datos corresponden a 2013 pues son los últimos disponibles","Nota: Los datos corresponden a 2013 pues son los últimos disponibles","Nota: Los datos corresponden a 2013 pues son los últimos disponibles","Nota: Los datos corresponden a 2013 pues son los últimos disponibles","Nota: Los datos corresponden a 2013 pues son los últimos disponibles","Nota: Los datos corresponden a 2013 pues son los últimos disponibles","Nota: Los datos corresponden a 2013 pues son los últimos disponibles","Nota: Los datos corresponden a 2013 pues son los últimos disponibles","Nota: Los datos corresponden a 2013 pues son los últimos disponibles","Nota: Los datos corresponden a 2013 pues son los últimos disponibles","Nota: Los datos corresponden a 2013 pues son los últimos disponibles","Nota: Los datos corresponden a 2013 pues son los últimos disponibles","Nota: Los datos corresponden a 2013 pues son los últimos disponibles","Nota: Los datos corresponden a 2013 pues son los últimos disponibles","Nota: Los datos corresponden a 2013 pues son los últimos disponibles","Nota: Los datos corresponden a 2013 pues son los últimos disponibles","Nota: Los datos corresponden a 2013 pues son los últimos disponibles","Nota: Los datos corresponden a 2013 pues son los últimos disponibles","Nota: Los datos corresponden a 2013 pues son los últimos disponibles","Nota: Los datos corresponden a 2013 pues son los últimos disponibles","Nota: Los datos corresponden a 2013 pues son los últimos disponibles","Nota: Los datos corresponden a 2013 pues son los últimos disponibles","Nota: Los datos corresponden a 2013 pues son los últimos disponibles","Nota: Los datos corresponden a 2013 pues son los últimos disponibles","Nota: Los datos corresponden a 2013 pues son los últimos disponibles","Nota: Los datos corresponden a 2013 pues son los últimos disponibles","Nota: Los datos corresponden a 2013 pues son los últimos disponibles","Nota: Los datos corresponden a 2013 pues son los últimos disponibles","Nota: Los datos corresponden a 2013 pues son los últimos disponibles","Nota: Los datos corresponden a 2013 pues son los últimos disponibles","Nota: Los datos corresponden a 2013 pues son los últimos disponibles","Nota: Los datos corresponden a 2013 pues son los últimos disponibles","Nota: Los datos corresponden a 2013 pues son los últimos disponibles","Nota: Los datos corresponden a 2013 pues son los últimos disponibles","Nota: Los datos corresponden a 2013 pues son los últimos disponibles","Nota: Los datos corresponden a 2013 pues son los últimos disponibles","Nota: Los datos corresponden a 2013 pues son los últimos disponibles","Nota: Los datos corresponden a 2013 pues son los últimos disponibles","Nota: Los datos corresponden a 2013 pues son los últimos disponibles","Nota: Los datos corresponden a 2013 pues son los últimos disponibles","Nota: Los datos corresponden a 2013 pues son los últimos disponibles","Nota: Los datos corresponden a 2013 pues son los últimos disponibles","Nota: Los datos corresponden a 2013 pues son los últimos disponibles","Nota: Los datos corresponden a 2013 pues son los últimos disponibles","Nota: Los datos corresponden a 2013 pues son los últimos disponibles","Nota: Los datos corresponden a 2013 pues son los últimos disponibles","Nota: Los datos corresponden a 2013 pues son los últimos disponibles","Nota: Los datos corresponden a 2013 pues son los últimos disponibles","Nota: Los datos corresponden a 2013 pues son los últimos disponibles","Nota: Los datos corresponden a 2013 pues son los últimos disponibles","Nota: Los datos corresponden a 2013 pues son los últimos disponibles","Nota: Los datos corresponden a 2013 pues son los últimos disponibles","Nota: Los datos corresponden a 2013 pues son los últimos disponibles","Nota: Los datos corresponden a 2013 pues son los últimos disponibles","Nota: Los datos corresponden a 2013 pues son los últimos disponibles","Nota: Los datos corresponden a 2013 pues son los últimos disponibles","Nota: Los datos corresponden a 2013 pues son los últimos disponibles","Nota: Los datos corresponden a 2013 pues son los últimos disponibles","Nota: Los datos corresponden a 2013 pues son los últimos disponibles","Nota: Los datos corresponden a 2013 pues son los últimos disponibles","Nota: Los datos corresponden a 2013 pues son los últimos disponibles","Nota: Los datos corresponden a 2013 pues son los últimos disponibles","Nota: Los datos corresponden a 2013 pues son los últimos disponibles","Nota: Los datos corresponden a 2013 pues son los últimos disponibles","Nota: Los datos corresponden a 2013 pues son los últimos disponibles","Nota: Los datos corresponden a 2013 pues son los últimos disponibles","Nota: Los datos corresponden a 2013 pues son los últimos disponibles","Nota: Los datos corresponden a 2013 pues son los últimos disponibles","Nota: Los datos corresponden a 2013 pues son los últimos disponibles","Nota: Los datos corresponden a 2013 pues son los últimos disponibles","Nota: Los datos corresponden a 2013 pues son los últimos disponibles","Nota: Los datos corresponden a 2013 pues son los últimos disponibles","Nota: Los datos corresponden a 2013 pues son los últimos disponibles","Nota: Los datos corresponden a 2013 pues son los últimos disponibles","Nota: Los datos corresponden a 2013 pues son los últimos disponibles","Nota: Los datos corresponden a 2013 pues son los últimos disponibles","Nota: Los datos corresponden a 2013 pues son los últimos disponibles","Nota: Los datos corresponden a 2013 pues son los últimos disponibles","Nota: Los datos corresponden a 2013 pues son los últimos disponibles","Nota: Los datos corresponden a 2013 pues son los últimos disponibles","Nota: Los datos corresponden a 2013 pues son los últimos disponibles","Nota: Los datos corresponden a 2013 pues son los últimos disponibles","Nota: Los datos corresponden a 2013 pues son los últimos disponibles","Nota: Los datos corresponden a 2013 pues son los últimos disponibles","Nota: Los datos corresponden a 2013 pues son los últimos disponibles","Nota: Los datos corresponden a 2013 pues son los últimos disponibles","Nota: Los datos corresponden a 2013 pues son los últimos disponibles","Nota: Los datos corresponden a 2013 pues son los últimos disponibles","Nota: Los datos corresponden a 2013 pues son los últimos disponibles","Nota: Los datos corresponden a 2013 pues son los últimos disponibles","Nota: Los datos corresponden a 2013 pues son los últimos disponibles","Nota: Los datos corresponden a 2013 pues son los últimos disponibles","Nota: Los datos corresponden a 2013 pues son los últimos disponibles","Nota: Los datos corresponden a 2013 pues son los últimos disponibles","Nota: Los datos corresponden a 2013 pues son los últimos disponibles","Nota: Los datos corresponden a 2013 pues son los últimos disponibles","Nota: Los datos corresponden a 2013 pues son los últimos disponibles","Nota: Los datos corresponden a 2013 pues son los últimos disponibles","Nota: Los datos corresponden a 2013 pues son los últimos disponibles","Nota: Los datos corresponden a 2013 pues son los últimos disponibles","Nota: Los datos corresponden a 2013 pues son los últimos disponibles","Nota: Los datos corresponden a 2013 pues son los últimos disponibles","Nota: Los datos corresponden a 2013 pues son los últimos disponibles","Nota: Los datos corresponden a 2013 pues son los últimos disponibles","Nota: Los datos corresponden a 2013 pues son los últimos disponibles","Nota: Los datos corresponden a 2013 pues son los últimos disponibles","Nota: Los datos corresponden a 2013 pues son los últimos disponibles","Nota: Los datos corresponden a 2013 pues son los últimos disponibles","Nota: Los datos corresponden a 2013 pues son los últimos disponibles","Nota: Los datos corresponden a 2013 pues son los últimos disponibles","Nota: Los datos corresponden a 2013 pues son los últimos disponibles","Nota: Los datos corresponden a 2013 pues son los últimos disponibles","Nota: Los datos corresponden a 2013 pues son los últimos disponibles","Nota: Los datos corresponden a 2013 pues son los últimos disponibles","Nota: Los datos corresponden a 2013 pues son los últimos disponibles","Nota: Los datos corresponden a 2013 pues son los últimos disponibles","Nota: Los datos corresponden a 2013 pues son los últimos disponibles","Nota: Los datos corresponden a 2013 pues son los últimos disponibles","Nota: Los datos corresponden a 2013 pues son los últimos disponibles","Nota: Los datos corresponden a 2013 pues son los últimos disponibles","Nota: Los datos corresponden a 2013 pues son los últimos disponibles","Nota: Los datos corresponden a 2013 pues son los últimos disponibles","Nota: Los datos corresponden a 2013 pues son los últimos disponibles","Nota: Los datos corresponden a 2013 pues son los últimos disponibles","Nota: Los datos corresponden a 2013 pues son los últimos disponibles","Nota: Los datos corresponden a 2013 pues son los últimos disponibles","Nota: Los datos corresponden a 2013 pues son los últimos disponibles","Nota: Los datos corresponden a 2013 pues son los últimos disponibles","Nota: Los datos corresponden a 2013 pues son los últimos disponibles","Nota: Los datos corresponden a 2013 pues son los últimos disponibles","Nota: Los datos corresponden a 2013 pues son los últimos disponibles","Nota: Los datos corresponden a 2013 pues son los últimos disponibles","Nota: Los datos corresponden a 2013 pues son los últimos disponibles","Nota: Los datos corresponden a 2013 pues son los últimos disponibles","Nota: Los datos corresponden a 2013 pues son los últimos disponibles","Nota: Los datos corresponden a 2013 pues son los últimos disponibles","Nota: Los datos corresponden a 2013 pues son los últimos disponibles","Nota: Los datos corresponden a 2013 pues son los últimos disponibles","Nota: Los datos corresponden a 2013 pues son los últimos disponibles","Nota: Los datos corresponden a 2013 pues son los últimos disponibles","Nota: Los datos corresponden a 2013 pues son los últimos disponibles","Nota: Los datos corresponden a 2013 pues son los últimos disponibles","Nota: Los datos corresponden a 2013 pues son los últimos disponibles","Nota: Los datos corresponden a 2013 pues son los últimos disponibles","Nota: Los datos corresponden a 2013 pues son los últimos disponibles","Nota: Los datos corresponden a 2013 pues son los últimos disponibles","Nota: Los datos corresponden a 2013 pues son los últimos disponibles","Nota: Los datos corresponden a 2013 pues son los últimos disponibles","Nota: Los datos corresponden a 2013 pues son los últimos disponibles","Nota: Los datos corresponden a 2013 pues son los últimos disponibles","Nota: Los datos corresponden a 2013 pues son los últimos disponibles","Nota: Los datos corresponden a 2013 pues son los últimos disponibles","Nota: Los datos corresponden a 2013 pues son los últimos disponibles","Nota: Los datos corresponden a 2013 pues son los últimos disponibles","Nota: Los datos corresponden a 2013 pues son los últimos disponibles","Nota: Los datos corresponden a 2013 pues son los últimos disponibles","Nota: Los datos corresponden a 2013 pues son los últimos disponibles","Nota: Los datos corresponden a 2013 pues son los últimos disponibles","Nota: Los datos corresponden a 2013 pues son los últimos disponibles","Nota: Los datos corresponden a 2013 pues son los últimos disponibles","Nota: Los datos corresponden a 2013 pues son los últimos disponibles","Nota: Los datos corresponden a 2013 pues son los últimos disponibles","Nota: Los datos corresponden a 2013 pues son los últimos disponibles","Nota: Los datos corresponden a 2013 pues son los últimos disponibles","Nota: Los datos corresponden a 2013 pues son los últimos disponibles","Nota: Los datos corresponden a 2013 pues son los últimos disponibles","Nota: Los datos corresponden a 2013 pues son los últimos disponibles","Nota: Los datos corresponden a 2013 pues son los últimos disponibles","Nota: Los datos corresponden a 2013 pues son los últimos disponibles","Nota: Los datos corresponden a 2013 pues son los últimos disponibles","Nota: Los datos corresponden a 2013 pues son los últimos disponibles","Nota: Los datos corresponden a 2013 pues son los últimos disponibles","Nota: Los datos corresponden a 2013 pues son los últimos disponibles","Nota: Los datos corresponden a 2013 pues son los últimos disponibles","Nota: Los datos corresponden a 2013 pues son los últimos disponibles","Nota: Los datos corresponden a 2013 pues son los últimos disponibles","Nota: Los datos corresponden a 2013 pues son los últimos disponibles","Nota: Los datos corresponden a 2013 pues son los últimos disponibles","Nota: Los datos corresponden a 2013 pues son los últimos disponibles","Nota: Los datos corresponden a 2013 pues son los últimos disponibles","Nota: Los datos corresponden a 2013 pues son los últimos disponibles","Nota: Los datos corresponden a 2013 pues son los últimos disponibles","Nota: Los datos corresponden a 2013 pues son los últimos disponibles","Nota: Los datos corresponden a 2013 pues son los últimos disponibles","Nota: Los datos corresponden a 2013 pues son los últimos disponibles","Nota: Los datos corresponden a 2013 pues son los últimos disponibles","Nota: Los datos corresponden a 2013 pues son los últimos disponibles","Nota: Los datos corresponden a 2013 pues son los últimos disponibles","Nota: Los datos corresponden a 2013 pues son los últimos disponibles","Nota: Los datos corresponden a 2013 pues son los últimos disponibles","Nota: Los datos corresponden a 2013 pues son los últimos disponibles","Nota: Los datos corresponden a 2013 pues son los últimos disponibles","Nota: Los datos corresponden a 2013 pues son los últimos disponibles","Nota: Los datos corresponden a 2013 pues son los últimos disponibles","Nota: Los datos corresponden a 2013 pues son los últimos disponibles","Nota: Los datos corresponden a 2013 pues son los últimos disponibles","Nota: Los datos corresponden a 2013 pues son los últimos disponibles","Nota: Los datos corresponden a 2013 pues son los últimos disponibles","Nota: Los datos corresponden a 2013 pues son los últimos disponibles","Nota: Los datos corresponden a 2013 pues son los últimos disponibles","Nota: Los datos corresponden a 2013 pues son los últimos disponibles","Nota: Los datos corresponden a 2013 pues son los últimos disponibles","Nota: Los datos corresponden a 2013 pues son los últimos disponibles","Nota: Los datos corresponden a 2013 pues son los últimos disponibles","Nota: Los datos corresponden a 2013 pues son los últimos disponibles","Nota: Los datos corresponden a 2013 pues son los últimos disponibles","Nota: Los datos corresponden a 2013 pues son los últimos disponibles","Nota: Los datos corresponden a 2013 pues son los últimos disponibles","Nota: Los datos corresponden a 2013 pues son los últimos disponibles","Nota: Los datos corresponden a 2013 pues son los últimos disponibles","Nota: Los datos corresponden a 2013 pues son los últimos disponibles","Nota: Los datos corresponden a 2013 pues son los últimos disponibles","Nota: Los datos corresponden a 2013 pues son los últimos disponibles","Nota: Los datos corresponden a 2013 pues son los últimos disponibles","Nota: Los datos corresponden a 2013 pues son los últimos disponibles","Nota: Los datos corresponden a 2013 pues son los últimos disponibles","Nota: Los datos corresponden a 2013 pues son los últimos disponibles","Nota: Los datos corresponden a 2013 pues son los últimos disponibles","Nota: Los datos corresponden a 2013 pues son los últimos disponibles","Nota: Los datos corresponden a 2013 pues son los últimos disponibles","Nota: Los datos corresponden a 2013 pues son los últimos disponibles","Nota: Los datos corresponden a 2013 pues son los últimos disponibles","Nota: Los datos corresponden a 2013 pues son los últimos disponibles","Nota: Los datos corresponden a 2013 pues son los últimos disponibles","Nota: Los datos corresponden a 2013 pues son los últimos disponibles","Nota: Los datos corresponden a 2013 pues son los últimos disponibles","Nota: Los datos corresponden a 2013 pues son los últimos disponibles","Nota: Los datos corresponden a 2013 pues son los últimos disponibles","Nota: Los datos corresponden a 2013 pues son los últimos disponibles","Nota: Los datos corresponden a 2013 pues son los últimos disponibles","Nota: Los datos corresponden a 2013 pues son los últimos disponibles","Nota: Los datos corresponden a 2013 pues son los últimos disponibles","Nota: Los datos corresponden a 2013 pues son los últimos disponibles","Nota: Los datos corresponden a 2013 pues son los últimos disponibles","Nota: Los datos corresponden a 2013 pues son los últimos disponibles","Nota: Los datos corresponden a 2013 pues son los últimos disponibles","Nota: Los datos corresponden a 2013 pues son los últimos disponibles","Nota: Los datos corresponden a 2013 pues son los últimos disponibles","Nota: Los datos corresponden a 2013 pues son los últimos disponibles","Nota: Los datos corresponden a 2013 pues son los últimos disponibles","Nota: Los datos corresponden a 2013 pues son los últimos disponibles","Nota: Los datos corresponden a 2013 pues son los últimos disponibles","Nota: Los datos corresponden a 2013 pues son los últimos disponibles","Nota: Los datos corresponden a 2013 pues son los últimos disponibles","Nota: Los datos corresponden a 2013 pues son los últimos disponibles","Nota: Los datos corresponden a 2013 pues son los últimos disponibles","Nota: Los datos corresponden a 2013 pues son los últimos disponibles","Nota: Los datos corresponden a 2013 pues son los últimos disponibles","Nota: Los datos corresponden a 2013 pues son los últimos disponibles","Nota: Los datos corresponden a 2013 pues son los últimos disponibles","Nota: Los datos corresponden a 2013 pues son los últimos disponibles","Nota: Los datos corresponden a 2013 pues son los últimos disponibles","Nota: Los datos corresponden a 2013 pues son los últimos disponibles","Nota: Los datos corresponden a 2013 pues son los últimos disponibles","Nota: Los datos corresponden a 2013 pues son los últimos disponibles","Nota: Los datos corresponden a 2013 pues son los últimos disponibles","Nota: Los datos corresponden a 2013 pues son los últimos disponibles","Nota: Los datos corresponden a 2013 pues son los últimos disponibles","Nota: Los datos corresponden a 2013 pues son los últimos disponibles","Nota: Los datos corresponden a 2013 pues son los últimos disponibles","Nota: Los datos corresponden a 2013 pues son los últimos disponibles","Nota: Los datos corresponden a 2013 pues son los últimos disponibles","Nota: Los datos corresponden a 2013 pues son los últimos disponibles","Nota: Los datos corresponden a 2013 pues son los últimos disponibles","Nota: Los datos corresponden a 2013 pues son los últimos disponibles","Nota: Los datos corresponden a 2013 pues son los últimos disponibles","Nota: Los datos corresponden a 2013 pues son los últimos disponibles","Nota: Los datos corresponden a 2013 pues son los últimos disponibles","Nota: Los datos corresponden a 2013 pues son los últimos disponibles","Nota: Los datos corresponden a 2013 pues son los últimos disponibles","Nota: Los datos corresponden a 2013 pues son los últimos disponibles","Nota: Los datos corresponden a 2013 pues son los últimos disponibles","Nota: Los datos corresponden a 2013 pues son los últimos disponibles","Nota: Los datos corresponden a 2013 pues son los últimos disponibles","Nota: Los datos corresponden a 2013 pues son los últimos disponibles","Nota: Los datos corresponden a 2013 pues son los últimos disponibles","Nota: Los datos corresponden a 2013 pues son los últimos disponibles","Nota: Los datos corresponden a 2013 pues son los últimos disponibles","Nota: Los datos corresponden a 2013 pues son los últimos disponibles","Nota: Los datos corresponden a 2013 pues son los últimos disponibles","Nota: Los datos corresponden a 2013 pues son los últimos disponibles","Nota: Los datos corresponden a 2013 pues son los últimos disponibles","Nota: Los datos corresponden a 2013 pues son los últimos disponibles","Nota: Los datos corresponden a 2013 pues son los últimos disponibles","Nota: Los datos corresponden a 2013 pues son los últimos disponibles","Nota: Los datos corresponden a 2013 pues son los últimos disponibles","Nota: Los datos corresponden a 2013 pues son los últimos disponibles","Nota: Los datos corresponden a 2013 pues son los últimos disponibles","Nota: Los datos corresponden a 2013 pues son los últimos disponibles","Nota: Los datos corresponden a 2013 pues son los últimos disponibles","Nota: Los datos corresponden a 2013 pues son los últimos disponibles","Nota: Los datos corresponden a 2013 pues son los últimos disponibles","Nota: Los datos corresponden a 2013 pues son los últimos disponibles","Nota: Los datos corresponden a 2013 pues son los últimos disponibles","Nota: Los datos corresponden a 2013 pues son los últimos disponibles","Nota: Los datos corresponden a 2013 pues son los últimos disponibles","Nota: Los datos corresponden a 2013 pues son los últimos disponibles","Nota: Los datos corresponden a 2013 pues son los últimos disponibles","Nota: Los datos corresponden a 2013 pues son los últimos disponibles","Nota: Los datos corresponden a 2013 pues son los últimos disponibles","Nota: Los datos corresponden a 2013 pues son los últimos disponibles","Nota: Los datos corresponden a 2013 pues son los últimos disponibles","Nota: Los datos corresponden a 2013 pues son los últimos disponibles","Nota: Los datos corresponden a 2013 pues son los últimos disponibles","Nota: Los datos corresponden a 2013 pues son los últimos disponibles","Nota: Los datos corresponden a 2013 pues son los últimos disponibles","Nota: Los datos corresponden a 2013 pues son los últimos disponibles","Nota: Los datos corresponden a 2013 pues son los últimos disponibles","Nota: Los datos corresponden a 2013 pues son los últimos disponibles","Nota: Los datos corresponden a 2013 pues son los últimos disponibles","Nota: Los datos corresponden a 2013 pues son los últimos disponibles","Nota: Los datos corresponden a 2013 pues son los últimos disponibles","Nota: Los datos corresponden a 2013 pues son los últimos disponibles","Nota: Los datos corresponden a 2013 pues son los últimos disponibles","Nota: Los datos corresponden a 2013 pues son los últimos disponibles","Nota: Los datos corresponden a 2013 pues son los últimos disponibles","Nota: Los datos corresponden a 2013 pues son los últimos disponibles","Nota: Los datos corresponden a 2013 pues son los últimos disponibles","Nota: Los datos corresponden a 2013 pues son los últimos disponibles","Nota: Los datos corresponden a 2013 pues son los últimos disponibles","Nota: Los datos corresponden a 2013 pues son los últimos disponibles","Nota: Los datos corresponden a 2013 pues son los últimos disponibles","Nota: Los datos corresponden a 2013 pues son los últimos disponibles","Nota: Los datos corresponden a 2013 pues son los últimos disponibles","Nota: Los datos corresponden a 2013 pues son los últimos disponibles","Nota: Los datos corresponden a 2013 pues son los últimos disponibles","Nota: Los datos corresponden a 2013 pues son los últimos disponibles","Nota: Los datos corresponden a 2013 pues son los últimos disponibles","Nota: Los datos corresponden a 2013 pues son los últimos disponibles","Nota: Los datos corresponden a 2013 pues son los últimos disponibles","Nota: Los datos corresponden a 2013 pues son los últimos disponibles","Nota: Los datos corresponden a 2013 pues son los últimos disponibles","Nota: Los datos corresponden a 2013 pues son los últimos disponibles","Nota: Los datos corresponden a 2013 pues son los últimos disponibles","Nota: Los datos corresponden a 2013 pues son los últimos disponibles","Nota: Los datos corresponden a 2013 pues son los últimos disponibles","Nota: Los datos corresponden a 2013 pues son los últimos disponibles","Nota: Los datos corresponden a 2013 pues son los últimos disponibles","Nota: Los datos corresponden a 2013 pues son los últimos disponibles","Nota: Los datos corresponden a 2013 pues son los últimos disponibles","Nota: Los datos corresponden a 2013 pues son los últimos disponibles","Nota: Los datos corresponden a 2013 pues son los últimos disponibles","Nota: Los datos corresponden a 2013 pues son los últimos disponibles","Nota: Los datos corresponden a 2013 pues son los últimos disponibles","Nota: Los datos corresponden a 2013 pues son los últimos disponibles","Nota: Los datos corresponden a 2013 pues son los últimos disponibles","Nota: Los datos corresponden a 2013 pues son los últimos disponibles","Nota: Los datos corresponden a 2013 pues son los últimos disponibles","Nota: Los datos corresponden a 2013 pues son los últimos disponibles","Nota: Los datos corresponden a 2013 pues son los últimos disponibles","Nota: Los datos corresponden a 2013 pues son los últimos disponibles","Nota: Los datos corresponden a 2013 pues son los últimos disponibles","Nota: Los datos corresponden a 2013 pues son los últimos disponibles","Nota: Los datos corresponden a 2013 pues son los últimos disponibles","Nota: Los datos corresponden a 2013 pues son los últimos disponibles","Nota: Los datos corresponden a 2013 pues son los últimos disponibles","Nota: Los datos corresponden a 2013 pues son los últimos disponibles","Nota: Los datos corresponden a 2013 pues son los últimos disponibles","Nota: Los datos corresponden a 2013 pues son los últimos disponibles","Nota: Los datos corresponden a 2013 pues son los últimos disponibles","Nota: Los datos corresponden a 2013 pues son los últimos disponibles","Nota: Los datos corresponden a 2013 pues son los últimos disponibles","Nota: Los datos corresponden a 2013 pues son los últimos disponibles","Nota: Los datos corresponden a 2013 pues son los últimos disponibles","Nota: Los datos corresponden a 2013 pues son los últimos disponibles","Nota: Los datos corresponden a 2013 pues son los últimos disponibles","Nota: Los datos corresponden a 2013 pues son los últimos disponibles","Nota: Los datos corresponden a 2013 pues son los últimos disponibles","Nota: Los datos corresponden a 2013 pues son los últimos disponibles","Nota: Los datos corresponden a 2013 pues son los últimos disponibles","Nota: Los datos corresponden a 2013 pues son los últimos disponibles","Nota: Los datos corresponden a 2013 pues son los últimos disponibles","Nota: Los datos corresponden a 2013 pues son los últimos disponibles","Nota: Los datos corresponden a 2013 pues son los últimos disponibles","Nota: Los datos corresponden a 2013 pues son los últimos disponibles","Nota: Los datos corresponden a 2013 pues son los últimos disponibles","Nota: Los datos corresponden a 2013 pues son los últimos disponibles","Nota: Los datos corresponden a 2013 pues son los últimos disponibles","Nota: Los datos corresponden a 2013 pues son los últimos disponibles","Nota: Los datos corresponden a 2013 pues son los últimos disponibles","Nota: Los datos corresponden a 2013 pues son los últimos disponibles","Nota: Los datos corresponden a 2013 pues son los últimos disponibles","Nota: Los datos corresponden a 2013 pues son los últimos disponibles","Nota: Los datos corresponden a 2013 pues son los últimos disponibles","Nota: Los datos corresponden a 2013 pues son los últimos disponibles","Nota: Los datos corresponden a 2013 pues son los últimos disponibles","Nota: Los datos corresponden a 2013 pues son los últimos disponibles","Nota: Los datos corresponden a 2013 pues son los últimos disponibles","Nota: Los datos corresponden a 2013 pues son los últimos disponibles","Nota: Los datos corresponden a 2013 pues son los últimos disponibles","Nota: Los datos corresponden a 2013 pues son los últimos disponibles","Nota: Los datos corresponden a 2013 pues son los últimos disponibles","Nota: Los datos corresponden a 2013 pues son los últimos disponibles","Nota: Los datos corresponden a 2013 pues son los últimos disponibles","Nota: Los datos corresponden a 2013 pues son los últimos disponibles","Nota: Los datos corresponden a 2013 pues son los últimos disponibles","Nota: Los datos corresponden a 2013 pues son los últimos disponibles","Nota: Los datos corresponden a 2013 pues son los últimos disponibles","Nota: Los datos corresponden a 2013 pues son los últimos disponibles","Nota: Los datos corresponden a 2013 pues son los últimos disponibles","Nota: Los datos corresponden a 2013 pues son los últimos disponibles","Nota: Los datos corresponden a 2013 pues son los últimos disponibles","Nota: Los datos corresponden a 2013 pues son los últimos disponibles","Nota: Los datos corresponden a 2013 pues son los últimos disponibles","Nota: Los datos corresponden a 2013 pues son los últimos disponibles","Nota: Los datos corresponden a 2013 pues son los últimos disponibles","Nota: Los datos corresponden a 2013 pues son los últimos disponibles","Nota: Los datos corresponden a 2013 pues son los últimos disponibles","Nota: Los datos corresponden a 2013 pues son los últimos disponibles","Nota: Los datos corresponden a 2013 pues son los últimos disponibles","Nota: Los datos corresponden a 2013 pues son los últimos disponibles","Nota: Los datos corresponden a 2013 pues son los últimos disponibles","Nota: Los datos corresponden a 2013 pues son los últimos disponibles","Nota: Los datos corresponden a 2013 pues son los últimos disponibles","Nota: Los datos corresponden a 2013 pues son los últimos disponibles","Nota: Los datos corresponden a 2013 pues son los últimos disponibles","Nota: Los datos corresponden a 2013 pues son los últimos disponibles","Nota: Los datos corresponden a 2013 pues son los últimos disponibles","Nota: Los datos corresponden a 2013 pues son los últimos disponibles","Nota: Los datos corresponden a 2013 pues son los últimos disponibles","Nota: Los datos corresponden a 2013 pues son los últimos disponibles","Nota: Los datos corresponden a 2013 pues son los últimos disponibles","Nota: Los datos corresponden a 2013 pues son los últimos disponibles","Nota: Los datos corresponden a 2013 pues son los últimos disponibles","Nota: Los datos corresponden a 2013 pues son los últimos disponibles","Nota: Los datos corresponden a 2013 pues son los últimos disponibles","Nota: Los datos corresponden a 2013 pues son los últimos disponibles","Nota: Los datos corresponden a 2013 pues son los últimos disponibles","Nota: Los datos corresponden a 2013 pues son los últimos disponibles","Nota: Los datos corresponden a 2013 pues son los últimos disponibles","Nota: Los datos corresponden a 2013 pues son los últimos disponibles","Nota: Los datos corresponden a 2013 pues son los últimos disponibles","Nota: Los datos corresponden a 2013 pues son los últimos disponibles","Nota: Los datos corresponden a 2013 pues son los últimos disponibles","Nota: Los datos corresponden a 2013 pues son los últimos disponibles","Nota: Los datos corresponden a 2013 pues son los últimos disponibles","Nota: Los datos corresponden a 2013 pues son los últimos disponibles","Nota: Los datos corresponden a 2013 pues son los últimos disponibles","Nota: Los datos corresponden a 2013 pues son los últimos disponibles","Nota: Los datos corresponden a 2013 pues son los últimos disponibles","Nota: Los datos corresponden a 2013 pues son los últimos disponibles","Nota: Los datos corresponden a 2013 pues son los últimos disponibles","Nota: Los datos corresponden a 2013 pues son los últimos disponibles","Nota: Los datos corresponden a 2013 pues son los últimos disponibles","Nota: Los datos corresponden a 2013 pues son los últimos disponibles","Nota: Los datos corresponden a 2013 pues son los últimos disponibles","Nota: Los datos corresponden a 2013 pues son los últimos disponibles","Nota: Los datos corresponden a 2013 pues son los últimos disponibles","Nota: Los datos corresponden a 2013 pues son los últimos disponibles","Nota: Los datos corresponden a 2013 pues son los últimos disponibles","Nota: Los datos corresponden a 2013 pues son los últimos disponibles","Nota: Los datos corresponden a 2013 pues son los últimos disponibles","Nota: Los datos corresponden a 2013 pues son los últimos disponibles","Nota: Los datos corresponden a 2013 pues son los últimos disponibles","Nota: Los datos corresponden a 2013 pues son los últimos disponibles","Nota: Los datos corresponden a 2013 pues son los últimos disponibles","Nota: Los datos corresponden a 2013 pues son los últimos disponibles","Nota: Los datos corresponden a 2013 pues son los últimos disponibles","Nota: Los datos corresponden a 2013 pues son los últimos disponibles","Nota: Los datos corresponden a 2013 pues son los últimos disponibles","Nota: Los datos corresponden a 2013 pues son los últimos disponibles","Nota: Los datos corresponden a 2013 pues son los últimos disponibles","Nota: Los datos corresponden a 2013 pues son los últimos disponibles","Nota: Los datos corresponden a 2013 pues son los últimos disponibles","Nota: Los datos corresponden a 2013 pues son los últimos disponibles","Nota: Los datos corresponden a 2013 pues son los últimos disponibles","Nota: Los datos corresponden a 2013 pues son los últimos disponibles","Nota: Los datos corresponden a 2013 pues son los últimos disponibles","Nota: Los datos corresponden a 2013 pues son los últimos disponibles","Nota: Los datos corresponden a 2013 pues son los últimos disponibles","Nota: Los datos corresponden a 2013 pues son los últimos disponibles","Nota: Los datos corresponden a 2013 pues son los últimos disponibles","Nota: Los datos corresponden a 2013 pues son los últimos disponibles","Nota: Los datos corresponden a 2013 pues son los últimos disponibles","Nota: Los datos corresponden a 2013 pues son los últimos disponibles","Nota: Los datos corresponden a 2013 pues son los últimos disponibles","Nota: Los datos corresponden a 2013 pues son los últimos disponibles","Nota: Los datos corresponden a 2013 pues son los últimos disponibles","Nota: Los datos corresponden a 2013 pues son los últimos disponibles","Nota: Los datos corresponden a 2013 pues son los últimos disponibles","Nota: Los datos corresponden a 2013 pues son los últimos disponibles","Nota: Los datos corresponden a 2013 pues son los últimos disponibles","Nota: Los datos corresponden a 2013 pues son los últimos disponibles","Nota: Los datos corresponden a 2013 pues son los últimos disponibles","Nota: Los datos corresponden a 2013 pues son los últimos disponibles","Nota: Los datos corresponden a 2013 pues son los últimos disponibles","Nota: Los datos corresponden a 2013 pues son los últimos disponibles","Nota: Los datos corresponden a 2013 pues son los últimos disponibles","Nota: Los datos corresponden a 2013 pues son los últimos disponibles","Nota: Los datos corresponden a 2013 pues son los últimos disponibles","Nota: Los datos corresponden a 2013 pues son los últimos disponibles","Nota: Los datos corresponden a 2013 pues son los últimos disponibles","Nota: Los datos corresponden a 2013 pues son los últimos disponibles","Nota: Los datos corresponden a 2013 pues son los últimos disponibles","Nota: Los datos corresponden a 2013 pues son los últimos disponibles","Nota: Los datos corresponden a 2013 pues son los últimos disponibles","Nota: Los datos corresponden a 2013 pues son los últimos disponibles","Nota: Los datos corresponden a 2013 pues son los últimos disponibles","Nota: Los datos corresponden a 2013 pues son los últimos disponibles","Nota: Los datos corresponden a 2013 pues son los últimos disponibles","Nota: Los datos corresponden a 2013 pues son los últimos disponibles","Nota: Los datos corresponden a 2013 pues son los últimos disponibles","Nota: Los datos corresponden a 2013 pues son los últimos disponibles","Nota: Los datos corresponden a 2013 pues son los últimos disponibles","Nota: Los datos corresponden a 2013 pues son los últimos disponibles","Nota: Los datos corresponden a 2013 pues son los últimos disponibles","Nota: Los datos corresponden a 2013 pues son los últimos disponibles","Nota: Los datos corresponden a 2013 pues son los últimos disponibles","Nota: Los datos corresponden a 2013 pues son los últimos disponibles","Nota: Los datos corresponden a 2013 pues son los últimos disponibles","Nota: Los datos corresponden a 2013 pues son los últimos disponibles","Nota: Los datos corresponden a 2013 pues son los últimos disponibles","Nota: Los datos corresponden a 2013 pues son los últimos disponibles","Nota: Los datos corresponden a 2013 pues son los últimos disponibles","Nota: Los datos corresponden a 2013 pues son los últimos disponibles","Nota: Los datos corresponden a 2013 pues son los últimos disponibles","Nota: Los datos corresponden a 2013 pues son los últimos disponibles","Nota: Los datos corresponden a 2013 pues son los últimos disponibles","Nota: Los datos corresponden a 2013 pues son los últimos disponibles","Nota: Los datos corresponden a 2013 pues son los últimos disponibles","Nota: Los datos corresponden a 2013 pues son los últimos disponibles","Nota: Los datos corresponden a 2013 pues son los últimos disponibles","Nota: Los datos corresponden a 2013 pues son los últimos disponibles","Nota: Los datos corresponden a 2013 pues son los últimos disponibles","Nota: Los datos corresponden a 2013 pues son los últimos disponibles","Nota: Los datos corresponden a 2013 pues son los últimos disponibles","Nota: Los datos corresponden a 2013 pues son los últimos disponibles","Nota: Los datos corresponden a 2013 pues son los últimos disponibles","Nota: Los datos corresponden a 2013 pues son los últimos disponibles","Nota: Los datos corresponden a 2013 pues son los últimos disponibles","Nota: Los datos corresponden a 2013 pues son los últimos disponibles","Nota: Los datos corresponden a 2013 pues son los últimos disponibles","Nota: Los datos corresponden a 2013 pues son los últimos disponibles","Nota: Los datos corresponden a 2013 pues son los últimos disponibles","Nota: Los datos corresponden a 2013 pues son los últimos disponibles","Nota: Los datos corresponden a 2013 pues son los últimos disponibles","Nota: Los datos corresponden a 2013 pues son los últimos disponibles","Nota: Los datos corresponden a 2013 pues son los últimos disponibles","Nota: Los datos corresponden a 2013 pues son los últimos disponibles","Nota: Los datos corresponden a 2013 pues son los últimos disponibles","Nota: Los datos corresponden a 2013 pues son los últimos disponibles","Nota: Los datos corresponden a 2013 pues son los últimos disponibles","Nota: Los datos corresponden a 2013 pues son los últimos disponibles","Nota: Los datos corresponden a 2013 pues son los últimos disponibles","Nota: Los datos corresponden a 2013 pues son los últimos disponibles","Nota: Los datos corresponden a 2013 pues son los últimos disponibles","Nota: Los datos corresponden a 2013 pues son los últimos disponibles","Nota: Los datos corresponden a 2013 pues son los últimos disponibles","Nota: Los datos corresponden a 2013 pues son los últimos disponibles","Nota: Los datos corresponden a 2013 pues son los últimos disponibles","Nota: Los datos corresponden a 2013 pues son los últimos disponibles","Nota: Los datos corresponden a 2013 pues son los últimos disponibles","Nota: Los datos corresponden a 2013 pues son los últimos disponibles","Nota: Los datos corresponden a 2013 pues son los últimos disponibles","Nota: Los datos corresponden a 2013 pues son los últimos disponibles","Nota: Los datos corresponden a 2013 pues son los últimos disponibles","Nota: Los datos corresponden a 2013 pues son los últimos disponibles","Nota: Los datos corresponden a 2013 pues son los últimos disponibles","Nota: Los datos corresponden a 2013 pues son los últimos disponibles","Nota: Los datos corresponden a 2013 pues son los últimos disponibles","Nota: Los datos corresponden a 2013 pues son los últimos disponibles","Nota: Los datos corresponden a 2013 pues son los últimos disponibles","Nota: Los datos corresponden a 2013 pues son los últimos disponibles","Nota: Los datos corresponden a 2013 pues son los últimos disponibles","Nota: Los datos corresponden a 2013 pues son los últimos disponibles","Nota: Los datos corresponden a 2013 pues son los últimos disponibles","Nota: Los datos corresponden a 2013 pues son los últimos disponibles","Nota: Los datos corresponden a 2013 pues son los últimos disponibles","Nota: Los datos corresponden a 2013 pues son los últimos disponibles","Nota: Los datos corresponden a 2013 pues son los últimos disponibles","Nota: Los datos corresponden a 2013 pues son los últimos disponibles","Nota: Los datos corresponden a 2013 pues son los últimos disponibles","Nota: Los datos corresponden a 2013 pues son los últimos disponibles","Nota: Los datos corresponden a 2013 pues son los últimos disponibles","Nota: Los datos corresponden a 2013 pues son los últimos disponibles","Nota: Los datos corresponden a 2013 pues son los últimos disponibles","Nota: Los datos corresponden a 2013 pues son los últimos disponibles","Nota: Los datos corresponden a 2013 pues son los últimos disponibles","Nota: Los datos corresponden a 2013 pues son los últimos disponibles","Nota: Los datos corresponden a 2013 pues son los últimos disponibles","Nota: Los datos corresponden a 2013 pues son los últimos disponibles","Nota: Los datos corresponden a 2013 pues son los últimos disponibles","Nota: Los datos corresponden a 2013 pues son los últimos disponibles","Nota: Los datos corresponden a 2013 pues son los últimos disponibles","Nota: Los datos corresponden a 2013 pues son los últimos disponibles","Nota: Los datos corresponden a 2013 pues son los últimos disponibles","Nota: Los datos corresponden a 2013 pues son los últimos disponibles","Nota: Los datos corresponden a 2013 pues son los últimos disponibles","Nota: Los datos corresponden a 2013 pues son los últimos disponibles","Nota: Los datos corresponden a 2013 pues son los últimos disponibles","Nota: Los datos corresponden a 2013 pues son los últimos disponibles","Nota: Los datos corresponden a 2013 pues son los últimos disponibles","Nota: Los datos corresponden a 2013 pues son los últimos disponibles","Nota: Los datos corresponden a 2013 pues son los últimos disponibles","Nota: Los datos corresponden a 2013 pues son los últimos disponibles","Nota: Los datos corresponden a 2013 pues son los últimos disponibles","Nota: Los datos corresponden a 2013 pues son los últimos disponibles","Nota: Los datos corresponden a 2013 pues son los últimos disponibles","Nota: Los datos corresponden a 2013 pues son los últimos disponibles","Nota: Los datos corresponden a 2013 pues son los últimos disponibles","Nota: Los datos corresponden a 2013 pues son los últimos disponibles","Nota: Los datos corresponden a 2013 pues son los últimos disponibles","Nota: Los datos corresponden a 2013 pues son los últimos disponibles","Nota: Los datos corresponden a 2013 pues son los últimos disponibles","Nota: Los datos corresponden a 2013 pues son los últimos disponibles","Nota: Los datos corresponden a 2013 pues son los últimos disponibles","Nota: Los datos corresponden a 2013 pues son los últimos disponibles","Nota: Los datos corresponden a 2013 pues son los últimos disponibles","Nota: Los datos corresponden a 2013 pues son los últimos disponibles","Nota: Los datos corresponden a 2013 pues son los últimos disponibles","Nota: Los datos corresponden a 2013 pues son los últimos disponibles","Nota: Los datos corresponden a 2013 pues son los últimos disponibles","Nota: Los datos corresponden a 2013 pues son los últimos disponibles","Nota: Los datos corresponden a 2013 pues son los últimos disponibles","Nota: Los datos corresponden a 2013 pues son los últimos disponibles","Nota: Los datos corresponden a 2013 pues son los últimos disponibles","Nota: Los datos corresponden a 2013 pues son los últimos disponibles","Nota: Los datos corresponden a 2013 pues son los últimos disponibles","Nota: Los datos corresponden a 2013 pues son los últimos disponibles","Nota: Los datos corresponden a 2013 pues son los últimos disponibles","Nota: Los datos corresponden a 2013 pues son los últimos disponibles","Nota: Los datos corresponden a 2013 pues son los últimos disponibles","Nota: Los datos corresponden a 2013 pues son los últimos disponibles","Nota: Los datos corresponden a 2013 pues son los últimos disponibles","Nota: Los datos corresponden a 2013 pues son los últimos disponibles","Nota: Los datos corresponden a 2013 pues son los últimos disponibles","Nota: Los datos corresponden a 2013 pues son los últimos disponibles","Nota: Los datos corresponden a 2013 pues son los últimos disponibles","Nota: Los datos corresponden a 2013 pues son los últimos disponibles","Nota: Los datos corresponden a 2013 pues son los últimos disponibles","Nota: Los datos corresponden a 2013 pues son los últimos disponibles","Nota: Los datos corresponden a 2013 pues son los últimos disponibles","Nota: Los datos corresponden a 2013 pues son los últimos disponibles","Nota: Los datos corresponden a 2013 pues son los últimos disponibles","Nota: Los datos corresponden a 2013 pues son los últimos disponibles","Nota: Los datos corresponden a 2013 pues son los últimos disponibles","Nota: Los datos corresponden a 2013 pues son los últimos disponibles","Nota: Los datos corresponden a 2013 pues son los últimos disponibles","Nota: Los datos corresponden a 2013 pues son los últimos disponibles","Nota: Los datos corresponden a 2013 pues son los últimos disponibles","Nota: Los datos corresponden a 2013 pues son los últimos disponibles","Nota: Los datos corresponden a 2013 pues son los últimos disponibles","Nota: Los datos corresponden a 2013 pues son los últimos disponibles","Nota: Los datos corresponden a 2013 pues son los últimos disponibles","Nota: Los datos corresponden a 2013 pues son los últimos disponibles","Nota: Los datos corresponden a 2013 pues son los últimos disponibles","Nota: Los datos corresponden a 2013 pues son los últimos disponibles","Nota: Los datos corresponden a 2013 pues son los últimos disponibles","Nota: Los datos corresponden a 2013 pues son los últimos disponibles","Nota: Los datos corresponden a 2013 pues son los últimos disponibles","Nota: Los datos corresponden a 2013 pues son los últimos disponibles","Nota: Los datos corresponden a 2013 pues son los últimos disponibles","Nota: Los datos corresponden a 2013 pues son los últimos disponibles","Nota: Los datos corresponden a 2013 pues son los últimos disponibles","Nota: Los datos corresponden a 2013 pues son los últimos disponibles","Nota: Los datos corresponden a 2013 pues son los últimos disponibles","Nota: Los datos corresponden a 2013 pues son los últimos disponibles","Nota: Los datos corresponden a 2013 pues son los últimos disponibles","Nota: Los datos corresponden a 2013 pues son los últimos disponibles","Nota: Los datos corresponden a 2013 pues son los últimos disponibles","Nota: Los datos corresponden a 2013 pues son los últimos disponibles","Nota: Los datos corresponden a 2013 pues son los últimos disponibles","Nota: Los datos corresponden a 2013 pues son los últimos disponibles","Nota: Los datos corresponden a 2013 pues son los últimos disponibles","Nota: Los datos corresponden a 2013 pues son los últimos disponibles","Nota: Los datos corresponden a 2013 pues son los últimos disponibles","Nota: Los datos corresponden a 2013 pues son los últimos disponibles","Nota: Los datos corresponden a 2013 pues son los últimos disponibles","Nota: Los datos corresponden a 2013 pues son los últimos disponibles","Nota: Los datos corresponden a 2013 pues son los últimos disponibles","Nota: Los datos corresponden a 2013 pues son los últimos disponibles","Nota: Los datos corresponden a 2013 pues son los últimos disponibles","Nota: Los datos corresponden a 2013 pues son los últimos disponibles","Nota: Los datos corresponden a 2013 pues son los últimos disponibles","Nota: Los datos corresponden a 2013 pues son los últimos disponibles","Nota: Los datos corresponden a 2013 pues son los últimos disponibles","Nota: Los datos corresponden a 2013 pues son los últimos disponibles","Nota: Los datos corresponden a 2013 pues son los últimos disponibles","Nota: Los datos corresponden a 2013 pues son los últimos disponibles","Nota: Los datos corresponden a 2013 pues son los últimos disponibles","Nota: Los datos corresponden a 2013 pues son los últimos disponibles","Nota: Los datos corresponden a 2013 pues son los últimos disponibles","Nota: Los datos corresponden a 2013 pues son los últimos disponibles","Nota: Los datos corresponden a 2013 pues son los últimos disponibles","Nota: Los datos corresponden a 2013 pues son los últimos disponibles","Nota: Los datos corresponden a 2013 pues son los últimos disponibles","Nota: Los datos corresponden a 2013 pues son los últimos disponibles","Nota: Los datos corresponden a 2013 pues son los últimos disponibles","Nota: Los datos corresponden a 2013 pues son los últimos disponibles","Nota: Los datos corresponden a 2013 pues son los últimos disponibles","Nota: Los datos corresponden a 2013 pues son los últimos disponibles","Nota: Los datos corresponden a 2013 pues son los últimos disponibles","Nota: Los datos corresponden a 2013 pues son los últimos disponibles","Nota: Los datos corresponden a 2013 pues son los últimos disponibles","Nota: Los datos corresponden a 2013 pues son los últimos disponibles","Nota: Los datos corresponden a 2013 pues son los últimos disponibles","Nota: Los datos corresponden a 2013 pues son los últimos disponibles","Nota: Los datos corresponden a 2013 pues son los últimos disponibles","Nota: Los datos corresponden a 2013 pues son los últimos disponibles","Nota: Los datos corresponden a 2013 pues son los últimos disponibles","Nota: Los datos corresponden a 2013 pues son los últimos disponibles","Nota: Los datos corresponden a 2013 pues son los últimos disponibles","Nota: Los datos corresponden a 2013 pues son los últimos disponibles","Nota: Los datos corresponden a 2013 pues son los últimos disponibles","Nota: Los datos corresponden a 2013 pues son los últimos disponibles","Nota: Los datos corresponden a 2013 pues son los últimos disponibles","Nota: Los datos corresponden a 2013 pues son los últimos disponibles","Nota: Los datos corresponden a 2013 pues son los últimos disponibles","Nota: Los datos corresponden a 2013 pues son los últimos disponibles","Nota: Los datos corresponden a 2013 pues son los últimos disponibles","Nota: Los datos corresponden a 2013 pues son los últimos disponibles","Nota: Los datos corresponden a 2013 pues son los últimos disponibles","Nota: Los datos corresponden a 2013 pues son los últimos disponibles","Nota: Los datos corresponden a 2013 pues son los últimos disponibles","Nota: Los datos corresponden a 2013 pues son los últimos disponibles","Nota: Los datos corresponden a 2013 pues son los últimos disponibles","Nota: Los datos corresponden a 2013 pues son los últimos disponibles","Nota: Los datos corresponden a 2013 pues son los últimos disponibles","Nota: Los datos corresponden a 2013 pues son los últimos disponibles","Nota: Los datos corresponden a 2013 pues son los últimos disponibles","Nota: Los datos corresponden a 2013 pues son los últimos disponibles","Nota: Los datos corresponden a 2013 pues son los últimos disponibles","Nota: Los datos corresponden a 2013 pues son los últimos disponibles","Nota: Los datos corresponden a 2013 pues son los últimos disponibles","Nota: Los datos corresponden a 2013 pues son los últimos disponibles","Nota: Los datos corresponden a 2013 pues son los últimos disponibles","Nota: Los datos corresponden a 2013 pues son los últimos disponibles","Nota: Los datos corresponden a 2013 pues son los últimos disponibles","Nota: Los datos corresponden a 2013 pues son los últimos disponibles","Nota: Los datos corresponden a 2013 pues son los últimos disponibles","Nota: Los datos corresponden a 2013 pues son los últimos disponibles","Nota: Los datos corresponden a 2013 pues son los últimos disponibles","Nota: Los datos corresponden a 2013 pues son los últimos disponibles","Nota: Los datos corresponden a 2013 pues son los últimos disponibles","Nota: Los datos corresponden a 2013 pues son los últimos disponibles","Nota: Los datos corresponden a 2013 pues son los últimos disponibles","Nota: Los datos corresponden a 2013 pues son los últimos disponibles","Nota: Los datos corresponden a 2013 pues son los últimos disponibles","Nota: Los datos corresponden a 2013 pues son los últimos disponibles","Nota: Los datos corresponden a 2013 pues son los últimos disponibles","Nota: Los datos corresponden a 2013 pues son los últimos disponibles","Nota: Los datos corresponden a 2013 pues son los últimos disponibles","Nota: Los datos corresponden a 2013 pues son los últimos disponibles","Nota: Los datos corresponden a 2013 pues son los últimos disponibles","Nota: Los datos corresponden a 2013 pues son los últimos disponibles","Nota: Los datos corresponden a 2013 pues son los últimos disponibles","Nota: Los datos corresponden a 2013 pues son los últimos disponibles","Nota: Los datos corresponden a 2013 pues son los últimos disponibles","Nota: Los datos corresponden a 2013 pues son los últimos disponibles","Nota: Los datos corresponden a 2013 pues son los últimos disponibles","Nota: Los datos corresponden a 2013 pues son los últimos disponibles","Nota: Los datos corresponden a 2013 pues son los últimos disponibles","Nota: Los datos corresponden a 2013 pues son los últimos disponibles","Nota: Los datos corresponden a 2013 pues son los últimos disponibles","Nota: Los datos corresponden a 2013 pues son los últimos disponibles","Nota: Los datos corresponden a 2013 pues son los últimos disponibles","Nota: Los datos corresponden a 2013 pues son los últimos disponibles","Nota: Los datos corresponden a 2013 pues son los últimos disponibles","Nota: Los datos corresponden a 2013 pues son los últimos disponibles","Nota: Los datos corresponden a 2013 pues son los últimos disponibles","Nota: Los datos corresponden a 2013 pues son los últimos disponibles","Nota: Los datos corresponden a 2013 pues son los últimos disponibles","Nota: Los datos corresponden a 2013 pues son los últimos disponibles","Nota: Los datos corresponden a 2013 pues son los últimos disponibles","Nota: Los datos corresponden a 2013 pues son los últimos disponibles","Nota: Los datos corresponden a 2013 pues son los últimos disponibles","Nota: Los datos corresponden a 2013 pues son los últimos disponibles","Nota: Los datos corresponden a 2013 pues son los últimos disponibles","Nota: Los datos corresponden a 2013 pues son los últimos disponibles","Nota: Los datos corresponden a 2013 pues son los últimos disponibles","Nota: Los datos corresponden a 2013 pues son los últimos disponibles","Nota: Los datos corresponden a 2013 pues son los últimos disponibles","Nota: Los datos corresponden a 2013 pues son los últimos disponibles","Nota: Los datos corresponden a 2013 pues son los últimos disponibles","Nota: Los datos corresponden a 2013 pues son los últimos disponibles","Nota: Los datos corresponden a 2013 pues son los últimos disponibles","Nota: Los datos corresponden a 2013 pues son los últimos disponibles","Nota: Los datos corresponden a 2013 pues son los últimos disponibles","Nota: Los datos corresponden a 2013 pues son los últimos disponibles","Nota: Los datos corresponden a 2013 pues son los últimos disponibles","Nota: Los datos corresponden a 2013 pues son los últimos disponibles","Nota: Los datos corresponden a 2013 pues son los últimos disponibles","Nota: Los datos corresponden a 2013 pues son los últimos disponibles","Nota: Los datos corresponden a 2013 pues son los últimos disponibles","Nota: Los datos corresponden a 2013 pues son los últimos disponibles","Nota: Los datos corresponden a 2013 pues son los últimos disponibles","Nota: Los datos corresponden a 2013 pues son los últimos disponibles","Nota: Los datos corresponden a 2013 pues son los últimos disponibles","Nota: Los datos corresponden a 2013 pues son los últimos disponibles","Nota: Los datos corresponden a 2013 pues son los últimos disponibles","Nota: Los datos corresponden a 2013 pues son los últimos disponibles","Nota: Los datos corresponden a 2013 pues son los últimos disponibles","Nota: Los datos corresponden a 2013 pues son los últimos disponibles","Nota: Los datos corresponden a 2013 pues son los últimos disponibles","Nota: Los datos corresponden a 2013 pues son los últimos disponibles","Nota: Los datos corresponden a 2013 pues son los últimos disponibles","Nota: Los datos corresponden a 2013 pues son los últimos disponibles","Nota: Los datos corresponden a 2013 pues son los últimos disponibles","Nota: Los datos corresponden a 2013 pues son los últimos disponibles","Nota: Los datos corresponden a 2013 pues son los últimos disponibles","Nota: Los datos corresponden a 2013 pues son los últimos disponibles","Nota: Los datos corresponden a 2013 pues son los últimos disponibles","Nota: Los datos corresponden a 2013 pues son los últimos disponibles","Nota: Los datos corresponden a 2013 pues son los últimos disponibles","Nota: Los datos corresponden a 2013 pues son los últimos disponibles","Nota: Los datos corresponden a 2013 pues son los últimos disponibles","Nota: Los datos corresponden a 2013 pues son los últimos disponibles","Nota: Los datos corresponden a 2013 pues son los últimos disponibles","Nota: Los datos corresponden a 2013 pues son los últimos disponibles","Nota: Los datos corresponden a 2013 pues son los últimos disponibles","Nota: Los datos corresponden a 2013 pues son los últimos disponibles","Nota: Los datos corresponden a 2013 pues son los últimos disponibles","Nota: Los datos corresponden a 2013 pues son los últimos disponibles","Nota: Los datos corresponden a 2013 pues son los últimos disponibles","Nota: Los datos corresponden a 2013 pues son los últimos disponibles","Nota: Los datos corresponden a 2013 pues son los últimos disponibles","Nota: Los datos corresponden a 2013 pues son los últimos disponibles","Nota: Los datos corresponden a 2013 pues son los últimos disponibles","Nota: Los datos corresponden a 2013 pues son los últimos disponibles","Nota: Los datos corresponden a 2013 pues son los últimos disponibles","Nota: Los datos corresponden a 2013 pues son los últimos disponibles","Nota: Los datos corresponden a 2013 pues son los últimos disponibles","Nota: Los datos corresponden a 2013 pues son los últimos disponibles","Nota: Los datos corresponden a 2013 pues son los últimos disponibles","Nota: Los datos corresponden a 2013 pues son los últimos disponibles","Nota: Los datos corresponden a 2013 pues son los últimos disponibles","Nota: Los datos corresponden a 2013 pues son los últimos disponibles","Nota: Los datos corresponden a 2013 pues son los últimos disponibles","Nota: Los datos corresponden a 2013 pues son los últimos disponibles","Nota: Los datos corresponden a 2013 pues son los últimos disponibles","Nota: Los datos corresponden a 2013 pues son los últimos disponibles","Nota: Los datos corresponden a 2013 pues son los últimos disponibles","Nota: Los datos corresponden a 2013 pues son los últimos disponibles","Nota: Los datos corresponden a 2013 pues son los últimos disponibles","Nota: Los datos corresponden a 2013 pues son los últimos disponibles","Nota: Los datos corresponden a 2013 pues son los últimos disponibles","Nota: Los datos corresponden a 2013 pues son los últimos disponibles","Nota: Los datos corresponden a 2013 pues son los últimos disponibles","Nota: Los datos corresponden a 2013 pues son los últimos disponibles","Nota: Los datos corresponden a 2013 pues son los últimos disponibles","Nota: Los datos corresponden a 2013 pues son los últimos disponibles","Nota: Los datos corresponden a 2013 pues son los últimos disponibles","Nota: Los datos corresponden a 2013 pues son los últimos disponibles","Nota: Los datos corresponden a 2013 pues son los últimos disponibles","Nota: Los datos corresponden a 2013 pues son los últimos disponibles","Nota: Los datos corresponden a 2013 pues son los últimos disponibles","Nota: Los datos corresponden a 2013 pues son los últimos disponibles","Nota: Los datos corresponden a 2013 pues son los últimos disponibles","Nota: Los datos corresponden a 2013 pues son los últimos disponibles","Nota: Los datos corresponden a 2013 pues son los últimos disponibles","Nota: Los datos corresponden a 2013 pues son los últimos disponibles","Nota: Los datos corresponden a 2013 pues son los últimos disponibles","Nota: Los datos corresponden a 2013 pues son los últimos disponibles","Nota: Los datos corresponden a 2013 pues son los últimos disponibles","Nota: Los datos corresponden a 2013 pues son los últimos disponibles","Nota: Los datos corresponden a 2013 pues son los últimos disponibles","Nota: Los datos corresponden a 2013 pues son los últimos disponibles","Nota: Los datos corresponden a 2013 pues son los últimos disponibles","Nota: Los datos corresponden a 2013 pues son los últimos disponibles","Nota: Los datos corresponden a 2013 pues son los últimos disponibles","Nota: Los datos corresponden a 2013 pues son los últimos disponibles","Nota: Los datos corresponden a 2013 pues son los últimos disponibles","Nota: Los datos corresponden a 2013 pues son los últimos disponibles","Nota: Los datos corresponden a 2013 pues son los últimos disponibles","Nota: Los datos corresponden a 2013 pues son los últimos disponibles","Nota: Los datos corresponden a 2013 pues son los últimos disponibles","Nota: Los datos corresponden a 2013 pues son los últimos disponibles","Nota: Los datos corresponden a 2013 pues son los últimos disponibles","Nota: Los datos corresponden a 2013 pues son los últimos disponibles","Nota: Los datos corresponden a 2013 pues son los últimos disponibles","Nota: Los datos corresponden a 2013 pues son los últimos disponibles","Nota: Los datos corresponden a 2013 pues son los últimos disponibles","Nota: Los datos corresponden a 2013 pues son los últimos disponibles","Nota: Los datos corresponden a 2013 pues son los últimos disponibles","Nota: Los datos corresponden a 2013 pues son los últimos disponibles","Nota: Los datos corresponden a 2013 pues son los últimos disponibles","Nota: Los datos corresponden a 2013 pues son los últimos disponibles","Nota: Los datos corresponden a 2013 pues son los últimos disponibles","Nota: Los datos corresponden a 2013 pues son los últimos disponibles","Nota: Los datos corresponden a 2013 pues son los últimos disponibles","Nota: Los datos corresponden a 2013 pues son los últimos disponibles","Nota: Los datos corresponden a 2013 pues son los últimos disponibles","Nota: Los datos corresponden a 2013 pues son los últimos disponibles","Nota: Los datos corresponden a 2013 pues son los últimos disponibles","Nota: Los datos corresponden a 2013 pues son los últimos disponibles","Nota: Los datos corresponden a 2013 pues son los últimos disponibles","Nota: Los datos corresponden a 2013 pues son los últimos disponibles","Nota: Los datos corresponden a 2013 pues son los últimos disponibles","Nota: Los datos corresponden a 2013 pues son los últimos disponibles","Nota: Los datos corresponden a 2013 pues son los últimos disponibles","Nota: Los datos corresponden a 2013 pues son los últimos disponibles","Nota: Los datos corresponden a 2013 pues son los últimos disponibles","Nota: Los datos corresponden a 2013 pues son los últimos disponibles","Nota: Los datos corresponden a 2013 pues son los últimos disponibles","Nota: Los datos corresponden a 2013 pues son los últimos disponibles","Nota: Los datos corresponden a 2013 pues son los últimos disponibles","Nota: Los datos corresponden a 2013 pues son los últimos disponibles","Nota: Los datos corresponden a 2013 pues son los últimos disponibles","Nota: Los datos corresponden a 2013 pues son los últimos disponibles","Nota: Los datos corresponden a 2013 pues son los últimos disponibles","Nota: Los datos corresponden a 2013 pues son los últimos disponibles","Nota: Los datos corresponden a 2013 pues son los últimos disponibles","Nota: Los datos corresponden a 2013 pues son los últimos disponibles","Nota: Los datos corresponden a 2013 pues son los últimos disponibles","Nota: Los datos corresponden a 2013 pues son los últimos disponibles","Nota: Los datos corresponden a 2013 pues son los últimos disponibles","Nota: Los datos corresponden a 2013 pues son los últimos disponibles","Nota: Los datos corresponden a 2013 pues son los últimos disponibles","Nota: Los datos corresponden a 2013 pues son los últimos disponibles","Nota: Los datos corresponden a 2013 pues son los últimos disponibles","Nota: Los datos corresponden a 2013 pues son los últimos disponibles","Nota: Los datos corresponden a 2013 pues son los últimos disponibles","Nota: Los datos corresponden a 2013 pues son los últimos disponibles","Nota: Los datos corresponden a 2013 pues son los últimos disponibles","Nota: Los datos corresponden a 2013 pues son los últimos disponibles","Nota: Los datos corresponden a 2013 pues son los últimos disponibles","Nota: Los datos corresponden a 2013 pues son los últimos disponibles","Nota: Los datos corresponden a 2013 pues son los últimos disponibles","Nota: Los datos corresponden a 2013 pues son los últimos disponibles","Nota: Los datos corresponden a 2013 pues son los últimos disponibles","Nota: Los datos corresponden a 2013 pues son los últimos disponibles","Nota: Los datos corresponden a 2013 pues son los últimos disponibles","Nota: Los datos corresponden a 2013 pues son los últimos disponibles","Nota: Los datos corresponden a 2013 pues son los últimos disponibles","Nota: Los datos corresponden a 2013 pues son los últimos disponibles","Nota: Los datos corresponden a 2013 pues son los últimos disponibles","Nota: Los datos corresponden a 2013 pues son los últimos disponibles","Nota: Los datos corresponden a 2013 pues son los últimos disponibles","Nota: Los datos corresponden a 2013 pues son los últimos disponibles","Nota: Los datos corresponden a 2013 pues son los últimos disponibles","Nota: Los datos corresponden a 2013 pues son los últimos disponibles","Nota: Los datos corresponden a 2013 pues son los últimos disponibles","Nota: Los datos corresponden a 2013 pues son los últimos disponibles","Nota: Los datos corresponden a 2013 pues son los últimos disponibles","Nota: Los datos corresponden a 2013 pues son los últimos disponibles","Nota: Los datos corresponden a 2013 pues son los últimos disponibles","Nota: Los datos corresponden a 2013 pues son los últimos disponibles","Nota: Los datos corresponden a 2013 pues son los últimos disponibles","Nota: Los datos corresponden a 2013 pues son los últimos disponibles","Nota: Los datos corresponden a 2013 pues son los últimos disponibles","Nota: Los datos corresponden a 2013 pues son los últimos disponibles","Nota: Los datos corresponden a 2013 pues son los últimos disponibles","Nota: Los datos corresponden a 2013 pues son los últimos disponibles","Nota: Los datos corresponden a 2013 pues son los últimos disponibles","Nota: Los datos corresponden a 2013 pues son los últimos disponibles","Nota: Los datos corresponden a 2013 pues son los últimos disponibles","Nota: Los datos corresponden a 2013 pues son los últimos disponibles","Nota: Los datos corresponden a 2013 pues son los últimos disponibles","Nota: Los datos corresponden a 2013 pues son los últimos disponibles","Nota: Los datos corresponden a 2013 pues son los últimos disponibles","Nota: Los datos corresponden a 2013 pues son los últimos disponibles","Nota: Los datos corresponden a 2013 pues son los últimos disponibles","Nota: Los datos corresponden a 2013 pues son los últimos disponibles","Nota: Los datos corresponden a 2013 pues son los últimos disponibles","Nota: Los datos corresponden a 2013 pues son los últimos disponibles","Nota: Los datos corresponden a 2013 pues son los últimos disponibles","Nota: Los datos corresponden a 2013 pues son los últimos disponibles","Nota: Los datos corresponden a 2013 pues son los últimos disponibles","Nota: Los datos corresponden a 2013 pues son los últimos disponibles","Nota: Los datos corresponden a 2013 pues son los últimos disponibles","Nota: Los datos corresponden a 2013 pues son los últimos disponibles","Nota: Los datos corresponden a 2013 pues son los últimos disponibles","Nota: Los datos corresponden a 2013 pues son los últimos disponibles","Nota: Los datos corresponden a 2013 pues son los últimos disponibles","Nota: Los datos corresponden a 2013 pues son los últimos disponibles","Nota: Los datos corresponden a 2013 pues son los últimos disponibles","Nota: Los datos corresponden a 2013 pues son los últimos disponibles","Nota: Los datos corresponden a 2013 pues son los últimos disponibles","Nota: Los datos corresponden a 2013 pues son los últimos disponibles","Nota: Los datos corresponden a 2013 pues son los últimos disponibles","Nota: Los datos corresponden a 2013 pues son los últimos disponibles","Nota: Los datos corresponden a 2013 pues son los últimos disponibles","Nota: Los datos corresponden a 2013 pues son los últimos disponibles","Nota: Los datos corresponden a 2013 pues son los últimos disponibles","Nota: Los datos corresponden a 2013 pues son los últimos disponibles","Nota: Los datos corresponden a 2013 pues son los últimos disponibles","Nota: Los datos corresponden a 2013 pues son los últimos disponibles","Nota: Los datos corresponden a 2013 pues son los últimos disponibles","Nota: Los datos corresponden a 2013 pues son los últimos disponibles","Nota: Los datos corresponden a 2013 pues son los últimos disponibles","Nota: Los datos corresponden a 2013 pues son los últimos disponibles","Nota: Los datos corresponden a 2013 pues son los últimos disponibles","Nota: Los datos corresponden a 2013 pues son los últimos disponibles","Nota: Los datos corresponden a 2013 pues son los últimos disponibles","Nota: Los datos corresponden a 2013 pues son los últimos disponibles","Nota: Los datos corresponden a 2013 pues son los últimos disponibles","Nota: Los datos corresponden a 2013 pues son los últimos disponibles","Nota: Los datos corresponden a 2013 pues son los últimos disponibles","Nota: Los datos corresponden a 2013 pues son los últimos disponibles","Nota: Los datos corresponden a 2013 pues son los últimos disponibles","Nota: Los datos corresponden a 2013 pues son los últimos disponibles","Nota: Los datos corresponden a 2013 pues son los últimos disponibles","Nota: Los datos corresponden a 2013 pues son los últimos disponibles","Nota: Los datos corresponden a 2013 pues son los últimos disponibles","Nota: Los datos corresponden a 2013 pues son los últimos disponibles","Nota: Los datos corresponden a 2013 pues son los últimos disponibles","Nota: Los datos corresponden a 2013 pues son los últimos disponibles","Nota: Los datos corresponden a 2013 pues son los últimos disponibles","Nota: Los datos corresponden a 2013 pues son los últimos disponibles","Nota: Los datos corresponden a 2013 pues son los últimos disponibles","Nota: Los datos corresponden a 2013 pues son los últimos disponibles","Nota: Los datos corresponden a 2013 pues son los últimos disponibles","Nota: Los datos corresponden a 2013 pues son los últimos disponibles","Nota: Los datos corresponden a 2013 pues son los últimos disponibles","Nota: Los datos corresponden a 2013 pues son los últimos disponibles","Nota: Los datos corresponden a 2013 pues son los últimos disponibles","Nota: Los datos corresponden a 2013 pues son los últimos disponibles","Nota: Los datos corresponden a 2013 pues son los últimos disponibles","Nota: Los datos corresponden a 2013 pues son los últimos disponibles","Nota: Los datos corresponden a 2013 pues son los últimos disponibles","Nota: Los datos corresponden a 2013 pues son los últimos disponibles","Nota: Los datos corresponden a 2013 pues son los últimos disponibles","Nota: Los datos corresponden a 2013 pues son los últimos disponibles","Nota: Los datos corresponden a 2013 pues son los últimos disponibles","Nota: Los datos corresponden a 2013 pues son los últimos disponibles","Nota: Los datos corresponden a 2013 pues son los últimos disponibles","Nota: Los datos corresponden a 2013 pues son los últimos disponibles","Nota: Los datos corresponden a 2013 pues son los últimos disponibles","Nota: Los datos corresponden a 2013 pues son los últimos disponibles","Nota: Los datos corresponden a 2013 pues son los últimos disponibles","Nota: Los datos corresponden a 2013 pues son los últimos disponibles","Nota: Los datos corresponden a 2013 pues son los últimos disponibles","Nota: Los datos corresponden a 2013 pues son los últimos disponibles","Nota: Los datos corresponden a 2013 pues son los últimos disponibles","Nota: Los datos corresponden a 2013 pues son los últimos disponibles","Nota: Los datos corresponden a 2013 pues son los últimos disponibles","Nota: Los datos corresponden a 2013 pues son los últimos disponibles","Nota: Los datos corresponden a 2013 pues son los últimos disponibles","Nota: Los datos corresponden a 2013 pues son los últimos disponibles","Nota: Los datos corresponden a 2013 pues son los últimos disponibles","Nota: Los datos corresponden a 2013 pues son los últimos disponibles","Nota: Los datos corresponden a 2013 pues son los últimos disponibles","Nota: Los datos corresponden a 2013 pues son los últimos disponibles","Nota: Los datos corresponden a 2013 pues son los últimos disponibles","Nota: Los datos corresponden a 2013 pues son los últimos disponibles","Nota: Los datos corresponden a 2013 pues son los últimos disponibles","Nota: Los datos corresponden a 2013 pues son los últimos disponibles","Nota: Los datos corresponden a 2013 pues son los últimos disponibles","Nota: Los datos corresponden a 2013 pues son los últimos disponibles","Nota: Los datos corresponden a 2013 pues son los últimos disponibles","Nota: Los datos corresponden a 2013 pues son los últimos disponibles","Nota: Los datos corresponden a 2013 pues son los últimos disponibles","Nota: Los datos corresponden a 2013 pues son los últimos disponibles","Nota: Los datos corresponden a 2013 pues son los últimos disponibles","Nota: Los datos corresponden a 2013 pues son los últimos disponibles","Nota: Los datos corresponden a 2013 pues son los últimos disponibles","Nota: Los datos corresponden a 2013 pues son los últimos disponibles","Nota: Los datos corresponden a 2013 pues son los últimos disponibles","Nota: Los datos corresponden a 2013 pues son los últimos disponibles","Nota: Los datos corresponden a 2013 pues son los últimos disponibles","Nota: Los datos corresponden a 2013 pues son los últimos disponibles","Nota: Los datos corresponden a 2013 pues son los últimos disponibles","Nota: Los datos corresponden a 2013 pues son los últimos disponibles","Nota: Los datos corresponden a 2013 pues son los últimos disponibles","Nota: Los datos corresponden a 2013 pues son los últimos disponibles","Nota: Los datos corresponden a 2013 pues son los últimos disponibles","Nota: Los datos corresponden a 2013 pues son los últimos disponibles","Nota: Los datos corresponden a 2013 pues son los últimos disponibles","Nota: Los datos corresponden a 2013 pues son los últimos disponibles","Nota: Los datos corresponden a 2013 pues son los últimos disponibles","Nota: Los datos corresponden a 2013 pues son los últimos disponibles","Nota: Los datos corresponden a 2013 pues son los últimos disponibles","Nota: Los datos corresponden a 2013 pues son los últimos disponibles","Nota: Los datos corresponden a 2013 pues son los últimos disponibles","Nota: Los datos corresponden a 2013 pues son los últimos disponibles","Nota: Los datos corresponden a 2013 pues son los últimos disponibles","Nota: Los datos corresponden a 2013 pues son los últimos disponibles","Nota: Los datos corresponden a 2013 pues son los últimos disponibles","Nota: Los datos corresponden a 2013 pues son los últimos disponibles","Nota: Los datos corresponden a 2013 pues son los últimos disponibles","Nota: Los datos corresponden a 2013 pues son los últimos disponibles","Nota: Los datos corresponden a 2013 pues son los últimos disponibles","Nota: Los datos corresponden a 2013 pues son los últimos disponibles","Nota: Los datos corresponden a 2013 pues son los últimos disponibles","Nota: Los datos corresponden a 2013 pues son los últimos disponibles","Nota: Los datos corresponden a 2013 pues son los últimos disponibles","Nota: Los datos corresponden a 2013 pues son los últimos disponibles","Nota: Los datos corresponden a 2013 pues son los últimos disponibles","Nota: Los datos corresponden a 2013 pues son los últimos disponibles","Nota: Los datos corresponden a 2013 pues son los últimos disponibles","Nota: Los datos corresponden a 2013 pues son los últimos disponibles","Nota: Los datos corresponden a 2013 pues son los últimos disponibles","Nota: Los datos corresponden a 2013 pues son los últimos disponibles","Nota: Los datos corresponden a 2013 pues son los últimos disponibles","Nota: Los datos corresponden a 2013 pues son los últimos disponibles","Nota: Los datos corresponden a 2013 pues son los últimos disponibles","Nota: Los datos corresponden a 2013 pues son los últimos disponibles","Nota: Los datos corresponden a 2013 pues son los últimos disponibles","Nota: Los datos corresponden a 2013 pues son los últimos disponibles","Nota: Los datos corresponden a 2013 pues son los últimos disponibles","Nota: Los datos corresponden a 2013 pues son los últimos disponibles","Nota: Los datos corresponden a 2013 pues son los últimos disponibles","Nota: Los datos corresponden a 2013 pues son los últimos disponibles","Nota: Los datos corresponden a 2013 pues son los últimos disponibles","Nota: Los datos corresponden a 2013 pues son los últimos disponibles","Nota: Los datos corresponden a 2013 pues son los últimos disponibles","Nota: Los datos corresponden a 2013 pues son los últimos disponibles","Nota: Los datos corresponden a 2013 pues son los últimos disponibles","Nota: Los datos corresponden a 2013 pues son los últimos disponibles","Nota: Los datos corresponden a 2013 pues son los últimos disponibles","Nota: Los datos corresponden a 2013 pues son los últimos disponibles","Nota: Los datos corresponden a 2013 pues son los últimos disponibles","Nota: Los datos corresponden a 2013 pues son los últimos disponibles","Nota: Los datos corresponden a 2013 pues son los últimos disponibles","Nota: Los datos corresponden a 2013 pues son los últimos disponibles","Nota: Los datos corresponden a 2013 pues son los últimos disponibles","Nota: Los datos corresponden a 2013 pues son los últimos disponibles","Nota: Los datos corresponden a 2013 pues son los últimos disponibles","Nota: Los datos corresponden a 2013 pues son los últimos disponibles","Nota: Los datos corresponden a 2013 pues son los últimos disponibles","Nota: Los datos corresponden a 2013 pues son los últimos disponibles","Nota: Los datos corresponden a 2013 pues son los últimos disponibles","Nota: Los datos corresponden a 2013 pues son los últimos disponibles","Nota: Los datos corresponden a 2013 pues son los últimos disponibles","Nota: Los datos corresponden a 2013 pues son los últimos disponibles","Nota: Los datos corresponden a 2013 pues son los últimos disponibles","Nota: Los datos corresponden a 2013 pues son los últimos disponibles","Nota: Los datos corresponden a 2013 pues son los últimos disponibles","Nota: Los datos corresponden a 2013 pues son los últimos disponibles","Nota: Los datos corresponden a 2013 pues son los últimos disponibles","Nota: Los datos corresponden a 2013 pues son los últimos disponibles","Nota: Los datos corresponden a 2013 pues son los últimos disponibles","Nota: Los datos corresponden a 2013 pues son los últimos disponibles","Nota: Los datos corresponden a 2013 pues son los últimos disponibles","Nota: Los datos corresponden a 2013 pues son los últimos disponibles","Nota: Los datos corresponden a 2013 pues son los últimos disponibles","Nota: Los datos corresponden a 2013 pues son los últimos disponibles","Nota: Los datos corresponden a 2013 pues son los últimos disponibles","Nota: Los datos corresponden a 2013 pues son los últimos disponibles","Nota: Los datos corresponden a 2013 pues son los últimos disponibles","Nota: Los datos corresponden a 2013 pues son los últimos disponibles","Nota: Los datos corresponden a 2013 pues son los últimos disponibles","Nota: Los datos corresponden a 2013 pues son los últimos disponibles","Nota: Los datos corresponden a 2013 pues son los últimos disponibles","Nota: Los datos corresponden a 2013 pues son los últimos disponibles","Nota: Los datos corresponden a 2013 pues son los últimos disponibles","Nota: Los datos corresponden a 2013 pues son los últimos disponibles","Nota: Los datos corresponden a 2013 pues son los últimos disponibles","Nota: Los datos corresponden a 2013 pues son los últimos disponibles","Nota: Los datos corresponden a 2013 pues son los últimos disponibles","Nota: Los datos corresponden a 2013 pues son los últimos disponibles","Nota: Los datos corresponden a 2013 pues son los últimos disponibles","Nota: Los datos corresponden a 2013 pues son los últimos disponibles","Nota: Los datos corresponden a 2013 pues son los últimos disponibles","Nota: Los datos corresponden a 2013 pues son los últimos disponibles","Nota: Los datos corresponden a 2013 pues son los últimos disponibles","Nota: Los datos corresponden a 2013 pues son los últimos disponibles","Nota: Los datos corresponden a 2013 pues son los últimos disponibles","Nota: Los datos corresponden a 2013 pues son los últimos disponibles","Nota: Los datos corresponden a 2013 pues son los últimos disponibles","Nota: Los datos corresponden a 2013 pues son los últimos disponibles","Nota: Los datos corresponden a 2013 pues son los últimos disponibles","Nota: Los datos corresponden a 2013 pues son los últimos disponibles","Nota: Los datos corresponden a 2013 pues son los últimos disponibles","Nota: Los datos corresponden a 2013 pues son los últimos disponibles","Nota: Los datos corresponden a 2013 pues son los últimos disponibles","Nota: Los datos corresponden a 2013 pues son los últimos disponibles","Nota: Los datos corresponden a 2013 pues son los últimos disponibles","Nota: Los datos corresponden a 2013 pues son los últimos disponibles","Nota: Los datos corresponden a 2013 pues son los últimos disponibles","Nota: Los datos corresponden a 2013 pues son los últimos disponibles","Nota: Los datos corresponden a 2013 pues son los últimos disponibles","Nota: Los datos corresponden a 2013 pues son los últimos disponibles","Nota: Los datos corresponden a 2013 pues son los últimos disponibles","Nota: Los datos corresponden a 2013 pues son los últimos disponibles","Nota: Los datos corresponden a 2013 pues son los últimos disponibles","Nota: Los datos corresponden a 2013 pues son los últimos disponibles","Nota: Los datos corresponden a 2013 pues son los últimos disponibles","Nota: Los datos corresponden a 2013 pues son los últimos disponibles","Nota: Los datos corresponden a 2013 pues son los últimos disponibles","Nota: Los datos corresponden a 2013 pues son los últimos disponibles","Nota: Los datos corresponden a 2013 pues son los últimos disponibles","Nota: Los datos corresponden a 2013 pues son los últimos disponibles","Nota: Los datos corresponden a 2013 pues son los últimos disponibles","Nota: Los datos corresponden a 2013 pues son los últimos disponibles","Nota: Los datos corresponden a 2013 pues son los últimos disponibles","Nota: Los datos corresponden a 2013 pues son los últimos disponibles","Nota: Los datos corresponden a 2013 pues son los últimos disponibles","Nota: Los datos corresponden a 2013 pues son los últimos disponibles","Nota: Los datos corresponden a 2013 pues son los últimos disponibles","Nota: Los datos corresponden a 2013 pues son los últimos disponibles","Nota: Los datos corresponden a 2013 pues son los últimos disponibles","Nota: Los datos corresponden a 2013 pues son los últimos disponibles","Nota: Los datos corresponden a 2013 pues son los últimos disponibles","Nota: Los datos corresponden a 2013 pues son los últimos disponibles","Nota: Los datos corresponden a 2013 pues son los últimos disponibles","Nota: Los datos corresponden a 2013 pues son los últimos disponibles","Nota: Los datos corresponden a 2013 pues son los últimos disponibles","Nota: Los datos corresponden a 2013 pues son los últimos disponibles","Nota: Los datos corresponden a 2013 pues son los últimos disponibles","Nota: Los datos corresponden a 2013 pues son los últimos disponibles","Nota: Los datos corresponden a 2013 pues son los últimos disponibles","Nota: Los datos corresponden a 2013 pues son los últimos disponibles","Nota: Los datos corresponden a 2013 pues son los últimos disponibles","Nota: Los datos corresponden a 2013 pues son los últimos disponibles","Nota: Los datos corresponden a 2013 pues son los últimos disponibles","Nota: Los datos corresponden a 2013 pues son los últimos disponibles","Nota: Los datos corresponden a 2013 pues son los últimos disponibles","Nota: Los datos corresponden a 2013 pues son los últimos disponibles","Nota: Los datos corresponden a 2013 pues son los últimos disponibles","Nota: Los datos corresponden a 2013 pues son los últimos disponibles","Nota: Los datos corresponden a 2013 pues son los últimos disponibles","Nota: Los datos corresponden a 2013 pues son los últimos disponibles","Nota: Los datos corresponden a 2013 pues son los últimos disponibles","Nota: Los datos corresponden a 2013 pues son los últimos disponibles","Nota: Los datos corresponden a 2013 pues son los últimos disponibles","Nota: Los datos corresponden a 2013 pues son los últimos disponibles","Nota: Los datos corresponden a 2013 pues son los últimos disponibles","Nota: Los datos corresponden a 2013 pues son los últimos disponibles","Nota: Los datos corresponden a 2013 pues son los últimos disponibles","Nota: Los datos corresponden a 2013 pues son los últimos disponibles","Nota: Los datos corresponden a 2013 pues son los últimos disponibles","Nota: Los datos corresponden a 2013 pues son los últimos disponibles","Nota: Los datos corresponden a 2013 pues son los últimos disponibles","Nota: Los datos corresponden a 2013 pues son los últimos disponibles","Nota: Los datos corresponden a 2013 pues son los últimos disponibles","Nota: Los datos corresponden a 2013 pues son los últimos disponibles","Nota: Los datos corresponden a 2013 pues son los últimos disponibles","Nota: Los datos corresponden a 2013 pues son los últimos disponibles","Nota: Los datos corresponden a 2013 pues son los últimos disponibles","Nota: Los datos corresponden a 2013 pues son los últimos disponibles","Nota: Los datos corresponden a 2013 pues son los últimos disponibles","Nota: Los datos corresponden a 2013 pues son los últimos disponibles","Nota: Los datos corresponden a 2013 pues son los últimos disponibles","Nota: Los datos corresponden a 2013 pues son los últimos disponibles","Nota: Los datos corresponden a 2013 pues son los últimos disponibles","Nota: Los datos corresponden a 2013 pues son los últimos disponibles","Nota: Los datos corresponden a 2013 pues son los últimos disponibles","Nota: Los datos corresponden a 2013 pues son los últimos disponibles","Nota: Los datos corresponden a 2013 pues son los últimos disponibles","Nota: Los datos corresponden a 2013 pues son los últimos disponibles","Nota: Los datos corresponden a 2013 pues son los últimos disponibles","Nota: Los datos corresponden a 2013 pues son los últimos disponibles","Nota: Los datos corresponden a 2013 pues son los últimos disponibles","Nota: Los datos corresponden a 2013 pues son los últimos disponibles","Nota: Los datos corresponden a 2013 pues son los últimos disponibles","Nota: Los datos corresponden a 2013 pues son los últimos disponibles","Nota: Los datos corresponden a 2013 pues son los últimos disponibles","Nota: Los datos corresponden a 2013 pues son los últimos disponibles","Nota: Los datos corresponden a 2013 pues son los últimos disponibles","Nota: Los datos corresponden a 2013 pues son los últimos disponibles","Nota: Los datos corresponden a 2013 pues son los últimos disponibles","Nota: Los datos corresponden a 2013 pues son los últimos disponibles","Nota: Los datos corresponden a 2013 pues son los últimos disponibles","Nota: Los datos corresponden a 2013 pues son los últimos disponibles","Nota: Los datos corresponden a 2013 pues son los últimos disponibles","Nota: Los datos corresponden a 2013 pues son los últimos disponibles","Nota: Los datos corresponden a 2013 pues son los últimos disponibles","Nota: Los datos corresponden a 2013 pues son los últimos disponibles","Nota: Los datos corresponden a 2013 pues son los últimos disponibles","Nota: Los datos corresponden a 2013 pues son los últimos disponibles","Nota: Los datos corresponden a 2013 pues son los últimos disponibles","Nota: Los datos corresponden a 2013 pues son los últimos disponibles","Nota: Los datos corresponden a 2013 pues son los últimos disponibles","Nota: Los datos corresponden a 2013 pues son los últimos disponibles","Nota: Los datos corresponden a 2013 pues son los últimos disponibles","Nota: Los datos corresponden a 2013 pues son los últimos disponibles","Nota: Los datos corresponden a 2013 pues son los últimos disponibles","Nota: Los datos corresponden a 2013 pues son los últimos disponibles","Nota: Los datos corresponden a 2013 pues son los últimos disponibles","Nota: Los datos corresponden a 2013 pues son los últimos disponibles","Nota: Los datos corresponden a 2013 pues son los últimos disponibles","Nota: Los datos corresponden a 2013 pues son los últimos disponibles","Nota: Los datos corresponden a 2013 pues son los últimos disponibles","Nota: Los datos corresponden a 2013 pues son los últimos disponibles","Nota: Los datos corresponden a 2013 pues son los últimos disponibles","Nota: Los datos corresponden a 2013 pues son los últimos disponibles","Nota: Los datos corresponden a 2013 pues son los últimos disponibles","Nota: Los datos corresponden a 2013 pues son los últimos disponibles","Nota: Los datos corresponden a 2013 pues son los últimos disponibles","Nota: Los datos corresponden a 2013 pues son los últimos disponibles","Nota: Los datos corresponden a 2013 pues son los últimos disponibles","Nota: Los datos corresponden a 2013 pues son los últimos disponibles","Nota: Los datos corresponden a 2013 pues son los últimos disponibles","Nota: Los datos corresponden a 2013 pues son los últimos disponibles","Nota: Los datos corresponden a 2013 pues son los últimos disponibles","Nota: Los datos corresponden a 2013 pues son los últimos disponibles","Nota: Los datos corresponden a 2013 pues son los últimos disponibles","Nota: Los datos corresponden a 2013 pues son los últimos disponibles","Nota: Los datos corresponden a 2013 pues son los últimos disponibles","Nota: Los datos corresponden a 2013 pues son los últimos disponibles","Nota: Los datos corresponden a 2013 pues son los últimos disponibles","Nota: Los datos corresponden a 2013 pues son los últimos disponibles","Nota: Los datos corresponden a 2013 pues son los últimos disponibles","Nota: Los datos corresponden a 2013 pues son los últimos disponibles","Nota: Los datos corresponden a 2013 pues son los últimos disponibles","Nota: Los datos corresponden a 2013 pues son los últimos disponibles","Nota: Los datos corresponden a 2013 pues son los últimos disponibles","Nota: Los datos corresponden a 2013 pues son los últimos disponibles","Nota: Los datos corresponden a 2013 pues son los últimos disponibles","Nota: Los datos corresponden a 2013 pues son los últimos disponibles","Nota: Los datos corresponden a 2013 pues son los últimos disponibles","Nota: Los datos corresponden a 2013 pues son los últimos disponibles","Nota: Los datos corresponden a 2013 pues son los últimos disponibles","Nota: Los datos corresponden a 2013 pues son los últimos disponibles","Nota: Los datos corresponden a 2013 pues son los últimos disponibles","Nota: Los datos corresponden a 2013 pues son los últimos disponibles","Nota: Los datos corresponden a 2013 pues son los últimos disponibles","Nota: Los datos corresponden a 2013 pues son los últimos disponibles","Nota: Los datos corresponden a 2013 pues son los últimos disponibles","Nota: Los datos corresponden a 2013 pues son los últimos disponibles","Nota: Los datos corresponden a 2013 pues son los últimos disponibles","Nota: Los datos corresponden a 2013 pues son los últimos disponibles","Nota: Los datos corresponden a 2013 pues son los últimos disponibles","Nota: Los datos corresponden a 2013 pues son los últimos disponibles","Nota: Los datos corresponden a 2013 pues son los últimos disponibles","Nota: Los datos corresponden a 2013 pues son los últimos disponibles","Nota: Los datos corresponden a 2013 pues son los últimos disponibles","Nota: Los datos corresponden a 2013 pues son los últimos disponibles","Nota: Los datos corresponden a 2013 pues son los últimos disponibles","Nota: Los datos corresponden a 2013 pues son los últimos disponibles","Nota: Los datos corresponden a 2013 pues son los últimos disponibles","Nota: Los datos corresponden a 2013 pues son los últimos disponibles","Nota: Los datos corresponden a 2013 pues son los últimos disponibles","Nota: Los datos corresponden a 2013 pues son los últimos disponibles","Nota: Los datos corresponden a 2013 pues son los últimos disponibles","Nota: Los datos corresponden a 2013 pues son los últimos disponibles","Nota: Los datos corresponden a 2013 pues son los últimos disponibles","Nota: Los datos corresponden a 2013 pues son los últimos disponibles","Nota: Los datos corresponden a 2013 pues son los últimos disponibles","Nota: Los datos corresponden a 2013 pues son los últimos disponibles","Nota: Los datos corresponden a 2013 pues son los últimos disponibles","Nota: Los datos corresponden a 2013 pues son los últimos disponibles","Nota: Los datos corresponden a 2013 pues son los últimos disponibles","Nota: Los datos corresponden a 2013 pues son los últimos disponibles","Nota: Los datos corresponden a 2013 pues son los últimos disponibles","Nota: Los datos corresponden a 2013 pues son los últimos disponibles","Nota: Los datos corresponden a 2013 pues son los últimos disponibles","Nota: Los datos corresponden a 2013 pues son los últimos disponibles","Nota: Los datos corresponden a 2013 pues son los últimos disponibles","Nota: Los datos corresponden a 2013 pues son los últimos disponibles","Nota: Los datos corresponden a 2013 pues son los últimos disponibles","Nota: Los datos corresponden a 2013 pues son los últimos disponibles","Nota: Los datos corresponden a 2013 pues son los últimos disponibles","Nota: Los datos corresponden a 2013 pues son los últimos disponibles","Nota: Los datos corresponden a 2013 pues son los últimos disponibles","Nota: Los datos corresponden a 2013 pues son los últimos disponibles","Nota: Los datos corresponden a 2013 pues son los últimos disponibles","Nota: Los datos corresponden a 2013 pues son los últimos disponibles","Nota: Los datos corresponden a 2013 pues son los últimos disponibles","Nota: Los datos corresponden a 2013 pues son los últimos disponibles","Nota: Los datos corresponden a 2013 pues son los últimos disponibles","Nota: Los datos corresponden a 2013 pues son los últimos disponibles","Nota: Los datos corresponden a 2013 pues son los últimos disponibles","Nota: Los datos corresponden a 2013 pues son los últimos disponibles","Nota: Los datos corresponden a 2013 pues son los últimos disponibles","Nota: Los datos corresponden a 2013 pues son los últimos disponibles","Nota: Los datos corresponden a 2013 pues son los últimos disponibles","Nota: Los datos corresponden a 2013 pues son los últimos disponibles","Nota: Los datos corresponden a 2013 pues son los últimos disponibles","Nota: Los datos corresponden a 2013 pues son los últimos disponibles","Nota: Los datos corresponden a 2013 pues son los últimos disponibles","Nota: Los datos corresponden a 2013 pues son los últimos disponibles","Nota: Los datos corresponden a 2013 pues son los últimos disponibles","Nota: Los datos corresponden a 2013 pues son los últimos disponibles","Nota: Los datos corresponden a 2013 pues son los últimos disponibles","Nota: Los datos corresponden a 2013 pues son los últimos disponibles","Nota: Los datos corresponden a 2013 pues son los últimos disponibles","Nota: Los datos corresponden a 2013 pues son los últimos disponibles","Nota: Los datos corresponden a 2013 pues son los últimos disponibles","Nota: Los datos corresponden a 2013 pues son los últimos disponibles","Nota: Los datos corresponden a 2013 pues son los últimos disponibles","Nota: Los datos corresponden a 2013 pues son los últimos disponibles","Nota: Los datos corresponden a 2013 pues son los últimos disponibles","Nota: Los datos corresponden a 2013 pues son los últimos disponibles","Nota: Los datos corresponden a 2013 pues son los últimos disponibles","Nota: Los datos corresponden a 2013 pues son los últimos disponibles","Nota: Los datos corresponden a 2013 pues son los últimos disponibles","Nota: Los datos corresponden a 2013 pues son los últimos disponibles","Nota: Los datos corresponden a 2013 pues son los últimos disponibles","Nota: Los datos corresponden a 2013 pues son los últimos disponibles","Nota: Los datos corresponden a 2013 pues son los últimos disponibles","Nota: Los datos corresponden a 2013 pues son los últimos disponibles","Nota: Los datos corresponden a 2013 pues son los últimos disponibles","Nota: Los datos corresponden a 2013 pues son los últimos disponibles","Nota: Los datos corresponden a 2013 pues son los últimos disponibles","Nota: Los datos corresponden a 2013 pues son los últimos disponibles","Nota: Los datos corresponden a 2013 pues son los últimos disponibles","Nota: Los datos corresponden a 2013 pues son los últimos disponibles","Nota: Los datos corresponden a 2013 pues son los últimos disponibles","Nota: Los datos corresponden a 2013 pues son los últimos disponibles","Nota: Los datos corresponden a 2013 pues son los últimos disponibles","Nota: Los datos corresponden a 2013 pues son los últimos disponibles","Nota: Los datos corresponden a 2013 pues son los últimos disponibles","Nota: Los datos corresponden a 2013 pues son los últimos disponibles","Nota: Los datos corresponden a 2013 pues son los últimos disponibles","Nota: Los datos corresponden a 2013 pues son los últimos disponibles","Nota: Los datos corresponden a 2013 pues son los últimos disponibles","Nota: Los datos corresponden a 2013 pues son los últimos disponibles","Nota: Los datos corresponden a 2013 pues son los últimos disponibles","Nota: Los datos corresponden a 2013 pues son los últimos disponibles","Nota: Los datos corresponden a 2013 pues son los últimos disponibles","Nota: Los datos corresponden a 2013 pues son los últimos disponibles","Nota: Los datos corresponden a 2013 pues son los últimos disponibles","Nota: Los datos corresponden a 2013 pues son los últimos disponibles","Nota: Los datos corresponden a 2013 pues son los últimos disponibles","Nota: Los datos corresponden a 2013 pues son los últimos disponibles","Nota: Los datos corresponden a 2013 pues son los últimos disponibles","Nota: Los datos corresponden a 2013 pues son los últimos disponibles","Nota: Los datos corresponden a 2013 pues son los últimos disponibles","Nota: Los datos corresponden a 2013 pues son los últimos disponibles","Nota: Los datos corresponden a 2013 pues son los últimos disponibles","Nota: Los datos corresponden a 2013 pues son los últimos disponibles","Nota: Los datos corresponden a 2013 pues son los últimos disponibles","Nota: Los datos corresponden a 2013 pues son los últimos disponibles","Nota: Los datos corresponden a 2013 pues son los últimos disponibles","Nota: Los datos corresponden a 2013 pues son los últimos disponibles","Nota: Los datos corresponden a 2013 pues son los últimos disponibles","Nota: Los datos corresponden a 2013 pues son los últimos disponibles","Nota: Los datos corresponden a 2013 pues son los últimos disponibles","Nota: Los datos corresponden a 2013 pues son los últimos disponibles","Nota: Los datos corresponden a 2013 pues son los últimos disponibles","Nota: Los datos corresponden a 2013 pues son los últimos disponibles","Nota: Los datos corresponden a 2013 pues son los últimos disponibles","Nota: Los datos corresponden a 2013 pues son los últimos disponibles","Nota: Los datos corresponden a 2013 pues son los últimos disponibles","Nota: Los datos corresponden a 2013 pues son los últimos disponibles","Nota: Los datos corresponden a 2013 pues son los últimos disponibles","Nota: Los datos corresponden a 2013 pues son los últimos disponibles","Nota: Los datos corresponden a 2013 pues son los últimos disponibles","Nota: Los datos corresponden a 2013 pues son los últimos disponibles","Nota: Los datos corresponden a 2013 pues son los últimos disponibles","Nota: Los datos corresponden a 2013 pues son los últimos disponibles","Nota: Los datos corresponden a 2013 pues son los últimos disponibles","Nota: Los datos corresponden a 2013 pues son los últimos disponibles","Nota: Los datos corresponden a 2013 pues son los últimos disponibles","Nota: Los datos corresponden a 2013 pues son los últimos disponibles","Nota: Los datos corresponden a 2013 pues son los últimos disponibles","Nota: Los datos corresponden a 2013 pues son los últimos disponibles","Nota: Los datos corresponden a 2013 pues son los últimos disponibles","Nota: Los datos corresponden a 2013 pues son los últimos disponibles","Nota: Los datos corresponden a 2013 pues son los últimos disponibles","Nota: Los datos corresponden a 2013 pues son los últimos disponibles","Nota: Los datos corresponden a 2013 pues son los últimos disponibles","Nota: Los datos corresponden a 2013 pues son los últimos disponibles","Nota: Los datos corresponden a 2013 pues son los últimos disponibles","Nota: Los datos corresponden a 2013 pues son los últimos disponibles","Nota: Los datos corresponden a 2013 pues son los últimos disponibles","Nota: Los datos corresponden a 2013 pues son los últimos disponibles","Nota: Los datos corresponden a 2013 pues son los últimos disponibles","Nota: Los datos corresponden a 2013 pues son los últimos disponibles","Nota: Los datos corresponden a 2013 pues son los últimos disponibles","Nota: Los datos corresponden a 2013 pues son los últimos disponibles","Nota: Los datos corresponden a 2013 pues son los últimos disponibles","Nota: Los datos corresponden a 2013 pues son los últimos disponibles","Nota: Los datos corresponden a 2013 pues son los últimos disponibles","Nota: Los datos corresponden a 2013 pues son los últimos disponibles","Nota: Los datos corresponden a 2013 pues son los últimos disponibles","Nota: Los datos corresponden a 2013 pues son los últimos disponibles","Nota: Los datos corresponden a 2013 pues son los últimos disponibles","Nota: Los datos corresponden a 2013 pues son los últimos disponibles","Nota: Los datos corresponden a 2013 pues son los últimos disponibles","Nota: Los datos corresponden a 2013 pues son los últimos disponibles","Nota: Los datos corresponden a 2013 pues son los últimos disponibles","Nota: Los datos corresponden a 2013 pues son los últimos disponibles","Nota: Los datos corresponden a 2013 pues son los últimos disponibles","Nota: Los datos corresponden a 2013 pues son los últimos disponibles","Nota: Los datos corresponden a 2013 pues son los últimos disponibles","Nota: Los datos corresponden a 2013 pues son los últimos disponibles","Nota: Los datos corresponden a 2013 pues son los últimos disponibles","Nota: Los datos corresponden a 2013 pues son los últimos disponibles","Nota: Los datos corresponden a 2013 pues son los últimos disponibles","Nota: Los datos corresponden a 2013 pues son los últimos disponibles","Nota: Los datos corresponden a 2013 pues son los últimos disponibles","Nota: Los datos corresponden a 2013 pues son los últimos disponibles","Nota: Los datos corresponden a 2013 pues son los últimos disponibles","Nota: Los datos corresponden a 2013 pues son los últimos disponibles","Nota: Los datos corresponden a 2013 pues son los últimos disponibles","Nota: Los datos corresponden a 2013 pues son los últimos disponibles","Nota: Los datos corresponden a 2013 pues son los últimos disponibles","Nota: Los datos corresponden a 2013 pues son los últimos disponibles","Nota: Los datos corresponden a 2013 pues son los últimos disponibles","Nota: Los datos corresponden a 2013 pues son los últimos disponibles","Nota: Los datos corresponden a 2013 pues son los últimos disponibles","Nota: Los datos corresponden a 2013 pues son los últimos disponibles","Nota: Los datos corresponden a 2013 pues son los últimos disponibles","Nota: Los datos corresponden a 2013 pues son los últimos disponibles","Nota: Los datos corresponden a 2013 pues son los últimos disponibles","Nota: Los datos corresponden a 2013 pues son los últimos disponibles","Nota: Los datos corresponden a 2013 pues son los últimos disponibles","Nota: Los datos corresponden a 2013 pues son los últimos disponibles","Nota: Los datos corresponden a 2013 pues son los últimos disponibles","Nota: Los datos corresponden a 2013 pues son los últimos disponibles","Nota: Los datos corresponden a 2013 pues son los últimos disponibles","Nota: Los datos corresponden a 2013 pues son los últimos disponibles","Nota: Los datos corresponden a 2013 pues son los últimos disponibles","Nota: Los datos corresponden a 2013 pues son los últimos disponibles","Nota: Los datos corresponden a 2013 pues son los últimos disponibles","Nota: Los datos corresponden a 2013 pues son los últimos disponibles","Nota: Los datos corresponden a 2013 pues son los últimos disponibles","Nota: Los datos corresponden a 2013 pues son los últimos disponibles","Nota: Los datos corresponden a 2013 pues son los últimos disponibles","Nota: Los datos corresponden a 2013 pues son los últimos disponibles","Nota: Los datos corresponden a 2013 pues son los últimos disponibles","Nota: Los datos corresponden a 2013 pues son los últimos disponibles","Nota: Los datos corresponden a 2013 pues son los últimos disponibles","Nota: Los datos corresponden a 2013 pues son los últimos disponibles","Nota: Los datos corresponden a 2013 pues son los últimos disponibles","Nota: Los datos corresponden a 2013 pues son los últimos disponibles","Nota: Los datos corresponden a 2013 pues son los últimos disponibles","Nota: Los datos corresponden a 2013 pues son los últimos disponibles","Nota: Los datos corresponden a 2013 pues son los últimos disponibles","Nota: Los datos corresponden a 2013 pues son los últimos disponibles","Nota: Los datos corresponden a 2013 pues son los últimos disponibles","Nota: Los datos corresponden a 2013 pues son los últimos disponibles","Nota: Los datos corresponden a 2013 pues son los últimos disponibles","Nota: Los datos corresponden a 2013 pues son los últimos disponibles","Nota: Los datos corresponden a 2013 pues son los últimos disponibles","Nota: Los datos corresponden a 2013 pues son los últimos disponibles","Nota: Los datos corresponden a 2013 pues son los últimos disponibles","Nota: Los datos corresponden a 2013 pues son los últimos disponibles","Nota: Los datos corresponden a 2013 pues son los últimos disponibles","Nota: Los datos corresponden a 2013 pues son los últimos disponibles","Nota: Los datos corresponden a 2013 pues son los últimos disponibles","Nota: Los datos corresponden a 2013 pues son los últimos disponibles","Nota: Los datos corresponden a 2013 pues son los últimos disponibles","Nota: Los datos corresponden a 2013 pues son los últimos disponibles","Nota: Los datos corresponden a 2013 pues son los últimos disponibles","Nota: Los datos corresponden a 2013 pues son los últimos disponibles","Nota: Los datos corresponden a 2013 pues son los últimos disponibles","Nota: Los datos corresponden a 2013 pues son los últimos disponibles","Nota: Los datos corresponden a 2013 pues son los últimos disponibles","Nota: Los datos corresponden a 2013 pues son los últimos disponibles","Nota: Los datos corresponden a 2013 pues son los últimos disponibles","Nota: Los datos corresponden a 2013 pues son los últimos disponibles","Nota: Los datos corresponden a 2013 pues son los últimos disponibles","Nota: Los datos corresponden a 2013 pues son los últimos disponibles","Nota: Los datos corresponden a 2013 pues son los últimos disponibles","Nota: Los datos corresponden a 2013 pues son los últimos disponibles","Nota: Los datos corresponden a 2013 pues son los últimos disponibles","Nota: Los datos corresponden a 2013 pues son los últimos disponibles","Nota: Los datos corresponden a 2013 pues son los últimos disponibles","Nota: Los datos corresponden a 2013 pues son los últimos disponibles","Nota: Los datos corresponden a 2013 pues son los últimos disponibles","Nota: Los datos corresponden a 2013 pues son los últimos disponibles","Nota: Los datos corresponden a 2013 pues son los últimos disponibles","Nota: Los datos corresponden a 2013 pues son los últimos disponibles","Nota: Los datos corresponden a 2013 pues son los últimos disponibles","Nota: Los datos corresponden a 2013 pues son los últimos disponibles","Nota: Los datos corresponden a 2013 pues son los últimos disponibles","Nota: Los datos corresponden a 2013 pues son los últimos disponibles","Nota: Los datos corresponden a 2013 pues son los últimos disponibles","Nota: Los datos corresponden a 2013 pues son los últimos disponibles","Nota: Los datos corresponden a 2013 pues son los últimos disponibles","Nota: Los datos corresponden a 2013 pues son los últimos disponibles","Nota: Los datos corresponden a 2013 pues son los últimos disponibles","Nota: Los datos corresponden a 2013 pues son los últimos disponibles","Nota: Los datos corresponden a 2013 pues son los últimos disponibles","Nota: Los datos corresponden a 2013 pues son los últimos disponibles","Nota: Los datos corresponden a 2013 pues son los últimos disponibles","Nota: Los datos corresponden a 2013 pues son los últimos disponibles","Nota: Los datos corresponden a 2013 pues son los últimos disponibles","Nota: Los datos corresponden a 2013 pues son los últimos disponibles","Nota: Los datos corresponden a 2013 pues son los últimos disponibles","Nota: Los datos corresponden a 2013 pues son los últimos disponibles","Nota: Los datos corresponden a 2013 pues son los últimos disponibles","Nota: Los datos corresponden a 2013 pues son los últimos disponibles","Nota: Los datos corresponden a 2013 pues son los últimos disponibles","Nota: Los datos corresponden a 2013 pues son los últimos disponibles","Nota: Los datos corresponden a 2013 pues son los últimos disponibles","Nota: Los datos corresponden a 2013 pues son los últimos disponibles","Nota: Los datos corresponden a 2013 pues son los últimos disponibles","Nota: Los datos corresponden a 2013 pues son los últimos disponibles","Nota: Los datos corresponden a 2013 pues son los últimos disponibles","Nota: Los datos corresponden a 2013 pues son los últimos disponibles","Nota: Los datos corresponden a 2013 pues son los últimos disponibles","Nota: Los datos corresponden a 2013 pues son los últimos disponibles","Nota: Los datos corresponden a 2013 pues son los últimos disponibles","Nota: Los datos corresponden a 2013 pues son los últimos disponibles","Nota: Los datos corresponden a 2013 pues son los últimos disponibles","Nota: Los datos corresponden a 2013 pues son los últimos disponibles","Nota: Los datos corresponden a 2013 pues son los últimos disponibles","Nota: Los datos corresponden a 2013 pues son los últimos disponibles","Nota: Los datos corresponden a 2013 pues son los últimos disponibles","Nota: Los datos corresponden a 2013 pues son los últimos disponibles","Nota: Los datos corresponden a 2013 pues son los últimos disponibles","Nota: Los datos corresponden a 2013 pues son los últimos disponibles","Nota: Los datos corresponden a 2013 pues son los últimos disponibles","Nota: Los datos corresponden a 2013 pues son los últimos disponibles","Nota: Los datos corresponden a 2013 pues son los últimos disponibles","Nota: Los datos corresponden a 2013 pues son los últimos disponibles","Nota: Los datos corresponden a 2013 pues son los últimos disponibles","Nota: Los datos corresponden a 2013 pues son los últimos disponibles","Nota: Los datos corresponden a 2013 pues son los últimos disponibles","Nota: Los datos corresponden a 2013 pues son los últimos disponibles","Nota: Los datos corresponden a 2013 pues son los últimos disponibles","Nota: Los datos corresponden a 2013 pues son los últimos disponibles","Nota: Los datos corresponden a 2013 pues son los últimos disponibles","Nota: Los datos corresponden a 2013 pues son los últimos disponibles","Nota: Los datos corresponden a 2013 pues son los últimos disponibles","Nota: Los datos corresponden a 2013 pues son los últimos disponibles","Nota: Los datos corresponden a 2013 pues son los últimos disponibles","Nota: Los datos corresponden a 2013 pues son los últimos disponibles","Nota: Los datos corresponden a 2013 pues son los últimos disponibles","Nota: Los datos corresponden a 2013 pues son los últimos disponibles","Nota: Los datos corresponden a 2013 pues son los últimos disponibles","Nota: Los datos corresponden a 2013 pues son los últimos disponibles","Nota: Los datos corresponden a 2013 pues son los últimos disponibles","Nota: Los datos corresponden a 2013 pues son los últimos disponibles","Nota: Los datos corresponden a 2013 pues son los últimos disponibles","Nota: Los datos corresponden a 2013 pues son los últimos disponibles","Nota: Los datos corresponden a 2013 pues son los últimos disponibles","Nota: Los datos corresponden a 2013 pues son los últimos disponibles","Nota: Los datos corresponden a 2013 pues son los últimos disponibles","Nota: Los datos corresponden a 2013 pues son los últimos disponibles","Nota: Los datos corresponden a 2013 pues son los últimos disponibles","Nota: Los datos corresponden a 2013 pues son los últimos disponibles","Nota: Los datos corresponden a 2013 pues son los últimos disponibles","Nota: Los datos corresponden a 2013 pues son los últimos disponibles","Nota: Los datos corresponden a 2013 pues son los últimos disponibles","Nota: Los datos corresponden a 2013 pues son los últimos disponibles","Nota: Los datos corresponden a 2013 pues son los últimos disponibles","Nota: Los datos corresponden a 2013 pues son los últimos disponibles","Nota: Los datos corresponden a 2013 pues son los últimos disponibles","Nota: Los datos corresponden a 2013 pues son los últimos disponibles","Nota: Los datos corresponden a 2013 pues son los últimos disponibles","Nota: Los datos corresponden a 2013 pues son los últimos disponibles","Nota: Los datos corresponden a 2013 pues son los últimos disponibles","Nota: Los datos corresponden a 2013 pues son los últimos disponibles","Nota: Los datos corresponden a 2013 pues son los últimos disponibles","Nota: Los datos corresponden a 2013 pues son los últimos disponibles","Nota: Los datos corresponden a 2013 pues son los últimos disponibles","Nota: Los datos corresponden a 2013 pues son los últimos disponibles","Nota: Los datos corresponden a 2013 pues son los últimos disponibles","Nota: Los datos corresponden a 2013 pues son los últimos disponibles","Nota: Los datos corresponden a 2013 pues son los últimos disponibles","Nota: Los datos corresponden a 2013 pues son los últimos disponibles","Nota: Los datos corresponden a 2013 pues son los últimos disponibles","Nota: Los datos corresponden a 2013 pues son los últimos disponibles","Nota: Los datos corresponden a 2013 pues son los últimos disponibles","Nota: Los datos corresponden a 2013 pues son los últimos disponibles","Nota: Los datos corresponden a 2013 pues son los últimos disponibles","Nota: Los datos corresponden a 2013 pues son los últimos disponibles","Nota: Los datos corresponden a 2013 pues son los últimos disponibles","Nota: Los datos corresponden a 2013 pues son los últimos disponibles","Nota: Los datos corresponden a 2013 pues son los últimos disponibles","Nota: Los datos corresponden a 2013 pues son los últimos disponibles","Nota: Los datos corresponden a 2013 pues son los últimos disponibles","Nota: Los datos corresponden a 2013 pues son los últimos disponibles","Nota: Los datos corresponden a 2013 pues son los últimos disponibles","Nota: Los datos corresponden a 2013 pues son los últimos disponibles","Nota: Los datos corresponden a 2013 pues son los últimos disponibles","Nota: Los datos corresponden a 2013 pues son los últimos disponibles","Nota: Los datos corresponden a 2013 pues son los últimos disponibles","Nota: Los datos corresponden a 2013 pues son los últimos disponibles","Nota: Los datos corresponden a 2013 pues son los últimos disponibles","Nota: Los datos corresponden a 2013 pues son los últimos disponibles","Nota: Los datos corresponden a 2013 pues son los últimos disponibles","Nota: Los datos corresponden a 2013 pues son los últimos disponibles","Nota: Los datos corresponden a 2013 pues son los últimos disponibles","Nota: Los datos corresponden a 2013 pues son los últimos disponibles","Nota: Los datos corresponden a 2013 pues son los últimos disponibles","Nota: Los datos corresponden a 2013 pues son los últimos disponibles","Nota: Los datos corresponden a 2013 pues son los últimos disponibles","Nota: Los datos corresponden a 2013 pues son los últimos disponibles","Nota: Los datos corresponden a 2013 pues son los últimos disponibles","Nota: Los datos corresponden a 2013 pues son los últimos disponibles","Nota: Los datos corresponden a 2013 pues son los últimos disponibles","Nota: Los datos corresponden a 2013 pues son los últimos disponibles","Nota: Los datos corresponden a 2013 pues son los últimos disponibles","Nota: Los datos corresponden a 2013 pues son los últimos disponibles","Nota: Los datos corresponden a 2013 pues son los últimos disponibles","Nota: Los datos corresponden a 2013 pues son los últimos disponibles","Nota: Los datos corresponden a 2013 pues son los últimos disponibles","Nota: Los datos corresponden a 2013 pues son los últimos disponibles","Nota: Los datos corresponden a 2013 pues son los últimos disponibles","Nota: Los datos corresponden a 2013 pues son los últimos disponibles","Nota: Los datos corresponden a 2013 pues son los últimos disponibles","Nota: Los datos corresponden a 2013 pues son los últimos disponibles","Nota: Los datos corresponden a 2013 pues son los últimos disponibles","Nota: Los datos corresponden a 2013 pues son los últimos disponibles","Nota: Los datos corresponden a 2013 pues son los últimos disponibles","Nota: Los datos corresponden a 2013 pues son los últimos disponibles","Nota: Los datos corresponden a 2013 pues son los últimos disponibles","Nota: Los datos corresponden a 2013 pues son los últimos disponibles","Nota: Los datos corresponden a 2013 pues son los últimos disponibles","Nota: Los datos corresponden a 2013 pues son los últimos disponibles","Nota: Los datos corresponden a 2013 pues son los últimos disponibles","Nota: Los datos corresponden a 2013 pues son los últimos disponibles","Nota: Los datos corresponden a 2013 pues son los últimos disponibles","Nota: Los datos corresponden a 2013 pues son los últimos disponibles","Nota: Los datos corresponden a 2013 pues son los últimos disponibles","Nota: Los datos corresponden a 2013 pues son los últimos disponibles","Nota: Los datos corresponden a 2013 pues son los últimos disponibles","Nota: Los datos corresponden a 2013 pues son los últimos disponibles","Nota: Los datos corresponden a 2013 pues son los últimos disponibles","Nota: Los datos corresponden a 2013 pues son los últimos disponibles","Nota: Los datos corresponden a 2013 pues son los últimos disponibles","Nota: Los datos corresponden a 2013 pues son los últimos disponibles","Nota: Los datos corresponden a 2013 pues son los últimos disponibles","Nota: Los datos corresponden a 2013 pues son los últimos disponibles","Nota: Los datos corresponden a 2013 pues son los últimos disponibles","Nota: Los datos corresponden a 2013 pues son los últimos disponibles","Nota: Los datos corresponden a 2013 pues son los últimos disponibles","Nota: Los datos corresponden a 2013 pues son los últimos disponibles","Nota: Los datos corresponden a 2013 pues son los últimos disponibles","Nota: Los datos corresponden a 2013 pues son los últimos disponibles","Nota: Los datos corresponden a 2013 pues son los últimos disponibles","Nota: Los datos corresponden a 2013 pues son los últimos disponibles","Nota: Los datos corresponden a 2013 pues son los últimos disponibles","Nota: Los datos corresponden a 2013 pues son los últimos disponibles","Nota: Los datos corresponden a 2013 pues son los últimos disponibles","Nota: Los datos corresponden a 2013 pues son los últimos disponibles","Nota: Los datos corresponden a 2013 pues son los últimos disponibles","Nota: Los datos corresponden a 2013 pues son los últimos disponibles","Nota: Los datos corresponden a 2013 pues son los últimos disponibles","Nota: Los datos corresponden a 2013 pues son los últimos disponibles","Nota: Los datos corresponden a 2013 pues son los últimos disponibles","Nota: Los datos corresponden a 2013 pues son los últimos disponibles","Nota: Los datos corresponden a 2013 pues son los últimos disponibles","Nota: Los datos corresponden a 2013 pues son los últimos disponibles","Nota: Los datos corresponden a 2013 pues son los últimos disponibles","Nota: Los datos corresponden a 2013 pues son los últimos disponibles","Nota: Los datos corresponden a 2013 pues son los últimos disponibles","Nota: Los datos corresponden a 2013 pues son los últimos disponibles","Nota: Los datos corresponden a 2013 pues son los últimos disponibles","Nota: Los datos corresponden a 2013 pues son los últimos disponibles","Nota: Los datos corresponden a 2013 pues son los últimos disponibles","Nota: Los datos corresponden a 2013 pues son los últimos disponibles","Nota: Los datos corresponden a 2013 pues son los últimos disponibles","Nota: Los datos corresponden a 2013 pues son los últimos disponibles","Nota: Los datos corresponden a 2013 pues son los últimos disponibles","Nota: Los datos corresponden a 2013 pues son los últimos disponibles","Nota: Los datos corresponden a 2013 pues son los últimos disponibles","Nota: Los datos corresponden a 2013 pues son los últimos disponibles","Nota: Los datos corresponden a 2013 pues son los últimos disponibles","Nota: Los datos corresponden a 2013 pues son los últimos disponibles","Nota: Los datos corresponden a 2013 pues son los últimos disponibles","Nota: Los datos corresponden a 2013 pues son los últimos disponibles","Nota: Los datos corresponden a 2013 pues son los últimos disponibles","Nota: Los datos corresponden a 2013 pues son los últimos disponibles","Nota: Los datos corresponden a 2013 pues son los últimos disponibles","Nota: Los datos corresponden a 2013 pues son los últimos disponibles","Nota: Los datos corresponden a 2013 pues son los últimos disponibles","Nota: Los datos corresponden a 2013 pues son los últimos disponibles","Nota: Los datos corresponden a 2013 pues son los últimos disponibles","Nota: Los datos corresponden a 2013 pues son los últimos disponibles","Nota: Los datos corresponden a 2013 pues son los últimos disponibles","Nota: Los datos corresponden a 2013 pues son los últimos disponibles","Nota: Los datos corresponden a 2013 pues son los últimos disponibles","Nota: Los datos corresponden a 2013 pues son los últimos disponibles","Nota: Los datos corresponden a 2013 pues son los últimos disponibles","Nota: Los datos corresponden a 2013 pues son los últimos disponibles","Nota: Los datos corresponden a 2013 pues son los últimos disponibles","Nota: Los datos corresponden a 2013 pues son los últimos disponibles","Nota: Los datos corresponden a 2013 pues son los últimos disponibles","Nota: Los datos corresponden a 2013 pues son los últimos disponibles","Nota: Los datos corresponden a 2013 pues son los últimos disponibles","Nota: Los datos corresponden a 2013 pues son los últimos disponibles","Nota: Los datos corresponden a 2013 pues son los últimos disponibles","Nota: Los datos corresponden a 2013 pues son los últimos disponibles","Nota: Los datos corresponden a 2013 pues son los últimos disponibles","Nota: Los datos corresponden a 2013 pues son los últimos disponibles","Nota: Los datos corresponden a 2013 pues son los últimos disponibles","Nota: Los datos corresponden a 2013 pues son los últimos disponibles","Nota: Los datos corresponden a 2013 pues son los últimos disponibles","Nota: Los datos corresponden a 2013 pues son los últimos disponibles","Nota: Los datos corresponden a 2013 pues son los últimos disponibles","Nota: Los datos corresponden a 2013 pues son los últimos disponibles","Nota: Los datos corresponden a 2013 pues son los últimos disponibles","Nota: Los datos corresponden a 2013 pues son los últimos disponibles","Nota: Los datos corresponden a 2013 pues son los últimos disponibles","Nota: Los datos corresponden a 2013 pues son los últimos disponibles","Nota: Los datos corresponden a 2013 pues son los últimos disponibles","Nota: Los datos corresponden a 2013 pues son los últimos disponibles","Nota: Los datos corresponden a 2013 pues son los últimos disponibles","Nota: Los datos corresponden a 2013 pues son los últimos disponibles","Nota: Los datos corresponden a 2013 pues son los últimos disponibles","Nota: Los datos corresponden a 2013 pues son los últimos disponibles","Nota: Los datos corresponden a 2013 pues son los últimos disponibles","Nota: Los datos corresponden a 2013 pues son los últimos disponibles","Nota: Los datos corresponden a 2013 pues son los últimos disponibles","Nota: Los datos corresponden a 2013 pues son los últimos disponibles","Nota: Los datos corresponden a 2013 pues son los últimos disponibles","Nota: Los datos corresponden a 2013 pues son los últimos disponibles","Nota: Los datos corresponden a 2013 pues son los últimos disponibles","Nota: Los datos corresponden a 2013 pues son los últimos disponibles","Nota: Los datos corresponden a 2013 pues son los últimos disponibles","Nota: Los datos corresponden a 2013 pues son los últimos disponibles","Nota: Los datos corresponden a 2013 pues son los últimos disponibles","Nota: Los datos corresponden a 2013 pues son los últimos disponibles","Nota: Los datos corresponden a 2013 pues son los últimos disponibles","Nota: Los datos corresponden a 2013 pues son los últimos disponibles","Nota: Los datos corresponden a 2013 pues son los últimos disponibles","Nota: Los datos corresponden a 2013 pues son los últimos disponibles","Nota: Los datos corresponden a 2013 pues son los últimos disponibles","Nota: Los datos corresponden a 2013 pues son los últimos disponibles","Nota: Los datos corresponden a 2013 pues son los últimos disponibles","Nota: Los datos corresponden a 2013 pues son los últimos disponibles","Nota: Los datos corresponden a 2013 pues son los últimos disponibles","Nota: Los datos corresponden a 2013 pues son los últimos disponibles","Nota: Los datos corresponden a 2013 pues son los últimos disponibles","Nota: Los datos corresponden a 2013 pues son los últimos disponibles","Nota: Los datos corresponden a 2013 pues son los últimos disponibles","Nota: Los datos corresponden a 2013 pues son los últimos disponibles","Nota: Los datos corresponden a 2013 pues son los últimos disponibles","Nota: Los datos corresponden a 2013 pues son los últimos disponibles","Nota: Los datos corresponden a 2013 pues son los últimos disponibles","Nota: Los datos corresponden a 2013 pues son los últimos disponibles","Nota: Los datos corresponden a 2013 pues son los últimos disponibles","Nota: Los datos corresponden a 2013 pues son los últimos disponibles","Nota: Los datos corresponden a 2013 pues son los últimos disponibles","Nota: Los datos corresponden a 2013 pues son los últimos disponibles","Nota: Los datos corresponden a 2013 pues son los últimos disponibles","Nota: Los datos corresponden a 2013 pues son los últimos disponibles","Nota: Los datos corresponden a 2013 pues son los últimos disponibles","Nota: Los datos corresponden a 2013 pues son los últimos disponibles","Nota: Los datos corresponden a 2013 pues son los últimos disponibles","Nota: Los datos corresponden a 2013 pues son los últimos disponibles","Nota: Los datos corresponden a 2013 pues son los últimos disponibles","Nota: Los datos corresponden a 2013 pues son los últimos disponibles","Nota: Los datos corresponden a 2013 pues son los últimos disponibles","Nota: Los datos corresponden a 2013 pues son los últimos disponibles","Nota: Los datos corresponden a 2013 pues son los últimos disponibles","Nota: Los datos corresponden a 2013 pues son los últimos disponibles","Nota: Los datos corresponden a 2013 pues son los últimos disponibles","Nota: Los datos corresponden a 2013 pues son los últimos disponibles","Nota: Los datos corresponden a 2013 pues son los últimos disponibles","Nota: Los datos corresponden a 2013 pues son los últimos disponibles","Nota: Los datos corresponden a 2013 pues son los últimos disponibles","Nota: Los datos corresponden a 2013 pues son los últimos disponibles","Nota: Los datos corresponden a 2013 pues son los últimos disponibles","Nota: Los datos corresponden a 2013 pues son los últimos disponibles","Nota: Los datos corresponden a 2013 pues son los últimos disponibles","Nota: Los datos corresponden a 2013 pues son los últimos disponibles","Nota: Los datos corresponden a 2013 pues son los últimos disponibles","Nota: Los datos corresponden a 2013 pues son los últimos disponibles","Nota: Los datos corresponden a 2013 pues son los últimos disponibles","Nota: Los datos corresponden a 2013 pues son los últimos disponibles","Nota: Los datos corresponden a 2013 pues son los últimos disponibles","Nota: Los datos corresponden a 2013 pues son los últimos disponibles","Nota: Los datos corresponden a 2013 pues son los últimos disponibles","Nota: Los datos corresponden a 2013 pues son los últimos disponibles","Nota: Los datos corresponden a 2013 pues son los últimos disponibles","Nota: Los datos corresponden a 2013 pues son los últimos disponibles","Nota: Los datos corresponden a 2013 pues son los últimos disponibles","Nota: Los datos corresponden a 2013 pues son los últimos disponibles","Nota: Los datos corresponden a 2013 pues son los últimos disponibles","Nota: Los datos corresponden a 2013 pues son los últimos disponibles","Nota: Los datos corresponden a 2013 pues son los últimos disponibles","Nota: Los datos corresponden a 2013 pues son los últimos disponibles","Nota: Los datos corresponden a 2013 pues son los últimos disponibles","Nota: Los datos corresponden a 2013 pues son los últimos disponibles","Nota: Los datos corresponden a 2013 pues son los últimos disponibles","Nota: Los datos corresponden a 2013 pues son los últimos disponibles","Nota: Los datos corresponden a 2013 pues son los últimos disponibles","Nota: Los datos corresponden a 2013 pues son los últimos disponibles","Nota: Los datos corresponden a 2013 pues son los últimos disponibles","Nota: Los datos corresponden a 2013 pues son los últimos disponibles","Nota: Los datos corresponden a 2013 pues son los últimos disponibles","Nota: Los datos corresponden a 2013 pues son los últimos disponibles","Nota: Los datos corresponden a 2013 pues son los últimos disponibles","Nota: Los datos corresponden a 2013 pues son los últimos disponibles","Nota: Los datos corresponden a 2013 pues son los últimos disponibles","Nota: Los datos corresponden a 2013 pues son los últimos disponibles","Nota: Los datos corresponden a 2013 pues son los últimos disponibles","Nota: Los datos corresponden a 2013 pues son los últimos disponibles","Nota: Los datos corresponden a 2013 pues son los últimos disponibles","Nota: Los datos corresponden a 2013 pues son los últimos disponibles","Nota: Los datos corresponden a 2013 pues son los últimos disponibles","Nota: Los datos corresponden a 2013 pues son los últimos disponibles","Nota: Los datos corresponden a 2013 pues son los últimos disponibles","Nota: Los datos corresponden a 2013 pues son los últimos disponibles","Nota: Los datos corresponden a 2013 pues son los últimos disponibles","Nota: Los datos corresponden a 2013 pues son los últimos disponibles","Nota: Los datos corresponden a 2013 pues son los últimos disponibles","Nota: Los datos corresponden a 2013 pues son los últimos disponibles","Nota: Los datos corresponden a 2013 pues son los últimos disponibles","Nota: Los datos corresponden a 2013 pues son los últimos disponibles","Nota: Los datos corresponden a 2013 pues son los últimos disponibles","Nota: Los datos corresponden a 2013 pues son los últimos disponibles","Nota: Los datos corresponden a 2013 pues son los últimos disponibles","Nota: Los datos corresponden a 2013 pues son los últimos disponibles","Nota: Los datos corresponden a 2013 pues son los últimos disponibles","Nota: Los datos corresponden a 2013 pues son los últimos disponibles","Nota: Los datos corresponden a 2013 pues son los últimos disponibles","Nota: Los datos corresponden a 2013 pues son los últimos disponibles","Nota: Los datos corresponden a 2013 pues son los últimos disponibles","Nota: Los datos corresponden a 2013 pues son los últimos disponibles","Nota: Los datos corresponden a 2013 pues son los últimos disponibles","Nota: Los datos corresponden a 2013 pues son los últimos disponibles","Nota: Los datos corresponden a 2013 pues son los últimos disponibles","Nota: Los datos corresponden a 2013 pues son los últimos disponibles","Nota: Los datos corresponden a 2013 pues son los últimos disponibles","Nota: Los datos corresponden a 2013 pues son los últimos disponibles","Nota: Los datos corresponden a 2013 pues son los últimos disponibles","Nota: Los datos corresponden a 2013 pues son los últimos disponibles","Nota: Los datos corresponden a 2013 pues son los últimos disponibles","Nota: Los datos corresponden a 2013 pues son los últimos disponibles","Nota: Los datos corresponden a 2013 pues son los últimos disponibles","Nota: Los datos corresponden a 2013 pues son los últimos disponibles","Nota: Los datos corresponden a 2013 pues son los últimos disponibles","Nota: Los datos corresponden a 2013 pues son los últimos disponibles","Nota: Los datos corresponden a 2013 pues son los últimos disponibles","Nota: Los datos corresponden a 2013 pues son los últimos disponibles","Nota: Los datos corresponden a 2013 pues son los últimos disponibles","Nota: Los datos corresponden a 2013 pues son los últimos disponibles","Nota: Los datos corresponden a 2013 pues son los últimos disponibles","Nota: Los datos corresponden a 2013 pues son los últimos disponibles","Nota: Los datos corresponden a 2013 pues son los últimos disponibles","Nota: Los datos corresponden a 2013 pues son los últimos disponibles","Nota: Los datos corresponden a 2013 pues son los últimos disponibles","Nota: Los datos corresponden a 2013 pues son los últimos disponibles","Nota: Los datos corresponden a 2013 pues son los últimos disponibles","Nota: Los datos corresponden a 2013 pues son los últimos disponibles","Nota: Los datos corresponden a 2013 pues son los últimos disponibles","Nota: Los datos corresponden a 2013 pues son los últimos disponibles","Nota: Los datos corresponden a 2013 pues son los últimos disponibles","Nota: Los datos corresponden a 2013 pues son los últimos disponibles","Nota: Los datos corresponden a 2013 pues son los últimos disponibles","Nota: Los datos corresponden a 2013 pues son los últimos disponibles","Nota: Los datos corresponden a 2013 pues son los últimos disponibles","Nota: Los datos corresponden a 2013 pues son los últimos disponibles","Nota: Los datos corresponden a 2013 pues son los últimos disponibles","Nota: Los datos corresponden a 2013 pues son los últimos disponibles","Nota: Los datos corresponden a 2013 pues son los últimos disponibles","Nota: Los datos corresponden a 2013 pues son los últimos disponibles","Nota: Los datos corresponden a 2013 pues son los últimos disponibles","Nota: Los datos corresponden a 2013 pues son los últimos disponibles","Nota: Los datos corresponden a 2013 pues son los últimos disponibles","Nota: Los datos corresponden a 2013 pues son los últimos disponibles","Nota: Los datos corresponden a 2013 pues son los últimos disponibles","Nota: Los datos corresponden a 2013 pues son los últimos disponibles","Nota: Los datos corresponden a 2013 pues son los últimos disponibles","Nota: Los datos corresponden a 2013 pues son los últimos disponibles","Nota: Los datos corresponden a 2013 pues son los últimos disponibles","Nota: Los datos corresponden a 2013 pues son los últimos disponibles","Nota: Los datos corresponden a 2013 pues son los últimos disponibles","Nota: Los datos corresponden a 2013 pues son los últimos disponibles","Nota: Los datos corresponden a 2013 pues son los últimos disponibles","Nota: Los datos corresponden a 2013 pues son los últimos disponibles","Nota: Los datos corresponden a 2013 pues son los últimos disponibles","Nota: Los datos corresponden a 2013 pues son los últimos disponibles","Nota: Los datos corresponden a 2013 pues son los últimos disponibles","Nota: Los datos corresponden a 2013 pues son los últimos disponibles","Nota: Los datos corresponden a 2013 pues son los últimos disponibles","Nota: Los datos corresponden a 2013 pues son los últimos disponibles","Nota: Los datos corresponden a 2013 pues son los últimos disponibles","Nota: Los datos corresponden a 2013 pues son los últimos disponibles","Nota: Los datos corresponden a 2013 pues son los últimos disponibles","Nota: Los datos corresponden a 2013 pues son los últimos disponibles","Nota: Los datos corresponden a 2013 pues son los últimos disponibles","Nota: Los datos corresponden a 2013 pues son los últimos disponibles","Nota: Los datos corresponden a 2013 pues son los últimos disponibles","Nota: Los datos corresponden a 2013 pues son los últimos disponibles","Nota: Los datos corresponden a 2013 pues son los últimos disponibles","Nota: Los datos corresponden a 2013 pues son los últimos disponibles","Nota: Los datos corresponden a 2013 pues son los últimos disponibles","Nota: Los datos corresponden a 2013 pues son los últimos disponibles","Nota: Los datos corresponden a 2013 pues son los últimos disponibles","Nota: Los datos corresponden a 2013 pues son los últimos disponibles","Nota: Los datos corresponden a 2013 pues son los últimos disponibles","Nota: Los datos corresponden a 2013 pues son los últimos disponibles","Nota: Los datos corresponden a 2013 pues son los últimos disponibles","Nota: Los datos corresponden a 2013 pues son los últimos disponibles","Nota: Los datos corresponden a 2013 pues son los últimos disponibles","Nota: Los datos corresponden a 2013 pues son los últimos disponibles","Nota: Los datos corresponden a 2013 pues son los últimos disponibles","Nota: Los datos corresponden a 2013 pues son los últimos disponibles","Nota: Los datos corresponden a 2013 pues son los últimos disponibles","Nota: Los datos corresponden a 2013 pues son los últimos disponibles","Nota: Los datos corresponden a 2013 pues son los últimos disponibles","Nota: Los datos corresponden a 2013 pues son los últimos disponibles","Nota: Los datos corresponden a 2013 pues son los últimos disponibles","Nota: Los datos corresponden a 2013 pues son los últimos disponibles","Nota: Los datos corresponden a 2013 pues son los últimos disponibles","Nota: Los datos corresponden a 2013 pues son los últimos disponibles","Nota: Los datos corresponden a 2013 pues son los últimos disponibles","Nota: Los datos corresponden a 2013 pues son los últimos disponibles","Nota: Los datos corresponden a 2013 pues son los últimos disponibles","Nota: Los datos corresponden a 2013 pues son los últimos disponibles","Nota: Los datos corresponden a 2013 pues son los últimos disponibles","Nota: Los datos corresponden a 2013 pues son los últimos disponibles","Nota: Los datos corresponden a 2013 pues son los últimos disponibles","Nota: Los datos corresponden a 2013 pues son los últimos disponibles","Nota: Los datos corresponden a 2013 pues son los últimos disponibles","Nota: Los datos corresponden a 2013 pues son los últimos disponibles","Nota: Los datos corresponden a 2013 pues son los últimos disponibles","Nota: Los datos corresponden a 2013 pues son los últimos disponibles","Nota: Los datos corresponden a 2013 pues son los últimos disponibles","Nota: Los datos corresponden a 2013 pues son los últimos disponibles","Nota: Los datos corresponden a 2013 pues son los últimos disponibles","Nota: Los datos corresponden a 2013 pues son los últimos disponibles","Nota: Los datos corresponden a 2013 pues son los últimos disponibles","Nota: Los datos corresponden a 2013 pues son los últimos disponibles","Nota: Los datos corresponden a 2013 pues son los últimos disponibles","Nota: Los datos corresponden a 2013 pues son los últimos disponibles","Nota: Los datos corresponden a 2013 pues son los últimos disponibles","Nota: Los datos corresponden a 2013 pues son los últimos disponibles","Nota: Los datos corresponden a 2013 pues son los últimos disponibles","Nota: Los datos corresponden a 2013 pues son los últimos disponibles","Nota: Los datos corresponden a 2013 pues son los últimos disponibles","Nota: Los datos corresponden a 2013 pues son los últimos disponibles","Nota: Los datos corresponden a 2013 pues son los últimos disponibles","Nota: Los datos corresponden a 2013 pues son los últimos disponibles","Nota: Los datos corresponden a 2013 pues son los últimos disponibles","Nota: Los datos corresponden a 2013 pues son los últimos disponibles","Nota: Los datos corresponden a 2013 pues son los últimos disponibles","Nota: Los datos corresponden a 2013 pues son los últimos disponibles","Nota: Los datos corresponden a 2013 pues son los últimos disponibles","Nota: Los datos corresponden a 2013 pues son los últimos disponibles","Nota: Los datos corresponden a 2013 pues son los últimos disponibles","Nota: Los datos corresponden a 2013 pues son los últimos disponibles","Nota: Los datos corresponden a 2013 pues son los últimos disponibles","Nota: Los datos corresponden a 2013 pues son los últimos disponibles","Nota: Los datos corresponden a 2013 pues son los últimos disponibles","Nota: Los datos corresponden a 2013 pues son los últimos disponibles","Nota: Los datos corresponden a 2013 pues son los últimos disponibles","Nota: Los datos corresponden a 2013 pues son los últimos disponibles","Nota: Los datos corresponden a 2013 pues son los últimos disponibles","Nota: Los datos corresponden a 2013 pues son los últimos disponibles","Nota: Los datos corresponden a 2013 pues son los últimos disponibles","Nota: Los datos corresponden a 2013 pues son los últimos disponibles","Nota: Los datos corresponden a 2013 pues son los últimos disponibles","Nota: Los datos corresponden a 2013 pues son los últimos disponibles","Nota: Los datos corresponden a 2013 pues son los últimos disponibles","Nota: Los datos corresponden a 2013 pues son los últimos disponibles","Nota: Los datos corresponden a 2013 pues son los últimos disponibles","Nota: Los datos corresponden a 2013 pues son los últimos disponibles","Nota: Los datos corresponden a 2013 pues son los últimos disponibles","Nota: Los datos corresponden a 2013 pues son los últimos disponibles","Nota: Los datos corresponden a 2013 pues son los últimos disponibles","Nota: Los datos corresponden a 2013 pues son los últimos disponibles","Nota: Los datos corresponden a 2013 pues son los últimos disponibles","Nota: Los datos corresponden a 2013 pues son los últimos disponibles","Nota: Los datos corresponden a 2013 pues son los últimos disponibles","Nota: Los datos corresponden a 2013 pues son los últimos disponibles","Nota: Los datos corresponden a 2013 pues son los últimos disponibles","Nota: Los datos corresponden a 2013 pues son los últimos disponibles","Nota: Los datos corresponden a 2013 pues son los últimos disponibles","Nota: Los datos corresponden a 2013 pues son los últimos disponibles","Nota: Los datos corresponden a 2013 pues son los últimos disponibles","Nota: Los datos corresponden a 2013 pues son los últimos disponibles","Nota: Los datos corresponden a 2013 pues son los últimos disponibles","Nota: Los datos corresponden a 2013 pues son los últimos disponibles","Nota: Los datos corresponden a 2013 pues son los últimos disponibles","Nota: Los datos corresponden a 2013 pues son los últimos disponibles","Nota: Los datos corresponden a 2013 pues son los últimos disponibles","Nota: Los datos corresponden a 2013 pues son los últimos disponibles","Nota: Los datos corresponden a 2013 pues son los últimos disponibles","Nota: Los datos corresponden a 2013 pues son los últimos disponibles","Nota: Los datos corresponden a 2013 pues son los últimos disponibles","Nota: Los datos corresponden a 2013 pues son los últimos disponibles","Nota: Los datos corresponden a 2013 pues son los últimos disponibles","Nota: Los datos corresponden a 2013 pues son los últimos disponibles","Nota: Los datos corresponden a 2013 pues son los últimos disponibles","Nota: Los datos corresponden a 2013 pues son los últimos disponibles","Nota: Los datos corresponden a 2013 pues son los últimos disponibles","Nota: Los datos corresponden a 2013 pues son los últimos disponibles","Nota: Los datos corresponden a 2013 pues son los últimos disponibles","Nota: Los datos corresponden a 2013 pues son los últimos disponibles","Nota: Los datos corresponden a 2013 pues son los últimos disponibles","Nota: Los datos corresponden a 2013 pues son los últimos disponibles","Nota: Los datos corresponden a 2013 pues son los últimos disponibles","Nota: Los datos corresponden a 2013 pues son los últimos disponibles","Nota: Los datos corresponden a 2013 pues son los últimos disponibles","Nota: Los datos corresponden a 2013 pues son los últimos disponibles","Nota: Los datos corresponden a 2013 pues son los últimos disponibles","Nota: Los datos corresponden a 2013 pues son los últimos disponibles","Nota: Los datos corresponden a 2013 pues son los últimos disponibles","Nota: Los datos corresponden a 2013 pues son los últimos disponibles","Nota: Los datos corresponden a 2013 pues son los últimos disponibles","Nota: Los datos corresponden a 2013 pues son los últimos disponibles","Nota: Los datos corresponden a 2013 pues son los últimos disponibles","Nota: Los datos corresponden a 2013 pues son los últimos disponibles","Nota: Los datos corresponden a 2013 pues son los últimos disponibles","Nota: Los datos corresponden a 2013 pues son los últimos disponibles","Nota: Los datos corresponden a 2013 pues son los últimos disponibles","Nota: Los datos corresponden a 2013 pues son los últimos disponibles","Nota: Los datos corresponden a 2013 pues son los últimos disponibles","Nota: Los datos corresponden a 2013 pues son los últimos disponibles","Nota: Los datos corresponden a 2013 pues son los últimos disponibles","Nota: Los datos corresponden a 2013 pues son los últimos disponibles","Nota: Los datos corresponden a 2013 pues son los últimos disponibles","Nota: Los datos corresponden a 2013 pues son los últimos disponibles","Nota: Los datos corresponden a 2013 pues son los últimos disponibles","Nota: Los datos corresponden a 2013 pues son los últimos disponibles","Nota: Los datos corresponden a 2013 pues son los últimos disponibles","Nota: Los datos corresponden a 2013 pues son los últimos disponibles","Nota: Los datos corresponden a 2013 pues son los últimos disponibles","Nota: Los datos corresponden a 2013 pues son los últimos disponibles","Nota: Los datos corresponden a 2013 pues son los últimos disponibles","Nota: Los datos corresponden a 2013 pues son los últimos disponibles","Nota: Los datos corresponden a 2013 pues son los últimos disponibles","Nota: Los datos corresponden a 2013 pues son los últimos disponibles","Nota: Los datos corresponden a 2013 pues son los últimos disponibles","Nota: Los datos corresponden a 2013 pues son los últimos disponibles","Nota: Los datos corresponden a 2013 pues son los últimos disponibles","Nota: Los datos corresponden a 2013 pues son los últimos disponibles","Nota: Los datos corresponden a 2013 pues son los últimos disponibles","Nota: Los datos corresponden a 2013 pues son los últimos disponibles","Nota: Los datos corresponden a 2013 pues son los últimos disponibles","Nota: Los datos corresponden a 2013 pues son los últimos disponibles","Nota: Los datos corresponden a 2013 pues son los últimos disponibles","Nota: Los datos corresponden a 2013 pues son los últimos disponibles","Nota: Los datos corresponden a 2013 pues son los últimos disponibles","Nota: Los datos corresponden a 2013 pues son los últimos disponibles","Nota: Los datos corresponden a 2013 pues son los últimos disponibles","Nota: Los datos corresponden a 2013 pues son los últimos disponibles","Nota: Los datos corresponden a 2013 pues son los últimos disponibles","Nota: Los datos corresponden a 2013 pues son los últimos disponibles","Nota: Los datos corresponden a 2013 pues son los últimos disponibles","Nota: Los datos corresponden a 2013 pues son los últimos disponibles","Nota: Los datos corresponden a 2013 pues son los últimos disponibles","Nota: Los datos corresponden a 2013 pues son los últimos disponibles","Nota: Los datos corresponden a 2013 pues son los últimos disponibles","Nota: Los datos corresponden a 2013 pues son los últimos disponibles","Nota: Los datos corresponden a 2013 pues son los últimos disponibles","Nota: Los datos corresponden a 2013 pues son los últimos disponibles","Nota: Los datos corresponden a 2013 pues son los últimos disponibles","Nota: Los datos corresponden a 2013 pues son los últimos disponibles","Nota: Los datos corresponden a 2013 pues son los últimos disponibles","Nota: Los datos corresponden a 2013 pues son los últimos disponibles","Nota: Los datos corresponden a 2013 pues son los últimos disponibles","Nota: Los datos corresponden a 2013 pues son los últimos disponibles","Nota: Los datos corresponden a 2013 pues son los últimos disponibles","Nota: Los datos corresponden a 2013 pues son los últimos disponibles","Nota: Los datos corresponden a 2013 pues son los últimos disponibles","Nota: Los datos corresponden a 2013 pues son los últimos disponibles","Nota: Los datos corresponden a 2013 pues son los últimos disponibles","Nota: Los datos corresponden a 2013 pues son los últimos disponibles","Nota: Los datos corresponden a 2013 pues son los últimos disponibles","Nota: Los datos corresponden a 2013 pues son los últimos disponibles","Nota: Los datos corresponden a 2013 pues son los últimos disponibles","Nota: Los datos corresponden a 2013 pues son los últimos disponibles","Nota: Los datos corresponden a 2013 pues son los últimos disponibles","Nota: Los datos corresponden a 2013 pues son los últimos disponibles","Nota: Los datos corresponden a 2013 pues son los últimos disponibles","Nota: Los datos corresponden a 2013 pues son los últimos disponibles","Nota: Los datos corresponden a 2013 pues son los últimos disponibles","Nota: Los datos corresponden a 2013 pues son los últimos disponibles","Nota: Los datos corresponden a 2013 pues son los últimos disponibles","Nota: Los datos corresponden a 2013 pues son los últimos disponibles","Nota: Los datos corresponden a 2013 pues son los últimos disponibles","Nota: Los datos corresponden a 2013 pues son los últimos disponibles","Nota: Los datos corresponden a 2013 pues son los últimos disponibles","Nota: Los datos corresponden a 2013 pues son los últimos disponibles","Nota: Los datos corresponden a 2013 pues son los últimos disponibles","Nota: Los datos corresponden a 2013 pues son los últimos disponibles","Nota: Los datos corresponden a 2013 pues son los últimos disponibles","Nota: Los datos corresponden a 2013 pues son los últimos disponibles","Nota: Los datos corresponden a 2013 pues son los últimos disponibles","Nota: Los datos corresponden a 2013 pues son los últimos disponibles","Nota: Los datos corresponden a 2013 pues son los últimos disponibles","Nota: Los datos corresponden a 2013 pues son los últimos disponibles","Nota: Los datos corresponden a 2013 pues son los últimos disponibles","Nota: Los datos corresponden a 2013 pues son los últimos disponibles","Nota: Los datos corresponden a 2013 pues son los últimos disponibles","Nota: Los datos corresponden a 2013 pues son los últimos disponibles","Nota: Los datos corresponden a 2013 pues son los últimos disponibles","Nota: Los datos corresponden a 2013 pues son los últimos disponibles","Nota: Los datos corresponden a 2013 pues son los últimos disponibles","Nota: Los datos corresponden a 2013 pues son los últimos disponibles","Nota: Los datos corresponden a 2013 pues son los últimos disponibles","Nota: Los datos corresponden a 2013 pues son los últimos disponibles","Nota: Los datos corresponden a 2013 pues son los últimos disponibles","Nota: Los datos corresponden a 2013 pues son los últimos disponibles","Nota: Los datos corresponden a 2013 pues son los últimos disponibles","Nota: Los datos corresponden a 2013 pues son los últimos disponibles","Nota: Los datos corresponden a 2013 pues son los últimos disponibles","Nota: Los datos corresponden a 2013 pues son los últimos disponibles","Nota: Los datos corresponden a 2013 pues son los últimos disponibles","Nota: Los datos corresponden a 2013 pues son los últimos disponibles","Nota: Los datos corresponden a 2013 pues son los últimos disponibles","Nota: Los datos corresponden a 2013 pues son los últimos disponibles","Nota: Los datos corresponden a 2013 pues son los últimos disponibles","Nota: Los datos corresponden a 2013 pues son los últimos disponibles","Nota: Los datos corresponden a 2013 pues son los últimos disponibles","Nota: Los datos corresponden a 2013 pues son los últimos disponibles","Nota: Los datos corresponden a 2013 pues son los últimos disponibles","Nota: Los datos corresponden a 2013 pues son los últimos disponibles","Nota: Los datos corresponden a 2013 pues son los últimos disponibles","Nota: Los datos corresponden a 2013 pues son los últimos disponibles","Nota: Los datos corresponden a 2013 pues son los últimos disponibles","Nota: Los datos corresponden a 2013 pues son los últimos disponibles","Nota: Los datos corresponden a 2013 pues son los últimos disponibles","Nota: Los datos corresponden a 2013 pues son los últimos disponibles","Nota: Los datos corresponden a 2013 pues son los últimos disponibles","Nota: Los datos corresponden a 2013 pues son los últimos disponibles","Nota: Los datos corresponden a 2013 pues son los últimos disponibles","Nota: Los datos corresponden a 2013 pues son los últimos disponibles","Nota: Los datos corresponden a 2013 pues son los últimos disponibles","Nota: Los datos corresponden a 2013 pues son los últimos disponibles","Nota: Los datos corresponden a 2013 pues son los últimos disponibles","Nota: Los datos corresponden a 2013 pues son los últimos disponibles","Nota: Los datos corresponden a 2013 pues son los últimos disponibles","Nota: Los datos corresponden a 2013 pues son los últimos disponibles","Nota: Los datos corresponden a 2013 pues son los últimos disponibles","Nota: Los datos corresponden a 2013 pues son los últimos disponibles","Nota: Los datos corresponden a 2013 pues son los últimos disponibles","Nota: Los datos corresponden a 2013 pues son los últimos disponibles","Nota: Los datos corresponden a 2013 pues son los últimos disponibles","Nota: Los datos corresponden a 2013 pues son los últimos disponibles","Nota: Los datos corresponden a 2013 pues son los últimos disponibles","Nota: Los datos corresponden a 2013 pues son los últimos disponibles","Nota: Los datos corresponden a 2013 pues son los últimos disponibles","Nota: Los datos corresponden a 2013 pues son los últimos disponibles","Nota: Los datos corresponden a 2013 pues son los últimos disponibles","Nota: Los datos corresponden a 2013 pues son los últimos disponibles","Nota: Los datos corresponden a 2013 pues son los últimos disponibles","Nota: Los datos corresponden a 2013 pues son los últimos disponibles","Nota: Los datos corresponden a 2013 pues son los últimos disponibles","Nota: Los datos corresponden a 2013 pues son los últimos disponibles","Nota: Los datos corresponden a 2013 pues son los últimos disponibles","Nota: Los datos corresponden a 2013 pues son los últimos disponibles","Nota: Los datos corresponden a 2013 pues son los últimos disponibles","Nota: Los datos corresponden a 2013 pues son los últimos disponibles","Nota: Los datos corresponden a 2013 pues son los últimos disponibles","Nota: Los datos corresponden a 2013 pues son los últimos disponibles","Nota: Los datos corresponden a 2013 pues son los últimos disponibles","Nota: Los datos corresponden a 2013 pues son los últimos disponibles","Nota: Los datos corresponden a 2013 pues son los últimos disponibles","Nota: Los datos corresponden a 2013 pues son los últimos disponibles","Nota: Los datos corresponden a 2013 pues son los últimos disponibles","Nota: Los datos corresponden a 2013 pues son los últimos disponibles","Nota: Los datos corresponden a 2013 pues son los últimos disponibles","Nota: Los datos corresponden a 2013 pues son los últimos disponibles","Nota: Los datos corresponden a 2013 pues son los últimos disponibles","Nota: Los datos corresponden a 2013 pues son los últimos disponibles","Nota: Los datos corresponden a 2013 pues son los últimos disponibles","Nota: Los datos corresponden a 2013 pues son los últimos disponibles","Nota: Los datos corresponden a 2013 pues son los últimos disponibles","Nota: Los datos corresponden a 2013 pues son los últimos disponibles","Nota: Los datos corresponden a 2013 pues son los últimos disponibles","Nota: Los datos corresponden a 2013 pues son los últimos disponibles","Nota: Los datos corresponden a 2013 pues son los últimos disponibles","Nota: Los datos corresponden a 2013 pues son los últimos disponibles","Nota: Los datos corresponden a 2013 pues son los últimos disponibles","Nota: Los datos corresponden a 2013 pues son los últimos disponibles","Nota: Los datos corresponden a 2013 pues son los últimos disponibles","Nota: Los datos corresponden a 2013 pues son los últimos disponibles","Nota: Los datos corresponden a 2013 pues son los últimos disponibles","Nota: Los datos corresponden a 2013 pues son los últimos disponibles","Nota: Los datos corresponden a 2013 pues son los últimos disponibles","Nota: Los datos corresponden a 2013 pues son los últimos disponibles","Nota: Los datos corresponden a 2013 pues son los últimos disponibles","Nota: Los datos corresponden a 2013 pues son los últimos disponibles","Nota: Los datos corresponden a 2013 pues son los últimos disponibles","Nota: Los datos corresponden a 2013 pues son los últimos disponibles","Nota: Los datos corresponden a 2013 pues son los últimos disponibles","Nota: Los datos corresponden a 2013 pues son los últimos disponibles","Nota: Los datos corresponden a 2013 pues son los últimos disponibles","Nota: Los datos corresponden a 2013 pues son los últimos disponibles","Nota: Los datos corresponden a 2013 pues son los últimos disponibles","Nota: Los datos corresponden a 2013 pues son los últimos disponibles","Nota: Los datos corresponden a 2013 pues son los últimos disponibles","Nota: Los datos corresponden a 2013 pues son los últimos disponibles","Nota: Los datos corresponden a 2013 pues son los últimos disponibles","Nota: Los datos corresponden a 2013 pues son los últimos disponibles","Nota: Los datos corresponden a 2013 pues son los últimos disponibles","Nota: Los datos corresponden a 2013 pues son los últimos disponibles","Nota: Los datos corresponden a 2013 pues son los últimos disponibles","Nota: Los datos corresponden a 2013 pues son los últimos disponibles","Nota: Los datos corresponden a 2013 pues son los últimos disponibles","Nota: Los datos corresponden a 2013 pues son los últimos disponibles","Nota: Los datos corresponden a 2013 pues son los últimos disponibles","Nota: Los datos corresponden a 2013 pues son los últimos disponibles","Nota: Los datos corresponden a 2013 pues son los últimos disponibles","Nota: Los datos corresponden a 2013 pues son los últimos disponibles","Nota: Los datos corresponden a 2013 pues son los últimos disponibles","Nota: Los datos corresponden a 2013 pues son los últimos disponibles","Nota: Los datos corresponden a 2013 pues son los últimos disponibles","Nota: Los datos corresponden a 2013 pues son los últimos disponibles","Nota: Los datos corresponden a 2013 pues son los últimos disponibles","Nota: Los datos corresponden a 2013 pues son los últimos disponibles","Nota: Los datos corresponden a 2013 pues son los últimos disponibles","Nota: Los datos corresponden a 2013 pues son los últimos disponibles","Nota: Los datos corresponden a 2013 pues son los últimos disponibles","Nota: Los datos corresponden a 2013 pues son los últimos disponibles","Nota: Los datos corresponden a 2013 pues son los últimos disponibles","Nota: Los datos corresponden a 2013 pues son los últimos disponibles","Nota: Los datos corresponden a 2013 pues son los últimos disponibles","Nota: Los datos corresponden a 2013 pues son los últimos disponibles","Nota: Los datos corresponden a 2013 pues son los últimos disponibles","Nota: Los datos corresponden a 2013 pues son los últimos disponibles","Nota: Los datos corresponden a 2013 pues son los últimos disponibles","Nota: Los datos corresponden a 2013 pues son los últimos disponibles","Nota: Los datos corresponden a 2013 pues son los últimos disponibles","Nota: Los datos corresponden a 2013 pues son los últimos disponibles","Nota: Los datos corresponden a 2013 pues son los últimos disponibles","Nota: Los datos corresponden a 2013 pues son los últimos disponibles","Nota: Los datos corresponden a 2013 pues son los últimos disponibles","Nota: Los datos corresponden a 2013 pues son los últimos disponibles","Nota: Los datos corresponden a 2013 pues son los últimos disponibles","Nota: Los datos corresponden a 2013 pues son los últimos disponibles","Nota: Los datos corresponden a 2013 pues son los últimos disponibles","Nota: Los datos corresponden a 2013 pues son los últimos disponibles","Nota: Los datos corresponden a 2013 pues son los últimos disponibles","Nota: Los datos corresponden a 2013 pues son los últimos disponibles","Nota: Los datos corresponden a 2013 pues son los últimos disponibles","Nota: Los datos corresponden a 2013 pues son los últimos disponibles","Nota: Los datos corresponden a 2013 pues son los últimos disponibles","Nota: Los datos corresponden a 2013 pues son los últimos disponibles","Nota: Los datos corresponden a 2013 pues son los últimos disponibles","Nota: Los datos corresponden a 2013 pues son los últimos disponibles","Nota: Los datos corresponden a 2013 pues son los últimos disponibles","Nota: Los datos corresponden a 2013 pues son los últimos disponibles","Nota: Los datos corresponden a 2013 pues son los últimos disponibles","Nota: Los datos corresponden a 2013 pues son los últimos disponibles","Nota: Los datos corresponden a 2013 pues son los últimos disponibles","Nota: Los datos corresponden a 2013 pues son los últimos disponibles","Nota: Los datos corresponden a 2013 pues son los últimos disponibles","Nota: Los datos corresponden a 2013 pues son los últimos disponibles","Nota: Los datos corresponden a 2013 pues son los últimos disponibles","Nota: Los datos corresponden a 2013 pues son los últimos disponibles","Nota: Los datos corresponden a 2013 pues son los últimos disponibles","Nota: Los datos corresponden a 2013 pues son los últimos disponibles","Nota: Los datos corresponden a 2013 pues son los últimos disponibles","Nota: Los datos corresponden a 2013 pues son los últimos disponibles","Nota: Los datos corresponden a 2013 pues son los últimos disponibles","Nota: Los datos corresponden a 2013 pues son los últimos disponibles","Nota: Los datos corresponden a 2013 pues son los últimos disponibles","Nota: Los datos corresponden a 2013 pues son los últimos disponibles","Nota: Los datos corresponden a 2013 pues son los últimos disponibles","Nota: Los datos corresponden a 2013 pues son los últimos disponibles","Nota: Los datos corresponden a 2013 pues son los últimos disponibles","Nota: Los datos corresponden a 2013 pues son los últimos disponibles","Nota: Los datos corresponden a 2013 pues son los últimos disponibles","Nota: Los datos corresponden a 2013 pues son los últimos disponibles","Nota: Los datos corresponden a 2013 pues son los últimos disponibles","Nota: Los datos corresponden a 2013 pues son los últimos disponibles","Nota: Los datos corresponden a 2013 pues son los últimos disponibles","Nota: Los datos corresponden a 2013 pues son los últimos disponibles","Nota: Los datos corresponden a 2013 pues son los últimos disponibles","Nota: Los datos corresponden a 2013 pues son los últimos disponibles","Nota: Los datos corresponden a 2013 pues son los últimos disponibles","Nota: Los datos corresponden a 2013 pues son los últimos disponibles","Nota: Los datos corresponden a 2013 pues son los últimos disponibles","Nota: Los datos corresponden a 2013 pues son los últimos disponibles","Nota: Los datos corresponden a 2013 pues son los últimos disponibles","Nota: Los datos corresponden a 2013 pues son los últimos disponibles","Nota: Los datos corresponden a 2013 pues son los últimos disponibles","Nota: Los datos corresponden a 2013 pues son los últimos disponibles","Nota: Los datos corresponden a 2013 pues son los últimos disponibles","Nota: Los datos corresponden a 2013 pues son los últimos disponibles","Nota: Los datos corresponden a 2013 pues son los últimos disponibles","Nota: Los datos corresponden a 2013 pues son los últimos disponibles","Nota: Los datos corresponden a 2013 pues son los últimos disponibles","Nota: Los datos corresponden a 2013 pues son los últimos disponibles","Nota: Los datos corresponden a 2013 pues son los últimos disponibles","Nota: Los datos corresponden a 2013 pues son los últimos disponibles","Nota: Los datos corresponden a 2013 pues son los últimos disponibles","Nota: Los datos corresponden a 2013 pues son los últimos disponibles","Nota: Los datos corresponden a 2013 pues son los últimos disponibles","Nota: Los datos corresponden a 2013 pues son los últimos disponibles","Nota: Los datos corresponden a 2013 pues son los últimos disponibles","Nota: Los datos corresponden a 2013 pues son los últimos disponibles","Nota: Los datos corresponden a 2013 pues son los últimos disponibles","Nota: Los datos corresponden a 2013 pues son los últimos disponibles","Nota: Los datos corresponden a 2013 pues son los últimos disponibles","Nota: Los datos corresponden a 2013 pues son los últimos disponibles","Nota: Los datos corresponden a 2013 pues son los últimos disponibles","Nota: Los datos corresponden a 2013 pues son los últimos disponibles","Nota: Los datos corresponden a 2013 pues son los últimos disponibles","Nota: Los datos corresponden a 2013 pues son los últimos disponibles","Nota: Los datos corresponden a 2013 pues son los últimos disponibles","Nota: Los datos corresponden a 2013 pues son los últimos disponibles","Nota: Los datos corresponden a 2013 pues son los últimos disponibles","Nota: Los datos corresponden a 2013 pues son los últimos disponibles","Nota: Los datos corresponden a 2013 pues son los últimos disponibles","Nota: Los datos corresponden a 2013 pues son los últimos disponibles","Nota: Los datos corresponden a 2013 pues son los últimos disponibles","Nota: Los datos corresponden a 2013 pues son los últimos disponibles","Nota: Los datos corresponden a 2013 pues son los últimos disponibles","Nota: Los datos corresponden a 2013 pues son los últimos disponibles","Nota: Los datos corresponden a 2013 pues son los últimos disponibles","Nota: Los datos corresponden a 2013 pues son los últimos disponibles","Nota: Los datos corresponden a 2013 pues son los últimos disponibles","Nota: Los datos corresponden a 2013 pues son los últimos disponibles","Nota: Los datos corresponden a 2013 pues son los últimos disponibles","Nota: Los datos corresponden a 2013 pues son los últimos disponibles","Nota: Los datos corresponden a 2013 pues son los últimos disponibles","Nota: Los datos corresponden a 2013 pues son los últimos disponibles","Nota: Los datos corresponden a 2013 pues son los últimos disponibles","Nota: Los datos corresponden a 2013 pues son los últimos disponibles","Nota: Los datos corresponden a 2013 pues son los últimos disponibles","Nota: Los datos corresponden a 2013 pues son los últimos disponibles","Nota: Los datos corresponden a 2013 pues son los últimos disponibles","Nota: Los datos corresponden a 2013 pues son los últimos disponibles","Nota: Los datos corresponden a 2013 pues son los últimos disponibles","Nota: Los datos corresponden a 2013 pues son los últimos disponibles","Nota: Los datos corresponden a 2013 pues son los últimos disponibles","Nota: Los datos corresponden a 2013 pues son los últimos disponibles","Nota: Los datos corresponden a 2013 pues son los últimos disponibles","Nota: Los datos corresponden a 2013 pues son los últimos disponibles","Nota: Los datos corresponden a 2013 pues son los últimos disponibles","Nota: Los datos corresponden a 2013 pues son los últimos disponibles","Nota: Los datos corresponden a 2013 pues son los últimos disponibles","Nota: Los datos corresponden a 2013 pues son los últimos disponibles","Nota: Los datos corresponden a 2013 pues son los últimos disponibles","Nota: Los datos corresponden a 2013 pues son los últimos disponibles","Nota: Los datos corresponden a 2013 pues son los últimos disponibles","Nota: Los datos corresponden a 2013 pues son los últimos disponibles","Nota: Los datos corresponden a 2013 pues son los últimos disponibles","Nota: Los datos corresponden a 2013 pues son los últimos disponibles","Nota: Los datos corresponden a 2013 pues son los últimos disponibles","Nota: Los datos corresponden a 2013 pues son los últimos disponibles","Nota: Los datos corresponden a 2013 pues son los últimos disponibles","Nota: Los datos corresponden a 2013 pues son los últimos disponibles","Nota: Los datos corresponden a 2013 pues son los últimos disponibles","Nota: Los datos corresponden a 2013 pues son los últimos disponibles","Nota: Los datos corresponden a 2013 pues son los últimos disponibles","Nota: Los datos corresponden a 2013 pues son los últimos disponibles","Nota: Los datos corresponden a 2013 pues son los últimos disponibles","Nota: Los datos corresponden a 2013 pues son los últimos disponibles","Nota: Los datos corresponden a 2013 pues son los últimos disponibles","Nota: Los datos corresponden a 2013 pues son los últimos disponibles","Nota: Los datos corresponden a 2013 pues son los últimos disponibles","Nota: Los datos corresponden a 2013 pues son los últimos disponibles","Nota: Los datos corresponden a 2013 pues son los últimos disponibles","Nota: Los datos corresponden a 2013 pues son los últimos disponibles","Nota: Los datos corresponden a 2013 pues son los últimos disponibles","Nota: Los datos corresponden a 2013 pues son los últimos disponibles","Nota: Los datos corresponden a 2013 pues son los últimos disponibles","Nota: Los datos corresponden a 2013 pues son los últimos disponibles","Nota: Los datos corresponden a 2013 pues son los últimos disponibles","Nota: Los datos corresponden a 2013 pues son los últimos disponibles","Nota: Los datos corresponden a 2013 pues son los últimos disponibles","Nota: Los datos corresponden a 2013 pues son los últimos disponibles","Nota: Los datos corresponden a 2013 pues son los últimos disponibles","Nota: Los datos corresponden a 2013 pues son los últimos disponibles","Nota: Los datos corresponden a 2013 pues son los últimos disponibles","Nota: Los datos corresponden a 2013 pues son los últimos disponibles","Nota: Los datos corresponden a 2013 pues son los últimos disponibles","Nota: Los datos corresponden a 2013 pues son los últimos disponibles","Nota: Los datos corresponden a 2013 pues son los últimos disponibles","Nota: Los datos corresponden a 2013 pues son los últimos disponibles","Nota: Los datos corresponden a 2013 pues son los últimos disponibles","Nota: Los datos corresponden a 2013 pues son los últimos disponibles","Nota: Los datos corresponden a 2013 pues son los últimos disponibles","Nota: Los datos corresponden a 2013 pues son los últimos disponibles","Nota: Los datos corresponden a 2013 pues son los últimos disponibles","Nota: Los datos corresponden a 2013 pues son los últimos disponibles","Nota: Los datos corresponden a 2013 pues son los últimos disponibles","Nota: Los datos corresponden a 2013 pues son los últimos disponibles","Nota: Los datos corresponden a 2013 pues son los últimos disponibles","Nota: Los datos corresponden a 2013 pues son los últimos disponibles","Nota: Los datos corresponden a 2013 pues son los últimos disponibles","Nota: Los datos corresponden a 2013 pues son los últimos disponibles","Nota: Los datos corresponden a 2013 pues son los últimos disponibles","Nota: Los datos corresponden a 2013 pues son los últimos disponibles","Nota: Los datos corresponden a 2013 pues son los últimos disponibles","Nota: Los datos corresponden a 2013 pues son los últimos disponibles","Nota: Los datos corresponden a 2013 pues son los últimos disponibles","Nota: Los datos corresponden a 2013 pues son los últimos disponibles","Nota: Los datos corresponden a 2013 pues son los últimos disponibles","Nota: Los datos corresponden a 2013 pues son los últimos disponibles","Nota: Los datos corresponden a 2013 pues son los últimos disponibles","Nota: Los datos corresponden a 2013 pues son los últimos disponibles","Nota: Los datos corresponden a 2013 pues son los últimos disponibles","Nota: Los datos corresponden a 2013 pues son los últimos disponibles","Nota: Los datos corresponden a 2013 pues son los últimos disponibles","Nota: Los datos corresponden a 2013 pues son los últimos disponibles","Nota: Los datos corresponden a 2013 pues son los últimos disponibles","Nota: Los datos corresponden a 2013 pues son los últimos disponibles","Nota: Los datos corresponden a 2013 pues son los últimos disponibles","Nota: Los datos corresponden a 2013 pues son los últimos disponibles","Nota: Los datos corresponden a 2013 pues son los últimos disponibles","Nota: Los datos corresponden a 2013 pues son los últimos disponibles","Nota: Los datos corresponden a 2013 pues son los últimos disponibles","Nota: Los datos corresponden a 2013 pues son los últimos disponibles","Nota: Los datos corresponden a 2013 pues son los últimos disponibles","Nota: Los datos corresponden a 2013 pues son los últimos disponibles","Nota: Los datos corresponden a 2013 pues son los últimos disponibles","Nota: Los datos corresponden a 2013 pues son los últimos disponibles","Nota: Los datos corresponden a 2013 pues son los últimos disponibles","Nota: Los datos corresponden a 2013 pues son los últimos disponibles","Nota: Los datos corresponden a 2013 pues son los últimos disponibles","Nota: Los datos corresponden a 2013 pues son los últimos disponibles","Nota: Los datos corresponden a 2013 pues son los últimos disponibles","Nota: Los datos corresponden a 2013 pues son los últimos disponibles","Nota: Los datos corresponden a 2013 pues son los últimos disponibles","Nota: Los datos corresponden a 2013 pues son los últimos disponibles","Nota: Los datos corresponden a 2013 pues son los últimos disponibles","Nota: Los datos corresponden a 2013 pues son los últimos disponibles","Nota: Los datos corresponden a 2013 pues son los últimos disponibles","Nota: Los datos corresponden a 2013 pues son los últimos disponibles","Nota: Los datos corresponden a 2013 pues son los últimos disponibles","Nota: Los datos corresponden a 2013 pues son los últimos disponibles","Nota: Los datos corresponden a 2013 pues son los últimos disponibles","Nota: Los datos corresponden a 2013 pues son los últimos disponibles","Nota: Los datos corresponden a 2013 pues son los últimos disponibles","Nota: Los datos corresponden a 2013 pues son los últimos disponibles","Nota: Los datos corresponden a 2013 pues son los últimos disponibles","Nota: Los datos corresponden a 2013 pues son los últimos disponibles","Nota: Los datos corresponden a 2013 pues son los últimos disponibles","Nota: Los datos corresponden a 2013 pues son los últimos disponibles","Nota: Los datos corresponden a 2013 pues son los últimos disponibles","Nota: Los datos corresponden a 2013 pues son los últimos disponibles","Nota: Los datos corresponden a 2013 pues son los últimos disponibles","Nota: Los datos corresponden a 2013 pues son los últimos disponibles","Nota: Los datos corresponden a 2013 pues son los últimos disponibles","Nota: Los datos corresponden a 2013 pues son los últimos disponibles","Nota: Los datos corresponden a 2013 pues son los últimos disponibles","Nota: Los datos corresponden a 2013 pues son los últimos disponibles","Nota: Los datos corresponden a 2013 pues son los últimos disponibles","Nota: Los datos corresponden a 2013 pues son los últimos disponibles","Nota: Los datos corresponden a 2013 pues son los últimos disponibles","Nota: Los datos corresponden a 2013 pues son los últimos disponibles","Nota: Los datos corresponden a 2013 pues son los últimos disponibles","Nota: Los datos corresponden a 2013 pues son los últimos disponibles","Nota: Los datos corresponden a 2013 pues son los últimos disponibles","Nota: Los datos corresponden a 2013 pues son los últimos disponibles","Nota: Los datos corresponden a 2013 pues son los últimos disponibles","Nota: Los datos corresponden a 2013 pues son los últimos disponibles","Nota: Los datos corresponden a 2013 pues son los últimos disponibles","Nota: Los datos corresponden a 2013 pues son los últimos disponibles","Nota: Los datos corresponden a 2013 pues son los últimos disponibles","Nota: Los datos corresponden a 2013 pues son los últimos disponibles","Nota: Los datos corresponden a 2013 pues son los últimos disponibles","Nota: Los datos corresponden a 2013 pues son los últimos disponibles","Nota: Los datos corresponden a 2013 pues son los últimos disponibles","Nota: Los datos corresponden a 2013 pues son los últimos disponibles","Nota: Los datos corresponden a 2013 pues son los últimos disponibles","Nota: Los datos corresponden a 2013 pues son los últimos disponibles","Nota: Los datos corresponden a 2013 pues son los últimos disponibles","Nota: Los datos corresponden a 2013 pues son los últimos disponibles","Nota: Los datos corresponden a 2013 pues son los últimos disponibles","Nota: Los datos corresponden a 2013 pues son los últimos disponibles","Nota: Los datos corresponden a 2013 pues son los últimos disponibles","Nota: Los datos corresponden a 2013 pues son los últimos disponibles","Nota: Los datos corresponden a 2013 pues son los últimos disponibles","Nota: Los datos corresponden a 2013 pues son los últimos disponibles","Nota: Los datos corresponden a 2013 pues son los últimos disponibles","Nota: Los datos corresponden a 2013 pues son los últimos disponibles","Nota: Los datos corresponden a 2013 pues son los últimos disponibles","Nota: Los datos corresponden a 2013 pues son los últimos disponibles","Nota: Los datos corresponden a 2013 pues son los últimos disponibles","Nota: Los datos corresponden a 2013 pues son los últimos disponibles","Nota: Los datos corresponden a 2013 pues son los últimos disponibles","Nota: Los datos corresponden a 2013 pues son los últimos disponibles","Nota: Los datos corresponden a 2013 pues son los últimos disponibles","Nota: Los datos corresponden a 2013 pues son los últimos disponibles","Nota: Los datos corresponden a 2013 pues son los últimos disponibles","Nota: Los datos corresponden a 2013 pues son los últimos disponibles","Nota: Los datos corresponden a 2013 pues son los últimos disponibles","Nota: Los datos corresponden a 2013 pues son los últimos disponibles","Nota: Los datos corresponden a 2013 pues son los últimos disponibles","Nota: Los datos corresponden a 2013 pues son los últimos disponibles","Nota: Los datos corresponden a 2013 pues son los últimos disponibles","Nota: Los datos corresponden a 2013 pues son los últimos disponibles","Nota: Los datos corresponden a 2013 pues son los últimos disponibles","Nota: Los datos corresponden a 2013 pues son los últimos disponibles","Nota: Los datos corresponden a 2013 pues son los últimos disponibles","Nota: Los datos corresponden a 2013 pues son los últimos disponibles","Nota: Los datos corresponden a 2013 pues son los últimos disponibles","Nota: Los datos corresponden a 2013 pues son los últimos disponibles","Nota: Los datos corresponden a 2013 pues son los últimos disponibles","Nota: Los datos corresponden a 2013 pues son los últimos disponibles","Nota: Los datos corresponden a 2013 pues son los últimos disponibles","Nota: Los datos corresponden a 2013 pues son los últimos disponibles","Nota: Los datos corresponden a 2013 pues son los últimos disponibles","Nota: Los datos corresponden a 2013 pues son los últimos disponibles","Nota: Los datos corresponden a 2013 pues son los últimos disponibles","Nota: Los datos corresponden a 2013 pues son los últimos disponibles","Nota: Los datos corresponden a 2013 pues son los últimos disponibles","Nota: Los datos corresponden a 2013 pues son los últimos disponibles","Nota: Los datos corresponden a 2013 pues son los últimos disponibles","Nota: Los datos corresponden a 2013 pues son los últimos disponibles","Nota: Los datos corresponden a 2013 pues son los últimos disponibles","Nota: Los datos corresponden a 2013 pues son los últimos disponibles","Nota: Los datos corresponden a 2013 pues son los últimos disponibles","Nota: Los datos corresponden a 2013 pues son los últimos disponibles","Nota: Los datos corresponden a 2013 pues son los últimos disponibles","Nota: Los datos corresponden a 2013 pues son los últimos disponibles","Nota: Los datos corresponden a 2013 pues son los últimos disponibles","Nota: Los datos corresponden a 2013 pues son los últimos disponibles","Nota: Los datos corresponden a 2013 pues son los últimos disponibles","Nota: Los datos corresponden a 2013 pues son los últimos disponibles","Nota: Los datos corresponden a 2013 pues son los últimos disponibles","Nota: Los datos corresponden a 2013 pues son los últimos disponibles","Nota: Los datos corresponden a 2013 pues son los últimos disponibles","Nota: Los datos corresponden a 2013 pues son los últimos disponibles","Nota: Los datos corresponden a 2013 pues son los últimos disponibles","Nota: Los datos corresponden a 2013 pues son los últimos disponibles","Nota: Los datos corresponden a 2013 pues son los últimos disponibles","Nota: Los datos corresponden a 2013 pues son los últimos disponibles","Nota: Los datos corresponden a 2013 pues son los últimos disponibles","Nota: Los datos corresponden a 2013 pues son los últimos disponibles","Nota: Los datos corresponden a 2013 pues son los últimos disponibles","Nota: Los datos corresponden a 2013 pues son los últimos disponibles","Nota: Los datos corresponden a 2013 pues son los últimos disponibles","Nota: Los datos corresponden a 2013 pues son los últimos disponibles","Nota: Los datos corresponden a 2013 pues son los últimos disponibles","Nota: Los datos corresponden a 2013 pues son los últimos disponibles","Nota: Los datos corresponden a 2013 pues son los últimos disponibles","Nota: Los datos corresponden a 2013 pues son los últimos disponibles","Nota: Los datos corresponden a 2013 pues son los últimos disponibles","Nota: Los datos corresponden a 2013 pues son los últimos disponibles","Nota: Los datos corresponden a 2013 pues son los últimos disponibles","Nota: Los datos corresponden a 2013 pues son los últimos disponibles","Nota: Los datos corresponden a 2013 pues son los últimos disponibles","Nota: Los datos corresponden a 2013 pues son los últimos disponibles","Nota: Los datos corresponden a 2013 pues son los últimos disponibles","Nota: Los datos corresponden a 2013 pues son los últimos disponibles","Nota: Los datos corresponden a 2013 pues son los últimos disponibles","Nota: Los datos corresponden a 2013 pues son los últimos disponibles","Nota: Los datos corresponden a 2013 pues son los últimos disponibles","Nota: Los datos corresponden a 2013 pues son los últimos disponibles","Nota: Los datos corresponden a 2013 pues son los últimos disponibles","Nota: Los datos corresponden a 2013 pues son los últimos disponibles","Nota: Los datos corresponden a 2013 pues son los últimos disponibles","Nota: Los datos corresponden a 2013 pues son los últimos disponibles","Nota: Los datos corresponden a 2013 pues son los últimos disponibles","Nota: Los datos corresponden a 2013 pues son los últimos disponibles","Nota: Los datos corresponden a 2013 pues son los últimos disponibles","Nota: Los datos corresponden a 2013 pues son los últimos disponibles","Nota: Los datos corresponden a 2013 pues son los últimos disponibles","Nota: Los datos corresponden a 2013 pues son los últimos disponibles","Nota: Los datos corresponden a 2013 pues son los últimos disponibles","Nota: Los datos corresponden a 2013 pues son los últimos disponibles","Nota: Los datos corresponden a 2013 pues son los últimos disponibles","Nota: Los datos corresponden a 2013 pues son los últimos disponibles","Nota: Los datos corresponden a 2013 pues son los últimos disponibles","Nota: Los datos corresponden a 2013 pues son los últimos disponibles","Nota: Los datos corresponden a 2013 pues son los últimos disponibles","Nota: Los datos corresponden a 2013 pues son los últimos disponibles","Nota: Los datos corresponden a 2013 pues son los últimos disponibles","Nota: Los datos corresponden a 2013 pues son los últimos disponibles","Nota: Los datos corresponden a 2013 pues son los últimos disponibles","Nota: Los datos corresponden a 2013 pues son los últimos disponibles","Nota: Los datos corresponden a 2013 pues son los últimos disponibles","Nota: Los datos corresponden a 2013 pues son los últimos disponibles","Nota: Los datos corresponden a 2013 pues son los últimos disponibles","Nota: Los datos corresponden a 2013 pues son los últimos disponibles","Nota: Los datos corresponden a 2013 pues son los últimos disponibles","Nota: Los datos corresponden a 2013 pues son los últimos disponibles","Nota: Los datos corresponden a 2013 pues son los últimos disponibles","Nota: Los datos corresponden a 2013 pues son los últimos disponibles","Nota: Los datos corresponden a 2013 pues son los últimos disponibles","Nota: Los datos corresponden a 2013 pues son los últimos disponibles","Nota: Los datos corresponden a 2013 pues son los últimos disponibles","Nota: Los datos corresponden a 2013 pues son los últimos disponibles","Nota: Los datos corresponden a 2013 pues son los últimos disponibles","Nota: Los datos corresponden a 2013 pues son los últimos disponibles","Nota: Los datos corresponden a 2013 pues son los últimos disponibles","Nota: Los datos corresponden a 2013 pues son los últimos disponibles","Nota: Los datos corresponden a 2013 pues son los últimos disponibles","Nota: Los datos corresponden a 2013 pues son los últimos disponibles","Nota: Los datos corresponden a 2013 pues son los últimos disponibles","Nota: Los datos corresponden a 2013 pues son los últimos disponibles","Nota: Los datos corresponden a 2013 pues son los últimos disponibles","Nota: Los datos corresponden a 2013 pues son los últimos disponibles","Nota: Los datos corresponden a 2013 pues son los últimos disponibles","Nota: Los datos corresponden a 2013 pues son los últimos disponibles","Nota: Los datos corresponden a 2013 pues son los últimos disponibles","Nota: Los datos corresponden a 2013 pues son los últimos disponibles","Nota: Los datos corresponden a 2013 pues son los últimos disponibles","Nota: Los datos corresponden a 2013 pues son los últimos disponibles","Nota: Los datos corresponden a 2013 pues son los últimos disponibles","Nota: Los datos corresponden a 2013 pues son los últimos disponibles","Nota: Los datos corresponden a 2013 pues son los últimos disponibles","Nota: Los datos corresponden a 2013 pues son los últimos disponibles","Nota: Los datos corresponden a 2013 pues son los últimos disponibles","Nota: Los datos corresponden a 2013 pues son los últimos disponibles","Nota: Los datos corresponden a 2013 pues son los últimos disponibles","Nota: Los datos corresponden a 2013 pues son los últimos disponibles","Nota: Los datos corresponden a 2013 pues son los últimos disponibles","Nota: Los datos corresponden a 2013 pues son los últimos disponibles","Nota: Los datos corresponden a 2013 pues son los últimos disponibles","Nota: Los datos corresponden a 2013 pues son los últimos disponibles","Nota: Los datos corresponden a 2013 pues son los últimos disponibles","Nota: Los datos corresponden a 2013 pues son los últimos disponibles","Nota: Los datos corresponden a 2013 pues son los últimos disponibles","Nota: Los datos corresponden a 2013 pues son los últimos disponibles","Nota: Los datos corresponden a 2013 pues son los últimos disponibles","Nota: Los datos corresponden a 2013 pues son los últimos disponibles","Nota: Los datos corresponden a 2013 pues son los últimos disponibles","Nota: Los datos corresponden a 2013 pues son los últimos disponibles","Nota: Los datos corresponden a 2013 pues son los últimos disponibles","Nota: Los datos corresponden a 2013 pues son los últimos disponibles","Nota: Los datos corresponden a 2013 pues son los últimos disponibles","Nota: Los datos corresponden a 2013 pues son los últimos disponibles","Nota: Los datos corresponden a 2013 pues son los últimos disponibles","Nota: Los datos corresponden a 2013 pues son los últimos disponibles","Nota: Los datos corresponden a 2013 pues son los últimos disponibles","Nota: Los datos corresponden a 2013 pues son los últimos disponibles","Nota: Los datos corresponden a 2013 pues son los últimos disponibles","Nota: Los datos corresponden a 2013 pues son los últimos disponibles","Nota: Los datos corresponden a 2013 pues son los últimos disponibles","Nota: Los datos corresponden a 2013 pues son los últimos disponibles","Nota: Los datos corresponden a 2013 pues son los últimos disponibles","Nota: Los datos corresponden a 2013 pues son los últimos disponibles","Nota: Los datos corresponden a 2013 pues son los últimos disponibles","Nota: Los datos corresponden a 2013 pues son los últimos disponibles","Nota: Los datos corresponden a 2013 pues son los últimos disponibles","Nota: Los datos corresponden a 2013 pues son los últimos disponibles","Nota: Los datos corresponden a 2013 pues son los últimos disponibles","Nota: Los datos corresponden a 2013 pues son los últimos disponibles","Nota: Los datos corresponden a 2013 pues son los últimos disponibles","Nota: Los datos corresponden a 2013 pues son los últimos disponibles","Nota: Los datos corresponden a 2013 pues son los últimos disponibles","Nota: Los datos corresponden a 2013 pues son los últimos disponibles","Nota: Los datos corresponden a 2013 pues son los últimos disponibles","Nota: Los datos corresponden a 2013 pues son los últimos disponibles","Nota: Los datos corresponden a 2013 pues son los últimos disponibles","Nota: Los datos corresponden a 2013 pues son los últimos disponibles","Nota: Los datos corresponden a 2013 pues son los últimos disponibles","Nota: Los datos corresponden a 2013 pues son los últimos disponibles","Nota: Los datos corresponden a 2013 pues son los últimos disponibles","Nota: Los datos corresponden a 2013 pues son los últimos disponibles","Nota: Los datos corresponden a 2013 pues son los últimos disponibles","Nota: Los datos corresponden a 2013 pues son los últimos disponibles","Nota: Los datos corresponden a 2013 pues son los últimos disponibles","Nota: Los datos corresponden a 2013 pues son los últimos disponibles","Nota: Los datos corresponden a 2013 pues son los últimos disponibles","Nota: Los datos corresponden a 2013 pues son los últimos disponibles","Nota: Los datos corresponden a 2013 pues son los últimos disponibles","Nota: Los datos corresponden a 2013 pues son los últimos disponibles","Nota: Los datos corresponden a 2013 pues son los últimos disponibles","Nota: Los datos corresponden a 2013 pues son los últimos disponibles","Nota: Los datos corresponden a 2013 pues son los últimos disponibles","Nota: Los datos corresponden a 2013 pues son los últimos disponibles","Nota: Los datos corresponden a 2013 pues son los últimos disponibles","Nota: Los datos corresponden a 2013 pues son los últimos disponibles","Nota: Los datos corresponden a 2013 pues son los últimos disponibles","Nota: Los datos corresponden a 2013 pues son los últimos disponibles","Nota: Los datos corresponden a 2013 pues son los últimos disponibles","Nota: Los datos corresponden a 2013 pues son los últimos disponibles","Nota: Los datos corresponden a 2013 pues son los últimos disponibles","Nota: Los datos corresponden a 2013 pues son los últimos disponibles","Nota: Los datos corresponden a 2013 pues son los últimos disponibles","Nota: Los datos corresponden a 2013 pues son los últimos disponibles","Nota: Los datos corresponden a 2013 pues son los últimos disponibles","Nota: Los datos corresponden a 2013 pues son los últimos disponibles","Nota: Los datos corresponden a 2013 pues son los últimos disponibles","Nota: Los datos corresponden a 2013 pues son los últimos disponibles","Nota: Los datos corresponden a 2013 pues son los últimos disponibles","Nota: Los datos corresponden a 2013 pues son los últimos disponibles","Nota: Los datos corresponden a 2013 pues son los últimos disponibles","Nota: Los datos corresponden a 2013 pues son los últimos disponibles","Nota: Los datos corresponden a 2013 pues son los últimos disponibles","Nota: Los datos corresponden a 2013 pues son los últimos disponibles","Nota: Los datos corresponden a 2013 pues son los últimos disponibles","Nota: Los datos corresponden a 2013 pues son los últimos disponibles","Nota: Los datos corresponden a 2013 pues son los últimos disponibles","Nota: Los datos corresponden a 2013 pues son los últimos disponibles","Nota: Los datos corresponden a 2013 pues son los últimos disponibles","Nota: Los datos corresponden a 2013 pues son los últimos disponibles","Nota: Los datos corresponden a 2013 pues son los últimos disponibles","Nota: Los datos corresponden a 2013 pues son los últimos disponibles","Nota: Los datos corresponden a 2013 pues son los últimos disponibles","Nota: Los datos corresponden a 2013 pues son los últimos disponibles","Nota: Los datos corresponden a 2013 pues son los últimos disponibles","Nota: Los datos corresponden a 2013 pues son los últimos disponibles","Nota: Los datos corresponden a 2013 pues son los últimos disponibles","Nota: Los datos corresponden a 2013 pues son los últimos disponibles","Nota: Los datos corresponden a 2013 pues son los últimos disponibles","Nota: Los datos corresponden a 2013 pues son los últimos disponibles","Nota: Los datos corresponden a 2013 pues son los últimos disponibles","Nota: Los datos corresponden a 2013 pues son los últimos disponibles","Nota: Los datos corresponden a 2013 pues son los últimos disponibles","Nota: Los datos corresponden a 2013 pues son los últimos disponibles","Nota: Los datos corresponden a 2013 pues son los últimos disponibles","Nota: Los datos corresponden a 2013 pues son los últimos disponibles","Nota: Los datos corresponden a 2013 pues son los últimos disponibles","Nota: Los datos corresponden a 2013 pues son los últimos disponibles","Nota: Los datos corresponden a 2013 pues son los últimos disponibles","Nota: Los datos corresponden a 2013 pues son los últimos disponibles","Nota: Los datos corresponden a 2013 pues son los últimos disponibles","Nota: Los datos corresponden a 2013 pues son los últimos disponibles","Nota: Los datos corresponden a 2013 pues son los últimos disponibles","Nota: Los datos corresponden a 2013 pues son los últimos disponibles","Nota: Los datos corresponden a 2013 pues son los últimos disponibles","Nota: Los datos corresponden a 2013 pues son los últimos disponibles","Nota: Los datos corresponden a 2013 pues son los últimos disponibles","Nota: Los datos corresponden a 2013 pues son los últimos disponibles","Nota: Los datos corresponden a 2013 pues son los últimos disponibles","Nota: Los datos corresponden a 2013 pues son los últimos disponibles","Nota: Los datos corresponden a 2013 pues son los últimos disponibles","Nota: Los datos corresponden a 2013 pues son los últimos disponibles","Nota: Los datos corresponden a 2013 pues son los últimos disponibles","Nota: Los datos corresponden a 2013 pues son los últimos disponibles","Nota: Los datos corresponden a 2013 pues son los últimos disponibles","Nota: Los datos corresponden a 2013 pues son los últimos disponibles","Nota: Los datos corresponden a 2013 pues son los últimos disponibles","Nota: Los datos corresponden a 2013 pues son los últimos disponibles","Nota: Los datos corresponden a 2013 pues son los últimos disponibles","Nota: Los datos corresponden a 2013 pues son los últimos disponibles","Nota: Los datos corresponden a 2013 pues son los últimos disponibles","Nota: Los datos corresponden a 2013 pues son los últimos disponibles","Nota: Los datos corresponden a 2013 pues son los últimos disponibles","Nota: Los datos corresponden a 2013 pues son los últimos disponibles","Nota: Los datos corresponden a 2013 pues son los últimos disponibles","Nota: Los datos corresponden a 2013 pues son los últimos disponibles","Nota: Los datos corresponden a 2013 pues son los últimos disponibles","Nota: Los datos corresponden a 2013 pues son los últimos disponibles","Nota: Los datos corresponden a 2013 pues son los últimos disponibles","Nota: Los datos corresponden a 2013 pues son los últimos disponibles","Nota: Los datos corresponden a 2013 pues son los últimos disponibles","Nota: Los datos corresponden a 2013 pues son los últimos disponibles","Nota: Los datos corresponden a 2013 pues son los últimos disponibles","Nota: Los datos corresponden a 2013 pues son los últimos disponibles","Nota: Los datos corresponden a 2013 pues son los últimos disponibles","Nota: Los datos corresponden a 2013 pues son los últimos disponibles","Nota: Los datos corresponden a 2013 pues son los últimos disponibles","Nota: Los datos corresponden a 2013 pues son los últimos disponibles","Nota: Los datos corresponden a 2013 pues son los últimos disponibles","Nota: Los datos corresponden a 2013 pues son los últimos disponibles","Nota: Los datos corresponden a 2013 pues son los últimos disponibles","Nota: Los datos corresponden a 2013 pues son los últimos disponibles","Nota: Los datos corresponden a 2013 pues son los últimos disponibles","Nota: Los datos corresponden a 2013 pues son los últimos disponibles","Nota: Los datos corresponden a 2013 pues son los últimos disponibles","Nota: Los datos corresponden a 2013 pues son los últimos disponibles","Nota: Los datos corresponden a 2013 pues son los últimos disponibles","Nota: Los datos corresponden a 2013 pues son los últimos disponibles","Nota: Los datos corresponden a 2013 pues son los últimos disponibles","Nota: Los datos corresponden a 2013 pues son los últimos disponibles","Nota: Los datos corresponden a 2013 pues son los últimos disponibles","Nota: Los datos corresponden a 2013 pues son los últimos disponibles","Nota: Los datos corresponden a 2013 pues son los últimos disponibles","Nota: Los datos corresponden a 2013 pues son los últimos disponibles","Nota: Los datos corresponden a 2013 pues son los últimos disponibles","Nota: Los datos corresponden a 2013 pues son los últimos disponibles","Nota: Los datos corresponden a 2013 pues son los últimos disponibles","Nota: Los datos corresponden a 2013 pues son los últimos disponibles","Nota: Los datos corresponden a 2013 pues son los últimos disponibles","Nota: Los datos corresponden a 2013 pues son los últimos disponibles","Nota: Los datos corresponden a 2013 pues son los últimos disponibles","Nota: Los datos corresponden a 2013 pues son los últimos disponibles","Nota: Los datos corresponden a 2013 pues son los últimos disponibles","Nota: Los datos corresponden a 2013 pues son los últimos disponibles","Nota: Los datos corresponden a 2013 pues son los últimos disponibles","Nota: Los datos corresponden a 2013 pues son los últimos disponibles","Nota: Los datos corresponden a 2013 pues son los últimos disponibles","Nota: Los datos corresponden a 2013 pues son los últimos disponibles","Nota: Los datos corresponden a 2013 pues son los últimos disponibles","Nota: Los datos corresponden a 2013 pues son los últimos disponibles","Nota: Los datos corresponden a 2013 pues son los últimos disponibles","Nota: Los datos corresponden a 2013 pues son los últimos disponibles","Nota: Los datos corresponden a 2013 pues son los últimos disponibles","Nota: Los datos corresponden a 2013 pues son los últimos disponibles","Nota: Los datos corresponden a 2013 pues son los últimos disponibles","Nota: Los datos corresponden a 2013 pues son los últimos disponibles","Nota: Los datos corresponden a 2013 pues son los últimos disponibles","Nota: Los datos corresponden a 2013 pues son los últimos disponibles","Nota: Los datos corresponden a 2013 pues son los últimos disponibles","Nota: Los datos corresponden a 2013 pues son los últimos disponibles","Nota: Los datos corresponden a 2013 pues son los últimos disponibles","Nota: Los datos corresponden a 2013 pues son los últimos disponibles","Nota: Los datos corresponden a 2013 pues son los últimos disponibles","Nota: Los datos corresponden a 2013 pues son los últimos disponibles","Nota: Los datos corresponden a 2013 pues son los últimos disponibles","Nota: Los datos corresponden a 2013 pues son los últimos disponibles","Nota: Los datos corresponden a 2013 pues son los últimos disponibles","Nota: Los datos corresponden a 2013 pues son los últimos disponibles","Nota: Los datos corresponden a 2013 pues son los últimos disponibles","Nota: Los datos corresponden a 2013 pues son los últimos disponibles","Nota: Los datos corresponden a 2013 pues son los últimos disponibles","Nota: Los datos corresponden a 2013 pues son los últimos disponibles","Nota: Los datos corresponden a 2013 pues son los últimos disponibles","Nota: Los datos corresponden a 2013 pues son los últimos disponibles","Nota: Los datos corresponden a 2013 pues son los últimos disponibles","Nota: Los datos corresponden a 2013 pues son los últimos disponibles","Nota: Los datos corresponden a 2013 pues son los últimos disponibles","Nota: Los datos corresponden a 2013 pues son los últimos disponibles","Nota: Los datos corresponden a 2013 pues son los últimos disponibles","Nota: Los datos corresponden a 2013 pues son los últimos disponibles","Nota: Los datos corresponden a 2013 pues son los últimos disponibles","Nota: Los datos corresponden a 2013 pues son los últimos disponibles","Nota: Los datos corresponden a 2013 pues son los últimos disponibles","Nota: Los datos corresponden a 2013 pues son los últimos disponibles","Nota: Los datos corresponden a 2013 pues son los últimos disponibles","Nota: Los datos corresponden a 2013 pues son los últimos disponibles","Nota: Los datos corresponden a 2013 pues son los últimos disponibles","Nota: Los datos corresponden a 2013 pues son los últimos disponibles","Nota: Los datos corresponden a 2013 pues son los últimos disponibles","Nota: Los datos corresponden a 2013 pues son los últimos disponibles","Nota: Los datos corresponden a 2013 pues son los últimos disponibles","Nota: Los datos corresponden a 2013 pues son los últimos disponibles","Nota: Los datos corresponden a 2013 pues son los últimos disponibles","Nota: Los datos corresponden a 2013 pues son los últimos disponibles","Nota: Los datos corresponden a 2013 pues son los últimos disponibles","Nota: Los datos corresponden a 2013 pues son los últimos disponibles","Nota: Los datos corresponden a 2013 pues son los últimos disponibles","Nota: Los datos corresponden a 2013 pues son los últimos disponibles","Nota: Los datos corresponden a 2013 pues son los últimos disponibles","Nota: Los datos corresponden a 2013 pues son los últimos disponibles","Nota: Los datos corresponden a 2013 pues son los últimos disponibles","Nota: Los datos corresponden a 2013 pues son los últimos disponibles","Nota: Los datos corresponden a 2013 pues son los últimos disponibles","Nota: Los datos corresponden a 2013 pues son los últimos disponibles","Nota: Los datos corresponden a 2013 pues son los últimos disponibles","Nota: Los datos corresponden a 2013 pues son los últimos disponibles","Nota: Los datos corresponden a 2013 pues son los últimos disponibles","Nota: Los datos corresponden a 2013 pues son los últimos disponibles","Nota: Los datos corresponden a 2013 pues son los últimos disponibles","Nota: Los datos corresponden a 2013 pues son los últimos disponibles","Nota: Los datos corresponden a 2013 pues son los últimos disponibles","Nota: Los datos corresponden a 2013 pues son los últimos disponibles","Nota: Los datos corresponden a 2013 pues son los últimos disponibles","Nota: Los datos corresponden a 2013 pues son los últimos disponibles","Nota: Los datos corresponden a 2013 pues son los últimos disponibles","Nota: Los datos corresponden a 2013 pues son los últimos disponibles","Nota: Los datos corresponden a 2013 pues son los últimos disponibles","Nota: Los datos corresponden a 2013 pues son los últimos disponibles","Nota: Los datos corresponden a 2013 pues son los últimos disponibles","Nota: Los datos corresponden a 2013 pues son los últimos disponibles","Nota: Los datos corresponden a 2013 pues son los últimos disponibles","Nota: Los datos corresponden a 2013 pues son los últimos disponibles","Nota: Los datos corresponden a 2013 pues son los últimos disponibles","Nota: Los datos corresponden a 2013 pues son los últimos disponibles","Nota: Los datos corresponden a 2013 pues son los últimos disponibles","Nota: Los datos corresponden a 2013 pues son los últimos disponibles","Nota: Los datos corresponden a 2013 pues son los últimos disponibles","Nota: Los datos corresponden a 2013 pues son los últimos disponibles","Nota: Los datos corresponden a 2013 pues son los últimos disponibles","Nota: Los datos corresponden a 2013 pues son los últimos disponibles","Nota: Los datos corresponden a 2013 pues son los últimos disponibles","Nota: Los datos corresponden a 2013 pues son los últimos disponibles","Nota: Los datos corresponden a 2013 pues son los últimos disponibles","Nota: Los datos corresponden a 2013 pues son los últimos disponibles","Nota: Los datos corresponden a 2013 pues son los últimos disponibles","Nota: Los datos corresponden a 2013 pues son los últimos disponibles","Nota: Los datos corresponden a 2013 pues son los últimos disponibles","Nota: Los datos corresponden a 2013 pues son los últimos disponibles","Nota: Los datos corresponden a 2013 pues son los últimos disponibles","Nota: Los datos corresponden a 2013 pues son los últimos disponibles","Nota: Los datos corresponden a 2013 pues son los últimos disponibles","Nota: Los datos corresponden a 2013 pues son los últimos disponibles","Nota: Los datos corresponden a 2013 pues son los últimos disponibles","Nota: Los datos corresponden a 2013 pues son los últimos disponibles","Nota: Los datos corresponden a 2013 pues son los últimos disponibles","Nota: Los datos corresponden a 2013 pues son los últimos disponibles","Nota: Los datos corresponden a 2013 pues son los últimos disponibles","Nota: Los datos corresponden a 2013 pues son los últimos disponibles","Nota: Los datos corresponden a 2013 pues son los últimos disponibles","Nota: Los datos corresponden a 2013 pues son los últimos disponibles","Nota: Los datos corresponden a 2013 pues son los últimos disponibles","Nota: Los datos corresponden a 2013 pues son los últimos disponibles","Nota: Los datos corresponden a 2013 pues son los últimos disponibles","Nota: Los datos corresponden a 2013 pues son los últimos disponibles","Nota: Los datos corresponden a 2013 pues son los últimos disponibles","Nota: Los datos corresponden a 2013 pues son los últimos disponibles","Nota: Los datos corresponden a 2013 pues son los últimos disponibles","Nota: Los datos corresponden a 2013 pues son los últimos disponibles","Nota: Los datos corresponden a 2013 pues son los últimos disponibles","Nota: Los datos corresponden a 2013 pues son los últimos disponibles","Nota: Los datos corresponden a 2013 pues son los últimos disponibles","Nota: Los datos corresponden a 2013 pues son los últimos disponibles","Nota: Los datos corresponden a 2013 pues son los últimos disponibles","Nota: Los datos corresponden a 2013 pues son los últimos disponibles","Nota: Los datos corresponden a 2013 pues son los últimos disponibles","Nota: Los datos corresponden a 2013 pues son los últimos disponibles","Nota: Los datos corresponden a 2013 pues son los últimos disponibles","Nota: Los datos corresponden a 2013 pues son los últimos disponibles","Nota: Los datos corresponden a 2013 pues son los últimos disponibles","Nota: Los datos corresponden a 2013 pues son los últimos disponibles","Nota: Los datos corresponden a 2013 pues son los últimos disponibles","Nota: Los datos corresponden a 2013 pues son los últimos disponibles","Nota: Los datos corresponden a 2013 pues son los últimos disponibles","Nota: Los datos corresponden a 2013 pues son los últimos disponibles","Nota: Los datos corresponden a 2013 pues son los últimos disponibles","Nota: Los datos corresponden a 2013 pues son los últimos disponibles","Nota: Los datos corresponden a 2013 pues son los últimos disponibles","Nota: Los datos corresponden a 2013 pues son los últimos disponibles","Nota: Los datos corresponden a 2013 pues son los últimos disponibles","Nota: Los datos corresponden a 2013 pues son los últimos disponibles","Nota: Los datos corresponden a 2013 pues son los últimos disponibles","Nota: Los datos corresponden a 2013 pues son los últimos disponibles","Nota: Los datos corresponden a 2013 pues son los últimos disponibles","Nota: Los datos corresponden a 2013 pues son los últimos disponibles","Nota: Los datos corresponden a 2013 pues son los últimos disponibles","Nota: Los datos corresponden a 2013 pues son los últimos disponibles","Nota: Los datos corresponden a 2013 pues son los últimos disponibles","Nota: Los datos corresponden a 2013 pues son los últimos disponibles","Nota: Los datos corresponden a 2013 pues son los últimos disponibles","Nota: Los datos corresponden a 2013 pues son los últimos disponibles","Nota: Los datos corresponden a 2013 pues son los últimos disponibles","Nota: Los datos corresponden a 2013 pues son los últimos disponibles","Nota: Los datos corresponden a 2013 pues son los últimos disponibles","Nota: Los datos corresponden a 2013 pues son los últimos disponibles","Nota: Los datos corresponden a 2013 pues son los últimos disponibles","Nota: Los datos corresponden a 2013 pues son los últimos disponibles","Nota: Los datos corresponden a 2013 pues son los últimos disponibles","Nota: Los datos corresponden a 2013 pues son los últimos disponibles","Nota: Los datos corresponden a 2013 pues son los últimos disponibles","Nota: Los datos corresponden a 2013 pues son los últimos disponibles","Nota: Los datos corresponden a 2013 pues son los últimos disponibles","Nota: Los datos corresponden a 2013 pues son los últimos disponibles","Nota: Los datos corresponden a 2013 pues son los últimos disponibles","Nota: Los datos corresponden a 2013 pues son los últimos disponibles","Nota: Los datos corresponden a 2013 pues son los últimos disponibles","Nota: Los datos corresponden a 2013 pues son los últimos disponibles","Nota: Los datos corresponden a 2013 pues son los últimos disponibles","Nota: Los datos corresponden a 2013 pues son los últimos disponibles","Nota: Los datos corresponden a 2013 pues son los últimos disponibles","Nota: Los datos corresponden a 2013 pues son los últimos disponibles","Nota: Los datos corresponden a 2013 pues son los últimos disponibles","Nota: Los datos corresponden a 2013 pues son los últimos disponibles","Nota: Los datos corresponden a 2013 pues son los últimos disponibles","Nota: Los datos corresponden a 2013 pues son los últimos disponibles","Nota: Los datos corresponden a 2013 pues son los últimos disponibles","Nota: Los datos corresponden a 2013 pues son los últimos disponibles","Nota: Los datos corresponden a 2013 pues son los últimos disponibles","Nota: Los datos corresponden a 2013 pues son los últimos disponibles","Nota: Los datos corresponden a 2013 pues son los últimos disponibles","Nota: Los datos corresponden a 2013 pues son los últimos disponibles","Nota: Los datos corresponden a 2013 pues son los últimos disponibles","Nota: Los datos corresponden a 2013 pues son los últimos disponibles","Nota: Los datos corresponden a 2013 pues son los últimos disponibles","Nota: Los datos corresponden a 2013 pues son los últimos disponibles","Nota: Los datos corresponden a 2013 pues son los últimos disponibles","Nota: Los datos corresponden a 2013 pues son los últimos disponibles","Nota: Los datos corresponden a 2013 pues son los últimos disponibles","Nota: Los datos corresponden a 2013 pues son los últimos disponibles","Nota: Los datos corresponden a 2013 pues son los últimos disponibles","Nota: Los datos corresponden a 2013 pues son los últimos disponibles","Nota: Los datos corresponden a 2013 pues son los últimos disponibles","Nota: Los datos corresponden a 2013 pues son los últimos disponibles","Nota: Los datos corresponden a 2013 pues son los últimos disponibles","Nota: Los datos corresponden a 2013 pues son los últimos disponibles","Nota: Los datos corresponden a 2013 pues son los últimos disponibles","Nota: Los datos corresponden a 2013 pues son los últimos disponibles","Nota: Los datos corresponden a 2013 pues son los últimos disponibles","Nota: Los datos corresponden a 2013 pues son los últimos disponibles","Nota: Los datos corresponden a 2013 pues son los últimos disponibles","Nota: Los datos corresponden a 2013 pues son los últimos disponibles","Nota: Los datos corresponden a 2013 pues son los últimos disponibles","Nota: Los datos corresponden a 2013 pues son los últimos disponibles","Nota: Los datos corresponden a 2013 pues son los últimos disponibles","Nota: Los datos corresponden a 2013 pues son los últimos disponibles","Nota: Los datos corresponden a 2013 pues son los últimos disponibles","Nota: Los datos corresponden a 2013 pues son los últimos disponibles","Nota: Los datos corresponden a 2013 pues son los últimos disponibles","Nota: Los datos corresponden a 2013 pues son los últimos disponibles","Nota: Los datos corresponden a 2013 pues son los últimos disponibles","Nota: Los datos corresponden a 2013 pues son los últimos disponibles","Nota: Los datos corresponden a 2013 pues son los últimos disponibles","Nota: Los datos corresponden a 2013 pues son los últimos disponibles","Nota: Los datos corresponden a 2013 pues son los últimos disponibles","Nota: Los datos corresponden a 2013 pues son los últimos disponibles","Nota: Los datos corresponden a 2013 pues son los últimos disponibles","Nota: Los datos corresponden a 2013 pues son los últimos disponibles","Nota: Los datos corresponden a 2013 pues son los últimos disponibles","Nota: Los datos corresponden a 2013 pues son los últimos disponibles","Nota: Los datos corresponden a 2013 pues son los últimos disponibles","Nota: Los datos corresponden a 2013 pues son los últimos disponibles","Nota: Los datos corresponden a 2013 pues son los últimos disponibles","Nota: Los datos corresponden a 2013 pues son los últimos disponibles","Nota: Los datos corresponden a 2013 pues son los últimos disponibles","Nota: Los datos corresponden a 2013 pues son los últimos disponibles","Nota: Los datos corresponden a 2013 pues son los últimos disponibles","Nota: Los datos corresponden a 2013 pues son los últimos disponibles","Nota: Los datos corresponden a 2013 pues son los últimos disponibles","Nota: Los datos corresponden a 2013 pues son los últimos disponibles","Nota: Los datos corresponden a 2013 pues son los últimos disponibles","Nota: Los datos corresponden a 2013 pues son los últimos disponibles","Nota: Los datos corresponden a 2013 pues son los últimos disponibles","Nota: Los datos corresponden a 2013 pues son los últimos disponibles","Nota: Los datos corresponden a 2013 pues son los últimos disponibles","Nota: Los datos corresponden a 2013 pues son los últimos disponibles","Nota: Los datos corresponden a 2013 pues son los últimos disponibles","Nota: Los datos corresponden a 2013 pues son los últimos disponibles","Nota: Los datos corresponden a 2013 pues son los últimos disponibles","Nota: Los datos corresponden a 2013 pues son los últimos disponibles","Nota: Los datos corresponden a 2013 pues son los últimos disponibles","Nota: Los datos corresponden a 2013 pues son los últimos disponibles","Nota: Los datos corresponden a 2013 pues son los últimos disponibles","Nota: Los datos corresponden a 2013 pues son los últimos disponibles","Nota: Los datos corresponden a 2013 pues son los últimos disponibles","Nota: Los datos corresponden a 2013 pues son los últimos disponibles","Nota: Los datos corresponden a 2013 pues son los últimos disponibles","Nota: Los datos corresponden a 2013 pues son los últimos disponibles","Nota: Los datos corresponden a 2013 pues son los últimos disponibles","Nota: Los datos corresponden a 2013 pues son los últimos disponibles","Nota: Los datos corresponden a 2013 pues son los últimos disponibles","Nota: Los datos corresponden a 2013 pues son los últimos disponibles","Nota: Los datos corresponden a 2013 pues son los últimos disponibles","Nota: Los datos corresponden a 2013 pues son los últimos disponibles","Nota: Los datos corresponden a 2013 pues son los últimos disponibles","Nota: Los datos corresponden a 2013 pues son los últimos disponibles","Nota: Los datos corresponden a 2013 pues son los últimos disponibles","Nota: Los datos corresponden a 2013 pues son los últimos disponibles","Nota: Los datos corresponden a 2013 pues son los últimos disponibles","Nota: Los datos corresponden a 2013 pues son los últimos disponibles","Nota: Los datos corresponden a 2013 pues son los últimos disponibles","Nota: Los datos corresponden a 2013 pues son los últimos disponibles","Nota: Los datos corresponden a 2013 pues son los últimos disponibles","Nota: Los datos corresponden a 2013 pues son los últimos disponibles","Nota: Los datos corresponden a 2013 pues son los últimos disponibles","Nota: Los datos corresponden a 2013 pues son los últimos disponibles","Nota: Los datos corresponden a 2013 pues son los últimos disponibles","Nota: Los datos corresponden a 2013 pues son los últimos disponibles","Nota: Los datos corresponden a 2013 pues son los últimos disponibles","Nota: Los datos corresponden a 2013 pues son los últimos disponibles","Nota: Los datos corresponden a 2013 pues son los últimos disponibles","Nota: Los datos corresponden a 2013 pues son los últimos disponibles","Nota: Los datos corresponden a 2013 pues son los últimos disponibles","Nota: Los datos corresponden a 2013 pues son los últimos disponibles","Nota: Los datos corresponden a 2013 pues son los últimos disponibles","Nota: Los datos corresponden a 2013 pues son los últimos disponibles","Nota: Los datos corresponden a 2013 pues son los últimos disponibles","Nota: Los datos corresponden a 2013 pues son los últimos disponibles","Nota: Los datos corresponden a 2013 pues son los últimos disponibles","Nota: Los datos corresponden a 2013 pues son los últimos disponibles","Nota: Los datos corresponden a 2013 pues son los últimos disponibles","Nota: Los datos corresponden a 2013 pues son los últimos disponibles","Nota: Los datos corresponden a 2013 pues son los últimos disponibles","Nota: Los datos corresponden a 2013 pues son los últimos disponibles","Nota: Los datos corresponden a 2013 pues son los últimos disponibles","Nota: Los datos corresponden a 2013 pues son los últimos disponibles","Nota: Los datos corresponden a 2013 pues son los últimos disponibles","Nota: Los datos corresponden a 2013 pues son los últimos disponibles","Nota: Los datos corresponden a 2013 pues son los últimos disponibles","Nota: Los datos corresponden a 2013 pues son los últimos disponibles","Nota: Los datos corresponden a 2013 pues son los últimos disponibles","Nota: Los datos corresponden a 2013 pues son los últimos disponibles","Nota: Los datos corresponden a 2013 pues son los últimos disponibles","Nota: Los datos corresponden a 2013 pues son los últimos disponibles","Nota: Los datos corresponden a 2013 pues son los últimos disponibles","Nota: Los datos corresponden a 2013 pues son los últimos disponibles","Nota: Los datos corresponden a 2013 pues son los últimos disponibles","Nota: Los datos corresponden a 2013 pues son los últimos disponibles","Nota: Los datos corresponden a 2013 pues son los últimos disponibles","Nota: Los datos corresponden a 2013 pues son los últimos disponibles","Nota: Los datos corresponden a 2013 pues son los últimos disponibles","Nota: Los datos corresponden a 2013 pues son los últimos disponibles","Nota: Los datos corresponden a 2013 pues son los últimos disponibles","Nota: Los datos corresponden a 2013 pues son los últimos disponibles","Nota: Los datos corresponden a 2013 pues son los últimos disponibles","Nota: Los datos corresponden a 2013 pues son los últimos disponibles","Nota: Los datos corresponden a 2013 pues son los últimos disponibles","Nota: Los datos corresponden a 2013 pues son los últimos disponibles","Nota: Los datos corresponden a 2013 pues son los últimos disponibles","Nota: Los datos corresponden a 2013 pues son los últimos disponibles","Nota: Los datos corresponden a 2013 pues son los últimos disponibles","Nota: Los datos corresponden a 2013 pues son los últimos disponibles","Nota: Los datos corresponden a 2013 pues son los últimos disponibles","Nota: Los datos corresponden a 2013 pues son los últimos disponibles","Nota: Los datos corresponden a 2013 pues son los últimos disponibles","Nota: Los datos corresponden a 2013 pues son los últimos disponibles","Nota: Los datos corresponden a 2013 pues son los últimos disponibles","Nota: Los datos corresponden a 2013 pues son los últimos disponibles","Nota: Los datos corresponden a 2013 pues son los últimos disponibles","Nota: Los datos corresponden a 2013 pues son los últimos disponibles","Nota: Los datos corresponden a 2013 pues son los últimos disponibles","Nota: Los datos corresponden a 2013 pues son los últimos disponibles","Nota: Los datos corresponden a 2013 pues son los últimos disponibles","Nota: Los datos corresponden a 2013 pues son los últimos disponibles","Nota: Los datos corresponden a 2013 pues son los últimos disponibles","Nota: Los datos corresponden a 2013 pues son los últimos disponibles","Nota: Los datos corresponden a 2013 pues son los últimos disponibles","Nota: Los datos corresponden a 2013 pues son los últimos disponibles","Nota: Los datos corresponden a 2013 pues son los últimos disponibles","Nota: Los datos corresponden a 2013 pues son los últimos disponibles","Nota: Los datos corresponden a 2013 pues son los últimos disponibles","Nota: Los datos corresponden a 2013 pues son los últimos disponibles","Nota: Los datos corresponden a 2013 pues son los últimos disponibles","Nota: Los datos corresponden a 2013 pues son los últimos disponibles","Nota: Los datos corresponden a 2013 pues son los últimos disponibles","Nota: Los datos corresponden a 2013 pues son los últimos disponibles","Nota: Los datos corresponden a 2013 pues son los últimos disponibles","Nota: Los datos corresponden a 2013 pues son los últimos disponibles","Nota: Los datos corresponden a 2013 pues son los últimos disponibles","Nota: Los datos corresponden a 2013 pues son los últimos disponibles","Nota: Los datos corresponden a 2013 pues son los últimos disponibles","Nota: Los datos corresponden a 2013 pues son los últimos disponibles","Nota: Los datos corresponden a 2013 pues son los últimos disponibles","Nota: Los datos corresponden a 2013 pues son los últimos disponibles","Nota: Los datos corresponden a 2013 pues son los últimos disponibles","Nota: Los datos corresponden a 2013 pues son los últimos disponibles","Nota: Los datos corresponden a 2013 pues son los últimos disponibles","Nota: Los datos corresponden a 2013 pues son los últimos disponibles","Nota: Los datos corresponden a 2013 pues son los últimos disponibles","Nota: Los datos corresponden a 2013 pues son los últimos disponibles","Nota: Los datos corresponden a 2013 pues son los últimos disponibles","Nota: Los datos corresponden a 2013 pues son los últimos disponibles","Nota: Los datos corresponden a 2013 pues son los últimos disponibles","Nota: Los datos corresponden a 2013 pues son los últimos disponibles","Nota: Los datos corresponden a 2013 pues son los últimos disponibles","Nota: Los datos corresponden a 2013 pues son los últimos disponibles","Nota: Los datos corresponden a 2013 pues son los últimos disponibles","Nota: Los datos corresponden a 2013 pues son los últimos disponibles","Nota: Los datos corresponden a 2013 pues son los últimos disponibles","Nota: Los datos corresponden a 2013 pues son los últimos disponibles","Nota: Los datos corresponden a 2013 pues son los últimos disponibles","Nota: Los datos corresponden a 2013 pues son los últimos disponibles","Nota: Los datos corresponden a 2013 pues son los últimos disponibles","Nota: Los datos corresponden a 2013 pues son los últimos disponibles","Nota: Los datos corresponden a 2013 pues son los últimos disponibles","Nota: Los datos corresponden a 2013 pues son los últimos disponibles","Nota: Los datos corresponden a 2013 pues son los últimos disponibles","Nota: Los datos corresponden a 2013 pues son los últimos disponibles","Nota: Los datos corresponden a 2013 pues son los últimos disponibles","Nota: Los datos corresponden a 2013 pues son los últimos disponibles","Nota: Los datos corresponden a 2013 pues son los últimos disponibles","Nota: Los datos corresponden a 2013 pues son los últimos disponibles","Nota: Los datos corresponden a 2013 pues son los últimos disponibles","Nota: Los datos corresponden a 2013 pues son los últimos disponibles","Nota: Los datos corresponden a 2013 pues son los últimos disponibles","Nota: Los datos corresponden a 2013 pues son los últimos disponibles","Nota: Los datos corresponden a 2013 pues son los últimos disponibles","Nota: Los datos corresponden a 2013 pues son los últimos disponibles","Nota: Los datos corresponden a 2013 pues son los últimos disponibles","Nota: Los datos corresponden a 2013 pues son los últimos disponibles","Nota: Los datos corresponden a 2013 pues son los últimos disponibles","Nota: Los datos corresponden a 2013 pues son los últimos disponibles","Nota: Los datos corresponden a 2013 pues son los últimos disponibles","Nota: Los datos corresponden a 2013 pues son los últimos disponibles","Nota: Los datos corresponden a 2013 pues son los últimos disponibles","Nota: Los datos corresponden a 2013 pues son los últimos disponibles","Nota: Los datos corresponden a 2013 pues son los últimos disponibles","Nota: Los datos corresponden a 2013 pues son los últimos disponibles","Nota: Los datos corresponden a 2013 pues son los últimos disponibles","Nota: Los datos corresponden a 2013 pues son los últimos disponibles","Nota: Los datos corresponden a 2013 pues son los últimos disponibles","Nota: Los datos corresponden a 2013 pues son los últimos disponibles","Nota: Los datos corresponden a 2013 pues son los últimos disponibles","Nota: Los datos corresponden a 2013 pues son los últimos disponibles","Nota: Los datos corresponden a 2013 pues son los últimos disponibles","Nota: Los datos corresponden a 2013 pues son los últimos disponibles","Nota: Los datos corresponden a 2013 pues son los últimos disponibles","Nota: Los datos corresponden a 2013 pues son los últimos disponibles","Nota: Los datos corresponden a 2013 pues son los últimos disponibles","Nota: Los datos corresponden a 2013 pues son los últimos disponibles","Nota: Los datos corresponden a 2013 pues son los últimos disponibles","Nota: Los datos corresponden a 2013 pues son los últimos disponibles","Nota: Los datos corresponden a 2013 pues son los últimos disponibles","Nota: Los datos corresponden a 2013 pues son los últimos disponibles","Nota: Los datos corresponden a 2013 pues son los últimos disponibles","Nota: Los datos corresponden a 2013 pues son los últimos disponibles","Nota: Los datos corresponden a 2013 pues son los últimos disponibles","Nota: Los datos corresponden a 2013 pues son los últimos disponibles","Nota: Los datos corresponden a 2013 pues son los últimos disponibles","Nota: Los datos corresponden a 2013 pues son los últimos disponibles","Nota: Los datos corresponden a 2013 pues son los últimos disponibles","Nota: Los datos corresponden a 2013 pues son los últimos disponibles","Nota: Los datos corresponden a 2013 pues son los últimos disponibles","Nota: Los datos corresponden a 2013 pues son los últimos disponibles","Nota: Los datos corresponden a 2013 pues son los últimos disponibles","Nota: Los datos corresponden a 2013 pues son los últimos disponibles","Nota: Los datos corresponden a 2013 pues son los últimos disponibles","Nota: Los datos corresponden a 2013 pues son los últimos disponibles","Nota: Los datos corresponden a 2013 pues son los últimos disponibles","Nota: Los datos corresponden a 2013 pues son los últimos disponibles","Nota: Los datos corresponden a 2013 pues son los últimos disponibles","Nota: Los datos corresponden a 2013 pues son los últimos disponibles","Nota: Los datos corresponden a 2013 pues son los últimos disponibles","Nota: Los datos corresponden a 2013 pues son los últimos disponibles","Nota: Los datos corresponden a 2013 pues son los últimos disponibles","Nota: Los datos corresponden a 2013 pues son los últimos disponibles","Nota: Los datos corresponden a 2013 pues son los últimos disponibles","Nota: Los datos corresponden a 2013 pues son los últimos disponibles","Nota: Los datos corresponden a 2013 pues son los últimos disponibles","Nota: Los datos corresponden a 2013 pues son los últimos disponibles","Nota: Los datos corresponden a 2013 pues son los últimos disponibles","Nota: Los datos corresponden a 2013 pues son los últimos disponibles","Nota: Los datos corresponden a 2013 pues son los últimos disponibles","Nota: Los datos corresponden a 2013 pues son los últimos disponibles","Nota: Los datos corresponden a 2013 pues son los últimos disponibles","Nota: Los datos corresponden a 2013 pues son los últimos disponibles","Nota: Los datos corresponden a 2013 pues son los últimos disponibles","Nota: Los datos corresponden a 2013 pues son los últimos disponibles","Nota: Los datos corresponden a 2013 pues son los últimos disponibles","Nota: Los datos corresponden a 2013 pues son los últimos disponibles","Nota: Los datos corresponden a 2013 pues son los últimos disponibles","Nota: Los datos corresponden a 2013 pues son los últimos disponibles","Nota: Los datos corresponden a 2013 pues son los últimos disponibles","Nota: Los datos corresponden a 2013 pues son los últimos disponibles","Nota: Los datos corresponden a 2013 pues son los últimos disponibles","Nota: Los datos corresponden a 2013 pues son los últimos disponibles","Nota: Los datos corresponden a 2013 pues son los últimos disponibles","Nota: Los datos corresponden a 2013 pues son los últimos disponibles","Nota: Los datos corresponden a 2013 pues son los últimos disponibles","Nota: Los datos corresponden a 2013 pues son los últimos disponibles","Nota: Los datos corresponden a 2013 pues son los últimos disponibles","Nota: Los datos corresponden a 2013 pues son los últimos disponibles","Nota: Los datos corresponden a 2013 pues son los últimos disponibles","Nota: Los datos corresponden a 2013 pues son los últimos disponibles","Nota: Los datos corresponden a 2013 pues son los últimos disponibles","Nota: Los datos corresponden a 2013 pues son los últimos disponibles","Nota: Los datos corresponden a 2013 pues son los últimos disponibles","Nota: Los datos corresponden a 2013 pues son los últimos disponibles","Nota: Los datos corresponden a 2013 pues son los últimos disponibles","Nota: Los datos corresponden a 2013 pues son los últimos disponibles","Nota: Los datos corresponden a 2013 pues son los últimos disponibles","Nota: Los datos corresponden a 2013 pues son los últimos disponibles","Nota: Los datos corresponden a 2013 pues son los últimos disponibles","Nota: Los datos corresponden a 2013 pues son los últimos disponibles","Nota: Los datos corresponden a 2013 pues son los últimos disponibles","Nota: Los datos corresponden a 2013 pues son los últimos disponibles","Nota: Los datos corresponden a 2013 pues son los últimos disponibles","Nota: Los datos corresponden a 2013 pues son los últimos disponibles","Nota: Los datos corresponden a 2013 pues son los últimos disponibles","Nota: Los datos corresponden a 2013 pues son los últimos disponibles","Nota: Los datos corresponden a 2013 pues son los últimos disponibles","Nota: Los datos corresponden a 2013 pues son los últimos disponibles","Nota: Los datos corresponden a 2013 pues son los últimos disponibles","Nota: Los datos corresponden a 2013 pues son los últimos disponibles","Nota: Los datos corresponden a 2013 pues son los últimos disponibles","Nota: Los datos corresponden a 2013 pues son los últimos disponibles","Nota: Los datos corresponden a 2013 pues son los últimos disponibles","Nota: Los datos corresponden a 2013 pues son los últimos disponibles","Nota: Los datos corresponden a 2013 pues son los últimos disponibles","Nota: Los datos corresponden a 2013 pues son los últimos disponibles","Nota: Los datos corresponden a 2013 pues son los últimos disponibles","Nota: Los datos corresponden a 2013 pues son los últimos disponibles","Nota: Los datos corresponden a 2013 pues son los últimos disponibles","Nota: Los datos corresponden a 2013 pues son los últimos disponibles","Nota: Los datos corresponden a 2013 pues son los últimos disponibles","Nota: Los datos corresponden a 2013 pues son los últimos disponibles","Nota: Los datos corresponden a 2013 pues son los últimos disponibles","Nota: Los datos corresponden a 2013 pues son los últimos disponibles","Nota: Los datos corresponden a 2013 pues son los últimos disponibles","Nota: Los datos corresponden a 2013 pues son los últimos disponibles","Nota: Los datos corresponden a 2013 pues son los últimos disponibles","Nota: Los datos corresponden a 2013 pues son los últimos disponibles","Nota: Los datos corresponden a 2013 pues son los últimos disponibles","Nota: Los datos corresponden a 2013 pues son los últimos disponibles","Nota: Los datos corresponden a 2013 pues son los últimos disponibles","Nota: Los datos corresponden a 2013 pues son los últimos disponibles","Nota: Los datos corresponden a 2013 pues son los últimos disponibles","Nota: Los datos corresponden a 2013 pues son los últimos disponibles","Nota: Los datos corresponden a 2013 pues son los últimos disponibles","Nota: Los datos corresponden a 2013 pues son los últimos disponibles","Nota: Los datos corresponden a 2013 pues son los últimos disponibles","Nota: Los datos corresponden a 2013 pues son los últimos disponibles","Nota: Los datos corresponden a 2013 pues son los últimos disponibles","Nota: Los datos corresponden a 2013 pues son los últimos disponibles","Nota: Los datos corresponden a 2013 pues son los últimos disponibles","Nota: Los datos corresponden a 2013 pues son los últimos disponibles","Nota: Los datos corresponden a 2013 pues son los últimos disponibles","Nota: Los datos corresponden a 2013 pues son los últimos disponibles","Nota: Los datos corresponden a 2013 pues son los últimos disponibles","Nota: Los datos corresponden a 2013 pues son los últimos disponibles","Nota: Los datos corresponden a 2013 pues son los últimos disponibles","Nota: Los datos corresponden a 2013 pues son los últimos disponibles","Nota: Los datos corresponden a 2013 pues son los últimos disponibles","Nota: Los datos corresponden a 2013 pues son los últimos disponibles","Nota: Los datos corresponden a 2013 pues son los últimos disponibles","Nota: Los datos corresponden a 2013 pues son los últimos disponibles","Nota: Los datos corresponden a 2013 pues son los últimos disponibles","Nota: Los datos corresponden a 2013 pues son los últimos disponibles","Nota: Los datos corresponden a 2013 pues son los últimos disponibles","Nota: Los datos corresponden a 2013 pues son los últimos disponibles","Nota: Los datos corresponden a 2013 pues son los últimos disponibles","Nota: Los datos corresponden a 2013 pues son los últimos disponibles","Nota: Los datos corresponden a 2013 pues son los últimos disponibles","Nota: Los datos corresponden a 2013 pues son los últimos disponibles","Nota: Los datos corresponden a 2013 pues son los últimos disponibles","Nota: Los datos corresponden a 2013 pues son los últimos disponibles","Nota: Los datos corresponden a 2013 pues son los últimos disponibles","Nota: Los datos corresponden a 2013 pues son los últimos disponibles","Nota: Los datos corresponden a 2013 pues son los últimos disponibles","Nota: Los datos corresponden a 2013 pues son los últimos disponibles","Nota: Los datos corresponden a 2013 pues son los últimos disponibles","Nota: Los datos corresponden a 2013 pues son los últimos disponibles","Nota: Los datos corresponden a 2013 pues son los últimos disponibles","Nota: Los datos corresponden a 2013 pues son los últimos disponibles","Nota: Los datos corresponden a 2013 pues son los últimos disponibles","Nota: Los datos corresponden a 2013 pues son los últimos disponibles","Nota: Los datos corresponden a 2013 pues son los últimos disponibles","Nota: Los datos corresponden a 2013 pues son los últimos disponibles","Nota: Los datos corresponden a 2013 pues son los últimos disponibles","Nota: Los datos corresponden a 2013 pues son los últimos disponibles","Nota: Los datos corresponden a 2013 pues son los últimos disponibles","Nota: Los datos corresponden a 2013 pues son los últimos disponibles","Nota: Los datos corresponden a 2013 pues son los últimos disponibles","Nota: Los datos corresponden a 2013 pues son los últimos disponibles","Nota: Los datos corresponden a 2013 pues son los últimos disponibles","Nota: Los datos corresponden a 2013 pues son los últimos disponibles","Nota: Los datos corresponden a 2013 pues son los últimos disponibles","Nota: Los datos corresponden a 2013 pues son los últimos disponibles","Nota: Los datos corresponden a 2013 pues son los últimos disponibles","Nota: Los datos corresponden a 2013 pues son los últimos disponibles","Nota: Los datos corresponden a 2013 pues son los últimos disponibles","Nota: Los datos corresponden a 2013 pues son los últimos disponibles","Nota: Los datos corresponden a 2013 pues son los últimos disponibles","Nota: Los datos corresponden a 2013 pues son los últimos disponibles","Nota: Los datos corresponden a 2013 pues son los últimos disponibles","Nota: Los datos corresponden a 2013 pues son los últimos disponibles","Nota: Los datos corresponden a 2013 pues son los últimos disponibles","Nota: Los datos corresponden a 2013 pues son los últimos disponibles","Nota: Los datos corresponden a 2013 pues son los últimos disponibles","Nota: Los datos corresponden a 2013 pues son los últimos disponibles","Nota: Los datos corresponden a 2013 pues son los últimos disponibles","Nota: Los datos corresponden a 2013 pues son los últimos disponibles","Nota: Los datos corresponden a 2013 pues son los últimos disponibles","Nota: Los datos corresponden a 2013 pues son los últimos disponibles","Nota: Los datos corresponden a 2013 pues son los últimos disponibles","Nota: Los datos corresponden a 2013 pues son los últimos disponibles","Nota: Los datos corresponden a 2013 pues son los últimos disponibles","Nota: Los datos corresponden a 2013 pues son los últimos disponibles","Nota: Los datos corresponden a 2013 pues son los últimos disponibles","Nota: Los datos corresponden a 2013 pues son los últimos disponibles","Nota: Los datos corresponden a 2013 pues son los últimos disponibles","Nota: Los datos corresponden a 2013 pues son los últimos disponibles","Nota: Los datos corresponden a 2013 pues son los últimos disponibles","Nota: Los datos corresponden a 2013 pues son los últimos disponibles","Nota: Los datos corresponden a 2013 pues son los últimos disponibles","Nota: Los datos corresponden a 2013 pues son los últimos disponibles","Nota: Los datos corresponden a 2013 pues son los últimos disponibles","Nota: Los datos corresponden a 2013 pues son los últimos disponibles","Nota: Los datos corresponden a 2013 pues son los últimos disponibles","Nota: Los datos corresponden a 2013 pues son los últimos disponibles","Nota: Los datos corresponden a 2013 pues son los últimos disponibles","Nota: Los datos corresponden a 2013 pues son los últimos disponibles","Nota: Los datos corresponden a 2013 pues son los últimos disponibles","Nota: Los datos corresponden a 2013 pues son los últimos disponibles","Nota: Los datos corresponden a 2013 pues son los últimos disponibles","Nota: Los datos corresponden a 2013 pues son los últimos disponibles","Nota: Los datos corresponden a 2013 pues son los últimos disponibles","Nota: Los datos corresponden a 2013 pues son los últimos disponibles","Nota: Los datos corresponden a 2013 pues son los últimos disponibles","Nota: Los datos corresponden a 2013 pues son los últimos disponibles","Nota: Los datos corresponden a 2013 pues son los últimos disponibles","Nota: Los datos corresponden a 2013 pues son los últimos disponibles","Nota: Los datos corresponden a 2013 pues son los últimos disponibles","Nota: Los datos corresponden a 2013 pues son los últimos disponibles","Nota: Los datos corresponden a 2013 pues son los últimos disponibles","Nota: Los datos corresponden a 2013 pues son los últimos disponibles","Nota: Los datos corresponden a 2013 pues son los últimos disponibles","Nota: Los datos corresponden a 2013 pues son los últimos disponibles","Nota: Los datos corresponden a 2013 pues son los últimos disponibles","Nota: Los datos corresponden a 2013 pues son los últimos disponibles","Nota: Los datos corresponden a 2013 pues son los últimos disponibles","Nota: Los datos corresponden a 2013 pues son los últimos disponibles","Nota: Los datos corresponden a 2013 pues son los últimos disponibles","Nota: Los datos corresponden a 2013 pues son los últimos disponibles","Nota: Los datos corresponden a 2013 pues son los últimos disponibles","Nota: Los datos corresponden a 2013 pues son los últimos disponibles","Nota: Los datos corresponden a 2013 pues son los últimos disponibles","Nota: Los datos corresponden a 2013 pues son los últimos disponibles","Nota: Los datos corresponden a 2013 pues son los últimos disponibles","Nota: Los datos corresponden a 2013 pues son los últimos disponibles","Nota: Los datos corresponden a 2013 pues son los últimos disponibles","Nota: Los datos corresponden a 2013 pues son los últimos disponibles","Nota: Los datos corresponden a 2013 pues son los últimos disponibles","Nota: Los datos corresponden a 2013 pues son los últimos disponibles","Nota: Los datos corresponden a 2013 pues son los últimos disponibles","Nota: Los datos corresponden a 2013 pues son los últimos disponibles","Nota: Los datos corresponden a 2013 pues son los últimos disponibles","Nota: Los datos corresponden a 2013 pues son los últimos disponibles","Nota: Los datos corresponden a 2013 pues son los últimos disponibles","Nota: Los datos corresponden a 2013 pues son los últimos disponibles","Nota: Los datos corresponden a 2013 pues son los últimos disponibles","Nota: Los datos corresponden a 2013 pues son los últimos disponibles","Nota: Los datos corresponden a 2013 pues son los últimos disponibles","Nota: Los datos corresponden a 2013 pues son los últimos disponibles","Nota: Los datos corresponden a 2013 pues son los últimos disponibles","Nota: Los datos corresponden a 2013 pues son los últimos disponibles","Nota: Los datos corresponden a 2013 pues son los últimos disponibles","Nota: Los datos corresponden a 2013 pues son los últimos disponibles","Nota: Los datos corresponden a 2013 pues son los últimos disponibles","Nota: Los datos corresponden a 2013 pues son los últimos disponibles","Nota: Los datos corresponden a 2013 pues son los últimos disponibles","Nota: Los datos corresponden a 2013 pues son los últimos disponibles","Nota: Los datos corresponden a 2013 pues son los últimos disponibles","Nota: Los datos corresponden a 2013 pues son los últimos disponibles","Nota: Los datos corresponden a 2013 pues son los últimos disponibles","Nota: Los datos corresponden a 2013 pues son los últimos disponibles","Nota: Los datos corresponden a 2013 pues son los últimos disponibles","Nota: Los datos corresponden a 2013 pues son los últimos disponibles","Nota: Los datos corresponden a 2013 pues son los últimos disponibles","Nota: Los datos corresponden a 2013 pues son los últimos disponibles","Nota: Los datos corresponden a 2013 pues son los últimos disponibles","Nota: Los datos corresponden a 2013 pues son los últimos disponibles","Nota: Los datos corresponden a 2013 pues son los últimos disponibles","Nota: Los datos corresponden a 2013 pues son los últimos disponibles","Nota: Los datos corresponden a 2013 pues son los últimos disponibles","Nota: Los datos corresponden a 2013 pues son los últimos disponibles","Nota: Los datos corresponden a 2013 pues son los últimos disponibles","Nota: Los datos corresponden a 2013 pues son los últimos disponibles","Nota: Los datos corresponden a 2013 pues son los últimos disponibles","Nota: Los datos corresponden a 2013 pues son los últimos disponibles","Nota: Los datos corresponden a 2013 pues son los últimos disponibles","Nota: Los datos corresponden a 2013 pues son los últimos disponibles","Nota: Los datos corresponden a 2013 pues son los últimos disponibles","Nota: Los datos corresponden a 2013 pues son los últimos disponibles","Nota: Los datos corresponden a 2013 pues son los últimos disponibles","Nota: Los datos corresponden a 2013 pues son los últimos disponibles","Nota: Los datos corresponden a 2013 pues son los últimos disponibles","Nota: Los datos corresponden a 2013 pues son los últimos disponibles","Nota: Los datos corresponden a 2013 pues son los últimos disponibles","Nota: Los datos corresponden a 2013 pues son los últimos disponibles","Nota: Los datos corresponden a 2013 pues son los últimos disponibles","Nota: Los datos corresponden a 2013 pues son los últimos disponibles","Nota: Los datos corresponden a 2013 pues son los últimos disponibles","Nota: Los datos corresponden a 2013 pues son los últimos disponibles","Nota: Los datos corresponden a 2013 pues son los últimos disponibles","Nota: Los datos corresponden a 2013 pues son los últimos disponibles","Nota: Los datos corresponden a 2013 pues son los últimos disponibles","Nota: Los datos corresponden a 2013 pues son los últimos disponibles","Nota: Los datos corresponden a 2013 pues son los últimos disponibles","Nota: Los datos corresponden a 2013 pues son los últimos disponibles","Nota: Los datos corresponden a 2013 pues son los últimos disponibles","Nota: Los datos corresponden a 2013 pues son los últimos disponibles","Nota: Los datos corresponden a 2013 pues son los últimos disponibles","Nota: Los datos corresponden a 2013 pues son los últimos disponibles","Nota: Los datos corresponden a 2013 pues son los últimos disponibles","Nota: Los datos corresponden a 2013 pues son los últimos disponibles","Nota: Los datos corresponden a 2013 pues son los últimos disponibles","Nota: Los datos corresponden a 2013 pues son los últimos disponibles","Nota: Los datos corresponden a 2013 pues son los últimos disponibles","Nota: Los datos corresponden a 2013 pues son los últimos disponibles","Nota: Los datos corresponden a 2013 pues son los últimos disponibles","Nota: Los datos corresponden a 2013 pues son los últimos disponibles","Nota: Los datos corresponden a 2013 pues son los últimos disponibles","Nota: Los datos corresponden a 2013 pues son los últimos disponibles","Nota: Los datos corresponden a 2013 pues son los últimos disponibles","Nota: Los datos corresponden a 2013 pues son los últimos disponibles","Nota: Los datos corresponden a 2013 pues son los últimos disponibles","Nota: Los datos corresponden a 2013 pues son los últimos disponibles","Nota: Los datos corresponden a 2013 pues son los últimos disponibles","Nota: Los datos corresponden a 2013 pues son los últimos disponibles","Nota: Los datos corresponden a 2013 pues son los últimos disponibles","Nota: Los datos corresponden a 2013 pues son los últimos disponibles","Nota: Los datos corresponden a 2013 pues son los últimos disponibles","Nota: Los datos corresponden a 2013 pues son los últimos disponibles","Nota: Los datos corresponden a 2013 pues son los últimos disponibles","Nota: Los datos corresponden a 2013 pues son los últimos disponibles","Nota: Los datos corresponden a 2013 pues son los últimos disponibles","Nota: Los datos corresponden a 2013 pues son los últimos disponibles","Nota: Los datos corresponden a 2013 pues son los últimos disponibles","Nota: Los datos corresponden a 2013 pues son los últimos disponibles","Nota: Los datos corresponden a 2013 pues son los últimos disponibles","Nota: Los datos corresponden a 2013 pues son los últimos disponibles","Nota: Los datos corresponden a 2013 pues son los últimos disponibles","Nota: Los datos corresponden a 2013 pues son los últimos disponibles","Nota: Los datos corresponden a 2013 pues son los últimos disponibles","Nota: Los datos corresponden a 2013 pues son los últimos disponibles","Nota: Los datos corresponden a 2013 pues son los últimos disponibles","Nota: Los datos corresponden a 2013 pues son los últimos disponibles","Nota: Los datos corresponden a 2013 pues son los últimos disponibles","Nota: Los datos corresponden a 2013 pues son los últimos disponibles","Nota: Los datos corresponden a 2013 pues son los últimos disponibles","Nota: Los datos corresponden a 2013 pues son los últimos disponibles","Nota: Los datos corresponden a 2013 pues son los últimos disponibles","Nota: Los datos corresponden a 2013 pues son los últimos disponibles","Nota: Los datos corresponden a 2013 pues son los últimos disponibles","Nota: Los datos corresponden a 2013 pues son los últimos disponibles","Nota: Los datos corresponden a 2013 pues son los últimos disponibles","Nota: Los datos corresponden a 2013 pues son los últimos disponibles","Nota: Los datos corresponden a 2013 pues son los últimos disponibles","Nota: Los datos corresponden a 2013 pues son los últimos disponibles","Nota: Los datos corresponden a 2013 pues son los últimos disponibles","Nota: Los datos corresponden a 2013 pues son los últimos disponibles","Nota: Los datos corresponden a 2013 pues son los últimos disponibles","Nota: Los datos corresponden a 2013 pues son los últimos disponibles","Nota: Los datos corresponden a 2013 pues son los últimos disponibles","Nota: Los datos corresponden a 2013 pues son los últimos disponibles","Nota: Los datos corresponden a 2013 pues son los últimos disponibles","Nota: Los datos corresponden a 2013 pues son los últimos disponibles","Nota: Los datos corresponden a 2013 pues son los últimos disponibles","Nota: Los datos corresponden a 2013 pues son los últimos disponibles","Nota: Los datos corresponden a 2013 pues son los últimos disponibles","Nota: Los datos corresponden a 2013 pues son los últimos disponibles","Nota: Los datos corresponden a 2013 pues son los últimos disponibles","Nota: Los datos corresponden a 2013 pues son los últimos disponibles","Nota: Los datos corresponden a 2013 pues son los últimos disponibles","Nota: Los datos corresponden a 2013 pues son los últimos disponibles","Nota: Los datos corresponden a 2013 pues son los últimos disponibles","Nota: Los datos corresponden a 2013 pues son los últimos disponibles","Nota: Los datos corresponden a 2013 pues son los últimos disponibles","Nota: Los datos corresponden a 2013 pues son los últimos disponibles","Nota: Los datos corresponden a 2013 pues son los últimos disponibles","Nota: Los datos corresponden a 2013 pues son los últimos disponibles","Nota: Los datos corresponden a 2013 pues son los últimos disponibles","Nota: Los datos corresponden a 2013 pues son los últimos disponibles","Nota: Los datos corresponden a 2013 pues son los últimos disponibles","Nota: Los datos corresponden a 2013 pues son los últimos disponibles","Nota: Los datos corresponden a 2013 pues son los últimos disponibles","Nota: Los datos corresponden a 2013 pues son los últimos disponibles","Nota: Los datos corresponden a 2013 pues son los últimos disponibles","Nota: Los datos corresponden a 2013 pues son los últimos disponibles","Nota: Los datos corresponden a 2013 pues son los últimos disponibles","Nota: Los datos corresponden a 2013 pues son los últimos disponibles","Nota: Los datos corresponden a 2013 pues son los últimos disponibles","Nota: Los datos corresponden a 2013 pues son los últimos disponibles","Nota: Los datos corresponden a 2013 pues son los últimos disponibles","Nota: Los datos corresponden a 2013 pues son los últimos disponibles","Nota: Los datos corresponden a 2013 pues son los últimos disponibles","Nota: Los datos corresponden a 2013 pues son los últimos disponibles","Nota: Los datos corresponden a 2013 pues son los últimos disponibles","Nota: Los datos corresponden a 2013 pues son los últimos disponibles","Nota: Los datos corresponden a 2013 pues son los últimos disponibles","Nota: Los datos corresponden a 2013 pues son los últimos disponibles","Nota: Los datos corresponden a 2013 pues son los últimos disponibles","Nota: Los datos corresponden a 2013 pues son los últimos disponibles","Nota: Los datos corresponden a 2013 pues son los últimos disponibles","Nota: Los datos corresponden a 2013 pues son los últimos disponibles","Nota: Los datos corresponden a 2013 pues son los últimos disponibles","Nota: Los datos corresponden a 2013 pues son los últimos disponibles","Nota: Los datos corresponden a 2013 pues son los últimos disponibles","Nota: Los datos corresponden a 2013 pues son los últimos disponibles","Nota: Los datos corresponden a 2013 pues son los últimos disponibles","Nota: Los datos corresponden a 2013 pues son los últimos disponibles","Nota: Los datos corresponden a 2013 pues son los últimos disponibles","Nota: Los datos corresponden a 2013 pues son los últimos disponibles","Nota: Los datos corresponden a 2013 pues son los últimos disponibles","Nota: Los datos corresponden a 2013 pues son los últimos disponibles","Nota: Los datos corresponden a 2013 pues son los últimos disponibles","Nota: Los datos corresponden a 2013 pues son los últimos disponibles","Nota: Los datos corresponden a 2013 pues son los últimos disponibles","Nota: Los datos corresponden a 2013 pues son los últimos disponibles","Nota: Los datos corresponden a 2013 pues son los últimos disponibles","Nota: Los datos corresponden a 2013 pues son los últimos disponibles","Nota: Los datos corresponden a 2013 pues son los últimos disponibles","Nota: Los datos corresponden a 2013 pues son los últimos disponibles","Nota: Los datos corresponden a 2013 pues son los últimos disponibles","Nota: Los datos corresponden a 2013 pues son los últimos disponibles","Nota: Los datos corresponden a 2013 pues son los últimos disponibles","Nota: Los datos corresponden a 2013 pues son los últimos disponibles","Nota: Los datos corresponden a 2013 pues son los últimos disponibles","Nota: Los datos corresponden a 2013 pues son los últimos disponibles","Nota: Los datos corresponden a 2013 pues son los últimos disponibles","Nota: Los datos corresponden a 2013 pues son los últimos disponibles","Nota: Los datos corresponden a 2013 pues son los últimos disponibles","Nota: Los datos corresponden a 2013 pues son los últimos disponibles","Nota: Los datos corresponden a 2013 pues son los últimos disponibles","Nota: Los datos corresponden a 2013 pues son los últimos disponibles","Nota: Los datos corresponden a 2013 pues son los últimos disponibles","Nota: Los datos corresponden a 2013 pues son los últimos disponibles","Nota: Los datos corresponden a 2013 pues son los últimos disponibles","Nota: Los datos corresponden a 2013 pues son los últimos disponibles","Nota: Los datos corresponden a 2013 pues son los últimos disponibles","Nota: Los datos corresponden a 2013 pues son los últimos disponibles","Nota: Los datos corresponden a 2013 pues son los últimos disponibles","Nota: Los datos corresponden a 2013 pues son los últimos disponibles","Nota: Los datos corresponden a 2013 pues son los últimos disponibles","Nota: Los datos corresponden a 2013 pues son los últimos disponibles","Nota: Los datos corresponden a 2013 pues son los últimos disponibles","Nota: Los datos corresponden a 2013 pues son los últimos disponibles","Nota: Los datos corresponden a 2013 pues son los últimos disponibles","Nota: Los datos corresponden a 2013 pues son los últimos disponibles","Nota: Los datos corresponden a 2013 pues son los últimos disponibles","Nota: Los datos corresponden a 2013 pues son los últimos disponibles","Nota: Los datos corresponden a 2013 pues son los últimos disponibles","Nota: Los datos corresponden a 2013 pues son los últimos disponibles","Nota: Los datos corresponden a 2013 pues son los últimos disponibles","Nota: Los datos corresponden a 2013 pues son los últimos disponibles","Nota: Los datos corresponden a 2013 pues son los últimos disponibles","Nota: Los datos corresponden a 2013 pues son los últimos disponibles","Nota: Los datos corresponden a 2013 pues son los últimos disponibles","Nota: Los datos corresponden a 2013 pues son los últimos disponibles","Nota: Los datos corresponden a 2013 pues son los últimos disponibles","Nota: Los datos corresponden a 2013 pues son los últimos disponibles","Nota: Los datos corresponden a 2013 pues son los últimos disponibles","Nota: Los datos corresponden a 2013 pues son los últimos disponibles","Nota: Los datos corresponden a 2013 pues son los últimos disponibles","Nota: Los datos corresponden a 2013 pues son los últimos disponibles","Nota: Los datos corresponden a 2013 pues son los últimos disponibles","Nota: Los datos corresponden a 2013 pues son los últimos disponibles","Nota: Los datos corresponden a 2013 pues son los últimos disponibles","Nota: Los datos corresponden a 2013 pues son los últimos disponibles","Nota: Los datos corresponden a 2013 pues son los últimos disponibles","Nota: Los datos corresponden a 2013 pues son los últimos disponibles","Nota: Los datos corresponden a 2013 pues son los últimos disponibles","Nota: Los datos corresponden a 2013 pues son los últimos disponibles","Nota: Los datos corresponden a 2013 pues son los últimos disponibles","Nota: Los datos corresponden a 2013 pues son los últimos disponibles","Nota: Los datos corresponden a 2013 pues son los últimos disponibles","Nota: Los datos corresponden a 2013 pues son los últimos disponibles","Nota: Los datos corresponden a 2013 pues son los últimos disponibles","Nota: Los datos corresponden a 2013 pues son los últimos disponibles","Nota: Los datos corresponden a 2013 pues son los últimos disponibles","Nota: Los datos corresponden a 2013 pues son los últimos disponibles","Nota: Los datos corresponden a 2013 pues son los últimos disponibles","Nota: Los datos corresponden a 2013 pues son los últimos disponibles","Nota: Los datos corresponden a 2013 pues son los últimos disponibles","Nota: Los datos corresponden a 2013 pues son los últimos disponibles","Nota: Los datos corresponden a 2013 pues son los últimos disponibles","Nota: Los datos corresponden a 2013 pues son los últimos disponibles","Nota: Los datos corresponden a 2013 pues son los últimos disponibles","Nota: Los datos corresponden a 2013 pues son los últimos disponibles","Nota: Los datos corresponden a 2013 pues son los últimos disponibles","Nota: Los datos corresponden a 2013 pues son los últimos disponibles","Nota: Los datos corresponden a 2013 pues son los últimos disponibles","Nota: Los datos corresponden a 2013 pues son los últimos disponibles","Nota: Los datos corresponden a 2013 pues son los últimos disponibles","Nota: Los datos corresponden a 2013 pues son los últimos disponibles","Nota: Los datos corresponden a 2013 pues son los últimos disponibles","Nota: Los datos corresponden a 2013 pues son los últimos disponibles","Nota: Los datos corresponden a 2013 pues son los últimos disponibles","Nota: Los datos corresponden a 2013 pues son los últimos disponibles","Nota: Los datos corresponden a 2013 pues son los últimos disponibles","Nota: Los datos corresponden a 2013 pues son los últimos disponibles","Nota: Los datos corresponden a 2013 pues son los últimos disponibles","Nota: Los datos corresponden a 2013 pues son los últimos disponibles","Nota: Los datos corresponden a 2013 pues son los últimos disponibles","Nota: Los datos corresponden a 2013 pues son los últimos disponibles","Nota: Los datos corresponden a 2013 pues son los últimos disponibles","Nota: Los datos corresponden a 2013 pues son los últimos disponibles","Nota: Los datos corresponden a 2013 pues son los últimos disponibles","Nota: Los datos corresponden a 2013 pues son los últimos disponibles","Nota: Los datos corresponden a 2013 pues son los últimos disponibles","Nota: Los datos corresponden a 2013 pues son los últimos disponibles","Nota: Los datos corresponden a 2013 pues son los últimos disponibles","Nota: Los datos corresponden a 2013 pues son los últimos disponibles","Nota: Los datos corresponden a 2013 pues son los últimos disponibles","Nota: Los datos corresponden a 2013 pues son los últimos disponibles","Nota: Los datos corresponden a 2013 pues son los últimos disponibles","Nota: Los datos corresponden a 2013 pues son los últimos disponibles","Nota: Los datos corresponden a 2013 pues son los últimos disponibles","Nota: Los datos corresponden a 2013 pues son los últimos disponibles","Nota: Los datos corresponden a 2013 pues son los últimos disponibles","Nota: Los datos corresponden a 2013 pues son los últimos disponibles","Nota: Los datos corresponden a 2013 pues son los últimos disponibles","Nota: Los datos corresponden a 2013 pues son los últimos disponibles","Nota: Los datos corresponden a 2013 pues son los últimos disponibles","Nota: Los datos corresponden a 2013 pues son los últimos disponibles","Nota: Los datos corresponden a 2013 pues son los últimos disponibles","Nota: Los datos corresponden a 2013 pues son los últimos disponibles","Nota: Los datos corresponden a 2013 pues son los últimos disponibles","Nota: Los datos corresponden a 2013 pues son los últimos disponibles","Nota: Los datos corresponden a 2013 pues son los últimos disponibles","Nota: Los datos corresponden a 2013 pues son los últimos disponibles","Nota: Los datos corresponden a 2013 pues son los últimos disponibles","Nota: Los datos corresponden a 2013 pues son los últimos disponibles","Nota: Los datos corresponden a 2013 pues son los últimos disponibles","Nota: Los datos corresponden a 2013 pues son los últimos disponibles","Nota: Los datos corresponden a 2013 pues son los últimos disponibles","Nota: Los datos corresponden a 2013 pues son los últimos disponibles","Nota: Los datos corresponden a 2013 pues son los últimos disponibles","Nota: Los datos corresponden a 2013 pues son los últimos disponibles","Nota: Los datos corresponden a 2013 pues son los últimos disponibles","Nota: Los datos corresponden a 2013 pues son los últimos disponibles","Nota: Los datos corresponden a 2013 pues son los últimos disponibles","Nota: Los datos corresponden a 2013 pues son los últimos disponibles","Nota: Los datos corresponden a 2013 pues son los últimos disponibles","Nota: Los datos corresponden a 2013 pues son los últimos disponibles","Nota: Los datos corresponden a 2013 pues son los últimos disponibles","Nota: Los datos corresponden a 2013 pues son los últimos disponibles","Nota: Los datos corresponden a 2013 pues son los últimos disponibles","Nota: Los datos corresponden a 2013 pues son los últimos disponibles","Nota: Los datos corresponden a 2013 pues son los últimos disponibles","Nota: Los datos corresponden a 2013 pues son los últimos disponibles","Nota: Los datos corresponden a 2013 pues son los últimos disponibles","Nota: Los datos corresponden a 2013 pues son los últimos disponibles","Nota: Los datos corresponden a 2013 pues son los últimos disponibles","Nota: Los datos corresponden a 2013 pues son los últimos disponibles","Nota: Los datos corresponden a 2013 pues son los últimos disponibles","Nota: Los datos corresponden a 2013 pues son los últimos disponibles","Nota: Los datos corresponden a 2013 pues son los últimos disponibles","Nota: Los datos corresponden a 2013 pues son los últimos disponibles","Nota: Los datos corresponden a 2013 pues son los últimos disponibles","Nota: Los datos corresponden a 2013 pues son los últimos disponibles","Nota: Los datos corresponden a 2013 pues son los últimos disponibles","Nota: Los datos corresponden a 2013 pues son los últimos disponibles","Nota: Los datos corresponden a 2013 pues son los últimos disponibles","Nota: Los datos corresponden a 2013 pues son los últimos disponibles","Nota: Los datos corresponden a 2013 pues son los últimos disponibles","Nota: Los datos corresponden a 2013 pues son los últimos disponibles","Nota: Los datos corresponden a 2013 pues son los últimos disponibles","Nota: Los datos corresponden a 2013 pues son los últimos disponibles","Nota: Los datos corresponden a 2013 pues son los últimos disponibles","Nota: Los datos corresponden a 2013 pues son los últimos disponibles","Nota: Los datos corresponden a 2013 pues son los últimos disponibles","Nota: Los datos corresponden a 2013 pues son los últimos disponibles","Nota: Los datos corresponden a 2013 pues son los últimos disponibles","Nota: Los datos corresponden a 2013 pues son los últimos disponibles","Nota: Los datos corresponden a 2013 pues son los últimos disponibles","Nota: Los datos corresponden a 2013 pues son los últimos disponibles","Nota: Los datos corresponden a 2013 pues son los últimos disponibles","Nota: Los datos corresponden a 2013 pues son los últimos disponibles","Nota: Los datos corresponden a 2013 pues son los últimos disponibles","Nota: Los datos corresponden a 2013 pues son los últimos disponibles","Nota: Los datos corresponden a 2013 pues son los últimos disponibles","Nota: Los datos corresponden a 2013 pues son los últimos disponibles","Nota: Los datos corresponden a 2013 pues son los últimos disponibles","Nota: Los datos corresponden a 2013 pues son los últimos disponibles","Nota: Los datos corresponden a 2013 pues son los últimos disponibles","Nota: Los datos corresponden a 2013 pues son los últimos disponibles","Nota: Los datos corresponden a 2013 pues son los últimos disponibles","Nota: Los datos corresponden a 2013 pues son los últimos disponibles","Nota: Los datos corresponden a 2013 pues son los últimos disponibles","Nota: Los datos corresponden a 2013 pues son los últimos disponibles","Nota: Los datos corresponden a 2013 pues son los últimos disponibles","Nota: Los datos corresponden a 2013 pues son los últimos disponibles","Nota: Los datos corresponden a 2013 pues son los últimos disponibles","Nota: Los datos corresponden a 2013 pues son los últimos disponibles","Nota: Los datos corresponden a 2013 pues son los últimos disponibles","Nota: Los datos corresponden a 2013 pues son los últimos disponibles","Nota: Los datos corresponden a 2013 pues son los últimos disponibles","Nota: Los datos corresponden a 2013 pues son los últimos disponibles","Nota: Los datos corresponden a 2013 pues son los últimos disponibles","Nota: Los datos corresponden a 2013 pues son los últimos disponibles","Nota: Los datos corresponden a 2013 pues son los últimos disponibles","Nota: Los datos corresponden a 2013 pues son los últimos disponibles","Nota: Los datos corresponden a 2013 pues son los últimos disponibles","Nota: Los datos corresponden a 2013 pues son los últimos disponibles","Nota: Los datos corresponden a 2013 pues son los últimos disponibles","Nota: Los datos corresponden a 2013 pues son los últimos disponibles","Nota: Los datos corresponden a 2013 pues son los últimos disponibles","Nota: Los datos corresponden a 2013 pues son los últimos disponibles","Nota: Los datos corresponden a 2013 pues son los últimos disponibles","Nota: Los datos corresponden a 2013 pues son los últimos disponibles","Nota: Los datos corresponden a 2013 pues son los últimos disponibles","Nota: Los datos corresponden a 2013 pues son los últimos disponibles","Nota: Los datos corresponden a 2013 pues son los últimos disponibles","Nota: Los datos corresponden a 2013 pues son los últimos disponibles","Nota: Los datos corresponden a 2013 pues son los últimos disponibles","Nota: Los datos corresponden a 2013 pues son los últimos disponibles","Nota: Los datos corresponden a 2013 pues son los últimos disponibles","Nota: Los datos corresponden a 2013 pues son los últimos disponibles","Nota: Los datos corresponden a 2013 pues son los últimos disponibles","Nota: Los datos corresponden a 2013 pues son los últimos disponibles","Nota: Los datos corresponden a 2013 pues son los últimos disponibles","Nota: Los datos corresponden a 2013 pues son los últimos disponibles","Nota: Los datos corresponden a 2013 pues son los últimos disponibles","Nota: Los datos corresponden a 2013 pues son los últimos disponibles","Nota: Los datos corresponden a 2013 pues son los últimos disponibles","Nota: Los datos corresponden a 2013 pues son los últimos disponibles","Nota: Los datos corresponden a 2013 pues son los últimos disponibles","Nota: Los datos corresponden a 2013 pues son los últimos disponibles","Nota: Los datos corresponden a 2013 pues son los últimos disponibles","Nota: Los datos corresponden a 2013 pues son los últimos disponibles","Nota: Los datos corresponden a 2013 pues son los últimos disponibles","Nota: Los datos corresponden a 2013 pues son los últimos disponibles","Nota: Los datos corresponden a 2013 pues son los últimos disponibles","Nota: Los datos corresponden a 2013 pues son los últimos disponibles","Nota: Los datos corresponden a 2013 pues son los últimos disponibles","Nota: Los datos corresponden a 2013 pues son los últimos disponibles","Nota: Los datos corresponden a 2013 pues son los últimos disponibles","Nota: Los datos corresponden a 2013 pues son los últimos disponibles","Nota: Los datos corresponden a 2013 pues son los últimos disponibles","Nota: Los datos corresponden a 2013 pues son los últimos disponibles","Nota: Los datos corresponden a 2013 pues son los últimos disponibles","Nota: Los datos corresponden a 2013 pues son los últimos disponibles","Nota: Los datos corresponden a 2013 pues son los últimos disponibles","Nota: Los datos corresponden a 2013 pues son los últimos disponibles","Nota: Los datos corresponden a 2013 pues son los últimos disponibles","Nota: Los datos corresponden a 2013 pues son los últimos disponibles","Nota: Los datos corresponden a 2013 pues son los últimos disponibles","Nota: Los datos corresponden a 2013 pues son los últimos disponibles","Nota: Los datos corresponden a 2013 pues son los últimos disponibles","Nota: Los datos corresponden a 2013 pues son los últimos disponibles","Nota: Los datos corresponden a 2013 pues son los últimos disponibles","Nota: Los datos corresponden a 2013 pues son los últimos disponibles","Nota: Los datos corresponden a 2013 pues son los últimos disponibles","Nota: Los datos corresponden a 2013 pues son los últimos disponibles","Nota: Los datos corresponden a 2013 pues son los últimos disponibles","Nota: Los datos corresponden a 2013 pues son los últimos disponibles","Nota: Los datos corresponden a 2013 pues son los últimos disponibles","Nota: Los datos corresponden a 2013 pues son los últimos disponibles","Nota: Los datos corresponden a 2013 pues son los últimos disponibles","Nota: Los datos corresponden a 2013 pues son los últimos disponibles","Nota: Los datos corresponden a 2013 pues son los últimos disponibles","Nota: Los datos corresponden a 2013 pues son los últimos disponibles","Nota: Los datos corresponden a 2013 pues son los últimos disponibles","Nota: Los datos corresponden a 2013 pues son los últimos disponibles","Nota: Los datos corresponden a 2013 pues son los últimos disponibles","Nota: Los datos corresponden a 2013 pues son los últimos disponibles","Nota: Los datos corresponden a 2013 pues son los últimos disponibles","Nota: Los datos corresponden a 2013 pues son los últimos disponibles","Nota: Los datos corresponden a 2013 pues son los últimos disponibles","Nota: Los datos corresponden a 2013 pues son los últimos disponibles","Nota: Los datos corresponden a 2013 pues son los últimos disponibles","Nota: Los datos corresponden a 2013 pues son los últimos disponibles","Nota: Los datos corresponden a 2013 pues son los últimos disponibles","Nota: Los datos corresponden a 2013 pues son los últimos disponibles","Nota: Los datos corresponden a 2013 pues son los últimos disponibles","Nota: Los datos corresponden a 2013 pues son los últimos disponibles","Nota: Los datos corresponden a 2013 pues son los últimos disponibles","Nota: Los datos corresponden a 2013 pues son los últimos disponibles","Nota: Los datos corresponden a 2013 pues son los últimos disponibles","Nota: Los datos corresponden a 2013 pues son los últimos disponibles","Nota: Los datos corresponden a 2013 pues son los últimos disponibles","Nota: Los datos corresponden a 2013 pues son los últimos disponibles","Nota: Los datos corresponden a 2013 pues son los últimos disponibles","Nota: Los datos corresponden a 2013 pues son los últimos disponibles","Nota: Los datos corresponden a 2013 pues son los últimos disponibles","Nota: Los datos corresponden a 2013 pues son los últimos disponibles","Nota: Los datos corresponden a 2013 pues son los últimos disponibles","Nota: Los datos corresponden a 2013 pues son los últimos disponibles","Nota: Los datos corresponden a 2013 pues son los últimos disponibles","Nota: Los datos corresponden a 2013 pues son los últimos disponibles","Nota: Los datos corresponden a 2013 pues son los últimos disponibles","Nota: Los datos corresponden a 2013 pues son los últimos disponibles","Nota: Los datos corresponden a 2013 pues son los últimos disponibles","Nota: Los datos corresponden a 2013 pues son los últimos disponibles","Nota: Los datos corresponden a 2013 pues son los últimos disponibles","Nota: Los datos corresponden a 2013 pues son los últimos disponibles","Nota: Los datos corresponden a 2013 pues son los últimos disponibles","Nota: Los datos corresponden a 2013 pues son los últimos disponibles","Nota: Los datos corresponden a 2013 pues son los últimos disponibles","Nota: Los datos corresponden a 2013 pues son los últimos disponibles","Nota: Los datos corresponden a 2013 pues son los últimos disponibles","Nota: Los datos corresponden a 2013 pues son los últimos disponibles","Nota: Los datos corresponden a 2013 pues son los últimos disponibles","Nota: Los datos corresponden a 2013 pues son los últimos disponibles","Nota: Los datos corresponden a 2013 pues son los últimos disponibles","Nota: Los datos corresponden a 2013 pues son los últimos disponibles","Nota: Los datos corresponden a 2013 pues son los últimos disponibles","Nota: Los datos corresponden a 2013 pues son los últimos disponibles","Nota: Los datos corresponden a 2013 pues son los últimos disponibles","Nota: Los datos corresponden a 2013 pues son los últimos disponibles","Nota: Los datos corresponden a 2013 pues son los últimos disponibles","Nota: Los datos corresponden a 2013 pues son los últimos disponibles","Nota: Los datos corresponden a 2013 pues son los últimos disponibles","Nota: Los datos corresponden a 2013 pues son los últimos disponibles","Nota: Los datos corresponden a 2013 pues son los últimos disponibles","Nota: Los datos corresponden a 2013 pues son los últimos disponibles","Nota: Los datos corresponden a 2013 pues son los últimos disponibles","Nota: Los datos corresponden a 2013 pues son los últimos disponibles","Nota: Los datos corresponden a 2013 pues son los últimos disponibles","Nota: Los datos corresponden a 2013 pues son los últimos disponibles","Nota: Los datos corresponden a 2013 pues son los últimos disponibles","Nota: Los datos corresponden a 2013 pues son los últimos disponibles","Nota: Los datos corresponden a 2013 pues son los últimos disponibles","Nota: Los datos corresponden a 2013 pues son los últimos disponibles","Nota: Los datos corresponden a 2013 pues son los últimos disponibles","Nota: Los datos corresponden a 2013 pues son los últimos disponibles","Nota: Los datos corresponden a 2013 pues son los últimos disponibles","Nota: Los datos corresponden a 2013 pues son los últimos disponibles","Nota: Los datos corresponden a 2013 pues son los últimos disponibles","Nota: Los datos corresponden a 2013 pues son los últimos disponibles","Nota: Los datos corresponden a 2013 pues son los últimos disponibles","Nota: Los datos corresponden a 2013 pues son los últimos disponibles","Nota: Los datos corresponden a 2013 pues son los últimos disponibles","Nota: Los datos corresponden a 2013 pues son los últimos disponibles","Nota: Los datos corresponden a 2013 pues son los últimos disponibles","Nota: Los datos corresponden a 2013 pues son los últimos disponibles","Nota: Los datos corresponden a 2013 pues son los últimos disponibles","Nota: Los datos corresponden a 2013 pues son los últimos disponibles","Nota: Los datos corresponden a 2013 pues son los últimos disponibles","Nota: Los datos corresponden a 2013 pues son los últimos disponibles","Nota: Los datos corresponden a 2013 pues son los últimos disponibles","Nota: Los datos corresponden a 2013 pues son los últimos disponibles","Nota: Los datos corresponden a 2013 pues son los últimos disponibles","Nota: Los datos corresponden a 2013 pues son los últimos disponibles","Nota: Los datos corresponden a 2013 pues son los últimos disponibles","Nota: Los datos corresponden a 2013 pues son los últimos disponibles","Nota: Los datos corresponden a 2013 pues son los últimos disponibles","Nota: Los datos corresponden a 2013 pues son los últimos disponibles","Nota: Los datos corresponden a 2013 pues son los últimos disponibles","Nota: Los datos corresponden a 2013 pues son los últimos disponibles","Nota: Los datos corresponden a 2013 pues son los últimos disponibles","Nota: Los datos corresponden a 2013 pues son los últimos disponibles","Nota: Los datos corresponden a 2013 pues son los últimos disponibles","Nota: Los datos corresponden a 2013 pues son los últimos disponibles","Nota: Los datos corresponden a 2013 pues son los últimos disponibles","Nota: Los datos corresponden a 2013 pues son los últimos disponibles","Nota: Los datos corresponden a 2013 pues son los últimos disponibles","Nota: Los datos corresponden a 2013 pues son los últimos disponibles","Nota: Los datos corresponden a 2013 pues son los últimos disponibles","Nota: Los datos corresponden a 2013 pues son los últimos disponibles","Nota: Los datos corresponden a 2013 pues son los últimos disponibles","Nota: Los datos corresponden a 2013 pues son los últimos disponibles","Nota: Los datos corresponden a 2013 pues son los últimos disponibles","Nota: Los datos corresponden a 2013 pues son los últimos disponibles","Nota: Los datos corresponden a 2013 pues son los últimos disponibles","Nota: Los datos corresponden a 2013 pues son los últimos disponibles","Nota: Los datos corresponden a 2013 pues son los últimos disponibles","Nota: Los datos corresponden a 2013 pues son los últimos disponibles","Nota: Los datos corresponden a 2013 pues son los últimos disponibles","Nota: Los datos corresponden a 2013 pues son los últimos disponibles","Nota: Los datos corresponden a 2013 pues son los últimos disponibles","Nota: Los datos corresponden a 2013 pues son los últimos disponibles","Nota: Los datos corresponden a 2013 pues son los últimos disponibles","Nota: Los datos corresponden a 2013 pues son los últimos disponibles","Nota: Los datos corresponden a 2013 pues son los últimos disponibles","Nota: Los datos corresponden a 2013 pues son los últimos disponibles","Nota: Los datos corresponden a 2013 pues son los últimos disponibles","Nota: Los datos corresponden a 2013 pues son los últimos disponibles","Nota: Los datos corresponden a 2013 pues son los últimos disponibles","Nota: Los datos corresponden a 2013 pues son los últimos disponibles","Nota: Los datos corresponden a 2013 pues son los últimos disponibles","Nota: Los datos corresponden a 2013 pues son los últimos disponibles","Nota: Los datos corresponden a 2013 pues son los últimos disponibles","Nota: Los datos corresponden a 2013 pues son los últimos disponibles","Nota: Los datos corresponden a 2013 pues son los últimos disponibles","Nota: Los datos corresponden a 2013 pues son los últimos disponibles","Nota: Los datos corresponden a 2013 pues son los últimos disponibles","Nota: Los datos corresponden a 2013 pues son los últimos disponibles","Nota: Los datos corresponden a 2013 pues son los últimos disponibles","Nota: Los datos corresponden a 2013 pues son los últimos disponibles","Nota: Los datos corresponden a 2013 pues son los últimos disponibles","Nota: Los datos corresponden a 2013 pues son los últimos disponibles","Nota: Los datos corresponden a 2013 pues son los últimos disponibles","Nota: Los datos corresponden a 2013 pues son los últimos disponibles","Nota: Los datos corresponden a 2013 pues son los últimos disponibles","Nota: Los datos corresponden a 2013 pues son los últimos disponibles","Nota: Los datos corresponden a 2013 pues son los últimos disponibles","Nota: Los datos corresponden a 2013 pues son los últimos disponibles","Nota: Los datos corresponden a 2013 pues son los últimos disponibles","Nota: Los datos corresponden a 2013 pues son los últimos disponibles","Nota: Los datos corresponden a 2013 pues son los últimos disponibles","Nota: Los datos corresponden a 2013 pues son los últimos disponibles","Nota: Los datos corresponden a 2013 pues son los últimos disponibles","Nota: Los datos corresponden a 2013 pues son los últimos disponibles","Nota: Los datos corresponden a 2013 pues son los últimos disponibles","Nota: Los datos corresponden a 2013 pues son los últimos disponibles","Nota: Los datos corresponden a 2013 pues son los últimos disponibles","Nota: Los datos corresponden a 2013 pues son los últimos disponibles","Nota: Los datos corresponden a 2013 pues son los últimos disponibles","Nota: Los datos corresponden a 2013 pues son los últimos disponibles","Nota: Los datos corresponden a 2013 pues son los últimos disponibles","Nota: Los datos corresponden a 2013 pues son los últimos disponibles","Nota: Los datos corresponden a 2013 pues son los últimos disponibles","Nota: Los datos corresponden a 2013 pues son los últimos disponibles","Nota: Los datos corresponden a 2013 pues son los últimos disponibles","Nota: Los datos corresponden a 2013 pues son los últimos disponibles","Nota: Los datos corresponden a 2013 pues son los últimos disponibles","Nota: Los datos corresponden a 2013 pues son los últimos disponibles","Nota: Los datos corresponden a 2013 pues son los últimos disponibles","Nota: Los datos corresponden a 2013 pues son los últimos disponibles","Nota: Los datos corresponden a 2013 pues son los últimos disponibles","Nota: Los datos corresponden a 2013 pues son los últimos disponibles","Nota: Los datos corresponden a 2013 pues son los últimos disponibles","Nota: Los datos corresponden a 2013 pues son los últimos disponibles","Nota: Los datos corresponden a 2013 pues son los últimos disponibles","Nota: Los datos corresponden a 2013 pues son los últimos disponibles","Nota: Los datos corresponden a 2013 pues son los últimos disponibles","Nota: Los datos corresponden a 2013 pues son los últimos disponibles","Nota: Los datos corresponden a 2013 pues son los últimos disponibles","Nota: Los datos corresponden a 2013 pues son los últimos disponibles","Nota: Los datos corresponden a 2013 pues son los últimos disponibles","Nota: Los datos corresponden a 2013 pues son los últimos disponibles","Nota: Los datos corresponden a 2013 pues son los últimos disponibles","Nota: Los datos corresponden a 2013 pues son los últimos disponibles","Nota: Los datos corresponden a 2013 pues son los últimos disponibles","Nota: Los datos corresponden a 2013 pues son los últimos disponibles","Nota: Los datos corresponden a 2013 pues son los últimos disponibles","Nota: Los datos corresponden a 2013 pues son los últimos disponibles","Nota: Los datos corresponden a 2013 pues son los últimos disponibles","Nota: Los datos corresponden a 2013 pues son los últimos disponibles","Nota: Los datos corresponden a 2013 pues son los últimos disponibles","Nota: Los datos corresponden a 2013 pues son los últimos disponibles","Nota: Los datos corresponden a 2013 pues son los últimos disponibles","Nota: Los datos corresponden a 2013 pues son los últimos disponibles","Nota: Los datos corresponden a 2013 pues son los últimos disponibles","Nota: Los datos corresponden a 2013 pues son los últimos disponibles","Nota: Los datos corresponden a 2013 pues son los últimos disponibles","Nota: Los datos corresponden a 2013 pues son los últimos disponibles","Nota: Los datos corresponden a 2013 pues son los últimos disponibles","Nota: Los datos corresponden a 2013 pues son los últimos disponibles","Nota: Los datos corresponden a 2013 pues son los últimos disponibles","Nota: Los datos corresponden a 2013 pues son los últimos disponibles","Nota: Los datos corresponden a 2013 pues son los últimos disponibles","Nota: Los datos corresponden a 2013 pues son los últimos disponibles","Nota: Los datos corresponden a 2013 pues son los últimos disponibles","Nota: Los datos corresponden a 2013 pues son los últimos disponibles","Nota: Los datos corresponden a 2013 pues son los últimos disponibles","Nota: Los datos corresponden a 2013 pues son los últimos disponibles","Nota: Los datos corresponden a 2013 pues son los últimos disponibles","Nota: Los datos corresponden a 2013 pues son los últimos disponibles","Nota: Los datos corresponden a 2013 pues son los últimos disponibles","Nota: Los datos corresponden a 2013 pues son los últimos disponibles","Nota: Los datos corresponden a 2013 pues son los últimos disponibles","Nota: Los datos corresponden a 2013 pues son los últimos disponibles","Nota: Los datos corresponden a 2013 pues son los últimos disponibles","Nota: Los datos corresponden a 2013 pues son los últimos disponibles","Nota: Los datos corresponden a 2013 pues son los últimos disponibles","Nota: Los datos corresponden a 2013 pues son los últimos disponibles","Nota: Los datos corresponden a 2013 pues son los últimos disponibles","Nota: Los datos corresponden a 2013 pues son los últimos disponibles","Nota: Los datos corresponden a 2013 pues son los últimos disponibles","Nota: Los datos corresponden a 2013 pues son los últimos disponibles","Nota: Los datos corresponden a 2013 pues son los últimos disponibles","Nota: Los datos corresponden a 2013 pues son los últimos disponibles","Nota: Los datos corresponden a 2013 pues son los últimos disponibles","Nota: Los datos corresponden a 2013 pues son los últimos disponibles","Nota: Los datos corresponden a 2013 pues son los últimos disponibles","Nota: Los datos corresponden a 2013 pues son los últimos disponibles","Nota: Los datos corresponden a 2013 pues son los últimos disponibles","Nota: Los datos corresponden a 2013 pues son los últimos disponibles","Nota: Los datos corresponden a 2013 pues son los últimos disponibles","Nota: Los datos corresponden a 2013 pues son los últimos disponibles","Nota: Los datos corresponden a 2013 pues son los últimos disponibles","Nota: Los datos corresponden a 2013 pues son los últimos disponibles","Nota: Los datos corresponden a 2013 pues son los últimos disponibles","Nota: Los datos corresponden a 2013 pues son los últimos disponibles","Nota: Los datos corresponden a 2013 pues son los últimos disponibles","Nota: Los datos corresponden a 2013 pues son los últimos disponibles","Nota: Los datos corresponden a 2013 pues son los últimos disponibles","Nota: Los datos corresponden a 2013 pues son los últimos disponibles","Nota: Los datos corresponden a 2013 pues son los últimos disponibles","Nota: Los datos corresponden a 2013 pues son los últimos disponibles","Nota: Los datos corresponden a 2013 pues son los últimos disponibles","Nota: Los datos corresponden a 2013 pues son los últimos disponibles","Nota: Los datos corresponden a 2013 pues son los últimos disponibles","Nota: Los datos corresponden a 2013 pues son los últimos disponibles","Nota: Los datos corresponden a 2013 pues son los últimos disponibles","Nota: Los datos corresponden a 2013 pues son los últimos disponibles","Nota: Los datos corresponden a 2013 pues son los últimos disponibles","Nota: Los datos corresponden a 2013 pues son los últimos disponibles","Nota: Los datos corresponden a 2013 pues son los últimos disponibles","Nota: Los datos corresponden a 2013 pues son los últimos disponibles","Nota: Los datos corresponden a 2013 pues son los últimos disponibles","Nota: Los datos corresponden a 2013 pues son los últimos disponibles","Nota: Los datos corresponden a 2013 pues son los últimos disponibles","Nota: Los datos corresponden a 2013 pues son los últimos disponibles","Nota: Los datos corresponden a 2013 pues son los últimos disponibles","Nota: Los datos corresponden a 2013 pues son los últimos disponibles","Nota: Los datos corresponden a 2013 pues son los últimos disponibles","Nota: Los datos corresponden a 2013 pues son los últimos disponibles","Nota: Los datos corresponden a 2013 pues son los últimos disponibles","Nota: Los datos corresponden a 2013 pues son los últimos disponibles","Nota: Los datos corresponden a 2013 pues son los últimos disponibles","Nota: Los datos corresponden a 2013 pues son los últimos disponibles","Nota: Los datos corresponden a 2013 pues son los últimos disponibles","Nota: Los datos corresponden a 2013 pues son los últimos disponibles","Nota: Los datos corresponden a 2013 pues son los últimos disponibles","Nota: Los datos corresponden a 2013 pues son los últimos disponibles","Nota: Los datos corresponden a 2013 pues son los últimos disponibles","Nota: Los datos corresponden a 2013 pues son los últimos disponibles","Nota: Los datos corresponden a 2013 pues son los últimos disponibles","Nota: Los datos corresponden a 2013 pues son los últimos disponibles","Nota: Los datos corresponden a 2013 pues son los últimos disponibles","Nota: Los datos corresponden a 2013 pues son los últimos disponibles","Nota: Los datos corresponden a 2013 pues son los últimos disponibles","Nota: Los datos corresponden a 2013 pues son los últimos disponibles","Nota: Los datos corresponden a 2013 pues son los últimos disponibles","Nota: Los datos corresponden a 2013 pues son los últimos disponibles","Nota: Los datos corresponden a 2013 pues son los últimos disponibles","Nota: Los datos corresponden a 2013 pues son los últimos disponibles","Nota: Los datos corresponden a 2013 pues son los últimos disponibles","Nota: Los datos corresponden a 2013 pues son los últimos disponibles","Nota: Los datos corresponden a 2013 pues son los últimos disponibles","Nota: Los datos corresponden a 2013 pues son los últimos disponibles","Nota: Los datos corresponden a 2013 pues son los últimos disponibles","Nota: Los datos corresponden a 2013 pues son los últimos disponibles","Nota: Los datos corresponden a 2013 pues son los últimos disponibles","Nota: Los datos corresponden a 2013 pues son los últimos disponibles","Nota: Los datos corresponden a 2013 pues son los últimos disponibles","Nota: Los datos corresponden a 2013 pues son los últimos disponibles","Nota: Los datos corresponden a 2013 pues son los últimos disponibles","Nota: Los datos corresponden a 2013 pues son los últimos disponibles","Nota: Los datos corresponden a 2013 pues son los últimos disponibles","Nota: Los datos corresponden a 2013 pues son los últimos disponibles","Nota: Los datos corresponden a 2013 pues son los últimos disponibles","Nota: Los datos corresponden a 2013 pues son los últimos disponibles","Nota: Los datos corresponden a 2013 pues son los últimos disponibles","Nota: Los datos corresponden a 2013 pues son los últimos disponibles","Nota: Los datos corresponden a 2013 pues son los últimos disponibles","Nota: Los datos corresponden a 2013 pues son los últimos disponibles","Nota: Los datos corresponden a 2013 pues son los últimos disponibles","Nota: Los datos corresponden a 2013 pues son los últimos disponibles","Nota: Los datos corresponden a 2013 pues son los últimos disponibles","Nota: Los datos corresponden a 2013 pues son los últimos disponibles","Nota: Los datos corresponden a 2013 pues son los últimos disponibles","Nota: Los datos corresponden a 2013 pues son los últimos disponibles","Nota: Los datos corresponden a 2013 pues son los últimos disponibles","Nota: Los datos corresponden a 2013 pues son los últimos disponibles","Nota: Los datos corresponden a 2013 pues son los últimos disponibles","Nota: Los datos corresponden a 2013 pues son los últimos disponibles","Nota: Los datos corresponden a 2013 pues son los últimos disponibles","Nota: Los datos corresponden a 2013 pues son los últimos disponibles","Nota: Los datos corresponden a 2013 pues son los últimos disponibles","Nota: Los datos corresponden a 2013 pues son los últimos disponibles","Nota: Los datos corresponden a 2013 pues son los últimos disponibles","Nota: Los datos corresponden a 2013 pues son los últimos disponibles","Nota: Los datos corresponden a 2013 pues son los últimos disponibles","Nota: Los datos corresponden a 2013 pues son los últimos disponibles","Nota: Los datos corresponden a 2013 pues son los últimos disponibles","Nota: Los datos corresponden a 2013 pues son los últimos disponibles","Nota: Los datos corresponden a 2013 pues son los últimos disponibles","Nota: Los datos corresponden a 2013 pues son los últimos disponibles","Nota: Los datos corresponden a 2013 pues son los últimos disponibles","Nota: Los datos corresponden a 2013 pues son los últimos disponibles","Nota: Los datos corresponden a 2013 pues son los últimos disponibles","Nota: Los datos corresponden a 2013 pues son los últimos disponibles","Nota: Los datos corresponden a 2013 pues son los últimos disponibles","Nota: Los datos corresponden a 2013 pues son los últimos disponibles","Nota: Los datos corresponden a 2013 pues son los últimos disponibles","Nota: Los datos corresponden a 2013 pues son los últimos disponibles","Nota: Los datos corresponden a 2013 pues son los últimos disponibles","Nota: Los datos corresponden a 2013 pues son los últimos disponibles","Nota: Los datos corresponden a 2013 pues son los últimos disponibles","Nota: Los datos corresponden a 2013 pues son los últimos disponibles","Nota: Los datos corresponden a 2013 pues son los últimos disponibles","Nota: Los datos corresponden a 2013 pues son los últimos disponibles","Nota: Los datos corresponden a 2013 pues son los últimos disponibles","Nota: Los datos corresponden a 2013 pues son los últimos disponibles","Nota: Los datos corresponden a 2013 pues son los últimos disponibles","Nota: Los datos corresponden a 2013 pues son los últimos disponibles","Nota: Los datos corresponden a 2013 pues son los últimos disponibles","Nota: Los datos corresponden a 2013 pues son los últimos disponibles","Nota: Los datos corresponden a 2013 pues son los últimos disponibles","Nota: Los datos corresponden a 2013 pues son los últimos disponibles","Nota: Los datos corresponden a 2013 pues son los últimos disponibles","Nota: Los datos corresponden a 2013 pues son los últimos disponibles","Nota: Los datos corresponden a 2013 pues son los últimos disponibles","Nota: Los datos corresponden a 2013 pues son los últimos disponibles","Nota: Los datos corresponden a 2013 pues son los últimos disponibles","Nota: Los datos corresponden a 2013 pues son los últimos disponibles","Nota: Los datos corresponden a 2013 pues son los últimos disponibles","Nota: Los datos corresponden a 2013 pues son los últimos disponibles","Nota: Los datos corresponden a 2013 pues son los últimos disponibles","Nota: Los datos corresponden a 2013 pues son los últimos disponibles","Nota: Los datos corresponden a 2013 pues son los últimos disponibles","Nota: Los datos corresponden a 2013 pues son los últimos disponibles","Nota: Los datos corresponden a 2013 pues son los últimos disponibles","Nota: Los datos corresponden a 2013 pues son los últimos disponibles","Nota: Los datos corresponden a 2013 pues son los últimos disponibles","Nota: Los datos corresponden a 2013 pues son los últimos disponibles","Nota: Los datos corresponden a 2013 pues son los últimos disponibles","Nota: Los datos corresponden a 2013 pues son los últimos disponibles","Nota: Los datos corresponden a 2013 pues son los últimos disponibles","Nota: Los datos corresponden a 2013 pues son los últimos disponibles","Nota: Los datos corresponden a 2013 pues son los últimos disponibles","Nota: Los datos corresponden a 2013 pues son los últimos disponibles","Nota: Los datos corresponden a 2013 pues son los últimos disponibles","Nota: Los datos corresponden a 2013 pues son los últimos disponibles","Nota: Los datos corresponden a 2013 pues son los últimos disponibles","Nota: Los datos corresponden a 2013 pues son los últimos disponibles","Nota: Los datos corresponden a 2013 pues son los últimos disponibles","Nota: Los datos corresponden a 2013 pues son los últimos disponibles","Nota: Los datos corresponden a 2013 pues son los últimos disponibles","Nota: Los datos corresponden a 2013 pues son los últimos disponibles","Nota: Los datos corresponden a 2013 pues son los últimos disponibles","Nota: Los datos corresponden a 2013 pues son los últimos disponibles","Nota: Los datos corresponden a 2013 pues son los últimos disponibles","Nota: Los datos corresponden a 2013 pues son los últimos disponibles","Nota: Los datos corresponden a 2013 pues son los últimos disponibles","Nota: Los datos corresponden a 2013 pues son los últimos disponibles","Nota: Los datos corresponden a 2013 pues son los últimos disponibles","Nota: Los datos corresponden a 2013 pues son los últimos disponibles","Nota: Los datos corresponden a 2013 pues son los últimos disponibles","Nota: Los datos corresponden a 2013 pues son los últimos disponibles","Nota: Los datos corresponden a 2013 pues son los últimos disponibles","Nota: Los datos corresponden a 2013 pues son los últimos disponibles","Nota: Los datos corresponden a 2013 pues son los últimos disponibles","Nota: Los datos corresponden a 2013 pues son los últimos disponibles","Nota: Los datos corresponden a 2013 pues son los últimos disponibles","Nota: Los datos corresponden a 2013 pues son los últimos disponibles","Nota: Los datos corresponden a 2013 pues son los últimos disponibles","Nota: Los datos corresponden a 2013 pues son los últimos disponibles","Nota: Los datos corresponden a 2013 pues son los últimos disponibles","Nota: Los datos corresponden a 2013 pues son los últimos disponibles","Nota: Los datos corresponden a 2013 pues son los últimos disponibles","Nota: Los datos corresponden a 2013 pues son los últimos disponibles","Nota: Los datos corresponden a 2013 pues son los últimos disponibles","Nota: Los datos corresponden a 2013 pues son los últimos disponibles","Nota: Los datos corresponden a 2013 pues son los últimos disponibles","Nota: Los datos corresponden a 2013 pues son los últimos disponibles","Nota: Los datos corresponden a 2013 pues son los últimos disponibles","Nota: Los datos corresponden a 2013 pues son los últimos disponibles","Nota: Los datos corresponden a 2013 pues son los últimos disponibles","Nota: Los datos corresponden a 2013 pues son los últimos disponibles","Nota: Los datos corresponden a 2013 pues son los últimos disponibles","Nota: Los datos corresponden a 2013 pues son los últimos disponibles","Nota: Los datos corresponden a 2013 pues son los últimos disponibles","Nota: Los datos corresponden a 2013 pues son los últimos disponibles","Nota: Los datos corresponden a 2013 pues son los últimos disponibles","Nota: Los datos corresponden a 2013 pues son los últimos disponibles","Nota: Los datos corresponden a 2013 pues son los últimos disponibles","Nota: Los datos corresponden a 2013 pues son los últimos disponibles","Nota: Los datos corresponden a 2013 pues son los últimos disponibles","Nota: Los datos corresponden a 2013 pues son los últimos disponibles","Nota: Los datos corresponden a 2013 pues son los últimos disponibles","Nota: Los datos corresponden a 2013 pues son los últimos disponibles","Nota: Los datos corresponden a 2013 pues son los últimos disponibles","Nota: Los datos corresponden a 2013 pues son los últimos disponibles","Nota: Los datos corresponden a 2013 pues son los últimos disponibles","Nota: Los datos corresponden a 2013 pues son los últimos disponibles","Nota: Los datos corresponden a 2013 pues son los últimos disponibles","Nota: Los datos corresponden a 2013 pues son los últimos disponibles","Nota: Los datos corresponden a 2013 pues son los últimos disponibles","Nota: Los datos corresponden a 2013 pues son los últimos disponibles","Nota: Los datos corresponden a 2013 pues son los últimos disponibles","Nota: Los datos corresponden a 2013 pues son los últimos disponibles","Nota: Los datos corresponden a 2013 pues son los últimos disponibles","Nota: Los datos corresponden a 2013 pues son los últimos disponibles","Nota: Los datos corresponden a 2013 pues son los últimos disponibles","Nota: Los datos corresponden a 2013 pues son los últimos disponibles","Nota: Los datos corresponden a 2013 pues son los últimos disponibles","Nota: Los datos corresponden a 2013 pues son los últimos disponibles","Nota: Los datos corresponden a 2013 pues son los últimos disponibles","Nota: Los datos corresponden a 2013 pues son los últimos disponibles","Nota: Los datos corresponden a 2013 pues son los últimos disponibles","Nota: Los datos corresponden a 2013 pues son los últimos disponibles","Nota: Los datos corresponden a 2013 pues son los últimos disponibles","Nota: Los datos corresponden a 2013 pues son los últimos disponibles","Nota: Los datos corresponden a 2013 pues son los últimos disponibles","Nota: Los datos corresponden a 2013 pues son los últimos disponibles","Nota: Los datos corresponden a 2013 pues son los últimos disponibles","Nota: Los datos corresponden a 2013 pues son los últimos disponibles","Nota: Los datos corresponden a 2013 pues son los últimos disponibles","Nota: Los datos corresponden a 2013 pues son los últimos disponibles","Nota: Los datos corresponden a 2013 pues son los últimos disponibles","Nota: Los datos corresponden a 2013 pues son los últimos disponibles","Nota: Los datos corresponden a 2013 pues son los últimos disponibles","Nota: Los datos corresponden a 2013 pues son los últimos disponibles","Nota: Los datos corresponden a 2013 pues son los últimos disponibles","Nota: Los datos corresponden a 2013 pues son los últimos disponibles","Nota: Los datos corresponden a 2013 pues son los últimos disponibles","Nota: Los datos corresponden a 2013 pues son los últimos disponibles","Nota: Los datos corresponden a 2013 pues son los últimos disponibles","Nota: Los datos corresponden a 2013 pues son los últimos disponibles","Nota: Los datos corresponden a 2013 pues son los últimos disponibles","Nota: Los datos corresponden a 2013 pues son los últimos disponibles","Nota: Los datos corresponden a 2013 pues son los últimos disponibles","Nota: Los datos corresponden a 2013 pues son los últimos disponibles","Nota: Los datos corresponden a 2013 pues son los últimos disponibles","Nota: Los datos corresponden a 2013 pues son los últimos disponibles","Nota: Los datos corresponden a 2013 pues son los últimos disponibles","Nota: Los datos corresponden a 2013 pues son los últimos disponibles","Nota: Los datos corresponden a 2013 pues son los últimos disponibles","Nota: Los datos corresponden a 2013 pues son los últimos disponibles","Nota: Los datos corresponden a 2013 pues son los últimos disponibles","Nota: Los datos corresponden a 2013 pues son los últimos disponibles","Nota: Los datos corresponden a 2013 pues son los últimos disponibles","Nota: Los datos corresponden a 2013 pues son los últimos disponibles","Nota: Los datos corresponden a 2013 pues son los últimos disponibles","Nota: Los datos corresponden a 2013 pues son los últimos disponibles","Nota: Los datos corresponden a 2013 pues son los últimos disponibles","Nota: Los datos corresponden a 2013 pues son los últimos disponibles","Nota: Los datos corresponden a 2013 pues son los últimos disponibles","Nota: Los datos corresponden a 2013 pues son los últimos disponibles","Nota: Los datos corresponden a 2013 pues son los últimos disponibles","Nota: Los datos corresponden a 2013 pues son los últimos disponibles","Nota: Los datos corresponden a 2013 pues son los últimos disponibles","Nota: Los datos corresponden a 2013 pues son los últimos disponibles","Nota: Los datos corresponden a 2013 pues son los últimos disponibles","Nota: Los datos corresponden a 2013 pues son los últimos disponibles","Nota: Los datos corresponden a 2013 pues son los últimos disponibles","Nota: Los datos corresponden a 2013 pues son los últimos disponibles","Nota: Los datos corresponden a 2013 pues son los últimos disponibles","Nota: Los datos corresponden a 2013 pues son los últimos disponibles","Nota: Los datos corresponden a 2013 pues son los últimos disponibles","Nota: Los datos corresponden a 2013 pues son los últimos disponibles","Nota: Los datos corresponden a 2013 pues son los últimos disponibles","Nota: Los datos corresponden a 2013 pues son los últimos disponibles","Nota: Los datos corresponden a 2013 pues son los últimos disponibles","Nota: Los datos corresponden a 2013 pues son los últimos disponibles","Nota: Los datos corresponden a 2013 pues son los últimos disponibles","Nota: Los datos corresponden a 2013 pues son los últimos disponibles","Nota: Los datos corresponden a 2013 pues son los últimos disponibles","Nota: Los datos corresponden a 2013 pues son los últimos disponibles","Nota: Los datos corresponden a 2013 pues son los últimos disponibles","Nota: Los datos corresponden a 2013 pues son los últimos disponibles","Nota: Los datos corresponden a 2013 pues son los últimos disponibles","Nota: Los datos corresponden a 2013 pues son los últimos disponibles","Nota: Los datos corresponden a 2013 pues son los últimos disponibles","Nota: Los datos corresponden a 2013 pues son los últimos disponibles","Nota: Los datos corresponden a 2013 pues son los últimos disponibles","Nota: Los datos corresponden a 2013 pues son los últimos disponibles","Nota: Los datos corresponden a 2013 pues son los últimos disponibles","Nota: Los datos corresponden a 2013 pues son los últimos disponibles","Nota: Los datos corresponden a 2013 pues son los últimos disponibles","Nota: Los datos corresponden a 2013 pues son los últimos disponibles","Nota: Los datos corresponden a 2013 pues son los últimos disponibles","Nota: Los datos corresponden a 2013 pues son los últimos disponibles","Nota: Los datos corresponden a 2013 pues son los últimos disponibles","Nota: Los datos corresponden a 2013 pues son los últimos disponibles","Nota: Los datos corresponden a 2013 pues son los últimos disponibles","Nota: Los datos corresponden a 2013 pues son los últimos disponibles","Nota: Los datos corresponden a 2013 pues son los últimos disponibles","Nota: Los datos corresponden a 2013 pues son los últimos disponibles","Nota: Los datos corresponden a 2013 pues son los últimos disponibles","Nota: Los datos corresponden a 2013 pues son los últimos disponibles","Nota: Los datos corresponden a 2013 pues son los últimos disponibles","Nota: Los datos corresponden a 2013 pues son los últimos disponibles","Nota: Los datos corresponden a 2013 pues son los últimos disponibles","Nota: Los datos corresponden a 2013 pues son los últimos disponibles","Nota: Los datos corresponden a 2013 pues son los últimos disponibles","Nota: Los datos corresponden a 2013 pues son los últimos disponibles","Nota: Los datos corresponden a 2013 pues son los últimos disponibles","Nota: Los datos corresponden a 2013 pues son los últimos disponibles","Nota: Los datos corresponden a 2013 pues son los últimos disponibles","Nota: Los datos corresponden a 2013 pues son los últimos disponibles","Nota: Los datos corresponden a 2013 pues son los últimos disponibles","Nota: Los datos corresponden a 2013 pues son los últimos disponibles","Nota: Los datos corresponden a 2013 pues son los últimos disponibles","Nota: Los datos corresponden a 2013 pues son los últimos disponibles","Nota: Los datos corresponden a 2013 pues son los últimos disponibles","Nota: Los datos corresponden a 2013 pues son los últimos disponibles","Nota: Los datos corresponden a 2013 pues son los últimos disponibles","Nota: Los datos corresponden a 2013 pues son los últimos disponibles","Nota: Los datos corresponden a 2013 pues son los últimos disponibles","Nota: Los datos corresponden a 2013 pues son los últimos disponibles","Nota: Los datos corresponden a 2013 pues son los últimos disponibles","Nota: Los datos corresponden a 2013 pues son los últimos disponibles","Nota: Los datos corresponden a 2013 pues son los últimos disponibles","Nota: Los datos corresponden a 2013 pues son los últimos disponibles","Nota: Los datos corresponden a 2013 pues son los últimos disponibles","Nota: Los datos corresponden a 2013 pues son los últimos disponibles","Nota: Los datos corresponden a 2013 pues son los últimos disponibles","Nota: Los datos corresponden a 2013 pues son los últimos disponibles","Nota: Los datos corresponden a 2013 pues son los últimos disponibles","Nota: Los datos corresponden a 2013 pues son los últimos disponibles","Nota: Los datos corresponden a 2013 pues son los últimos disponibles","Nota: Los datos corresponden a 2013 pues son los últimos disponibles","Nota: Los datos corresponden a 2013 pues son los últimos disponibles","Nota: Los datos corresponden a 2013 pues son los últimos disponibles","Nota: Los datos corresponden a 2013 pues son los últimos disponibles","Nota: Los datos corresponden a 2013 pues son los últimos disponibles","Nota: Los datos corresponden a 2013 pues son los últimos disponibles","Nota: Los datos corresponden a 2013 pues son los últimos disponibles","Nota: Los datos corresponden a 2013 pues son los últimos disponibles","Nota: Los datos corresponden a 2013 pues son los últimos disponibles","Nota: Los datos corresponden a 2013 pues son los últimos disponibles","Nota: Los datos corresponden a 2013 pues son los últimos disponibles","Nota: Los datos corresponden a 2013 pues son los últimos disponibles","Nota: Los datos corresponden a 2013 pues son los últimos disponibles","Nota: Los datos corresponden a 2013 pues son los últimos disponibles","Nota: Los datos corresponden a 2013 pues son los últimos disponibles","Nota: Los datos corresponden a 2013 pues son los últimos disponibles","Nota: Los datos corresponden a 2013 pues son los últimos disponibles","Nota: Los datos corresponden a 2013 pues son los últimos disponibles","Nota: Los datos corresponden a 2013 pues son los últimos disponibles","Nota: Los datos corresponden a 2013 pues son los últimos disponibles","Nota: Los datos corresponden a 2013 pues son los últimos disponibles","Nota: Los datos corresponden a 2013 pues son los últimos disponibles","Nota: Los datos corresponden a 2013 pues son los últimos disponibles","Nota: Los datos corresponden a 2013 pues son los últimos disponibles","Nota: Los datos corresponden a 2013 pues son los últimos disponibles","Nota: Los datos corresponden a 2013 pues son los últimos disponibles","Nota: Los datos corresponden a 2013 pues son los últimos disponibles","Nota: Los datos corresponden a 2013 pues son los últimos disponibles","Nota: Los datos corresponden a 2013 pues son los últimos disponibles","Nota: Los datos corresponden a 2013 pues son los últimos disponibles","Nota: Los datos corresponden a 2013 pues son los últimos disponibles","Nota: Los datos corresponden a 2013 pues son los últimos disponibles","Nota: Los datos corresponden a 2013 pues son los últimos disponibles","Nota: Los datos corresponden a 2013 pues son los últimos disponibles","Nota: Los datos corresponden a 2013 pues son los últimos disponibles","Nota: Los datos corresponden a 2013 pues son los últimos disponibles","Nota: Los datos corresponden a 2013 pues son los últimos disponibles","Nota: Los datos corresponden a 2013 pues son los últimos disponibles","Nota: Los datos corresponden a 2013 pues son los últimos disponibles","Nota: Los datos corresponden a 2013 pues son los últimos disponibles","Nota: Los datos corresponden a 2013 pues son los últimos disponibles","Nota: Los datos corresponden a 2013 pues son los últimos disponibles","Nota: Los datos corresponden a 2013 pues son los últimos disponibles","Nota: Los datos corresponden a 2013 pues son los últimos disponibles","Nota: Los datos corresponden a 2013 pues son los últimos disponibles","Nota: Los datos corresponden a 2013 pues son los últimos disponibles","Nota: Los datos corresponden a 2013 pues son los últimos disponibles","Nota: Los datos corresponden a 2013 pues son los últimos disponibles","Nota: Los datos corresponden a 2013 pues son los últimos disponibles","Nota: Los datos corresponden a 2013 pues son los últimos disponibles","Nota: Los datos corresponden a 2013 pues son los últimos disponibles","Nota: Los datos corresponden a 2013 pues son los últimos disponibles","Nota: Los datos corresponden a 2013 pues son los últimos disponibles","Nota: Los datos corresponden a 2013 pues son los últimos disponibles","Nota: Los datos corresponden a 2013 pues son los últimos disponibles","Nota: Los datos corresponden a 2013 pues son los últimos disponibles","Nota: Los datos corresponden a 2013 pues son los últimos disponibles","Nota: Los datos corresponden a 2013 pues son los últimos disponibles","Nota: Los datos corresponden a 2013 pues son los últimos disponibles","Nota: Los datos corresponden a 2013 pues son los últimos disponibles","Nota: Los datos corresponden a 2013 pues son los últimos disponibles","Nota: Los datos corresponden a 2013 pues son los últimos disponibles","Nota: Los datos corresponden a 2013 pues son los últimos disponibles","Nota: Los datos corresponden a 2013 pues son los últimos disponibles","Nota: Los datos corresponden a 2013 pues son los últimos disponibles","Nota: Los datos corresponden a 2013 pues son los últimos disponibles","Nota: Los datos corresponden a 2013 pues son los últimos disponibles","Nota: Los datos corresponden a 2013 pues son los últimos disponibles","Nota: Los datos corresponden a 2013 pues son los últimos disponibles","Nota: Los datos corresponden a 2013 pues son los últimos disponibles","Nota: Los datos corresponden a 2013 pues son los últimos disponibles","Nota: Los datos corresponden a 2013 pues son los últimos disponibles","Nota: Los datos corresponden a 2013 pues son los últimos disponibles","Nota: Los datos corresponden a 2013 pues son los últimos disponibles","Nota: Los datos corresponden a 2013 pues son los últimos disponibles","Nota: Los datos corresponden a 2013 pues son los últimos disponibles","Nota: Los datos corresponden a 2013 pues son los últimos disponibles","Nota: Los datos corresponden a 2013 pues son los últimos disponibles","Nota: Los datos corresponden a 2013 pues son los últimos disponibles","Nota: Los datos corresponden a 2013 pues son los últimos disponibles","Nota: Los datos corresponden a 2013 pues son los últimos disponibles","Nota: Los datos corresponden a 2013 pues son los últimos disponibles","Nota: Los datos corresponden a 2013 pues son los últimos disponibles","Nota: Los datos corresponden a 2013 pues son los últimos disponibles","Nota: Los datos corresponden a 2013 pues son los últimos disponibles","Nota: Los datos corresponden a 2013 pues son los últimos disponibles","Nota: Los datos corresponden a 2013 pues son los últimos disponibles","Nota: Los datos corresponden a 2013 pues son los últimos disponibles","Nota: Los datos corresponden a 2013 pues son los últimos disponibles","Nota: Los datos corresponden a 2013 pues son los últimos disponibles","Nota: Los datos corresponden a 2013 pues son los últimos disponibles","Nota: Los datos corresponden a 2013 pues son los últimos disponibles","Nota: Los datos corresponden a 2013 pues son los últimos disponibles","Nota: Los datos corresponden a 2013 pues son los últimos disponibles","Nota: Los datos corresponden a 2013 pues son los últimos disponibles","Nota: Los datos corresponden a 2013 pues son los últimos disponibles","Nota: Los datos corresponden a 2013 pues son los últimos disponibles","Nota: Los datos corresponden a 2013 pues son los últimos disponibles","Nota: Los datos corresponden a 2013 pues son los últimos disponibles","Nota: Los datos corresponden a 2013 pues son los últimos disponibles","Nota: Los datos corresponden a 2013 pues son los últimos disponibles","Nota: Los datos corresponden a 2013 pues son los últimos disponibles","Nota: Los datos corresponden a 2013 pues son los últimos disponibles","Nota: Los datos corresponden a 2013 pues son los últimos disponibles","Nota: Los datos corresponden a 2013 pues son los últimos disponibles","Nota: Los datos corresponden a 2013 pues son los últimos disponibles","Nota: Los datos corresponden a 2013 pues son los últimos disponibles","Nota: Los datos corresponden a 2013 pues son los últimos disponibles","Nota: Los datos corresponden a 2013 pues son los últimos disponibles","Nota: Los datos corresponden a 2013 pues son los últimos disponibles","Nota: Los datos corresponden a 2013 pues son los últimos disponibles","Nota: Los datos corresponden a 2013 pues son los últimos disponibles","Nota: Los datos corresponden a 2013 pues son los últimos disponibles","Nota: Los datos corresponden a 2013 pues son los últimos disponibles","Nota: Los datos corresponden a 2013 pues son los últimos disponibles","Nota: Los datos corresponden a 2013 pues son los últimos disponibles","Nota: Los datos corresponden a 2013 pues son los últimos disponibles","Nota: Los datos corresponden a 2013 pues son los últimos disponibles","Nota: Los datos corresponden a 2013 pues son los últimos disponibles","Nota: Los datos corresponden a 2013 pues son los últimos disponibles","Nota: Los datos corresponden a 2013 pues son los últimos disponibles","Nota: Los datos corresponden a 2013 pues son los últimos disponibles","Nota: Los datos corresponden a 2013 pues son los últimos disponibles","Nota: Los datos corresponden a 2013 pues son los últimos disponibles","Nota: Los datos corresponden a 2013 pues son los últimos disponibles","Nota: Los datos corresponden a 2013 pues son los últimos disponibles","Nota: Los datos corresponden a 2013 pues son los últimos disponibles","Nota: Los datos corresponden a 2013 pues son los últimos disponibles","Nota: Los datos corresponden a 2013 pues son los últimos disponibles","Nota: Los datos corresponden a 2013 pues son los últimos disponibles","Nota: Los datos corresponden a 2013 pues son los últimos disponibles","Nota: Los datos corresponden a 2013 pues son los últimos disponibles","Nota: Los datos corresponden a 2013 pues son los últimos disponibles","Nota: Los datos corresponden a 2013 pues son los últimos disponibles","Nota: Los datos corresponden a 2013 pues son los últimos disponibles","Nota: Los datos corresponden a 2013 pues son los últimos disponibles","Nota: Los datos corresponden a 2013 pues son los últimos disponibles","Nota: Los datos corresponden a 2013 pues son los últimos disponibles","Nota: Los datos corresponden a 2013 pues son los últimos disponibles","Nota: Los datos corresponden a 2013 pues son los últimos disponibles","Nota: Los datos corresponden a 2013 pues son los últimos disponibles","Nota: Los datos corresponden a 2013 pues son los últimos disponibles","Nota: Los datos corresponden a 2013 pues son los últimos disponibles","Nota: Los datos corresponden a 2013 pues son los últimos disponibles","Nota: Los datos corresponden a 2013 pues son los últimos disponibles","Nota: Los datos corresponden a 2013 pues son los últimos disponibles","Nota: Los datos corresponden a 2013 pues son los últimos disponibles","Nota: Los datos corresponden a 2013 pues son los últimos disponibles","Nota: Los datos corresponden a 2013 pues son los últimos disponibles","Nota: Los datos corresponden a 2013 pues son los últimos disponibles","Nota: Los datos corresponden a 2013 pues son los últimos disponibles","Nota: Los datos corresponden a 2013 pues son los últimos disponibles","Nota: Los datos corresponden a 2013 pues son los últimos disponibles","Nota: Los datos corresponden a 2013 pues son los últimos disponibles","Nota: Los datos corresponden a 2013 pues son los últimos disponibles","Nota: Los datos corresponden a 2013 pues son los últimos disponibles","Nota: Los datos corresponden a 2013 pues son los últimos disponibles","Nota: Los datos corresponden a 2013 pues son los últimos disponibles","Nota: Los datos corresponden a 2013 pues son los últimos disponibles","Nota: Los datos corresponden a 2013 pues son los últimos disponibles","Nota: Los datos corresponden a 2013 pues son los últimos disponibles","Nota: Los datos corresponden a 2013 pues son los últimos disponibles","Nota: Los datos corresponden a 2013 pues son los últimos disponibles","Nota: Los datos corresponden a 2013 pues son los últimos disponibles","Nota: Los datos corresponden a 2013 pues son los últimos disponibles","Nota: Los datos corresponden a 2013 pues son los últimos disponibles","Nota: Los datos corresponden a 2013 pues son los últimos disponibles","Nota: Los datos corresponden a 2013 pues son los últimos disponibles","Nota: Los datos corresponden a 2013 pues son los últimos disponibles","Nota: Los datos corresponden a 2013 pues son los últimos disponibles","Nota: Los datos corresponden a 2013 pues son los últimos disponibles","Nota: Los datos corresponden a 2013 pues son los últimos disponibles","Nota: Los datos corresponden a 2013 pues son los últimos disponibles","Nota: Los datos corresponden a 2013 pues son los últimos disponibles","Nota: Los datos corresponden a 2013 pues son los últimos disponibles","Nota: Los datos corresponden a 2013 pues son los últimos disponibles","Nota: Los datos corresponden a 2013 pues son los últimos disponibles","Nota: Los datos corresponden a 2013 pues son los últimos disponibles","Nota: Los datos corresponden a 2013 pues son los últimos disponibles","Nota: Los datos corresponden a 2013 pues son los últimos disponibles","Nota: Los datos corresponden a 2013 pues son los últimos disponibles","Nota: Los datos corresponden a 2013 pues son los últimos disponibles","Nota: Los datos corresponden a 2013 pues son los últimos disponibles","Nota: Los datos corresponden a 2013 pues son los últimos disponibles","Nota: Los datos corresponden a 2013 pues son los últimos disponibles","Nota: Los datos corresponden a 2013 pues son los últimos disponibles","Nota: Los datos corresponden a 2013 pues son los últimos disponibles","Nota: Los datos corresponden a 2013 pues son los últimos disponibles","Nota: Los datos corresponden a 2013 pues son los últimos disponibles","Nota: Los datos corresponden a 2013 pues son los últimos disponibles","Nota: Los datos corresponden a 2013 pues son los últimos disponibles","Nota: Los datos corresponden a 2013 pues son los últimos disponibles","Nota: Los datos corresponden a 2013 pues son los últimos disponibles","Nota: Los datos corresponden a 2013 pues son los últimos disponibles","Nota: Los datos corresponden a 2013 pues son los últimos disponibles","Nota: Los datos corresponden a 2013 pues son los últimos disponibles","Nota: Los datos corresponden a 2013 pues son los últimos disponibles","Nota: Los datos corresponden a 2013 pues son los últimos disponibles","Nota: Los datos corresponden a 2013 pues son los últimos disponibles","Nota: Los datos corresponden a 2013 pues son los últimos disponibles","Nota: Los datos corresponden a 2013 pues son los últimos disponibles","Nota: Los datos corresponden a 2013 pues son los últimos disponibles","Nota: Los datos corresponden a 2013 pues son los últimos disponibles","Nota: Los datos corresponden a 2013 pues son los últimos disponibles","Nota: Los datos corresponden a 2013 pues son los últimos disponibles","Nota: Los datos corresponden a 2013 pues son los últimos disponibles","Nota: Los datos corresponden a 2013 pues son los últimos disponibles","Nota: Los datos corresponden a 2013 pues son los últimos disponibles","Nota: Los datos corresponden a 2013 pues son los últimos disponibles","Nota: Los datos corresponden a 2013 pues son los últimos disponibles","Nota: Los datos corresponden a 2013 pues son los últimos disponibles","Nota: Los datos corresponden a 2013 pues son los últimos disponibles","Nota: Los datos corresponden a 2013 pues son los últimos disponibles","Nota: Los datos corresponden a 2013 pues son los últimos disponibles","Nota: Los datos corresponden a 2013 pues son los últimos disponibles","Nota: Los datos corresponden a 2013 pues son los últimos disponibles","Nota: Los datos corresponden a 2013 pues son los últimos disponibles","Nota: Los datos corresponden a 2013 pues son los últimos disponibles","Nota: Los datos corresponden a 2013 pues son los últimos disponibles","Nota: Los datos corresponden a 2013 pues son los últimos disponibles","Nota: Los datos corresponden a 2013 pues son los últimos disponibles","Nota: Los datos corresponden a 2013 pues son los últimos disponibles","Nota: Los datos corresponden a 2013 pues son los últimos disponibles","Nota: Los datos corresponden a 2013 pues son los últimos disponibles","Nota: Los datos corresponden a 2013 pues son los últimos disponibles","Nota: Los datos corresponden a 2013 pues son los últimos disponibles","Nota: Los datos corresponden a 2013 pues son los últimos disponibles","Nota: Los datos corresponden a 2013 pues son los últimos disponibles","Nota: Los datos corresponden a 2013 pues son los últimos disponibles","Nota: Los datos corresponden a 2013 pues son los últimos disponibles","Nota: Los datos corresponden a 2013 pues son los últimos disponibles","Nota: Los datos corresponden a 2013 pues son los últimos disponibles","Nota: Los datos corresponden a 2013 pues son los últimos disponibles","Nota: Los datos corresponden a 2013 pues son los últimos disponibles","Nota: Los datos corresponden a 2013 pues son los últimos disponibles","Nota: Los datos corresponden a 2013 pues son los últimos disponibles","Nota: Los datos corresponden a 2013 pues son los últimos disponibles","Nota: Los datos corresponden a 2013 pues son los últimos disponibles","Nota: Los datos corresponden a 2013 pues son los últimos disponibles","Nota: Los datos corresponden a 2013 pues son los últimos disponibles","Nota: Los datos corresponden a 2013 pues son los últimos disponibles","Nota: Los datos corresponden a 2013 pues son los últimos disponibles","Nota: Los datos corresponden a 2013 pues son los últimos disponibles","Nota: Los datos corresponden a 2013 pues son los últimos disponibles","Nota: Los datos corresponden a 2013 pues son los últimos disponibles","Nota: Los datos corresponden a 2013 pues son los últimos disponibles","Nota: Los datos corresponden a 2013 pues son los últimos disponibles","Nota: Los datos corresponden a 2013 pues son los últimos disponibles","Nota: Los datos corresponden a 2013 pues son los últimos disponibles","Nota: Los datos corresponden a 2013 pues son los últimos disponibles","Nota: Los datos corresponden a 2013 pues son los últimos disponibles","Nota: Los datos corresponden a 2013 pues son los últimos disponibles","Nota: Los datos corresponden a 2013 pues son los últimos disponibles","Nota: Los datos corresponden a 2013 pues son los últimos disponibles","Nota: Los datos corresponden a 2013 pues son los últimos disponibles","Nota: Los datos corresponden a 2013 pues son los últimos disponibles","Nota: Los datos corresponden a 2013 pues son los últimos disponibles","Nota: Los datos corresponden a 2013 pues son los últimos disponibles","Nota: Los datos corresponden a 2013 pues son los últimos disponibles","Nota: Los datos corresponden a 2013 pues son los últimos disponibles","Nota: Los datos corresponden a 2013 pues son los últimos disponibles","Nota: Los datos corresponden a 2013 pues son los últimos disponibles","Nota: Los datos corresponden a 2013 pues son los últimos disponibles","Nota: Los datos corresponden a 2013 pues son los últimos disponibles","Nota: Los datos corresponden a 2013 pues son los últimos disponibles","Nota: Los datos corresponden a 2013 pues son los últimos disponibles","Nota: Los datos corresponden a 2013 pues son los últimos disponibles","Nota: Los datos corresponden a 2013 pues son los últimos disponibles","Nota: Los datos corresponden a 2013 pues son los últimos disponibles","Nota: Los datos corresponden a 2013 pues son los últimos disponibles","Nota: Los datos corresponden a 2013 pues son los últimos disponibles","Nota: Los datos corresponden a 2013 pues son los últimos disponibles","Nota: Los datos corresponden a 2013 pues son los últimos disponibles","Nota: Los datos corresponden a 2013 pues son los últimos disponibles","Nota: Los datos corresponden a 2013 pues son los últimos disponibles","Nota: Los datos corresponden a 2013 pues son los últimos disponibles","Nota: Los datos corresponden a 2013 pues son los últimos disponibles","Nota: Los datos corresponden a 2013 pues son los últimos disponibles","Nota: Los datos corresponden a 2013 pues son los últimos disponibles","Nota: Los datos corresponden a 2013 pues son los últimos disponibles","Nota: Los datos corresponden a 2013 pues son los últimos disponibles","Nota: Los datos corresponden a 2013 pues son los últimos disponibles","Nota: Los datos corresponden a 2013 pues son los últimos disponibles","Nota: Los datos corresponden a 2013 pues son los últimos disponibles","Nota: Los datos corresponden a 2013 pues son los últimos disponibles","Nota: Los datos corresponden a 2013 pues son los últimos disponibles","Nota: Los datos corresponden a 2013 pues son los últimos disponibles","Nota: Los datos corresponden a 2013 pues son los últimos disponibles","Nota: Los datos corresponden a 2013 pues son los últimos disponibles","Nota: Los datos corresponden a 2013 pues son los últimos disponibles","Nota: Los datos corresponden a 2013 pues son los últimos disponibles","Nota: Los datos corresponden a 2013 pues son los últimos disponibles","Nota: Los datos corresponden a 2013 pues son los últimos disponibles","Nota: Los datos corresponden a 2013 pues son los últimos disponibles","Nota: Los datos corresponden a 2013 pues son los últimos disponibles","Nota: Los datos corresponden a 2013 pues son los últimos disponibles","Nota: Los datos corresponden a 2013 pues son los últimos disponibles","Nota: Los datos corresponden a 2013 pues son los últimos disponibles","Nota: Los datos corresponden a 2013 pues son los últimos disponibles","Nota: Los datos corresponden a 2013 pues son los últimos disponibles","Nota: Los datos corresponden a 2013 pues son los últimos disponibles","Nota: Los datos corresponden a 2013 pues son los últimos disponibles","Nota: Los datos corresponden a 2013 pues son los últimos disponibles","Nota: Los datos corresponden a 2013 pues son los últimos disponibles","Nota: Los datos corresponden a 2013 pues son los últimos disponibles","Nota: Los datos corresponden a 2013 pues son los últimos disponibles","Nota: Los datos corresponden a 2013 pues son los últimos disponibles","Nota: Los datos corresponden a 2013 pues son los últimos disponibles","Nota: Los datos corresponden a 2013 pues son los últimos disponibles","Nota: Los datos corresponden a 2013 pues son los últimos disponibles","Nota: Los datos corresponden a 2013 pues son los últimos disponibles","Nota: Los datos corresponden a 2013 pues son los últimos disponibles","Nota: Los datos corresponden a 2013 pues son los últimos disponibles","Nota: Los datos corresponden a 2013 pues son los últimos disponibles","Nota: Los datos corresponden a 2013 pues son los últimos disponibles","Nota: Los datos corresponden a 2013 pues son los últimos disponibles","Nota: Los datos corresponden a 2013 pues son los últimos disponibles","Nota: Los datos corresponden a 2013 pues son los últimos disponibles","Nota: Los datos corresponden a 2013 pues son los últimos disponibles","Nota: Los datos corresponden a 2013 pues son los últimos disponibles","Nota: Los datos corresponden a 2013 pues son los últimos disponibles","Nota: Los datos corresponden a 2013 pues son los últimos disponibles","Nota: Los datos corresponden a 2013 pues son los últimos disponibles","Nota: Los datos corresponden a 2013 pues son los últimos disponibles","Nota: Los datos corresponden a 2013 pues son los últimos disponibles","Nota: Los datos corresponden a 2013 pues son los últimos disponibles","Nota: Los datos corresponden a 2013 pues son los últimos disponibles","Nota: Los datos corresponden a 2013 pues son los últimos disponibles","Nota: Los datos corresponden a 2013 pues son los últimos disponibles","Nota: Los datos corresponden a 2013 pues son los últimos disponibles","Nota: Los datos corresponden a 2013 pues son los últimos disponibles","Nota: Los datos corresponden a 2013 pues son los últimos disponibles","Nota: Los datos corresponden a 2013 pues son los últimos disponibles","Nota: Los datos corresponden a 2013 pues son los últimos disponibles","Nota: Los datos corresponden a 2013 pues son los últimos disponibles","Nota: Los datos corresponden a 2013 pues son los últimos disponibles","Nota: Los datos corresponden a 2013 pues son los últimos disponibles","Nota: Los datos corresponden a 2013 pues son los últimos disponibles","Nota: Los datos corresponden a 2013 pues son los últimos disponibles","Nota: Los datos corresponden a 2013 pues son los últimos disponibles","Nota: Los datos corresponden a 2013 pues son los últimos disponibles","Nota: Los datos corresponden a 2013 pues son los últimos disponibles","Nota: Los datos corresponden a 2013 pues son los últimos disponibles","Nota: Los datos corresponden a 2013 pues son los últimos disponibles","Nota: Los datos corresponden a 2013 pues son los últimos disponibles","Nota: Los datos corresponden a 2013 pues son los últimos disponibles","Nota: Los datos corresponden a 2013 pues son los últimos disponibles","Nota: Los datos corresponden a 2013 pues son los últimos disponibles","Nota: Los datos corresponden a 2013 pues son los últimos disponibles","Nota: Los datos corresponden a 2013 pues son los últimos disponibles","Nota: Los datos corresponden a 2013 pues son los últimos disponibles","Nota: Los datos corresponden a 2013 pues son los últimos disponibles","Nota: Los datos corresponden a 2013 pues son los últimos disponibles","Nota: Los datos corresponden a 2013 pues son los últimos disponibles","Nota: Los datos corresponden a 2013 pues son los últimos disponibles","Nota: Los datos corresponden a 2013 pues son los últimos disponibles","Nota: Los datos corresponden a 2013 pues son los últimos disponibles","Nota: Los datos corresponden a 2013 pues son los últimos disponibles","Nota: Los datos corresponden a 2013 pues son los últimos disponibles","Nota: Los datos corresponden a 2013 pues son los últimos disponibles","Nota: Los datos corresponden a 2013 pues son los últimos disponibles","Nota: Los datos corresponden a 2013 pues son los últimos disponibles","Nota: Los datos corresponden a 2013 pues son los últimos disponibles","Nota: Los datos corresponden a 2013 pues son los últimos disponibles","Nota: Los datos corresponden a 2013 pues son los últimos disponibles","Nota: Los datos corresponden a 2013 pues son los últimos disponibles","Nota: Los datos corresponden a 2013 pues son los últimos disponibles","Nota: Los datos corresponden a 2013 pues son los últimos disponibles","Nota: Los datos corresponden a 2013 pues son los últimos disponibles","Nota: Los datos corresponden a 2013 pues son los últimos disponibles","Nota: Los datos corresponden a 2013 pues son los últimos disponibles","Nota: Los datos corresponden a 2013 pues son los últimos disponibles","Nota: Los datos corresponden a 2013 pues son los últimos disponibles","Nota: Los datos corresponden a 2013 pues son los últimos disponibles","Nota: Los datos corresponden a 2013 pues son los últimos disponibles","Nota: Los datos corresponden a 2013 pues son los últimos disponibles","Nota: Los datos corresponden a 2013 pues son los últimos disponibles","Nota: Los datos corresponden a 2013 pues son los últimos disponibles","Nota: Los datos corresponden a 2013 pues son los últimos disponibles","Nota: Los datos corresponden a 2013 pues son los últimos disponibles","Nota: Los datos corresponden a 2013 pues son los últimos disponibles","Nota: Los datos corresponden a 2013 pues son los últimos disponibles","Nota: Los datos corresponden a 2013 pues son los últimos disponibles","Nota: Los datos corresponden a 2013 pues son los últimos disponibles","Nota: Los datos corresponden a 2013 pues son los últimos disponibles","Nota: Los datos corresponden a 2013 pues son los últimos disponibles","Nota: Los datos corresponden a 2013 pues son los últimos disponibles","Nota: Los datos corresponden a 2013 pues son los últimos disponibles","Nota: Los datos corresponden a 2013 pues son los últimos disponibles","Nota: Los datos corresponden a 2013 pues son los últimos disponibles","Nota: Los datos corresponden a 2013 pues son los últimos disponibles","Nota: Los datos corresponden a 2013 pues son los últimos disponibles","Nota: Los datos corresponden a 2013 pues son los últimos disponibles","Nota: Los datos corresponden a 2013 pues son los últimos disponibles","Nota: Los datos corresponden a 2013 pues son los últimos disponibles","Nota: Los datos corresponden a 2013 pues son los últimos disponibles","Nota: Los datos corresponden a 2013 pues son los últimos disponibles","Nota: Los datos corresponden a 2013 pues son los últimos disponibles","Nota: Los datos corresponden a 2013 pues son los últimos disponibles","Nota: Los datos corresponden a 2013 pues son los últimos disponibles","Nota: Los datos corresponden a 2013 pues son los últimos disponibles","Nota: Los datos corresponden a 2013 pues son los últimos disponibles","Nota: Los datos corresponden a 2013 pues son los últimos disponibles","Nota: Los datos corresponden a 2013 pues son los últimos disponibles","Nota: Los datos corresponden a 2013 pues son los últimos disponibles","Nota: Los datos corresponden a 2013 pues son los últimos disponibles","Nota: Los datos corresponden a 2013 pues son los últimos disponibles","Nota: Los datos corresponden a 2013 pues son los últimos disponibles","Nota: Los datos corresponden a 2013 pues son los últimos disponibles","Nota: Los datos corresponden a 2013 pues son los últimos disponibles","Nota: Los datos corresponden a 2013 pues son los últimos disponibles","Nota: Los datos corresponden a 2013 pues son los últimos disponibles","Nota: Los datos corresponden a 2013 pues son los últimos disponibles","Nota: Los datos corresponden a 2013 pues son los últimos disponibles","Nota: Los datos corresponden a 2013 pues son los últimos disponibles","Nota: Los datos corresponden a 2013 pues son los últimos disponibles","Nota: Los datos corresponden a 2013 pues son los últimos disponibles","Nota: Los datos corresponden a 2013 pues son los últimos disponibles","Nota: Los datos corresponden a 2013 pues son los últimos disponibles","Nota: Los datos corresponden a 2013 pues son los últimos disponibles","Nota: Los datos corresponden a 2013 pues son los últimos disponibles","Nota: Los datos corresponden a 2013 pues son los últimos disponibles","Nota: Los datos corresponden a 2013 pues son los últimos disponibles","Nota: Los datos corresponden a 2013 pues son los últimos disponibles","Nota: Los datos corresponden a 2013 pues son los últimos disponibles","Nota: Los datos corresponden a 2013 pues son los últimos disponibles","Nota: Los datos corresponden a 2013 pues son los últimos disponibles","Nota: Los datos corresponden a 2013 pues son los últimos disponibles","Nota: Los datos corresponden a 2013 pues son los últimos disponibles","Nota: Los datos corresponden a 2013 pues son los últimos disponibles","Nota: Los datos corresponden a 2013 pues son los últimos disponibles","Nota: Los datos corresponden a 2013 pues son los últimos disponibles","Nota: Los datos corresponden a 2013 pues son los últimos disponibles","Nota: Los datos corresponden a 2013 pues son los últimos disponibles","Nota: Los datos corresponden a 2013 pues son los últimos disponibles","Nota: Los datos corresponden a 2013 pues son los últimos disponibles","Nota: Los datos corresponden a 2013 pues son los últimos disponibles","Nota: Los datos corresponden a 2013 pues son los últimos disponibles","Nota: Los datos corresponden a 2013 pues son los últimos disponibles","Nota: Los datos corresponden a 2013 pues son los últimos disponibles","Nota: Los datos corresponden a 2013 pues son los últimos disponibles","Nota: Los datos corresponden a 2013 pues son los últimos disponibles","Nota: Los datos corresponden a 2013 pues son los últimos disponibles","Nota: Los datos corresponden a 2013 pues son los últimos disponibles","Nota: Los datos corresponden a 2013 pues son los últimos disponibles","Nota: Los datos corresponden a 2013 pues son los últimos disponibles","Nota: Los datos corresponden a 2013 pues son los últimos disponibles","Nota: Los datos corresponden a 2013 pues son los últimos disponibles","Nota: Los datos corresponden a 2013 pues son los últimos disponibles","Nota: Los datos corresponden a 2013 pues son los últimos disponibles","Nota: Los datos corresponden a 2013 pues son los últimos disponibles","Nota: Los datos corresponden a 2013 pues son los últimos disponibles","Nota: Los datos corresponden a 2013 pues son los últimos disponibles","Nota: Los datos corresponden a 2013 pues son los últimos disponibles","Nota: Los datos corresponden a 2013 pues son los últimos disponibles","Nota: Los datos corresponden a 2013 pues son los últimos disponibles","Nota: Los datos corresponden a 2013 pues son los últimos disponibles","Nota: Los datos corresponden a 2013 pues son los últimos disponibles","Nota: Los datos corresponden a 2013 pues son los últimos disponibles","Nota: Los datos corresponden a 2013 pues son los últimos disponibles","Nota: Los datos corresponden a 2013 pues son los últimos disponibles","Nota: Los datos corresponden a 2013 pues son los últimos disponibles","Nota: Los datos corresponden a 2013 pues son los últimos disponibles","Nota: Los datos corresponden a 2013 pues son los últimos disponibles","Nota: Los datos corresponden a 2013 pues son los últimos disponibles","Nota: Los datos corresponden a 2013 pues son los últimos disponibles","Nota: Los datos corresponden a 2013 pues son los últimos disponibles","Nota: Los datos corresponden a 2013 pues son los últimos disponibles","Nota: Los datos corresponden a 2013 pues son los últimos disponibles","Nota: Los datos corresponden a 2013 pues son los últimos disponibles","Nota: Los datos corresponden a 2013 pues son los últimos disponibles","Nota: Los datos corresponden a 2013 pues son los últimos disponibles","Nota: Los datos corresponden a 2013 pues son los últimos disponibles","Nota: Los datos corresponden a 2013 pues son los últimos disponibles","Nota: Los datos corresponden a 2013 pues son los últimos disponibles","Nota: Los datos corresponden a 2013 pues son los últimos disponibles","Nota: Los datos corresponden a 2013 pues son los últimos disponibles","Nota: Los datos corresponden a 2013 pues son los últimos disponibles","Nota: Los datos corresponden a 2013 pues son los últimos disponibles","Nota: Los datos corresponden a 2013 pues son los últimos disponibles","Nota: Los datos corresponden a 2013 pues son los últimos disponibles","Nota: Los datos corresponden a 2013 pues son los últimos disponibles","Nota: Los datos corresponden a 2013 pues son los últimos disponibles","Nota: Los datos corresponden a 2013 pues son los últimos disponibles","Nota: Los datos corresponden a 2013 pues son los últimos disponibles","Nota: Los datos corresponden a 2013 pues son los últimos disponibles","Nota: Los datos corresponden a 2013 pues son los últimos disponibles","Nota: Los datos corresponden a 2013 pues son los últimos disponibles","Nota: Los datos corresponden a 2013 pues son los últimos disponibles","Nota: Los datos corresponden a 2013 pues son los últimos disponibles","Nota: Los datos corresponden a 2013 pues son los últimos disponibles","Nota: Los datos corresponden a 2013 pues son los últimos disponibles","Nota: Los datos corresponden a 2013 pues son los últimos disponibles","Nota: Los datos corresponden a 2013 pues son los últimos disponibles","Nota: Los datos corresponden a 2013 pues son los últimos disponibles","Nota: Los datos corresponden a 2013 pues son los últimos disponibles","Nota: Los datos corresponden a 2013 pues son los últimos disponibles","Nota: Los datos corresponden a 2013 pues son los últimos disponibles","Nota: Los datos corresponden a 2013 pues son los últimos disponibles","Nota: Los datos corresponden a 2013 pues son los últimos disponibles","Nota: Los datos corresponden a 2013 pues son los últimos disponibles","Nota: Los datos corresponden a 2013 pues son los últimos disponibles","Nota: Los datos corresponden a 2013 pues son los últimos disponibles","Nota: Los datos corresponden a 2013 pues son los últimos disponibles","Nota: Los datos corresponden a 2013 pues son los últimos disponibles","Nota: Los datos corresponden a 2013 pues son los últimos disponibles","Nota: Los datos corresponden a 2013 pues son los últimos disponibles","Nota: Los datos corresponden a 2013 pues son los últimos disponibles","Nota: Los datos corresponden a 2013 pues son los últimos disponibles","Nota: Los datos corresponden a 2013 pues son los últimos disponibles","Nota: Los datos corresponden a 2013 pues son los últimos disponibles","Nota: Los datos corresponden a 2013 pues son los últimos disponibles","Nota: Los datos corresponden a 2013 pues son los últimos disponibles","Nota: Los datos corresponden a 2013 pues son los últimos disponibles","Nota: Los datos corresponden a 2013 pues son los últimos disponibles","Nota: Los datos corresponden a 2013 pues son los últimos disponibles","Nota: Los datos corresponden a 2013 pues son los últimos disponibles","Nota: Los datos corresponden a 2013 pues son los últimos disponibles","Nota: Los datos corresponden a 2013 pues son los últimos disponibles","Nota: Los datos corresponden a 2013 pues son los últimos disponibles","Nota: Los datos corresponden a 2013 pues son los últimos disponibles","Nota: Los datos corresponden a 2013 pues son los últimos disponibles","Nota: Los datos corresponden a 2013 pues son los últimos disponibles","Nota: Los datos corresponden a 2013 pues son los últimos disponibles","Nota: Los datos corresponden a 2013 pues son los últimos disponibles","Nota: Los datos corresponden a 2013 pues son los últimos disponibles","Nota: Los datos corresponden a 2013 pues son los últimos disponibles","Nota: Los datos corresponden a 2013 pues son los últimos disponibles","Nota: Los datos corresponden a 2013 pues son los últimos disponibles","Nota: Los datos corresponden a 2013 pues son los últimos disponibles","Nota: Los datos corresponden a 2013 pues son los últimos disponibles","Nota: Los datos corresponden a 2013 pues son los últimos disponibles","Nota: Los datos corresponden a 2013 pues son los últimos disponibles","Nota: Los datos corresponden a 2013 pues son los últimos disponibles","Nota: Los datos corresponden a 2013 pues son los últimos disponibles","Nota: Los datos corresponden a 2013 pues son los últimos disponibles","Nota: Los datos corresponden a 2013 pues son los últimos disponibles","Nota: Los datos corresponden a 2013 pues son los últimos disponibles","Nota: Los datos corresponden a 2013 pues son los últimos disponibles","Nota: Los datos corresponden a 2013 pues son los últimos disponibles","Nota: Los datos corresponden a 2013 pues son los últimos disponibles","Nota: Los datos corresponden a 2013 pues son los últimos disponibles","Nota: Los datos corresponden a 2013 pues son los últimos disponibles","Nota: Los datos corresponden a 2013 pues son los últimos disponibles","Nota: Los datos corresponden a 2013 pues son los últimos disponibles","Nota: Los datos corresponden a 2013 pues son los últimos disponibles","Nota: Los datos corresponden a 2013 pues son los últimos disponibles","Nota: Los datos corresponden a 2013 pues son los últimos disponibles","Nota: Los datos corresponden a 2013 pues son los últimos disponibles","Nota: Los datos corresponden a 2013 pues son los últimos disponibles","Nota: Los datos corresponden a 2013 pues son los últimos disponibles","Nota: Los datos corresponden a 2013 pues son los últimos disponibles","Nota: Los datos corresponden a 2013 pues son los últimos disponibles","Nota: Los datos corresponden a 2013 pues son los últimos disponibles","Nota: Los datos corresponden a 2013 pues son los últimos disponibles","Nota: Los datos corresponden a 2013 pues son los últimos disponibles","Nota: Los datos corresponden a 2013 pues son los últimos disponibles","Nota: Los datos corresponden a 2013 pues son los últimos disponibles","Nota: Los datos corresponden a 2013 pues son los últimos disponibles","Nota: Los datos corresponden a 2013 pues son los últimos disponibles","Nota: Los datos corresponden a 2013 pues son los últimos disponibles","Nota: Los datos corresponden a 2013 pues son los últimos disponibles","Nota: Los datos corresponden a 2013 pues son los últimos disponibles","Nota: Los datos corresponden a 2013 pues son los últimos disponibles","Nota: Los datos corresponden a 2013 pues son los últimos disponibles","Nota: Los datos corresponden a 2013 pues son los últimos disponibles","Nota: Los datos corresponden a 2013 pues son los últimos disponibles","Nota: Los datos corresponden a 2013 pues son los últimos disponibles","Nota: Los datos corresponden a 2013 pues son los últimos disponibles","Nota: Los datos corresponden a 2013 pues son los últimos disponibles","Nota: Los datos corresponden a 2013 pues son los últimos disponibles","Nota: Los datos corresponden a 2013 pues son los últimos disponibles","Nota: Los datos corresponden a 2013 pues son los últimos disponibles","Nota: Los datos corresponden a 2013 pues son los últimos disponibles","Nota: Los datos corresponden a 2013 pues son los últimos disponibles","Nota: Los datos corresponden a 2013 pues son los últimos disponibles","Nota: Los datos corresponden a 2013 pues son los últimos disponibles","Nota: Los datos corresponden a 2013 pues son los últimos disponibles","Nota: Los datos corresponden a 2013 pues son los últimos disponibles","Nota: Los datos corresponden a 2013 pues son los últimos disponibles","Nota: Los datos corresponden a 2013 pues son los últimos disponibles","Nota: Los datos corresponden a 2013 pues son los últimos disponibles","Nota: Los datos corresponden a 2013 pues son los últimos disponibles","Nota: Los datos corresponden a 2013 pues son los últimos disponibles","Nota: Los datos corresponden a 2013 pues son los últimos disponibles","Nota: Los datos corresponden a 2013 pues son los últimos disponibles","Nota: Los datos corresponden a 2013 pues son los últimos disponibles","Nota: Los datos corresponden a 2013 pues son los últimos disponibles","Nota: Los datos corresponden a 2013 pues son los últimos disponibles","Nota: Los datos corresponden a 2013 pues son los últimos disponibles","Nota: Los datos corresponden a 2013 pues son los últimos disponibles","Nota: Los datos corresponden a 2013 pues son los últimos disponibles","Nota: Los datos corresponden a 2013 pues son los últimos disponibles","Nota: Los datos corresponden a 2013 pues son los últimos disponibles","Nota: Los datos corresponden a 2013 pues son los últimos disponibles","Nota: Los datos corresponden a 2013 pues son los últimos disponibles","Nota: Los datos corresponden a 2013 pues son los últimos disponibles","Nota: Los datos corresponden a 2013 pues son los últimos disponibles","Nota: Los datos corresponden a 2013 pues son los últimos disponibles","Nota: Los datos corresponden a 2013 pues son los últimos disponibles","Nota: Los datos corresponden a 2013 pues son los últimos disponibles","Nota: Los datos corresponden a 2013 pues son los últimos disponibles","Nota: Los datos corresponden a 2013 pues son los últimos disponibles","Nota: Los datos corresponden a 2013 pues son los últimos disponibles","Nota: Los datos corresponden a 2013 pues son los últimos disponibles","Nota: Los datos corresponden a 2013 pues son los últimos disponibles","Nota: Los datos corresponden a 2013 pues son los últimos disponibles","Nota: Los datos corresponden a 2013 pues son los últimos disponibles","Nota: Los datos corresponden a 2013 pues son los últimos disponibles","Nota: Los datos corresponden a 2013 pues son los últimos disponibles","Nota: Los datos corresponden a 2013 pues son los últimos disponibles","Nota: Los datos corresponden a 2013 pues son los últimos disponibles","Nota: Los datos corresponden a 2013 pues son los últimos disponibles","Nota: Los datos corresponden a 2013 pues son los últimos disponibles","Nota: Los datos corresponden a 2013 pues son los últimos disponibles","Nota: Los datos corresponden a 2013 pues son los últimos disponibles","Nota: Los datos corresponden a 2013 pues son los últimos disponibles","Nota: Los datos corresponden a 2013 pues son los últimos disponibles","Nota: Los datos corresponden a 2013 pues son los últimos disponibles","Nota: Los datos corresponden a 2013 pues son los últimos disponibles","Nota: Los datos corresponden a 2013 pues son los últimos disponibles","Nota: Los datos corresponden a 2013 pues son los últimos disponibles","Nota: Los datos corresponden a 2013 pues son los últimos disponibles","Nota: Los datos corresponden a 2013 pues son los últimos disponibles","Nota: Los datos corresponden a 2013 pues son los últimos disponibles","Nota: Los datos corresponden a 2013 pues son los últimos disponibles","Nota: Los datos corresponden a 2013 pues son los últimos disponibles","Nota: Los datos corresponden a 2013 pues son los últimos disponibles","Nota: Los datos corresponden a 2013 pues son los últimos disponibles","Nota: Los datos corresponden a 2013 pues son los últimos disponibles","Nota: Los datos corresponden a 2013 pues son los últimos disponibles","Nota: Los datos corresponden a 2013 pues son los últimos disponibles","Nota: Los datos corresponden a 2013 pues son los últimos disponibles","Nota: Los datos corresponden a 2013 pues son los últimos disponibles","Nota: Los datos corresponden a 2013 pues son los últimos disponibles","Nota: Los datos corresponden a 2013 pues son los últimos disponibles","Nota: Los datos corresponden a 2013 pues son los últimos disponibles","Nota: Los datos corresponden a 2013 pues son los últimos disponibles","Nota: Los datos corresponden a 2013 pues son los últimos disponibles","Nota: Los datos corresponden a 2013 pues son los últimos disponibles","Nota: Los datos corresponden a 2013 pues son los últimos disponibles","Nota: Los datos corresponden a 2013 pues son los últimos disponibles","Nota: Los datos corresponden a 2013 pues son los últimos disponibles","Nota: Los datos corresponden a 2013 pues son los últimos disponibles","Nota: Los datos corresponden a 2013 pues son los últimos disponibles","Nota: Los datos corresponden a 2013 pues son los últimos disponibles","Nota: Los datos corresponden a 2013 pues son los últimos disponibles","Nota: Los datos corresponden a 2013 pues son los últimos disponibles","Nota: Los datos corresponden a 2013 pues son los últimos disponibles","Nota: Los datos corresponden a 2013 pues son los últimos disponibles","Nota: Los datos corresponden a 2013 pues son los últimos disponibles","Nota: Los datos corresponden a 2013 pues son los últimos disponibles","Nota: Los datos corresponden a 2013 pues son los últimos disponibles","Nota: Los datos corresponden a 2013 pues son los últimos disponibles","Nota: Los datos corresponden a 2013 pues son los últimos disponibles","Nota: Los datos corresponden a 2013 pues son los últimos disponibles","Nota: Los datos corresponden a 2013 pues son los últimos disponibles","Nota: Los datos corresponden a 2013 pues son los últimos disponibles","Nota: Los datos corresponden a 2013 pues son los últimos disponibles","Nota: Los datos corresponden a 2013 pues son los últimos disponibles","Nota: Los datos corresponden a 2013 pues son los últimos disponibles","Nota: Los datos corresponden a 2013 pues son los últimos disponibles","Nota: Los datos corresponden a 2013 pues son los últimos disponibles","Nota: Los datos corresponden a 2013 pues son los últimos disponibles","Nota: Los datos corresponden a 2013 pues son los últimos disponibles","Nota: Los datos corresponden a 2013 pues son los últimos disponibles","Nota: Los datos corresponden a 2013 pues son los últimos disponibles","Nota: Los datos corresponden a 2013 pues son los últimos disponibles","Nota: Los datos corresponden a 2013 pues son los últimos disponibles","Nota: Los datos corresponden a 2013 pues son los últimos disponibles","Nota: Los datos corresponden a 2013 pues son los últimos disponibles","Nota: Los datos corresponden a 2013 pues son los últimos disponibles","Nota: Los datos corresponden a 2013 pues son los últimos disponibles","Nota: Los datos corresponden a 2013 pues son los últimos disponibles","Nota: Los datos corresponden a 2013 pues son los últimos disponibles","Nota: Los datos corresponden a 2013 pues son los últimos disponibles","Nota: Los datos corresponden a 2013 pues son los últimos disponibles","Nota: Los datos corresponden a 2013 pues son los últimos disponibles","Nota: Los datos corresponden a 2013 pues son los últimos disponibles","Nota: Los datos corresponden a 2013 pues son los últimos disponibles","Nota: Los datos corresponden a 2013 pues son los últimos disponibles","Nota: Los datos corresponden a 2013 pues son los últimos disponibles","Nota: Los datos corresponden a 2013 pues son los últimos disponibles","Nota: Los datos corresponden a 2013 pues son los últimos disponibles","Nota: Los datos corresponden a 2013 pues son los últimos disponibles","Nota: Los datos corresponden a 2013 pues son los últimos disponibles","Nota: Los datos corresponden a 2013 pues son los últimos disponibles","Nota: Los datos corresponden a 2013 pues son los últimos disponibles","Nota: Los datos corresponden a 2013 pues son los últimos disponibles","Nota: Los datos corresponden a 2013 pues son los últimos disponibles","Nota: Los datos corresponden a 2013 pues son los últimos disponibles","Nota: Los datos corresponden a 2013 pues son los últimos disponibles","Nota: Los datos corresponden a 2013 pues son los últimos disponibles","Nota: Los datos corresponden a 2013 pues son los últimos disponibles","Nota: Los datos corresponden a 2013 pues son los últimos disponibles","Nota: Los datos corresponden a 2013 pues son los últimos disponibles","Nota: Los datos corresponden a 2013 pues son los últimos disponibles","Nota: Los datos corresponden a 2013 pues son los últimos disponibles","Nota: Los datos corresponden a 2013 pues son los últimos disponibles","Nota: Los datos corresponden a 2013 pues son los últimos disponibles","Nota: Los datos corresponden a 2013 pues son los últimos disponibles","Nota: Los datos corresponden a 2013 pues son los últimos disponibles","Nota: Los datos corresponden a 2013 pues son los últimos disponibles","Nota: Los datos corresponden a 2013 pues son los últimos disponibles","Nota: Los datos corresponden a 2013 pues son los últimos disponibles","Nota: Los datos corresponden a 2013 pues son los últimos disponibles","Nota: Los datos corresponden a 2013 pues son los últimos disponibles","Nota: Los datos corresponden a 2013 pues son los últimos disponibles","Nota: Los datos corresponden a 2013 pues son los últimos disponibles","Nota: Los datos corresponden a 2013 pues son los últimos disponibles","Nota: Los datos corresponden a 2013 pues son los últimos disponibles","Nota: Los datos corresponden a 2013 pues son los últimos disponibles","Nota: Los datos corresponden a 2013 pues son los últimos disponibles","Nota: Los datos corresponden a 2013 pues son los últimos disponibles","Nota: Los datos corresponden a 2013 pues son los últimos disponibles","Nota: Los datos corresponden a 2013 pues son los últimos disponibles","Nota: Los datos corresponden a 2013 pues son los últimos disponibles","Nota: Los datos corresponden a 2013 pues son los últimos disponibles","Nota: Los datos corresponden a 2013 pues son los últimos disponibles","Nota: Los datos corresponden a 2013 pues son los últimos disponibles","Nota: Los datos corresponden a 2013 pues son los últimos disponibles","Nota: Los datos corresponden a 2013 pues son los últimos disponibles","Nota: Los datos corresponden a 2013 pues son los últimos disponibles","Nota: Los datos corresponden a 2013 pues son los últimos disponibles","Nota: Los datos corresponden a 2013 pues son los últimos disponibles","Nota: Los datos corresponden a 2013 pues son los últimos disponibles","Nota: Los datos corresponden a 2013 pues son los últimos disponibles","Nota: Los datos corresponden a 2013 pues son los últimos disponibles","Nota: Los datos corresponden a 2013 pues son los últimos disponibles","Nota: Los datos corresponden a 2013 pues son los últimos disponibles","Nota: Los datos corresponden a 2013 pues son los últimos disponibles","Nota: Los datos corresponden a 2013 pues son los últimos disponibles","Nota: Los datos corresponden a 2013 pues son los últimos disponibles","Nota: Los datos corresponden a 2013 pues son los últimos disponibles","Nota: Los datos corresponden a 2013 pues son los últimos disponibles","Nota: Los datos corresponden a 2013 pues son los últimos disponibles","Nota: Los datos corresponden a 2013 pues son los últimos disponibles","Nota: Los datos corresponden a 2013 pues son los últimos disponibles","Nota: Los datos corresponden a 2013 pues son los últimos disponibles","Nota: Los datos corresponden a 2013 pues son los últimos disponibles","Nota: Los datos corresponden a 2013 pues son los últimos disponibles","Nota: Los datos corresponden a 2013 pues son los últimos disponibles","Nota: Los datos corresponden a 2013 pues son los últimos disponibles","Nota: Los datos corresponden a 2013 pues son los últimos disponibles","Nota: Los datos corresponden a 2013 pues son los últimos disponibles","Nota: Los datos corresponden a 2013 pues son los últimos disponibles","Nota: Los datos corresponden a 2013 pues son los últimos disponibles","Nota: Los datos corresponden a 2013 pues son los últimos disponibles","Nota: Los datos corresponden a 2013 pues son los últimos disponibles","Nota: Los datos corresponden a 2013 pues son los últimos disponibles","Nota: Los datos corresponden a 2013 pues son los últimos disponibles","Nota: Los datos corresponden a 2013 pues son los últimos disponibles","Nota: Los datos corresponden a 2013 pues son los últimos disponibles","Nota: Los datos corresponden a 2013 pues son los últimos disponibles","Nota: Los datos corresponden a 2013 pues son los últimos disponibles","Nota: Los datos corresponden a 2013 pues son los últimos disponibles","Nota: Los datos corresponden a 2013 pues son los últimos disponibles","Nota: Los datos corresponden a 2013 pues son los últimos disponibles","Nota: Los datos corresponden a 2013 pues son los últimos disponibles","Nota: Los datos corresponden a 2013 pues son los últimos disponibles","Nota: Los datos corresponden a 2013 pues son los últimos disponibles","Nota: Los datos corresponden a 2013 pues son los últimos disponibles","Nota: Los datos corresponden a 2013 pues son los últimos disponibles","Nota: Los datos corresponden a 2013 pues son los últimos disponibles","Nota: Los datos corresponden a 2013 pues son los últimos disponibles","Nota: Los datos corresponden a 2013 pues son los últimos disponibles","Nota: Los datos corresponden a 2013 pues son los últimos disponibles","Nota: Los datos corresponden a 2013 pues son los últimos disponibles","Nota: Los datos corresponden a 2013 pues son los últimos disponibles","Nota: Los datos corresponden a 2013 pues son los últimos disponibles","Nota: Los datos corresponden a 2013 pues son los últimos disponibles","Nota: Los datos corresponden a 2013 pues son los últimos disponibles","Nota: Los datos corresponden a 2013 pues son los últimos disponibles","Nota: Los datos corresponden a 2013 pues son los últimos disponibles","Nota: Los datos corresponden a 2013 pues son los últimos disponibles","Nota: Los datos corresponden a 2013 pues son los últimos disponibles","Nota: Los datos corresponden a 2013 pues son los últimos disponibles","Nota: Los datos corresponden a 2013 pues son los últimos disponibles","Nota: Los datos corresponden a 2013 pues son los últimos disponibles","Nota: Los datos corresponden a 2013 pues son los últimos disponibles","Nota: Los datos corresponden a 2013 pues son los últimos disponibles","Nota: Los datos corresponden a 2013 pues son los últimos disponibles","Nota: Los datos corresponden a 2013 pues son los últimos disponibles","Nota: Los datos corresponden a 2013 pues son los últimos disponibles","Nota: Los datos corresponden a 2013 pues son los últimos disponibles","Nota: Los datos corresponden a 2013 pues son los últimos disponibles","Nota: Los datos corresponden a 2013 pues son los últimos disponibles","Nota: Los datos corresponden a 2013 pues son los últimos disponibles","Nota: Los datos corresponden a 2013 pues son los últimos disponibles","Nota: Los datos corresponden a 2013 pues son los últimos disponibles","Nota: Los datos corresponden a 2013 pues son los últimos disponibles","Nota: Los datos corresponden a 2013 pues son los últimos disponibles","Nota: Los datos corresponden a 2013 pues son los últimos disponibles","Nota: Los datos corresponden a 2013 pues son los últimos disponibles","Nota: Los datos corresponden a 2013 pues son los últimos disponibles","Nota: Los datos corresponden a 2013 pues son los últimos disponibles","Nota: Los datos corresponden a 2013 pues son los últimos disponibles","Nota: Los datos corresponden a 2013 pues son los últimos disponibles","Nota: Los datos corresponden a 2013 pues son los últimos disponibles","Nota: Los datos corresponden a 2013 pues son los últimos disponibles","Nota: Los datos corresponden a 2013 pues son los últimos disponibles","Nota: Los datos corresponden a 2013 pues son los últimos disponibles","Nota: Los datos corresponden a 2013 pues son los últimos disponibles","Nota: Los datos corresponden a 2013 pues son los últimos disponibles","Nota: Los datos corresponden a 2013 pues son los últimos disponibles","Nota: Los datos corresponden a 2013 pues son los últimos disponibles","Nota: Los datos corresponden a 2013 pues son los últimos disponibles","Nota: Los datos corresponden a 2013 pues son los últimos disponibles","Nota: Los datos corresponden a 2013 pues son los últimos disponibles","Nota: Los datos corresponden a 2013 pues son los últimos disponibles","Nota: Los datos corresponden a 2013 pues son los últimos disponibles","Nota: Los datos corresponden a 2013 pues son los últimos disponibles","Nota: Los datos corresponden a 2013 pues son los últimos disponibles","Nota: Los datos corresponden a 2013 pues son los últimos disponibles","Nota: Los datos corresponden a 2013 pues son los últimos disponibles","Nota: Los datos corresponden a 2013 pues son los últimos disponibles","Nota: Los datos corresponden a 2013 pues son los últimos disponibles","Nota: Los datos corresponden a 2013 pues son los últimos disponibles","Nota: Los datos corresponden a 2013 pues son los últimos disponibles","Nota: Los datos corresponden a 2013 pues son los últimos disponibles","Nota: Los datos corresponden a 2013 pues son los últimos disponibles","Nota: Los datos corresponden a 2013 pues son los últimos disponibles","Nota: Los datos corresponden a 2013 pues son los últimos disponibles","Nota: Los datos corresponden a 2013 pues son los últimos disponibles","Nota: Los datos corresponden a 2013 pues son los últimos disponibles","Nota: Los datos corresponden a 2013 pues son los últimos disponibles","Nota: Los datos corresponden a 2013 pues son los últimos disponibles","Nota: Los datos corresponden a 2013 pues son los últimos disponibles","Nota: Los datos corresponden a 2013 pues son los últimos disponibles","Nota: Los datos corresponden a 2013 pues son los últimos disponibles","Nota: Los datos corresponden a 2013 pues son los últimos disponibles","Nota: Los datos corresponden a 2013 pues son los últimos disponibles","Nota: Los datos corresponden a 2013 pues son los últimos disponibles","Nota: Los datos corresponden a 2013 pues son los últimos disponibles","Nota: Los datos corresponden a 2013 pues son los últimos disponibles","Nota: Los datos corresponden a 2013 pues son los últimos disponibles","Nota: Los datos corresponden a 2013 pues son los últimos disponibles","Nota: Los datos corresponden a 2013 pues son los últimos disponibles","Nota: Los datos corresponden a 2013 pues son los últimos disponibles","Nota: Los datos corresponden a 2013 pues son los últimos disponibles","Nota: Los datos corresponden a 2013 pues son los últimos disponibles","Nota: Los datos corresponden a 2013 pues son los últimos disponibles","Nota: Los datos corresponden a 2013 pues son los últimos disponibles","Nota: Los datos corresponden a 2013 pues son los últimos disponibles","Nota: Los datos corresponden a 2013 pues son los últimos disponibles","Nota: Los datos corresponden a 2013 pues son los últimos disponibles","Nota: Los datos corresponden a 2013 pues son los últimos disponibles","Nota: Los datos corresponden a 2013 pues son los últimos disponibles","Nota: Los datos corresponden a 2013 pues son los últimos disponibles","Nota: Los datos corresponden a 2013 pues son los últimos disponibles","Nota: Los datos corresponden a 2013 pues son los últimos disponibles","Nota: Los datos corresponden a 2013 pues son los últimos disponibles","Nota: Los datos corresponden a 2013 pues son los últimos disponibles","Nota: Los datos corresponden a 2013 pues son los últimos disponibles","Nota: Los datos corresponden a 2013 pues son los últimos disponibles","Nota: Los datos corresponden a 2013 pues son los últimos disponibles","Nota: Los datos corresponden a 2013 pues son los últimos disponibles","Nota: Los datos corresponden a 2013 pues son los últimos disponibles","Nota: Los datos corresponden a 2013 pues son los últimos disponibles","Nota: Los datos corresponden a 2013 pues son los últimos disponibles","Nota: Los datos corresponden a 2013 pues son los últimos disponibles","Nota: Los datos corresponden a 2013 pues son los últimos disponibles","Nota: Los datos corresponden a 2013 pues son los últimos disponibles","Nota: Los datos corresponden a 2013 pues son los últimos disponibles","Nota: Los datos corresponden a 2013 pues son los últimos disponibles","Nota: Los datos corresponden a 2013 pues son los últimos disponibles","Nota: Los datos corresponden a 2013 pues son los últimos disponibles","Nota: Los datos corresponden a 2013 pues son los últimos disponibles","Nota: Los datos corresponden a 2013 pues son los últimos disponibles","Nota: Los datos corresponden a 2013 pues son los últimos disponibles","Nota: Los datos corresponden a 2013 pues son los últimos disponibles","Nota: Los datos corresponden a 2013 pues son los últimos disponibles","Nota: Los datos corresponden a 2013 pues son los últimos disponibles","Nota: Los datos corresponden a 2013 pues son los últimos disponibles","Nota: Los datos corresponden a 2013 pues son los últimos disponibles","Nota: Los datos corresponden a 2013 pues son los últimos disponibles","Nota: Los datos corresponden a 2013 pues son los últimos disponibles","Nota: Los datos corresponden a 2013 pues son los últimos disponibles","Nota: Los datos corresponden a 2013 pues son los últimos disponibles","Nota: Los datos corresponden a 2013 pues son los últimos disponibles","Nota: Los datos corresponden a 2013 pues son los últimos disponibles","Nota: Los datos corresponden a 2013 pues son los últimos disponibles","Nota: Los datos corresponden a 2013 pues son los últimos disponibles","Nota: Los datos corresponden a 2013 pues son los últimos disponibles","Nota: Los datos corresponden a 2013 pues son los últimos disponibles","Nota: Los datos corresponden a 2013 pues son los últimos disponibles","Nota: Los datos corresponden a 2013 pues son los últimos disponibles","Nota: Los datos corresponden a 2013 pues son los últimos disponibles","Nota: Los datos corresponden a 2013 pues son los últimos disponibles","Nota: Los datos corresponden a 2013 pues son los últimos disponibles","Nota: Los datos corresponden a 2013 pues son los últimos disponibles","Nota: Los datos corresponden a 2013 pues son los últimos disponibles","Nota: Los datos corresponden a 2013 pues son los últimos disponibles","Nota: Los datos corresponden a 2013 pues son los últimos disponibles","Nota: Los datos corresponden a 2013 pues son los últimos disponibles","Nota: Los datos corresponden a 2013 pues son los últimos disponibles","Nota: Los datos corresponden a 2013 pues son los últimos disponibles","Nota: Los datos corresponden a 2013 pues son los últimos disponibles","Nota: Los datos corresponden a 2013 pues son los últimos disponibles","Nota: Los datos corresponden a 2013 pues son los últimos disponibles","Nota: Los datos corresponden a 2013 pues son los últimos disponibles","Nota: Los datos corresponden a 2013 pues son los últimos disponibles","Nota: Los datos corresponden a 2013 pues son los últimos disponibles","Nota: Los datos corresponden a 2013 pues son los últimos disponibles","Nota: Los datos corresponden a 2013 pues son los últimos disponibles","Nota: Los datos corresponden a 2013 pues son los últimos disponibles","Nota: Los datos corresponden a 2013 pues son los últimos disponibles","Nota: Los datos corresponden a 2013 pues son los últimos disponibles","Nota: Los datos corresponden a 2013 pues son los últimos disponibles","Nota: Los datos corresponden a 2013 pues son los últimos disponibles","Nota: Los datos corresponden a 2013 pues son los últimos disponibles","Nota: Los datos corresponden a 2013 pues son los últimos disponibles","Nota: Los datos corresponden a 2013 pues son los últimos disponibles","Nota: Los datos corresponden a 2013 pues son los últimos disponibles","Nota: Los datos corresponden a 2013 pues son los últimos disponibles","Nota: Los datos corresponden a 2013 pues son los últimos disponibles","Nota: Los datos corresponden a 2013 pues son los últimos disponibles","Nota: Los datos corresponden a 2013 pues son los últimos disponibles","Nota: Los datos corresponden a 2013 pues son los últimos disponibles","Nota: Los datos corresponden a 2013 pues son los últimos disponibles","Nota: Los datos corresponden a 2013 pues son los últimos disponibles","Nota: Los datos corresponden a 2013 pues son los últimos disponibles","Nota: Los datos corresponden a 2013 pues son los últimos disponibles","Nota: Los datos corresponden a 2013 pues son los últimos disponibles","Nota: Los datos corresponden a 2013 pues son los últimos disponibles","Nota: Los datos corresponden a 2013 pues son los últimos disponibles","Nota: Los datos corresponden a 2013 pues son los últimos disponibles","Nota: Los datos corresponden a 2013 pues son los últimos disponibles","Nota: Los datos corresponden a 2013 pues son los últimos disponibles","Nota: Los datos corresponden a 2013 pues son los últimos disponibles","Nota: Los datos corresponden a 2013 pues son los últimos disponibles","Nota: Los datos corresponden a 2013 pues son los últimos disponibles","Nota: Los datos corresponden a 2013 pues son los últimos disponibles","Nota: Los datos corresponden a 2013 pues son los últimos disponibles","Nota: Los datos corresponden a 2013 pues son los últimos disponibles","Nota: Los datos corresponden a 2013 pues son los últimos disponibles","Nota: Los datos corresponden a 2013 pues son los últimos disponibles","Nota: Los datos corresponden a 2013 pues son los últimos disponibles","Nota: Los datos corresponden a 2013 pues son los últimos disponibles","Nota: Los datos corresponden a 2013 pues son los últimos disponibles","Nota: Los datos corresponden a 2013 pues son los últimos disponibles","Nota: Los datos corresponden a 2013 pues son los últimos disponibles","Nota: Los datos corresponden a 2013 pues son los últimos disponibles","Nota: Los datos corresponden a 2013 pues son los últimos disponibles","Nota: Los datos corresponden a 2013 pues son los últimos disponibles","Nota: Los datos corresponden a 2013 pues son los últimos disponibles","Nota: Los datos corresponden a 2013 pues son los últimos disponibles","Nota: Los datos corresponden a 2013 pues son los últimos disponibles","Nota: Los datos corresponden a 2013 pues son los últimos disponibles","Nota: Los datos corresponden a 2013 pues son los últimos disponibles","Nota: Los datos corresponden a 2013 pues son los últimos disponibles","Nota: Los datos corresponden a 2013 pues son los últimos disponibles","Nota: Los datos corresponden a 2013 pues son los últimos disponibles","Nota: Los datos corresponden a 2013 pues son los últimos disponibles","Nota: Los datos corresponden a 2013 pues son los últimos disponibles","Nota: Los datos corresponden a 2013 pues son los últimos disponibles","Nota: Los datos corresponden a 2013 pues son los últimos disponibles","Nota: Los datos corresponden a 2013 pues son los últimos disponibles","Nota: Los datos corresponden a 2013 pues son los últimos disponibles","Nota: Los datos corresponden a 2013 pues son los últimos disponibles","Nota: Los datos corresponden a 2013 pues son los últimos disponibles","Nota: Los datos corresponden a 2013 pues son los últimos disponibles","Nota: Los datos corresponden a 2013 pues son los últimos disponibles","Nota: Los datos corresponden a 2013 pues son los últimos disponibles","Nota: Los datos corresponden a 2013 pues son los últimos disponibles","Nota: Los datos corresponden a 2013 pues son los últimos disponibles","Nota: Los datos corresponden a 2013 pues son los últimos disponibles","Nota: Los datos corresponden a 2013 pues son los últimos disponibles","Nota: Los datos corresponden a 2013 pues son los últimos disponibles","Nota: Los datos corresponden a 2013 pues son los últimos disponibles","Nota: Los datos corresponden a 2013 pues son los últimos disponibles","Nota: Los datos corresponden a 2013 pues son los últimos disponibles","Nota: Los datos corresponden a 2013 pues son los últimos disponibles","Nota: Los datos corresponden a 2013 pues son los últimos disponibles","Nota: Los datos corresponden a 2013 pues son los últimos disponibles","Nota: Los datos corresponden a 2013 pues son los últimos disponibles","Nota: Los datos corresponden a 2013 pues son los últimos disponibles","Nota: Los datos corresponden a 2013 pues son los últimos disponibles","Nota: Los datos corresponden a 2013 pues son los últimos disponibles","Nota: Los datos corresponden a 2013 pues son los últimos disponibles","Nota: Los datos corresponden a 2013 pues son los últimos disponibles","Nota: Los datos corresponden a 2013 pues son los últimos disponibles","Nota: Los datos corresponden a 2013 pues son los últimos disponibles","Nota: Los datos corresponden a 2013 pues son los últimos disponibles","Nota: Los datos corresponden a 2013 pues son los últimos disponibles","Nota: Los datos corresponden a 2013 pues son los últimos disponibles","Nota: Los datos corresponden a 2013 pues son los últimos disponibles","Nota: Los datos corresponden a 2013 pues son los últimos disponibles","Nota: Los datos corresponden a 2013 pues son los últimos disponibles","Nota: Los datos corresponden a 2013 pues son los últimos disponibles","Nota: Los datos corresponden a 2013 pues son los últimos disponibles","Nota: Los datos corresponden a 2013 pues son los últimos disponibles","Nota: Los datos corresponden a 2013 pues son los últimos disponibles","Nota: Los datos corresponden a 2013 pues son los últimos disponibles","Nota: Los datos corresponden a 2013 pues son los últimos disponibles","Nota: Los datos corresponden a 2013 pues son los últimos disponibles","Nota: Los datos corresponden a 2013 pues son los últimos disponibles","Nota: Los datos corresponden a 2013 pues son los últimos disponibles","Nota: Los datos corresponden a 2013 pues son los últimos disponibles","Nota: Los datos corresponden a 2013 pues son los últimos disponibles","Nota: Los datos corresponden a 2013 pues son los últimos disponibles","Nota: Los datos corresponden a 2013 pues son los últimos disponibles","Nota: Los datos corresponden a 2013 pues son los últimos disponibles","Nota: Los datos corresponden a 2013 pues son los últimos disponibles","Nota: Los datos corresponden a 2013 pues son los últimos disponibles","Nota: Los datos corresponden a 2013 pues son los últimos disponibles","Nota: Los datos corresponden a 2013 pues son los últimos disponibles","Nota: Los datos corresponden a 2013 pues son los últimos disponibles","Nota: Los datos corresponden a 2013 pues son los últimos disponibles","Nota: Los datos corresponden a 2013 pues son los últimos disponibles","Nota: Los datos corresponden a 2013 pues son los últimos disponibles","Nota: Los datos corresponden a 2013 pues son los últimos disponibles","Nota: Los datos corresponden a 2013 pues son los últimos disponibles","Nota: Los datos corresponden a 2013 pues son los últimos disponibles","Nota: Los datos corresponden a 2013 pues son los últimos disponibles","Nota: Los datos corresponden a 2013 pues son los últimos disponibles","Nota: Los datos corresponden a 2013 pues son los últimos disponibles","Nota: Los datos corresponden a 2013 pues son los últimos disponibles","Nota: Los datos corresponden a 2013 pues son los últimos disponibles","Nota: Los datos corresponden a 2013 pues son los últimos disponibles","Nota: Los datos corresponden a 2013 pues son los últimos disponibles","Nota: Los datos corresponden a 2013 pues son los últimos disponibles","Nota: Los datos corresponden a 2013 pues son los últimos disponibles","Nota: Los datos corresponden a 2013 pues son los últimos disponibles","Nota: Los datos corresponden a 2013 pues son los últimos disponibles","Nota: Los datos corresponden a 2013 pues son los últimos disponibles","Nota: Los datos corresponden a 2013 pues son los últimos disponibles","Nota: Los datos corresponden a 2013 pues son los últimos disponibles","Nota: Los datos corresponden a 2013 pues son los últimos disponibles","Nota: Los datos corresponden a 2013 pues son los últimos disponibles","Nota: Los datos corresponden a 2013 pues son los últimos disponibles","Nota: Los datos corresponden a 2013 pues son los últimos disponibles","Nota: Los datos corresponden a 2013 pues son los últimos disponibles","Nota: Los datos corresponden a 2013 pues son los últimos disponibles","Nota: Los datos corresponden a 2013 pues son los últimos disponibles","Nota: Los datos corresponden a 2013 pues son los últimos disponibles","Nota: Los datos corresponden a 2013 pues son los últimos disponibles","Nota: Los datos corresponden a 2013 pues son los últimos disponibles","Nota: Los datos corresponden a 2013 pues son los últimos disponibles","Nota: Los datos corresponden a 2013 pues son los últimos disponibles","Nota: Los datos corresponden a 2013 pues son los últimos disponibles","Nota: Los datos corresponden a 2013 pues son los últimos disponibles","Nota: Los datos corresponden a 2013 pues son los últimos disponibles","Nota: Los datos corresponden a 2013 pues son los últimos disponibles","Nota: Los datos corresponden a 2013 pues son los últimos disponibles","Nota: Los datos corresponden a 2013 pues son los últimos disponibles","Nota: Los datos corresponden a 2013 pues son los últimos disponibles","Nota: Los datos corresponden a 2013 pues son los últimos disponibles","Nota: Los datos corresponden a 2013 pues son los últimos disponibles","Nota: Los datos corresponden a 2013 pues son los últimos disponibles","Nota: Los datos corresponden a 2013 pues son los últimos disponibles","Nota: Los datos corresponden a 2013 pues son los últimos disponibles","Nota: Los datos corresponden a 2013 pues son los últimos disponibles","Nota: Los datos corresponden a 2013 pues son los últimos disponibles","Nota: Los datos corresponden a 2013 pues son los últimos disponibles","Nota: Los datos corresponden a 2013 pues son los últimos disponibles","Nota: Los datos corresponden a 2013 pues son los últimos disponibles","Nota: Los datos corresponden a 2013 pues son los últimos disponibles","Nota: Los datos corresponden a 2013 pues son los últimos disponibles","Nota: Los datos corresponden a 2013 pues son los últimos disponibles","Nota: Los datos corresponden a 2013 pues son los últimos disponibles","Nota: Los datos corresponden a 2013 pues son los últimos disponibles","Nota: Los datos corresponden a 2013 pues son los últimos disponibles","Nota: Los datos corresponden a 2013 pues son los últimos disponibles","Nota: Los datos corresponden a 2013 pues son los últimos disponibles","Nota: Los datos corresponden a 2013 pues son los últimos disponibles","Nota: Los datos corresponden a 2013 pues son los últimos disponibles","Nota: Los datos corresponden a 2013 pues son los últimos disponibles","Nota: Los datos corresponden a 2013 pues son los últimos disponibles","Nota: Los datos corresponden a 2013 pues son los últimos disponibles","Nota: Los datos corresponden a 2013 pues son los últimos disponibles","Nota: Los datos corresponden a 2013 pues son los últimos disponibles","Nota: Los datos corresponden a 2013 pues son los últimos disponibles","Nota: Los datos corresponden a 2013 pues son los últimos disponibles","Nota: Los datos corresponden a 2013 pues son los últimos disponibles","Nota: Los datos corresponden a 2013 pues son los últimos disponibles","Nota: Los datos corresponden a 2013 pues son los últimos disponibles","Nota: Los datos corresponden a 2013 pues son los últimos disponibles","Nota: Los datos corresponden a 2013 pues son los últimos disponibles","Nota: Los datos corresponden a 2013 pues son los últimos disponibles","Nota: Los datos corresponden a 2013 pues son los últimos disponibles","Nota: Los datos corresponden a 2013 pues son los últimos disponibles","Nota: Los datos corresponden a 2013 pues son los últimos disponibles","Nota: Los datos corresponden a 2013 pues son los últimos disponibles","Nota: Los datos corresponden a 2013 pues son los últimos disponibles","Nota: Los datos corresponden a 2013 pues son los últimos disponibles","Nota: Los datos corresponden a 2013 pues son los últimos disponibles","Nota: Los datos corresponden a 2013 pues son los últimos disponibles","Nota: Los datos corresponden a 2013 pues son los últimos disponibles","Nota: Los datos corresponden a 2013 pues son los últimos disponibles","Nota: Los datos corresponden a 2013 pues son los últimos disponibles","Nota: Los datos corresponden a 2013 pues son los últimos disponibles","Nota: Los datos corresponden a 2013 pues son los últimos disponibles","Nota: Los datos corresponden a 2013 pues son los últimos disponibles","Nota: Los datos corresponden a 2013 pues son los últimos disponibles","Nota: Los datos corresponden a 2013 pues son los últimos disponibles","Nota: Los datos corresponden a 2013 pues son los últimos disponibles","Nota: Los datos corresponden a 2013 pues son los últimos disponibles","Nota: Los datos corresponden a 2013 pues son los últimos disponibles","Nota: Los datos corresponden a 2013 pues son los últimos disponibles","Nota: Los datos corresponden a 2013 pues son los últimos disponibles","Nota: Los datos corresponden a 2013 pues son los últimos disponibles","Nota: Los datos corresponden a 2013 pues son los últimos disponibles","Nota: Los datos corresponden a 2013 pues son los últimos disponibles","Nota: Los datos corresponden a 2013 pues son los últimos disponibles","Nota: Los datos corresponden a 2013 pues son los últimos disponibles","Nota: Los datos corresponden a 2013 pues son los últimos disponibles","Nota: Los datos corresponden a 2013 pues son los últimos disponibles","Nota: Los datos corresponden a 2013 pues son los últimos disponibles","Nota: Los datos corresponden a 2013 pues son los últimos disponibles","Nota: Los datos corresponden a 2013 pues son los últimos disponibles","Nota: Los datos corresponden a 2013 pues son los últimos disponibles","Nota: Los datos corresponden a 2013 pues son los últimos disponibles","Nota: Los datos corresponden a 2013 pues son los últimos disponibles","Nota: Los datos corresponden a 2013 pues son los últimos disponibles","Nota: Los datos corresponden a 2013 pues son los últimos disponibles","Nota: Los datos corresponden a 2013 pues son los últimos disponibles","Nota: Los datos corresponden a 2013 pues son los últimos disponibles","Nota: Los datos corresponden a 2013 pues son los últimos disponibles","Nota: Los datos corresponden a 2013 pues son los últimos disponibles","Nota: Los datos corresponden a 2013 pues son los últimos disponibles","Nota: Los datos corresponden a 2013 pues son los últimos disponibles","Nota: Los datos corresponden a 2013 pues son los últimos disponibles","Nota: Los datos corresponden a 2013 pues son los últimos disponibles","Nota: Los datos corresponden a 2013 pues son los últimos disponibles","Nota: Los datos corresponden a 2013 pues son los últimos disponibles","Nota: Los datos corresponden a 2013 pues son los últimos disponibles","Nota: Los datos corresponden a 2013 pues son los últimos disponibles","Nota: Los datos corresponden a 2013 pues son los últimos disponibles","Nota: Los datos corresponden a 2013 pues son los últimos disponibles","Nota: Los datos corresponden a 2013 pues son los últimos disponibles","Nota: Los datos corresponden a 2013 pues son los últimos disponibles","Nota: Los datos corresponden a 2013 pues son los últimos disponibles","Nota: Los datos corresponden a 2013 pues son los últimos disponibles","Nota: Los datos corresponden a 2013 pues son los últimos disponibles","Nota: Los datos corresponden a 2013 pues son los últimos disponibles","Nota: Los datos corresponden a 2013 pues son los últimos disponibles","Nota: Los datos corresponden a 2013 pues son los últimos disponibles","Nota: Los datos corresponden a 2013 pues son los últimos disponibles","Nota: Los datos corresponden a 2013 pues son los últimos disponibles","Nota: Los datos corresponden a 2013 pues son los últimos disponibles","Nota: Los datos corresponden a 2013 pues son los últimos disponibles","Nota: Los datos corresponden a 2013 pues son los últimos disponibles","Nota: Los datos corresponden a 2013 pues son los últimos disponibles","Nota: Los datos corresponden a 2013 pues son los últimos disponibles","Nota: Los datos corresponden a 2013 pues son los últimos disponibles","Nota: Los datos corresponden a 2013 pues son los últimos disponibles","Nota: Los datos corresponden a 2013 pues son los últimos disponibles","Nota: Los datos corresponden a 2013 pues son los últimos disponibles","Nota: Los datos corresponden a 2013 pues son los últimos disponibles","Nota: Los datos corresponden a 2013 pues son los últimos disponibles","Nota: Los datos corresponden a 2013 pues son los últimos disponibles","Nota: Los datos corresponden a 2013 pues son los últimos disponibles","Nota: Los datos corresponden a 2013 pues son los últimos disponibles","Nota: Los datos corresponden a 2013 pues son los últimos disponibles","Nota: Los datos corresponden a 2013 pues son los últimos disponibles","Nota: Los datos corresponden a 2013 pues son los últimos disponibles","Nota: Los datos corresponden a 2013 pues son los últimos disponibles","Nota: Los datos corresponden a 2013 pues son los últimos disponibles","Nota: Los datos corresponden a 2013 pues son los últimos disponibles","Nota: Los datos corresponden a 2013 pues son los últimos disponibles","Nota: Los datos corresponden a 2013 pues son los últimos disponibles","Nota: Los datos corresponden a 2013 pues son los últimos disponibles","Nota: Los datos corresponden a 2013 pues son los últimos disponibles","Nota: Los datos corresponden a 2013 pues son los últimos disponibles","Nota: Los datos corresponden a 2013 pues son los últimos disponibles","Nota: Los datos corresponden a 2013 pues son los últimos disponibles","Nota: Los datos corresponden a 2013 pues son los últimos disponibles","Nota: Los datos corresponden a 2013 pues son los últimos disponibles","Nota: Los datos corresponden a 2013 pues son los últimos disponibles","Nota: Los datos corresponden a 2013 pues son los últimos disponibles","Nota: Los datos corresponden a 2013 pues son los últimos disponibles","Nota: Los datos corresponden a 2013 pues son los últimos disponibles","Nota: Los datos corresponden a 2013 pues son los últimos disponibles","Nota: Los datos corresponden a 2013 pues son los últimos disponibles","Nota: Los datos corresponden a 2013 pues son los últimos disponibles","Nota: Los datos corresponden a 2013 pues son los últimos disponibles","Nota: Los datos corresponden a 2013 pues son los últimos disponibles","Nota: Los datos corresponden a 2013 pues son los últimos disponibles","Nota: Los datos corresponden a 2013 pues son los últimos disponibles","Nota: Los datos corresponden a 2013 pues son los últimos disponibles","Nota: Los datos corresponden a 2013 pues son los últimos disponibles","Nota: Los datos corresponden a 2013 pues son los últimos disponibles","Nota: Los datos corresponden a 2013 pues son los últimos disponibles","Nota: Los datos corresponden a 2013 pues son los últimos disponibles","Nota: Los datos corresponden a 2013 pues son los últimos disponibles","Nota: Los datos corresponden a 2013 pues son los últimos disponibles","Nota: Los datos corresponden a 2013 pues son los últimos disponibles","Nota: Los datos corresponden a 2013 pues son los últimos disponibles","Nota: Los datos corresponden a 2013 pues son los últimos disponibles","Nota: Los datos corresponden a 2013 pues son los últimos disponibles","Nota: Los datos corresponden a 2013 pues son los últimos disponibles","Nota: Los datos corresponden a 2013 pues son los últimos disponibles","Nota: Los datos corresponden a 2013 pues son los últimos disponibles","Nota: Los datos corresponden a 2013 pues son los últimos disponibles","Nota: Los datos corresponden a 2013 pues son los últimos disponibles","Nota: Los datos corresponden a 2013 pues son los últimos disponibles","Nota: Los datos corresponden a 2013 pues son los últimos disponibles","Nota: Los datos corresponden a 2013 pues son los últimos disponibles","Nota: Los datos corresponden a 2013 pues son los últimos disponibles","Nota: Los datos corresponden a 2013 pues son los últimos disponibles","Nota: Los datos corresponden a 2013 pues son los últimos disponibles","Nota: Los datos corresponden a 2013 pues son los últimos disponibles","Nota: Los datos corresponden a 2013 pues son los últimos disponibles","Nota: Los datos corresponden a 2013 pues son los últimos disponibles","Nota: Los datos corresponden a 2013 pues son los últimos disponibles","Nota: Los datos corresponden a 2013 pues son los últimos disponibles","Nota: Los datos corresponden a 2013 pues son los últimos disponibles","Nota: Los datos corresponden a 2013 pues son los últimos disponibles","Nota: Los datos corresponden a 2013 pues son los últimos disponibles","Nota: Los datos corresponden a 2013 pues son los últimos disponibles","Nota: Los datos corresponden a 2013 pues son los últimos disponibles","Nota: Los datos corresponden a 2013 pues son los últimos disponibles","Nota: Los datos corresponden a 2013 pues son los últimos disponibles","Nota: Los datos corresponden a 2013 pues son los últimos disponibles","Nota: Los datos corresponden a 2013 pues son los últimos disponibles","Nota: Los datos corresponden a 2013 pues son los últimos disponibles","Nota: Los datos corresponden a 2013 pues son los últimos disponibles","Nota: Los datos corresponden a 2013 pues son los últimos disponibles","Nota: Los datos corresponden a 2013 pues son los últimos disponibles","Nota: Los datos corresponden a 2013 pues son los últimos disponibles","Nota: Los datos corresponden a 2013 pues son los últimos disponibles","Nota: Los datos corresponden a 2013 pues son los últimos disponibles","Nota: Los datos corresponden a 2013 pues son los últimos disponibles","Nota: Los datos corresponden a 2013 pues son los últimos disponibles","Nota: Los datos corresponden a 2013 pues son los últimos disponibles","Nota: Los datos corresponden a 2013 pues son los últimos disponibles","Nota: Los datos corresponden a 2013 pues son los últimos disponibles","Nota: Los datos corresponden a 2013 pues son los últimos disponibles","Nota: Los datos corresponden a 2013 pues son los últimos disponibles","Nota: Los datos corresponden a 2013 pues son los últimos disponibles","Nota: Los datos corresponden a 2013 pues son los últimos disponibles","Nota: Los datos corresponden a 2013 pues son los últimos disponibles","Nota: Los datos corresponden a 2013 pues son los últimos disponibles","Nota: Los datos corresponden a 2013 pues son los últimos disponibles","Nota: Los datos corresponden a 2013 pues son los últimos disponibles","Nota: Los datos corresponden a 2013 pues son los últimos disponibles","Nota: Los datos corresponden a 2013 pues son los últimos disponibles","Nota: Los datos corresponden a 2013 pues son los últimos disponibles","Nota: Los datos corresponden a 2013 pues son los últimos disponibles","Nota: Los datos corresponden a 2013 pues son los últimos disponibles","Nota: Los datos corresponden a 2013 pues son los últimos disponibles","Nota: Los datos corresponden a 2013 pues son los últimos disponibles","Nota: Los datos corresponden a 2013 pues son los últimos disponibles","Nota: Los datos corresponden a 2013 pues son los últimos disponibles","Nota: Los datos corresponden a 2013 pues son los últimos disponibles","Nota: Los datos corresponden a 2013 pues son los últimos disponibles","Nota: Los datos corresponden a 2013 pues son los últimos disponibles","Nota: Los datos corresponden a 2013 pues son los últimos disponibles","Nota: Los datos corresponden a 2013 pues son los últimos disponibles","Nota: Los datos corresponden a 2013 pues son los últimos disponibles","Nota: Los datos corresponden a 2013 pues son los últimos disponibles","Nota: Los datos corresponden a 2013 pues son los últimos disponibles","Nota: Los datos corresponden a 2013 pues son los últimos disponibles","Nota: Los datos corresponden a 2013 pues son los últimos disponibles","Nota: Los datos corresponden a 2013 pues son los últimos disponibles","Nota: Los datos corresponden a 2013 pues son los últimos disponibles","Nota: Los datos corresponden a 2013 pues son los últimos disponibles","Nota: Los datos corresponden a 2013 pues son los últimos disponibles","Nota: Los datos corresponden a 2013 pues son los últimos disponibles","Nota: Los datos corresponden a 2013 pues son los últimos disponibles","Nota: Los datos corresponden a 2013 pues son los últimos disponibles","Nota: Los datos corresponden a 2013 pues son los últimos disponibles","Nota: Los datos corresponden a 2013 pues son los últimos disponibles","Nota: Los datos corresponden a 2013 pues son los últimos disponibles","Nota: Los datos corresponden a 2013 pues son los últimos disponibles","Nota: Los datos corresponden a 2013 pues son los últimos disponibles","Nota: Los datos corresponden a 2013 pues son los últimos disponibles","Nota: Los datos corresponden a 2013 pues son los últimos disponibles","Nota: Los datos corresponden a 2013 pues son los últimos disponibles","Nota: Los datos corresponden a 2013 pues son los últimos disponibles","Nota: Los datos corresponden a 2013 pues son los últimos disponibles","Nota: Los datos corresponden a 2013 pues son los últimos disponibles","Nota: Los datos corresponden a 2013 pues son los últimos disponibles","Nota: Los datos corresponden a 2013 pues son los últimos disponibles","Nota: Los datos corresponden a 2013 pues son los últimos disponibles","Nota: Los datos corresponden a 2013 pues son los últimos disponibles","Nota: Los datos corresponden a 2013 pues son los últimos disponibles","Nota: Los datos corresponden a 2013 pues son los últimos disponibles","Nota: Los datos corresponden a 2013 pues son los últimos disponibles","Nota: Los datos corresponden a 2013 pues son los últimos disponibles","Nota: Los datos corresponden a 2013 pues son los últimos disponibles","Nota: Los datos corresponden a 2013 pues son los últimos disponibles","Nota: Los datos corresponden a 2013 pues son los últimos disponibles","Nota: Los datos corresponden a 2013 pues son los últimos disponibles","Nota: Los datos corresponden a 2013 pues son los últimos disponibles","Nota: Los datos corresponden a 2013 pues son los últimos disponibles","Nota: Los datos corresponden a 2013 pues son los últimos disponibles","Nota: Los datos corresponden a 2013 pues son los últimos disponibles","Nota: Los datos corresponden a 2013 pues son los últimos disponibles","Nota: Los datos corresponden a 2013 pues son los últimos disponibles","Nota: Los datos corresponden a 2013 pues son los últimos disponibles","Nota: Los datos corresponden a 2013 pues son los últimos disponibles","Nota: Los datos corresponden a 2013 pues son los últimos disponibles","Nota: Los datos corresponden a 2013 pues son los últimos disponibles","Nota: Los datos corresponden a 2013 pues son los últimos disponibles","Nota: Los datos corresponden a 2013 pues son los últimos disponibles","Nota: Los datos corresponden a 2013 pues son los últimos disponibles","Nota: Los datos corresponden a 2013 pues son los últimos disponibles","Nota: Los datos corresponden a 2013 pues son los últimos disponibles","Nota: Los datos corresponden a 2013 pues son los últimos disponibles","Nota: Los datos corresponden a 2013 pues son los últimos disponibles","Nota: Los datos corresponden a 2013 pues son los últimos disponibles","Nota: Los datos corresponden a 2013 pues son los últimos disponibles","Nota: Los datos corresponden a 2013 pues son los últimos disponibles","Nota: Los datos corresponden a 2013 pues son los últimos disponibles","Nota: Los datos corresponden a 2013 pues son los últimos disponibles","Nota: Los datos corresponden a 2013 pues son los últimos disponibles","Nota: Los datos corresponden a 2013 pues son los últimos disponibles","Nota: Los datos corresponden a 2013 pues son los últimos disponibles","Nota: Los datos corresponden a 2013 pues son los últimos disponibles","Nota: Los datos corresponden a 2013 pues son los últimos disponibles","Nota: Los datos corresponden a 2013 pues son los últimos disponibles","Nota: Los datos corresponden a 2013 pues son los últimos disponibles","Nota: Los datos corresponden a 2013 pues son los últimos disponibles","Nota: Los datos corresponden a 2013 pues son los últimos disponibles","Nota: Los datos corresponden a 2013 pues son los últimos disponibles","Nota: Los datos corresponden a 2013 pues son los últimos disponibles","Nota: Los datos corresponden a 2013 pues son los últimos disponibles","Nota: Los datos corresponden a 2013 pues son los últimos disponibles","Nota: Los datos corresponden a 2013 pues son los últimos disponibles","Nota: Los datos corresponden a 2013 pues son los últimos disponibles","Nota: Los datos corresponden a 2013 pues son los últimos disponibles","Nota: Los datos corresponden a 2013 pues son los últimos disponibles","Nota: Los datos corresponden a 2013 pues son los últimos disponibles","Nota: Los datos corresponden a 2013 pues son los últimos disponibles","Nota: Los datos corresponden a 2013 pues son los últimos disponibles","Nota: Los datos corresponden a 2013 pues son los últimos disponibles","Nota: Los datos corresponden a 2013 pues son los últimos disponibles","Nota: Los datos corresponden a 2013 pues son los últimos disponibles","Nota: Los datos corresponden a 2013 pues son los últimos disponibles","Nota: Los datos corresponden a 2013 pues son los últimos disponibles","Nota: Los datos corresponden a 2013 pues son los últimos disponibles","Nota: Los datos corresponden a 2013 pues son los últimos disponibles","Nota: Los datos corresponden a 2013 pues son los últimos disponibles","Nota: Los datos corresponden a 2013 pues son los últimos disponibles","Nota: Los datos corresponden a 2013 pues son los últimos disponibles","Nota: Los datos corresponden a 2013 pues son los últimos disponibles","Nota: Los datos corresponden a 2013 pues son los últimos disponibles","Nota: Los datos corresponden a 2013 pues son los últimos disponibles","Nota: Los datos corresponden a 2013 pues son los últimos disponibles","Nota: Los datos corresponden a 2013 pues son los últimos disponibles","Nota: Los datos corresponden a 2013 pues son los últimos disponibles","Nota: Los datos corresponden a 2013 pues son los últimos disponibles","Nota: Los datos corresponden a 2013 pues son los últimos disponibles","Nota: Los datos corresponden a 2013 pues son los últimos disponibles","Nota: Los datos corresponden a 2013 pues son los últimos disponibles","Nota: Los datos corresponden a 2013 pues son los últimos disponibles","Nota: Los datos corresponden a 2013 pues son los últimos disponibles","Nota: Los datos corresponden a 2013 pues son los últimos disponibles","Nota: Los datos corresponden a 2013 pues son los últimos disponibles","Nota: Los datos corresponden a 2013 pues son los últimos disponibles","Nota: Los datos corresponden a 2013 pues son los últimos disponibles","Nota: Los datos corresponden a 2013 pues son los últimos disponibles","Nota: Los datos corresponden a 2013 pues son los últimos disponibles","Nota: Los datos corresponden a 2013 pues son los últimos disponibles","Nota: Los datos corresponden a 2013 pues son los últimos disponibles","Nota: Los datos corresponden a 2013 pues son los últimos disponibles","Nota: Los datos corresponden a 2013 pues son los últimos disponibles","Nota: Los datos corresponden a 2013 pues son los últimos disponibles","Nota: Los datos corresponden a 2013 pues son los últimos disponibles","Nota: Los datos corresponden a 2013 pues son los últimos disponibles","Nota: Los datos corresponden a 2013 pues son los últimos disponibles","Nota: Los datos corresponden a 2013 pues son los últimos disponibles","Nota: Los datos corresponden a 2013 pues son los últimos disponibles","Nota: Los datos corresponden a 2013 pues son los últimos disponibles","Nota: Los datos corresponden a 2013 pues son los últimos disponibles","Nota: Los datos corresponden a 2013 pues son los últimos disponibles","Nota: Los datos corresponden a 2013 pues son los últimos disponibles","Nota: Los datos corresponden a 2013 pues son los últimos disponibles","Nota: Los datos corresponden a 2013 pues son los últimos disponibles","Nota: Los datos corresponden a 2013 pues son los últimos disponibles","Nota: Los datos corresponden a 2013 pues son los últimos disponibles","Nota: Los datos corresponden a 2013 pues son los últimos disponibles","Nota: Los datos corresponden a 2013 pues son los últimos disponibles","Nota: Los datos corresponden a 2013 pues son los últimos disponibles","Nota: Los datos corresponden a 2013 pues son los últimos disponibles","Nota: Los datos corresponden a 2013 pues son los últimos disponibles","Nota: Los datos corresponden a 2013 pues son los últimos disponibles","Nota: Los datos corresponden a 2013 pues son los últimos disponibles","Nota: Los datos corresponden a 2013 pues son los últimos disponibles","Nota: Los datos corresponden a 2013 pues son los últimos disponibles","Nota: Los datos corresponden a 2013 pues son los últimos disponibles","Nota: Los datos corresponden a 2013 pues son los últimos disponibles","Nota: Los datos corresponden a 2013 pues son los últimos disponibles","Nota: Los datos corresponden a 2013 pues son los últimos disponibles","Nota: Los datos corresponden a 2013 pues son los últimos disponibles","Nota: Los datos corresponden a 2013 pues son los últimos disponibles","Nota: Los datos corresponden a 2013 pues son los últimos disponibles","Nota: Los datos corresponden a 2013 pues son los últimos disponibles","Nota: Los datos corresponden a 2013 pues son los últimos disponibles","Nota: Los datos corresponden a 2013 pues son los últimos disponibles","Nota: Los datos corresponden a 2013 pues son los últimos disponibles","Nota: Los datos corresponden a 2013 pues son los últimos disponibles","Nota: Los datos corresponden a 2013 pues son los últimos disponibles","Nota: Los datos corresponden a 2013 pues son los últimos disponibles","Nota: Los datos corresponden a 2013 pues son los últimos disponibles","Nota: Los datos corresponden a 2013 pues son los últimos disponibles","Nota: Los datos corresponden a 2013 pues son los últimos disponibles","Nota: Los datos corresponden a 2013 pues son los últimos disponibles","Nota: Los datos corresponden a 2013 pues son los últimos disponibles","Nota: Los datos corresponden a 2013 pues son los últimos disponibles","Nota: Los datos corresponden a 2013 pues son los últimos disponibles","Nota: Los datos corresponden a 2013 pues son los últimos disponibles","Nota: Los datos corresponden a 2013 pues son los últimos disponibles","Nota: Los datos corresponden a 2013 pues son los últimos disponibles","Nota: Los datos corresponden a 2013 pues son los últimos disponibles","Nota: Los datos corresponden a 2013 pues son los últimos disponibles","Nota: Los datos corresponden a 2013 pues son los últimos disponibles","Nota: Los datos corresponden a 2013 pues son los últimos disponibles","Nota: Los datos corresponden a 2013 pues son los últimos disponibles","Nota: Los datos corresponden a 2013 pues son los últimos disponibles","Nota: Los datos corresponden a 2013 pues son los últimos disponibles","Nota: Los datos corresponden a 2013 pues son los últimos disponibles","Nota: Los datos corresponden a 2013 pues son los últimos disponibles","Nota: Los datos corresponden a 2013 pues son los últimos disponibles","Nota: Los datos corresponden a 2013 pues son los últimos disponibles","Nota: Los datos corresponden a 2013 pues son los últimos disponibles","Nota: Los datos corresponden a 2013 pues son los últimos disponibles","Nota: Los datos corresponden a 2013 pues son los últimos disponibles","Nota: Los datos corresponden a 2013 pues son los últimos disponibles","Nota: Los datos corresponden a 2013 pues son los últimos disponibles","Nota: Los datos corresponden a 2013 pues son los últimos disponibles","Nota: Los datos corresponden a 2013 pues son los últimos disponibles","Nota: Los datos corresponden a 2013 pues son los últimos disponibles","Nota: Los datos corresponden a 2013 pues son los últimos disponibles","Nota: Los datos corresponden a 2013 pues son los últimos disponibles","Nota: Los datos corresponden a 2013 pues son los últimos disponibles","Nota: Los datos corresponden a 2013 pues son los últimos disponibles","Nota: Los datos corresponden a 2013 pues son los últimos disponibles","Nota: Los datos corresponden a 2013 pues son los últimos disponibles","Nota: Los datos corresponden a 2013 pues son los últimos disponibles","Nota: Los datos corresponden a 2013 pues son los últimos disponibles","Nota: Los datos corresponden a 2013 pues son los últimos disponibles","Nota: Los datos corresponden a 2013 pues son los últimos disponibles","Nota: Los datos corresponden a 2013 pues son los últimos disponibles","Nota: Los datos corresponden a 2013 pues son los últimos disponibles","Nota: Los datos corresponden a 2013 pues son los últimos disponibles","Nota: Los datos corresponden a 2013 pues son los últimos disponibles","Nota: Los datos corresponden a 2013 pues son los últimos disponibles","Nota: Los datos corresponden a 2013 pues son los últimos disponibles","Nota: Los datos corresponden a 2013 pues son los últimos disponibles","Nota: Los datos corresponden a 2013 pues son los últimos disponibles","Nota: Los datos corresponden a 2013 pues son los últimos disponibles","Nota: Los datos corresponden a 2013 pues son los últimos disponibles","Nota: Los datos corresponden a 2013 pues son los últimos disponibles","Nota: Los datos corresponden a 2013 pues son los últimos disponibles","Nota: Los datos corresponden a 2013 pues son los últimos disponibles","Nota: Los datos corresponden a 2013 pues son los últimos disponibles","Nota: Los datos corresponden a 2013 pues son los últimos disponibles","Nota: Los datos corresponden a 2013 pues son los últimos disponibles","Nota: Los datos corresponden a 2013 pues son los últimos disponibles","Nota: Los datos corresponden a 2013 pues son los últimos disponibles","Nota: Los datos corresponden a 2013 pues son los últimos disponibles","Nota: Los datos corresponden a 2013 pues son los últimos disponibles","Nota: Los datos corresponden a 2013 pues son los últimos disponibles","Nota: Los datos corresponden a 2013 pues son los últimos disponibles","Nota: Los datos corresponden a 2013 pues son los últimos disponibles","Nota: Los datos corresponden a 2013 pues son los últimos disponibles","Nota: Los datos corresponden a 2013 pues son los últimos disponibles","Nota: Los datos corresponden a 2013 pues son los últimos disponibles","Nota: Los datos corresponden a 2013 pues son los últimos disponibles","Nota: Los datos corresponden a 2013 pues son los últimos disponibles","Nota: Los datos corresponden a 2013 pues son los últimos disponibles","Nota: Los datos corresponden a 2013 pues son los últimos disponibles","Nota: Los datos corresponden a 2013 pues son los últimos disponibles","Nota: Los datos corresponden a 2013 pues son los últimos disponibles","Nota: Los datos corresponden a 2013 pues son los últimos disponibles","Nota: Los datos corresponden a 2013 pues son los últimos disponibles","Nota: Los datos corresponden a 2013 pues son los últimos disponibles","Nota: Los datos corresponden a 2013 pues son los últimos disponibles","Nota: Los datos corresponden a 2013 pues son los últimos disponibles","Nota: Los datos corresponden a 2013 pues son los últimos disponibles","Nota: Los datos corresponden a 2013 pues son los últimos disponibles","Nota: Los datos corresponden a 2013 pues son los últimos disponibles","Nota: Los datos corresponden a 2013 pues son los últimos disponibles","Nota: Los datos corresponden a 2013 pues son los últimos disponibles","Nota: Los datos corresponden a 2013 pues son los últimos disponibles","Nota: Los datos corresponden a 2013 pues son los últimos disponibles","Nota: Los datos corresponden a 2013 pues son los últimos disponibles","Nota: Los datos corresponden a 2013 pues son los últimos disponibles","Nota: Los datos corresponden a 2013 pues son los últimos disponibles","Nota: Los datos corresponden a 2013 pues son los últimos disponibles","Nota: Los datos corresponden a 2013 pues son los últimos disponibles","Nota: Los datos corresponden a 2013 pues son los últimos disponibles","Nota: Los datos corresponden a 2013 pues son los últimos disponibles","Nota: Los datos corresponden a 2013 pues son los últimos disponibles","Nota: Los datos corresponden a 2013 pues son los últimos disponibles","Nota: Los datos corresponden a 2013 pues son los últimos disponibles","Nota: Los datos corresponden a 2013 pues son los últimos disponibles","Nota: Los datos corresponden a 2013 pues son los últimos disponibles","Nota: Los datos corresponden a 2013 pues son los últimos disponibles","Nota: Los datos corresponden a 2013 pues son los últimos disponibles","Nota: Los datos corresponden a 2013 pues son los últimos disponibles","Nota: Los datos corresponden a 2013 pues son los últimos disponibles","Nota: Los datos corresponden a 2013 pues son los últimos disponibles","Nota: Los datos corresponden a 2013 pues son los últimos disponibles","Nota: Los datos corresponden a 2013 pues son los últimos disponibles","Nota: Los datos corresponden a 2013 pues son los últimos disponibles","Nota: Los datos corresponden a 2013 pues son los últimos disponibles","Nota: Los datos corresponden a 2013 pues son los últimos disponibles","Nota: Los datos corresponden a 2013 pues son los últimos disponibles","Nota: Los datos corresponden a 2013 pues son los últimos disponibles","Nota: Los datos corresponden a 2013 pues son los últimos disponibles","Nota: Los datos corresponden a 2013 pues son los últimos disponibles","Nota: Los datos corresponden a 2013 pues son los últimos disponibles","Nota: Los datos corresponden a 2013 pues son los últimos disponibles","Nota: Los datos corresponden a 2013 pues son los últimos disponibles","Nota: Los datos corresponden a 2013 pues son los últimos disponibles","Nota: Los datos corresponden a 2013 pues son los últimos disponibles","Nota: Los datos corresponden a 2013 pues son los últimos disponibles","Nota: Los datos corresponden a 2013 pues son los últimos disponibles","Nota: Los datos corresponden a 2013 pues son los últimos disponibles","Nota: Los datos corresponden a 2013 pues son los últimos disponibles","Nota: Los datos corresponden a 2013 pues son los últimos disponibles","Nota: Los datos corresponden a 2013 pues son los últimos disponibles","Nota: Los datos corresponden a 2013 pues son los últimos disponibles","Nota: Los datos corresponden a 2013 pues son los últimos disponibles","Nota: Los datos corresponden a 2013 pues son los últimos disponibles","Nota: Los datos corresponden a 2013 pues son los últimos disponibles","Nota: Los datos corresponden a 2013 pues son los últimos disponibles","Nota: Los datos corresponden a 2013 pues son los últimos disponibles","Nota: Los datos corresponden a 2013 pues son los últimos disponibles","Nota: Los datos corresponden a 2013 pues son los últimos disponibles","Nota: Los datos corresponden a 2013 pues son los últimos disponibles","Nota: Los datos corresponden a 2013 pues son los últimos disponibles","Nota: Los datos corresponden a 2013 pues son los últimos disponibles","Nota: Los datos corresponden a 2013 pues son los últimos disponibles","Nota: Los datos corresponden a 2013 pues son los últimos disponibles","Nota: Los datos corresponden a 2013 pues son los últimos disponibles","Nota: Los datos corresponden a 2013 pues son los últimos disponibles","Nota: Los datos corresponden a 2013 pues son los últimos disponibles","Nota: Los datos corresponden a 2013 pues son los últimos disponibles","Nota: Los datos corresponden a 2013 pues son los últimos disponibles","Nota: Los datos corresponden a 2013 pues son los últimos disponibles","Nota: Los datos corresponden a 2013 pues son los últimos disponibles","Nota: Los datos corresponden a 2013 pues son los últimos disponibles","Nota: Los datos corresponden a 2013 pues son los últimos disponibles","Nota: Los datos corresponden a 2013 pues son los últimos disponibles","Nota: Los datos corresponden a 2013 pues son los últimos disponibles","Nota: Los datos corresponden a 2013 pues son los últimos disponibles","Nota: Los datos corresponden a 2013 pues son los últimos disponibles","Nota: Los datos corresponden a 2013 pues son los últimos disponibles","Nota: Los datos corresponden a 2013 pues son los últimos disponibles","Nota: Los datos corresponden a 2013 pues son los últimos disponibles","Nota: Los datos corresponden a 2013 pues son los últimos disponibles","Nota: Los datos corresponden a 2013 pues son los últimos disponibles","Nota: Los datos corresponden a 2013 pues son los últimos disponibles","Nota: Los datos corresponden a 2013 pues son los últimos disponibles","Nota: Los datos corresponden a 2013 pues son los últimos disponibles","Nota: Los datos corresponden a 2013 pues son los últimos disponibles","Nota: Los datos corresponden a 2013 pues son los últimos disponibles","Nota: Los datos corresponden a 2013 pues son los últimos disponibles","Nota: Los datos corresponden a 2013 pues son los últimos disponibles","Nota: Los datos corresponden a 2013 pues son los últimos disponibles","Nota: Los datos corresponden a 2013 pues son los últimos disponibles","Nota: Los datos corresponden a 2013 pues son los últimos disponibles","Nota: Los datos corresponden a 2013 pues son los últimos disponibles","Nota: Los datos corresponden a 2013 pues son los últimos disponibles","Nota: Los datos corresponden a 2013 pues son los últimos disponibles","Nota: Los datos corresponden a 2013 pues son los últimos disponibles","Nota: Los datos corresponden a 2013 pues son los últimos disponibles","Nota: Los datos corresponden a 2013 pues son los últimos disponibles","Nota: Los datos corresponden a 2013 pues son los últimos disponibles","Nota: Los datos corresponden a 2013 pues son los últimos disponibles","Nota: Los datos corresponden a 2013 pues son los últimos disponibles","Nota: Los datos corresponden a 2013 pues son los últimos disponibles","Nota: Los datos corresponden a 2013 pues son los últimos disponibles","Nota: Los datos corresponden a 2013 pues son los últimos disponibles","Nota: Los datos corresponden a 2013 pues son los últimos disponibles","Nota: Los datos corresponden a 2013 pues son los últimos disponibles","Nota: Los datos corresponden a 2013 pues son los últimos disponibles","Nota: Los datos corresponden a 2013 pues son los últimos disponibles","Nota: Los datos corresponden a 2013 pues son los últimos disponibles","Nota: Los datos corresponden a 2013 pues son los últimos disponibles","Nota: Los datos corresponden a 2013 pues son los últimos disponibles","Nota: Los datos corresponden a 2013 pues son los últimos disponibles","Nota: Los datos corresponden a 2013 pues son los últimos disponibles","Nota: Los datos corresponden a 2013 pues son los últimos disponibles","Nota: Los datos corresponden a 2013 pues son los últimos disponibles","Nota: Los datos corresponden a 2013 pues son los últimos disponibles","Nota: Los datos corresponden a 2013 pues son los últimos disponibles","Nota: Los datos corresponden a 2013 pues son los últimos disponibles","Nota: Los datos corresponden a 2013 pues son los últimos disponibles","Nota: Los datos corresponden a 2013 pues son los últimos disponibles","Nota: Los datos corresponden a 2013 pues son los últimos disponibles","Nota: Los datos corresponden a 2013 pues son los últimos disponibles","Nota: Los datos corresponden a 2013 pues son los últimos disponibles","Nota: Los datos corresponden a 2013 pues son los últimos disponibles","Nota: Los datos corresponden a 2013 pues son los últimos disponibles","Nota: Los datos corresponden a 2013 pues son los últimos disponibles","Nota: Los datos corresponden a 2013 pues son los últimos disponibles","Nota: Los datos corresponden a 2013 pues son los últimos disponibles","Nota: Los datos corresponden a 2013 pues son los últimos disponibles","Nota: Los datos corresponden a 2013 pues son los últimos disponibles","Nota: Los datos corresponden a 2013 pues son los últimos disponibles","Nota: Los datos corresponden a 2013 pues son los últimos disponibles","Nota: Los datos corresponden a 2013 pues son los últimos disponibles","Nota: Los datos corresponden a 2013 pues son los últimos disponibles","Nota: Los datos corresponden a 2013 pues son los últimos disponibles","Nota: Los datos corresponden a 2013 pues son los últimos disponibles","Nota: Los datos corresponden a 2013 pues son los últimos disponibles","Nota: Los datos corresponden a 2013 pues son los últimos disponibles","Nota: Los datos corresponden a 2013 pues son los últimos disponibles","Nota: Los datos corresponden a 2013 pues son los últimos disponibles","Nota: Los datos corresponden a 2013 pues son los últimos disponibles","Nota: Los datos corresponden a 2013 pues son los últimos disponibles","Nota: Los datos corresponden a 2013 pues son los últimos disponibles","Nota: Los datos corresponden a 2013 pues son los últimos disponibles","Nota: Los datos corresponden a 2013 pues son los últimos disponibles","Nota: Los datos corresponden a 2013 pues son los últimos disponibles","Nota: Los datos corresponden a 2013 pues son los últimos disponibles","Nota: Los datos corresponden a 2013 pues son los últimos disponibles","Nota: Los datos corresponden a 2013 pues son los últimos disponibles","Nota: Los datos corresponden a 2013 pues son los últimos disponibles","Nota: Los datos corresponden a 2013 pues son los últimos disponibles","Nota: Los datos corresponden a 2013 pues son los últimos disponibles","Nota: Los datos corresponden a 2013 pues son los últimos disponibles","Nota: Los datos corresponden a 2013 pues son los últimos disponibles","Nota: Los datos corresponden a 2013 pues son los últimos disponibles","Nota: Los datos corresponden a 2013 pues son los últimos disponibles","Nota: Los datos corresponden a 2013 pues son los últimos disponibles","Nota: Los datos corresponden a 2013 pues son los últimos disponibles","Nota: Los datos corresponden a 2013 pues son los últimos disponibles","Nota: Los datos corresponden a 2013 pues son los últimos disponibles","Nota: Los datos corresponden a 2013 pues son los últimos disponibles","Nota: Los datos corresponden a 2013 pues son los últimos disponibles","Nota: Los datos corresponden a 2013 pues son los últimos disponibles","Nota: Los datos corresponden a 2013 pues son los últimos disponibles","Nota: Los datos corresponden a 2013 pues son los últimos disponibles","Nota: Los datos corresponden a 2013 pues son los últimos disponibles","Nota: Los datos corresponden a 2013 pues son los últimos disponibles","Nota: Los datos corresponden a 2013 pues son los últimos disponibles","Nota: Los datos corresponden a 2013 pues son los últimos disponibles","Nota: Los datos corresponden a 2013 pues son los últimos disponibles","Nota: Los datos corresponden a 2013 pues son los últimos disponibles","Nota: Los datos corresponden a 2013 pues son los últimos disponibles","Nota: Los datos corresponden a 2013 pues son los últimos disponibles","Nota: Los datos corresponden a 2013 pues son los últimos disponibles","Nota: Los datos corresponden a 2013 pues son los últimos disponibles","Nota: Los datos corresponden a 2013 pues son los últimos disponibles","Nota: Los datos corresponden a 2013 pues son los últimos disponibles","Nota: Los datos corresponden a 2013 pues son los últimos disponibles","Nota: Los datos corresponden a 2013 pues son los últimos disponibles","Nota: Los datos corresponden a 2013 pues son los últimos disponibles","Nota: Los datos corresponden a 2013 pues son los últimos disponibles","Nota: Los datos corresponden a 2013 pues son los últimos disponibles","Nota: Los datos corresponden a 2013 pues son los últimos disponibles","Nota: Los datos corresponden a 2013 pues son los últimos disponibles","Nota: Los datos corresponden a 2013 pues son los últimos disponibles","Nota: Los datos corresponden a 2013 pues son los últimos disponibles","Nota: Los datos corresponden a 2013 pues son los últimos disponibles","Nota: Los datos corresponden a 2013 pues son los últimos disponibles","Nota: Los datos corresponden a 2013 pues son los últimos disponibles","Nota: Los datos corresponden a 2013 pues son los últimos disponibles","Nota: Los datos corresponden a 2013 pues son los últimos disponibles","Nota: Los datos corresponden a 2013 pues son los últimos disponibles","Nota: Los datos corresponden a 2013 pues son los últimos disponibles","Nota: Los datos corresponden a 2013 pues son los últimos disponibles","Nota: Los datos corresponden a 2013 pues son los últimos disponibles","Nota: Los datos corresponden a 2013 pues son los últimos disponibles","Nota: Los datos corresponden a 2013 pues son los últimos disponibles","Nota: Los datos corresponden a 2013 pues son los últimos disponibles","Nota: Los datos corresponden a 2013 pues son los últimos disponibles","Nota: Los datos corresponden a 2013 pues son los últimos disponibles","Nota: Los datos corresponden a 2013 pues son los últimos disponibles","Nota: Los datos corresponden a 2013 pues son los últimos disponibles","Nota: Los datos corresponden a 2013 pues son los últimos disponibles","Nota: Los datos corresponden a 2013 pues son los últimos disponibles","Nota: Los datos corresponden a 2013 pues son los últimos disponibles","Nota: Los datos corresponden a 2013 pues son los últimos disponibles","Nota: Los datos corresponden a 2013 pues son los últimos disponibles","Nota: Los datos corresponden a 2013 pues son los últimos disponibles","Nota: Los datos corresponden a 2013 pues son los últimos disponibles","Nota: Los datos corresponden a 2013 pues son los últimos disponibles","Nota: Los datos corresponden a 2013 pues son los últimos disponibles","Nota: Los datos corresponden a 2013 pues son los últimos disponibles","Nota: Los datos corresponden a 2013 pues son los últimos disponibles","Nota: Los datos corresponden a 2013 pues son los últimos disponibles","Nota: Los datos corresponden a 2013 pues son los últimos disponibles","Nota: Los datos corresponden a 2013 pues son los últimos disponibles","Nota: Los datos corresponden a 2013 pues son los últimos disponibles","Nota: Los datos corresponden a 2013 pues son los últimos disponibles","Nota: Los datos corresponden a 2013 pues son los últimos disponibles","Nota: Los datos corresponden a 2013 pues son los últimos disponibles","Nota: Los datos corresponden a 2013 pues son los últimos disponibles","Nota: Los datos corresponden a 2013 pues son los últimos disponibles","Nota: Los datos corresponden a 2013 pues son los últimos disponibles","Nota: Los datos corresponden a 2013 pues son los últimos disponibles","Nota: Los datos corresponden a 2013 pues son los últimos disponibles","Nota: Los datos corresponden a 2013 pues son los últimos disponibles","Nota: Los datos corresponden a 2013 pues son los últimos disponibles","Nota: Los datos corresponden a 2013 pues son los últimos disponibles","Nota: Los datos corresponden a 2013 pues son los últimos disponibles","Nota: Los datos corresponden a 2013 pues son los últimos disponibles","Nota: Los datos corresponden a 2013 pues son los últimos disponibles","Nota: Los datos corresponden a 2013 pues son los últimos disponibles","Nota: Los datos corresponden a 2013 pues son los últimos disponibles","Nota: Los datos corresponden a 2013 pues son los últimos disponibles","Nota: Los datos corresponden a 2013 pues son los últimos disponibles","Nota: Los datos corresponden a 2013 pues son los últimos disponibles","Nota: Los datos corresponden a 2013 pues son los últimos disponibles","Nota: Los datos corresponden a 2013 pues son los últimos disponibles","Nota: Los datos corresponden a 2013 pues son los últimos disponibles","Nota: Los datos corresponden a 2013 pues son los últimos disponibles","Nota: Los datos corresponden a 2013 pues son los últimos disponibles","Nota: Los datos corresponden a 2013 pues son los últimos disponibles","Nota: Los datos corresponden a 2013 pues son los últimos disponibles","Nota: Los datos corresponden a 2013 pues son los últimos disponibles","Nota: Los datos corresponden a 2013 pues son los últimos disponibles","Nota: Los datos corresponden a 2013 pues son los últimos disponibles","Nota: Los datos corresponden a 2013 pues son los últimos disponibles","Nota: Los datos corresponden a 2013 pues son los últimos disponibles","Nota: Los datos corresponden a 2013 pues son los últimos disponibles","Nota: Los datos corresponden a 2013 pues son los últimos disponibles","Nota: Los datos corresponden a 2013 pues son los últimos disponibles","Nota: Los datos corresponden a 2013 pues son los últimos disponibles","Nota: Los datos corresponden a 2013 pues son los últimos disponibles","Nota: Los datos corresponden a 2013 pues son los últimos disponibles","Nota: Los datos corresponden a 2013 pues son los últimos disponibles","Nota: Los datos corresponden a 2013 pues son los últimos disponibles","Nota: Los datos corresponden a 2013 pues son los últimos disponibles","Nota: Los datos corresponden a 2013 pues son los últimos disponibles","Nota: Los datos corresponden a 2013 pues son los últimos disponibles","Nota: Los datos corresponden a 2013 pues son los últimos disponibles","Nota: Los datos corresponden a 2013 pues son los últimos disponibles","Nota: Los datos corresponden a 2013 pues son los últimos disponibles","Nota: Los datos corresponden a 2013 pues son los últimos disponibles","Nota: Los datos corresponden a 2013 pues son los últimos disponibles","Nota: Los datos corresponden a 2013 pues son los últimos disponibles","Nota: Los datos corresponden a 2013 pues son los últimos disponibles","Nota: Los datos corresponden a 2013 pues son los últimos disponibles","Nota: Los datos corresponden a 2013 pues son los últimos disponibles","Nota: Los datos corresponden a 2013 pues son los últimos disponibles","Nota: Los datos corresponden a 2013 pues son los últimos disponibles","Nota: Los datos corresponden a 2013 pues son los últimos disponibles","Nota: Los datos corresponden a 2013 pues son los últimos disponibles","Nota: Los datos corresponden a 2013 pues son los últimos disponibles","Nota: Los datos corresponden a 2013 pues son los últimos disponibles","Nota: Los datos corresponden a 2013 pues son los últimos disponibles","Nota: Los datos corresponden a 2013 pues son los últimos disponibles","Nota: Los datos corresponden a 2013 pues son los últimos disponibles","Nota: Los datos corresponden a 2013 pues son los últimos disponibles","Nota: Los datos corresponden a 2013 pues son los últimos disponibles","Nota: Los datos corresponden a 2013 pues son los últimos disponibles","Nota: Los datos corresponden a 2013 pues son los últimos disponibles","Nota: Los datos corresponden a 2013 pues son los últimos disponibles","Nota: Los datos corresponden a 2013 pues son los últimos disponibles","Nota: Los datos corresponden a 2013 pues son los últimos disponibles","Nota: Los datos corresponden a 2013 pues son los últimos disponibles","Nota: Los datos corresponden a 2013 pues son los últimos disponibles","Nota: Los datos corresponden a 2013 pues son los últimos disponibles","Nota: Los datos corresponden a 2013 pues son los últimos disponibles","Nota: Los datos corresponden a 2013 pues son los últimos disponibles","Nota: Los datos corresponden a 2013 pues son los últimos disponibles","Nota: Los datos corresponden a 2013 pues son los últimos disponibles","Nota: Los datos corresponden a 2013 pues son los últimos disponibles","Nota: Los datos corresponden a 2013 pues son los últimos disponibles","Nota: Los datos corresponden a 2013 pues son los últimos disponibles","Nota: Los datos corresponden a 2013 pues son los últimos disponibles","Nota: Los datos corresponden a 2013 pues son los últimos disponibles","Nota: Los datos corresponden a 2013 pues son los últimos disponibles","Nota: Los datos corresponden a 2013 pues son los últimos disponibles","Nota: Los datos corresponden a 2013 pues son los últimos disponibles","Nota: Los datos corresponden a 2013 pues son los últimos disponibles","Nota: Los datos corresponden a 2013 pues son los últimos disponibles","Nota: Los datos corresponden a 2013 pues son los últimos disponibles","Nota: Los datos corresponden a 2013 pues son los últimos disponibles","Nota: Los datos corresponden a 2013 pues son los últimos disponibles","Nota: Los datos corresponden a 2013 pues son los últimos disponibles","Nota: Los datos corresponden a 2013 pues son los últimos disponibles","Nota: Los datos corresponden a 2013 pues son los últimos disponibles","Nota: Los datos corresponden a 2013 pues son los últimos disponibles","Nota: Los datos corresponden a 2013 pues son los últimos disponibles","Nota: Los datos corresponden a 2013 pues son los últimos disponibles","Nota: Los datos corresponden a 2013 pues son los últimos disponibles","Nota: Los datos corresponden a 2013 pues son los últimos disponibles","Nota: Los datos corresponden a 2013 pues son los últimos disponibles","Nota: Los datos corresponden a 2013 pues son los últimos disponibles","Nota: Los datos corresponden a 2013 pues son los últimos disponibles","Nota: Los datos corresponden a 2013 pues son los últimos disponibles","Nota: Los datos corresponden a 2013 pues son los últimos disponibles","Nota: Los datos corresponden a 2013 pues son los últimos disponibles","Nota: Los datos corresponden a 2013 pues son los últimos disponibles","Nota: Los datos corresponden a 2013 pues son los últimos disponibles","Nota: Los datos corresponden a 2013 pues son los últimos disponibles","Nota: Los datos corresponden a 2013 pues son los últimos disponibles","Nota: Los datos corresponden a 2013 pues son los últimos disponibles","Nota: Los datos corresponden a 2013 pues son los últimos disponibles","Nota: Los datos corresponden a 2013 pues son los últimos disponibles","Nota: Los datos corresponden a 2013 pues son los últimos disponibles","Nota: Los datos corresponden a 2013 pues son los últimos disponibles","Nota: Los datos corresponden a 2013 pues son los últimos disponibles","Nota: Los datos corresponden a 2013 pues son los últimos disponibles","Nota: Los datos corresponden a 2013 pues son los últimos disponibles","Nota: Los datos corresponden a 2013 pues son los últimos disponibles","Nota: Los datos corresponden a 2013 pues son los últimos disponibles","Nota: Los datos corresponden a 2013 pues son los últimos disponibles","Nota: Los datos corresponden a 2013 pues son los últimos disponibles","Nota: Los datos corresponden a 2013 pues son los últimos disponibles","Nota: Los datos corresponden a 2013 pues son los últimos disponibles","Nota: Los datos corresponden a 2013 pues son los últimos disponibles","Nota: Los datos corresponden a 2013 pues son los últimos disponibles","Nota: Los datos corresponden a 2013 pues son los últimos disponibles","Nota: Los datos corresponden a 2013 pues son los últimos disponibles","Nota: Los datos corresponden a 2013 pues son los últimos disponibles","Nota: Los datos corresponden a 2013 pues son los últimos disponibles","Nota: Los datos corresponden a 2013 pues son los últimos disponibles","Nota: Los datos corresponden a 2013 pues son los últimos disponibles","Nota: Los datos corresponden a 2013 pues son los últimos disponibles","Nota: Los datos corresponden a 2013 pues son los últimos disponibles","Nota: Los datos corresponden a 2013 pues son los últimos disponibles","Nota: Los datos corresponden a 2013 pues son los últimos disponibles","Nota: Los datos corresponden a 2013 pues son los últimos disponibles","Nota: Los datos corresponden a 2013 pues son los últimos disponibles","Nota: Los datos corresponden a 2013 pues son los últimos disponibles","Nota: Los datos corresponden a 2013 pues son los últimos disponibles","Nota: Los datos corresponden a 2013 pues son los últimos disponibles","Nota: Los datos corresponden a 2013 pues son los últimos disponibles","Nota: Los datos corresponden a 2013 pues son los últimos disponibles","Nota: Los datos corresponden a 2013 pues son los últimos disponibles","Nota: Los datos corresponden a 2013 pues son los últimos disponibles","Nota: Los datos corresponden a 2013 pues son los últimos disponibles","Nota: Los datos corresponden a 2013 pues son los últimos disponibles","Nota: Los datos corresponden a 2013 pues son los últimos disponibles","Nota: Los datos corresponden a 2013 pues son los últimos disponibles","Nota: Los datos corresponden a 2013 pues son los últimos disponibles","Nota: Los datos corresponden a 2013 pues son los últimos disponibles","Nota: Los datos corresponden a 2013 pues son los últimos disponibles","Nota: Los datos corresponden a 2013 pues son los últimos disponibles","Nota: Los datos corresponden a 2013 pues son los últimos disponibles","Nota: Los datos corresponden a 2013 pues son los últimos disponibles","Nota: Los datos corresponden a 2013 pues son los últimos disponibles","Nota: Los datos corresponden a 2013 pues son los últimos disponibles","Nota: Los datos corresponden a 2013 pues son los últimos disponibles","Nota: Los datos corresponden a 2013 pues son los últimos disponibles","Nota: Los datos corresponden a 2013 pues son los últimos disponibles","Nota: Los datos corresponden a 2013 pues son los últimos disponibles","Nota: Los datos corresponden a 2013 pues son los últimos disponibles","Nota: Los datos corresponden a 2013 pues son los últimos disponibles","Nota: Los datos corresponden a 2013 pues son los últimos disponibles","Nota: Los datos corresponden a 2013 pues son los últimos disponibles","Nota: Los datos corresponden a 2013 pues son los últimos disponibles","Nota: Los datos corresponden a 2013 pues son los últimos disponibles","Nota: Los datos corresponden a 2013 pues son los últimos disponibles","Nota: Los datos corresponden a 2013 pues son los últimos disponibles","Nota: Los datos corresponden a 2013 pues son los últimos disponibles","Nota: Los datos corresponden a 2013 pues son los últimos disponibles","Nota: Los datos corresponden a 2013 pues son los últimos disponibles","Nota: Los datos corresponden a 2013 pues son los últimos disponibles","Nota: Los datos corresponden a 2013 pues son los últimos disponibles","Nota: Los datos corresponden a 2013 pues son los últimos disponibles","Nota: Los datos corresponden a 2013 pues son los últimos disponibles","Nota: Los datos corresponden a 2013 pues son los últimos disponibles","Nota: Los datos corresponden a 2013 pues son los últimos disponibles","Nota: Los datos corresponden a 2013 pues son los últimos disponibles","Nota: Los datos corresponden a 2013 pues son los últimos disponibles","Nota: Los datos corresponden a 2013 pues son los últimos disponibles","Nota: Los datos corresponden a 2013 pues son los últimos disponibles","Nota: Los datos corresponden a 2013 pues son los últimos disponibles","Nota: Los datos corresponden a 2013 pues son los últimos disponibles","Nota: Los datos corresponden a 2013 pues son los últimos disponibles","Nota: Los datos corresponden a 2013 pues son los últimos disponibles","Nota: Los datos corresponden a 2013 pues son los últimos disponibles","Nota: Los datos corresponden a 2013 pues son los últimos disponibles","Nota: Los datos corresponden a 2013 pues son los últimos disponibles","Nota: Los datos corresponden a 2013 pues son los últimos disponibles","Nota: Los datos corresponden a 2013 pues son los últimos disponibles","Nota: Los datos corresponden a 2013 pues son los últimos disponibles","Nota: Los datos corresponden a 2013 pues son los últimos disponibles","Nota: Los datos corresponden a 2013 pues son los últimos disponibles","Nota: Los datos corresponden a 2013 pues son los últimos disponibles","Nota: Los datos corresponden a 2013 pues son los últimos disponibles","Nota: Los datos corresponden a 2013 pues son los últimos disponibles","Nota: Los datos corresponden a 2013 pues son los últimos disponibles","Nota: Los datos corresponden a 2013 pues son los últimos disponibles","Nota: Los datos corresponden a 2013 pues son los últimos disponibles","Nota: Los datos corresponden a 2013 pues son los últimos disponibles","Nota: Los datos corresponden a 2013 pues son los últimos disponibles","Nota: Los datos corresponden a 2013 pues son los últimos disponibles","Nota: Los datos corresponden a 2013 pues son los últimos disponibles","Nota: Los datos corresponden a 2013 pues son los últimos disponibles","Nota: Los datos corresponden a 2013 pues son los últimos disponibles","Nota: Los datos corresponden a 2013 pues son los últimos disponibles","Nota: Los datos corresponden a 2013 pues son los últimos disponibles","Nota: Los datos corresponden a 2013 pues son los últimos disponibles","Nota: Los datos corresponden a 2013 pues son los últimos disponibles","Nota: Los datos corresponden a 2013 pues son los últimos disponibles","Nota: Los datos corresponden a 2013 pues son los últimos disponibles","Nota: Los datos corresponden a 2013 pues son los últimos disponibles","Nota: Los datos corresponden a 2013 pues son los últimos disponibles","Nota: Los datos corresponden a 2013 pues son los últimos disponibles","Nota: Los datos corresponden a 2013 pues son los últimos disponibles","Nota: Los datos corresponden a 2013 pues son los últimos disponibles","Nota: Los datos corresponden a 2013 pues son los últimos disponibles","Nota: Los datos corresponden a 2013 pues son los últimos disponibles","Nota: Los datos corresponden a 2013 pues son los últimos disponibles","Nota: Los datos corresponden a 2013 pues son los últimos disponibles","Nota: Los datos corresponden a 2013 pues son los últimos disponibles","Nota: Los datos corresponden a 2013 pues son los últimos disponibles","Nota: Los datos corresponden a 2013 pues son los últimos disponibles","Nota: Los datos corresponden a 2013 pues son los últimos disponibles","Nota: Los datos corresponden a 2013 pues son los últimos disponibles","Nota: Los datos corresponden a 2013 pues son los últimos disponibles","Nota: Los datos corresponden a 2013 pues son los últimos disponibles","Nota: Los datos corresponden a 2013 pues son los últimos disponibles","Nota: Los datos corresponden a 2013 pues son los últimos disponibles","Nota: Los datos corresponden a 2013 pues son los últimos disponibles","Nota: Los datos corresponden a 2013 pues son los últimos disponibles","Nota: Los datos corresponden a 2013 pues son los últimos disponibles","Nota: Los datos corresponden a 2013 pues son los últimos disponibles","Nota: Los datos corresponden a 2013 pues son los últimos disponibles","Nota: Los datos corresponden a 2013 pues son los últimos disponibles","Nota: Los datos corresponden a 2013 pues son los últimos disponibles","Nota: Los datos corresponden a 2013 pues son los últimos disponibles","Nota: Los datos corresponden a 2013 pues son los últimos disponibles","Nota: Los datos corresponden a 2013 pues son los últimos disponibles","Nota: Los datos corresponden a 2013 pues son los últimos disponibles","Nota: Los datos corresponden a 2013 pues son los últimos disponibles","Nota: Los datos corresponden a 2013 pues son los últimos disponibles","Nota: Los datos corresponden a 2013 pues son los últimos disponibles","Nota: Los datos corresponden a 2013 pues son los últimos disponibles","Nota: Los datos corresponden a 2013 pues son los últimos disponibles","Nota: Los datos corresponden a 2013 pues son los últimos disponibles","Nota: Los datos corresponden a 2013 pues son los últimos disponibles","Nota: Los datos corresponden a 2013 pues son los últimos disponibles","Nota: Los datos corresponden a 2013 pues son los últimos disponibles","Nota: Los datos corresponden a 2013 pues son los últimos disponibles","Nota: Los datos corresponden a 2013 pues son los últimos disponibles","Nota: Los datos corresponden a 2013 pues son los últimos disponibles","Nota: Los datos corresponden a 2013 pues son los últimos disponibles","Nota: Los datos corresponden a 2013 pues son los últimos disponibles","Nota: Los datos corresponden a 2013 pues son los últimos disponibles","Nota: Los datos corresponden a 2013 pues son los últimos disponibles","Nota: Los datos corresponden a 2013 pues son los últimos disponibles","Nota: Los datos corresponden a 2013 pues son los últimos disponibles","Nota: Los datos corresponden a 2013 pues son los últimos disponibles","Nota: Los datos corresponden a 2013 pues son los últimos disponibles","Nota: Los datos corresponden a 2013 pues son los últimos disponibles","Nota: Los datos corresponden a 2013 pues son los últimos disponibles","Nota: Los datos corresponden a 2013 pues son los últimos disponibles","Nota: Los datos corresponden a 2013 pues son los últimos disponibles","Nota: Los datos corresponden a 2013 pues son los últimos disponibles","Nota: Los datos corresponden a 2013 pues son los últimos disponibles","Nota: Los datos corresponden a 2013 pues son los últimos disponibles","Nota: Los datos corresponden a 2013 pues son los últimos disponibles","Nota: Los datos corresponden a 2013 pues son los últimos disponibles","Nota: Los datos corresponden a 2013 pues son los últimos disponibles","Nota: Los datos corresponden a 2013 pues son los últimos disponibles","Nota: Los datos corresponden a 2013 pues son los últimos disponibles","Nota: Los datos corresponden a 2013 pues son los últimos disponibles","Nota: Los datos corresponden a 2013 pues son los últimos disponibles","Nota: Los datos corresponden a 2013 pues son los últimos disponibles","Nota: Los datos corresponden a 2013 pues son los últimos disponibles","Nota: Los datos corresponden a 2013 pues son los últimos disponibles","Nota: Los datos corresponden a 2013 pues son los últimos disponibles","Nota: Los datos corresponden a 2013 pues son los últimos disponibles","Nota: Los datos corresponden a 2013 pues son los últimos disponibles","Nota: Los datos corresponden a 2013 pues son los últimos disponibles","Nota: Los datos corresponden a 2013 pues son los últimos disponibles","Nota: Los datos corresponden a 2013 pues son los últimos disponibles","Nota: Los datos corresponden a 2013 pues son los últimos disponibles","Nota: Los datos corresponden a 2013 pues son los últimos disponibles","Nota: Los datos corresponden a 2013 pues son los últimos disponibles","Nota: Los datos corresponden a 2013 pues son los últimos disponibles","Nota: Los datos corresponden a 2013 pues son los últimos disponibles","Nota: Los datos corresponden a 2013 pues son los últimos disponibles","Nota: Los datos corresponden a 2013 pues son los últimos disponibles","Nota: Los datos corresponden a 2013 pues son los últimos disponibles","Nota: Los datos corresponden a 2013 pues son los últimos disponibles","Nota: Los datos corresponden a 2013 pues son los últimos disponibles","Nota: Los datos corresponden a 2013 pues son los últimos disponibles","Nota: Los datos corresponden a 2013 pues son los últimos disponibles","Nota: Los datos corresponden a 2013 pues son los últimos disponibles","Nota: Los datos corresponden a 2013 pues son los últimos disponibles","Nota: Los datos corresponden a 2013 pues son los últimos disponibles","Nota: Los datos corresponden a 2013 pues son los últimos disponibles","Nota: Los datos corresponden a 2013 pues son los últimos disponibles","Nota: Los datos corresponden a 2013 pues son los últimos disponibles","Nota: Los datos corresponden a 2013 pues son los últimos disponibles","Nota: Los datos corresponden a 2013 pues son los últimos disponibles","Nota: Los datos corresponden a 2013 pues son los últimos disponibles","Nota: Los datos corresponden a 2013 pues son los últimos disponibles","Nota: Los datos corresponden a 2013 pues son los últimos disponibles","Nota: Los datos corresponden a 2013 pues son los últimos disponibles","Nota: Los datos corresponden a 2013 pues son los últimos disponibles","Nota: Los datos corresponden a 2013 pues son los últimos disponibles","Nota: Los datos corresponden a 2013 pues son los últimos disponibles","Nota: Los datos corresponden a 2013 pues son los últimos disponibles","Nota: Los datos corresponden a 2013 pues son los últimos disponibles","Nota: Los datos corresponden a 2013 pues son los últimos disponibles","Nota: Los datos corresponden a 2013 pues son los últimos disponibles","Nota: Los datos corresponden a 2013 pues son los últimos disponibles","Nota: Los datos corresponden a 2013 pues son los últimos disponibles","Nota: Los datos corresponden a 2013 pues son los últimos disponibles","Nota: Los datos corresponden a 2013 pues son los últimos disponibles","Nota: Los datos corresponden a 2013 pues son los últimos disponibles","Nota: Los datos corresponden a 2013 pues son los últimos disponibles","Nota: Los datos corresponden a 2013 pues son los últimos disponibles","Nota: Los datos corresponden a 2013 pues son los últimos disponibles","Nota: Los datos corresponden a 2013 pues son los últimos disponibles","Nota: Los datos corresponden a 2013 pues son los últimos disponibles","Nota: Los datos corresponden a 2013 pues son los últimos disponibles","Nota: Los datos corresponden a 2013 pues son los últimos disponibles","Nota: Los datos corresponden a 2013 pues son los últimos disponibles","Nota: Los datos corresponden a 2013 pues son los últimos disponibles","Nota: Los datos corresponden a 2013 pues son los últimos disponibles","Nota: Los datos corresponden a 2013 pues son los últimos disponibles","Nota: Los datos corresponden a 2013 pues son los últimos disponibles","Nota: Los datos corresponden a 2013 pues son los últimos disponibles","Nota: Los datos corresponden a 2013 pues son los últimos disponibles","Nota: Los datos corresponden a 2013 pues son los últimos disponibles","Nota: Los datos corresponden a 2013 pues son los últimos disponibles","Nota: Los datos corresponden a 2013 pues son los últimos disponibles","Nota: Los datos corresponden a 2013 pues son los últimos disponibles","Nota: Los datos corresponden a 2013 pues son los últimos disponibles","Nota: Los datos corresponden a 2013 pues son los últimos disponibles","Nota: Los datos corresponden a 2013 pues son los últimos disponibles","Nota: Los datos corresponden a 2013 pues son los últimos disponibles","Nota: Los datos corresponden a 2013 pues son los últimos disponibles","Nota: Los datos corresponden a 2013 pues son los últimos disponibles","Nota: Los datos corresponden a 2013 pues son los últimos disponibles","Nota: Los datos corresponden a 2013 pues son los últimos disponibles","Nota: Los datos corresponden a 2013 pues son los últimos disponibles","Nota: Los datos corresponden a 2013 pues son los últimos disponibles","Nota: Los datos corresponden a 2013 pues son los últimos disponibles","Nota: Los datos corresponden a 2013 pues son los últimos disponibles","Nota: Los datos corresponden a 2013 pues son los últimos disponibles","Nota: Los datos corresponden a 2013 pues son los últimos disponibles","Nota: Los datos corresponden a 2013 pues son los últimos disponibles","Nota: Los datos corresponden a 2013 pues son los últimos disponibles","Nota: Los datos corresponden a 2013 pues son los últimos disponibles","Nota: Los datos corresponden a 2013 pues son los últimos disponibles","Nota: Los datos corresponden a 2013 pues son los últimos disponibles","Nota: Los datos corresponden a 2013 pues son los últimos disponibles","Nota: Los datos corresponden a 2013 pues son los últimos disponibles","Nota: Los datos corresponden a 2013 pues son los últimos disponibles","Nota: Los datos corresponden a 2013 pues son los últimos disponibles","Nota: Los datos corresponden a 2013 pues son los últimos disponibles","Nota: Los datos corresponden a 2013 pues son los últimos disponibles","Nota: Los datos corresponden a 2013 pues son los últimos disponibles","Nota: Los datos corresponden a 2013 pues son los últimos disponibles","Nota: Los datos corresponden a 2013 pues son los últimos disponibles","Nota: Los datos corresponden a 2013 pues son los últimos disponibles","Nota: Los datos corresponden a 2013 pues son los últimos disponibles","Nota: Los datos corresponden a 2013 pues son los últimos disponibles","Nota: Los datos corresponden a 2013 pues son los últimos disponibles","Nota: Los datos corresponden a 2013 pues son los últimos disponibles","Nota: Los datos corresponden a 2013 pues son los últimos disponibles","Nota: Los datos corresponden a 2013 pues son los últimos disponibles","Nota: Los datos corresponden a 2013 pues son los últimos disponibles","Nota: Los datos corresponden a 2013 pues son los últimos disponibles","Nota: Los datos corresponden a 2013 pues son los últimos disponibles","Nota: Los datos corresponden a 2013 pues son los últimos disponibles","Nota: Los datos corresponden a 2013 pues son los últimos disponibles","Nota: Los datos corresponden a 2013 pues son los últimos disponibles","Nota: Los datos corresponden a 2013 pues son los últimos disponibles","Nota: Los datos corresponden a 2013 pues son los últimos disponibles","Nota: Los datos corresponden a 2013 pues son los últimos disponibles","Nota: Los datos corresponden a 2013 pues son los últimos disponibles","Nota: Los datos corresponden a 2013 pues son los últimos disponibles","Nota: Los datos corresponden a 2013 pues son los últimos disponibles","Nota: Los datos corresponden a 2013 pues son los últimos disponibles","Nota: Los datos corresponden a 2013 pues son los últimos disponibles","Nota: Los datos corresponden a 2013 pues son los últimos disponibles","Nota: Los datos corresponden a 2013 pues son los últimos disponibles","Nota: Los datos corresponden a 2013 pues son los últimos disponibles","Nota: Los datos corresponden a 2013 pues son los últimos disponibles","Nota: Los datos corresponden a 2013 pues son los últimos disponibles","Nota: Los datos corresponden a 2013 pues son los últimos disponibles","Nota: Los datos corresponden a 2013 pues son los últimos disponibles","Nota: Los datos corresponden a 2013 pues son los últimos disponibles","Nota: Los datos corresponden a 2013 pues son los últimos disponibles","Nota: Los datos corresponden a 2013 pues son los últimos disponibles","Nota: Los datos corresponden a 2013 pues son los últimos disponibles","Nota: Los datos corresponden a 2013 pues son los últimos disponibles","Nota: Los datos corresponden a 2013 pues son los últimos disponibles","Nota: Los datos corresponden a 2013 pues son los últimos disponibles","Nota: Los datos corresponden a 2013 pues son los últimos disponibles","Nota: Los datos corresponden a 2013 pues son los últimos disponibles","Nota: Los datos corresponden a 2013 pues son los últimos disponibles","Nota: Los datos corresponden a 2013 pues son los últimos disponibles","Nota: Los datos corresponden a 2013 pues son los últimos disponibles","Nota: Los datos corresponden a 2013 pues son los últimos disponibles","Nota: Los datos corresponden a 2013 pues son los últimos disponibles","Nota: Los datos corresponden a 2013 pues son los últimos disponibles","Nota: Los datos corresponden a 2013 pues son los últimos disponibles","Nota: Los datos corresponden a 2013 pues son los últimos disponibles","Nota: Los datos corresponden a 2013 pues son los últimos disponibles","Nota: Los datos corresponden a 2013 pues son los últimos disponibles","Nota: Los datos corresponden a 2013 pues son los últimos disponibles","Nota: Los datos corresponden a 2013 pues son los últimos disponibles","Nota: Los datos corresponden a 2013 pues son los últimos disponibles","Nota: Los datos corresponden a 2013 pues son los últimos disponibles","Nota: Los datos corresponden a 2013 pues son los últimos disponibles","Nota: Los datos corresponden a 2013 pues son los últimos disponibles","Nota: Los datos corresponden a 2013 pues son los últimos disponibles","Nota: Los datos corresponden a 2013 pues son los últimos disponibles","Nota: Los datos corresponden a 2013 pues son los últimos disponibles","Nota: Los datos corresponden a 2013 pues son los últimos disponibles","Nota: Los datos corresponden a 2013 pues son los últimos disponibles","Nota: Los datos corresponden a 2013 pues son los últimos disponibles","Nota: Los datos corresponden a 2013 pues son los últimos disponibles","Nota: Los datos corresponden a 2013 pues son los últimos disponibles","Nota: Los datos corresponden a 2013 pues son los últimos disponibles","Nota: Los datos corresponden a 2013 pues son los últimos disponibles","Nota: Los datos corresponden a 2013 pues son los últimos disponibles","Nota: Los datos corresponden a 2013 pues son los últimos disponibles","Nota: Los datos corresponden a 2013 pues son los últimos disponibles","Nota: Los datos corresponden a 2013 pues son los últimos disponibles","Nota: Los datos corresponden a 2013 pues son los últimos disponibles","Nota: Los datos corresponden a 2013 pues son los últimos disponibles","Nota: Los datos corresponden a 2013 pues son los últimos disponibles","Nota: Los datos corresponden a 2013 pues son los últimos disponibles","Nota: Los datos corresponden a 2013 pues son los últimos disponibles","Nota: Los datos corresponden a 2013 pues son los últimos disponibles","Nota: Los datos corresponden a 2013 pues son los últimos disponibles","Nota: Los datos corresponden a 2013 pues son los últimos disponibles","Nota: Los datos corresponden a 2013 pues son los últimos disponibles","Nota: Los datos corresponden a 2013 pues son los últimos disponibles","Nota: Los datos corresponden a 2013 pues son los últimos disponibles","Nota: Los datos corresponden a 2013 pues son los últimos disponibles","Nota: Los datos corresponden a 2013 pues son los últimos disponibles","Nota: Los datos corresponden a 2013 pues son los últimos disponibles","Nota: Los datos corresponden a 2013 pues son los últimos disponibles","Nota: Los datos corresponden a 2013 pues son los últimos disponibles","Nota: Los datos corresponden a 2013 pues son los últimos disponibles","Nota: Los datos corresponden a 2013 pues son los últimos disponibles","Nota: Los datos corresponden a 2013 pues son los últimos disponibles","Nota: Los datos corresponden a 2013 pues son los últimos disponibles","Nota: Los datos corresponden a 2013 pues son los últimos disponibles","Nota: Los datos corresponden a 2013 pues son los últimos disponibles","Nota: Los datos corresponden a 2013 pues son los últimos disponibles","Nota: Los datos corresponden a 2013 pues son los últimos disponibles","Nota: Los datos corresponden a 2013 pues son los últimos disponibles","Nota: Los datos corresponden a 2013 pues son los últimos disponibles","Nota: Los datos corresponden a 2013 pues son los últimos disponibles","Nota: Los datos corresponden a 2013 pues son los últimos disponibles","Nota: Los datos corresponden a 2013 pues son los últimos disponibles","Nota: Los datos corresponden a 2013 pues son los últimos disponibles","Nota: Los datos corresponden a 2013 pues son los últimos disponibles","Nota: Los datos corresponden a 2013 pues son los últimos disponibles","Nota: Los datos corresponden a 2013 pues son los últimos disponibles","Nota: Los datos corresponden a 2013 pues son los últimos disponibles","Nota: Los datos corresponden a 2013 pues son los últimos disponibles","Nota: Los datos corresponden a 2013 pues son los últimos disponibles","Nota: Los datos corresponden a 2013 pues son los últimos disponibles","Nota: Los datos corresponden a 2013 pues son los últimos disponibles","Nota: Los datos corresponden a 2013 pues son los últimos disponibles","Nota: Los datos corresponden a 2013 pues son los últimos disponibles","Nota: Los datos corresponden a 2013 pues son los últimos disponibles","Nota: Los datos corresponden a 2013 pues son los últimos disponibles","Nota: Los datos corresponden a 2013 pues son los últimos disponibles","Nota: Los datos corresponden a 2013 pues son los últimos disponibles","Nota: Los datos corresponden a 2013 pues son los últimos disponibles","Nota: Los datos corresponden a 2013 pues son los últimos disponibles","Nota: Los datos corresponden a 2013 pues son los últimos disponibles","Nota: Los datos corresponden a 2013 pues son los últimos disponibles","Nota: Los datos corresponden a 2013 pues son los últimos disponibles","Nota: Los datos corresponden a 2013 pues son los últimos disponibles","Nota: Los datos corresponden a 2013 pues son los últimos disponibles","Nota: Los datos corresponden a 2013 pues son los últimos disponibles","Nota: Los datos corresponden a 2013 pues son los últimos disponibles","Nota: Los datos corresponden a 2013 pues son los últimos disponibles","Nota: Los datos corresponden a 2013 pues son los últimos disponibles","Nota: Los datos corresponden a 2013 pues son los últimos disponibles","Nota: Los datos corresponden a 2013 pues son los últimos disponibles","Nota: Los datos corresponden a 2013 pues son los últimos disponibles","Nota: Los datos corresponden a 2013 pues son los últimos disponibles","Nota: Los datos corresponden a 2013 pues son los últimos disponibles","Nota: Los datos corresponden a 2013 pues son los últimos disponibles","Nota: Los datos corresponden a 2013 pues son los últimos disponibles","Nota: Los datos corresponden a 2013 pues son los últimos disponibles","Nota: Los datos corresponden a 2013 pues son los últimos disponibles","Nota: Los datos corresponden a 2013 pues son los últimos disponibles","Nota: Los datos corresponden a 2013 pues son los últimos disponibles","Nota: Los datos corresponden a 2013 pues son los últimos disponibles","Nota: Los datos corresponden a 2013 pues son los últimos disponibles","Nota: Los datos corresponden a 2013 pues son los últimos disponibles","Nota: Los datos corresponden a 2013 pues son los últimos disponibles","Nota: Los datos corresponden a 2013 pues son los últimos disponibles","Nota: Los datos corresponden a 2013 pues son los últimos disponibles","Nota: Los datos corresponden a 2013 pues son los últimos disponibles","Nota: Los datos corresponden a 2013 pues son los últimos disponibles","Nota: Los datos corresponden a 2013 pues son los últimos disponibles","Nota: Los datos corresponden a 2013 pues son los últimos disponibles","Nota: Los datos corresponden a 2013 pues son los últimos disponibles","Nota: Los datos corresponden a 2013 pues son los últimos disponibles","Nota: Los datos corresponden a 2013 pues son los últimos disponibles","Nota: Los datos corresponden a 2013 pues son los últimos disponibles","Nota: Los datos corresponden a 2013 pues son los últimos disponibles","Nota: Los datos corresponden a 2013 pues son los últimos disponibles","Nota: Los datos corresponden a 2013 pues son los últimos disponibles","Nota: Los datos corresponden a 2013 pues son los últimos disponibles","Nota: Los datos corresponden a 2013 pues son los últimos disponibles","Nota: Los datos corresponden a 2013 pues son los últimos disponibles","Nota: Los datos corresponden a 2013 pues son los últimos disponibles","Nota: Los datos corresponden a 2013 pues son los últimos disponibles","Nota: Los datos corresponden a 2013 pues son los últimos disponibles","Nota: Los datos corresponden a 2013 pues son los últimos disponibles","Nota: Los datos corresponden a 2013 pues son los últimos disponibles","Nota: Los datos corresponden a 2013 pues son los últimos disponibles","Nota: Los datos corresponden a 2013 pues son los últimos disponibles","Nota: Los datos corresponden a 2013 pues son los últimos disponibles","Nota: Los datos corresponden a 2013 pues son los últimos disponibles","Nota: Los datos corresponden a 2013 pues son los últimos disponibles","Nota: Los datos corresponden a 2013 pues son los últimos disponibles","Nota: Los datos corresponden a 2013 pues son los últimos disponibles","Nota: Los datos corresponden a 2013 pues son los últimos disponibles","Nota: Los datos corresponden a 2013 pues son los últimos disponibles","Nota: Los datos corresponden a 2013 pues son los últimos disponibles","Nota: Los datos corresponden a 2013 pues son los últimos disponibles","Nota: Los datos corresponden a 2013 pues son los últimos disponibles","Nota: Los datos corresponden a 2013 pues son los últimos disponibles","Nota: Los datos corresponden a 2013 pues son los últimos disponibles","Nota: Los datos corresponden a 2013 pues son los últimos disponibles","Nota: Los datos corresponden a 2013 pues son los últimos disponibles","Nota: Los datos corresponden a 2013 pues son los últimos disponibles","Nota: Los datos corresponden a 2013 pues son los últimos disponibles","Nota: Los datos corresponden a 2013 pues son los últimos disponibles","Nota: Los datos corresponden a 2013 pues son los últimos disponibles","Nota: Los datos corresponden a 2013 pues son los últimos disponibles","Nota: Los datos corresponden a 2013 pues son los últimos disponibles","Nota: Los datos corresponden a 2013 pues son los últimos disponibles","Nota: Los datos corresponden a 2013 pues son los últimos disponibles","Nota: Los datos corresponden a 2013 pues son los últimos disponibles","Nota: Los datos corresponden a 2013 pues son los últimos disponibles","Nota: Los datos corresponden a 2013 pues son los últimos disponibles","Nota: Los datos corresponden a 2013 pues son los últimos disponibles","Nota: Los datos corresponden a 2013 pues son los últimos disponibles","Nota: Los datos corresponden a 2013 pues son los últimos disponibles","Nota: Los datos corresponden a 2013 pues son los últimos disponibles","Nota: Los datos corresponden a 2013 pues son los últimos disponibles","Nota: Los datos corresponden a 2013 pues son los últimos disponibles","Nota: Los datos corresponden a 2013 pues son los últimos disponibles","Nota: Los datos corresponden a 2013 pues son los últimos disponibles","Nota: Los datos corresponden a 2013 pues son los últimos disponibles","Nota: Los datos corresponden a 2013 pues son los últimos disponibles","Nota: Los datos corresponden a 2013 pues son los últimos disponibles","Nota: Los datos corresponden a 2013 pues son los últimos disponibles","Nota: Los datos corresponden a 2013 pues son los últimos disponibles","Nota: Los datos corresponden a 2013 pues son los últimos disponibles","Nota: Los datos corresponden a 2013 pues son los últimos disponibles","Nota: Los datos corresponden a 2013 pues son los últimos disponibles","Nota: Los datos corresponden a 2013 pues son los últimos disponibles","Nota: Los datos corresponden a 2013 pues son los últimos disponibles","Nota: Los datos corresponden a 2013 pues son los últimos disponibles","Nota: Los datos corresponden a 2013 pues son los últimos disponibles","Nota: Los datos corresponden a 2013 pues son los últimos disponibles","Nota: Los datos corresponden a 2013 pues son los últimos disponibles","Nota: Los datos corresponden a 2013 pues son los últimos disponibles","Nota: Los datos corresponden a 2013 pues son los últimos disponibles","Nota: Los datos corresponden a 2013 pues son los últimos disponibles","Nota: Los datos corresponden a 2013 pues son los últimos disponibles","Nota: Los datos corresponden a 2013 pues son los últimos disponibles","Nota: Los datos corresponden a 2013 pues son los últimos disponibles","Nota: Los datos corresponden a 2013 pues son los últimos disponibles","Nota: Los datos corresponden a 2013 pues son los últimos disponibles","Nota: Los datos corresponden a 2013 pues son los últimos disponibles","Nota: Los datos corresponden a 2013 pues son los últimos disponibles","Nota: Los datos corresponden a 2013 pues son los últimos disponibles","Nota: Los datos corresponden a 2013 pues son los últimos disponibles","Nota: Los datos corresponden a 2013 pues son los últimos disponibles","Nota: Los datos corresponden a 2013 pues son los últimos disponibles","Nota: Los datos corresponden a 2013 pues son los últimos disponibles","Nota: Los datos corresponden a 2013 pues son los últimos disponibles","Nota: Los datos corresponden a 2013 pues son los últimos disponibles","Nota: Los datos corresponden a 2013 pues son los últimos disponibles","Nota: Los datos corresponden a 2013 pues son los últimos disponibles","Nota: Los datos corresponden a 2013 pues son los últimos disponibles","Nota: Los datos corresponden a 2013 pues son los últimos disponibles","Nota: Los datos corresponden a 2013 pues son los últimos disponibles","Nota: Los datos corresponden a 2013 pues son los últimos disponibles","Nota: Los datos corresponden a 2013 pues son los últimos disponibles","Nota: Los datos corresponden a 2013 pues son los últimos disponibles","Nota: Los datos corresponden a 2013 pues son los últimos disponibles","Nota: Los datos corresponden a 2013 pues son los últimos disponibles","Nota: Los datos corresponden a 2013 pues son los últimos disponibles","Nota: Los datos corresponden a 2013 pues son los últimos disponibles","Nota: Los datos corresponden a 2013 pues son los últimos disponibles","Nota: Los datos corresponden a 2013 pues son los últimos disponibles","Nota: Los datos corresponden a 2013 pues son los últimos disponibles","Nota: Los datos corresponden a 2013 pues son los últimos disponibles","Nota: Los datos corresponden a 2013 pues son los últimos disponibles","Nota: Los datos corresponden a 2013 pues son los últimos disponibles","Nota: Los datos corresponden a 2013 pues son los últimos disponibles","Nota: Los datos corresponden a 2013 pues son los últimos disponibles","Nota: Los datos corresponden a 2013 pues son los últimos disponibles","Nota: Los datos corresponden a 2013 pues son los últimos disponibles","Nota: Los datos corresponden a 2013 pues son los últimos disponibles","Nota: Los datos corresponden a 2013 pues son los últimos disponibles","Nota: Los datos corresponden a 2013 pues son los últimos disponibles","Nota: Los datos corresponden a 2013 pues son los últimos disponibles","Nota: Los datos corresponden a 2013 pues son los últimos disponibles","Nota: Los datos corresponden a 2013 pues son los últimos disponibles","Nota: Los datos corresponden a 2013 pues son los últimos disponibles","Nota: Los datos corresponden a 2013 pues son los últimos disponibles","Nota: Los datos corresponden a 2013 pues son los últimos disponibles","Nota: Los datos corresponden a 2013 pues son los últimos disponibles","Nota: Los datos corresponden a 2013 pues son los últimos disponibles","Nota: Los datos corresponden a 2013 pues son los últimos disponibles","Nota: Los datos corresponden a 2013 pues son los últimos disponibles","Nota: Los datos corresponden a 2013 pues son los últimos disponibles","Nota: Los datos corresponden a 2013 pues son los últimos disponibles","Nota: Los datos corresponden a 2013 pues son los últimos disponibles","Nota: Los datos corresponden a 2013 pues son los últimos disponibles","Nota: Los datos corresponden a 2013 pues son los últimos disponibles","Nota: Los datos corresponden a 2013 pues son los últimos disponibles","Nota: Los datos corresponden a 2013 pues son los últimos disponibles","Nota: Los datos corresponden a 2013 pues son los últimos disponibles","Nota: Los datos corresponden a 2013 pues son los últimos disponibles","Nota: Los datos corresponden a 2013 pues son los últimos disponibles","Nota: Los datos corresponden a 2013 pues son los últimos disponibles","Nota: Los datos corresponden a 2013 pues son los últimos disponibles","Nota: Los datos corresponden a 2013 pues son los últimos disponibles","Nota: Los datos corresponden a 2013 pues son los últimos disponibles","Nota: Los datos corresponden a 2013 pues son los últimos disponibles","Nota: Los datos corresponden a 2013 pues son los últimos disponibles","Nota: Los datos corresponden a 2013 pues son los últimos disponibles","Nota: Los datos corresponden a 2013 pues son los últimos disponibles","Nota: Los datos corresponden a 2013 pues son los últimos disponibles","Nota: Los datos corresponden a 2013 pues son los últimos disponibles","Nota: Los datos corresponden a 2013 pues son los últimos disponibles","Nota: Los datos corresponden a 2013 pues son los últimos disponibles","Nota: Los datos corresponden a 2013 pues son los últimos disponibles","Nota: Los datos corresponden a 2013 pues son los últimos disponibles","Nota: Los datos corresponden a 2013 pues son los últimos disponibles","Nota: Los datos corresponden a 2013 pues son los últimos disponibles","Nota: Los datos corresponden a 2013 pues son los últimos disponibles","Nota: Los datos corresponden a 2013 pues son los últimos disponibles","Nota: Los datos corresponden a 2013 pues son los últimos disponibles","Nota: Los datos corresponden a 2013 pues son los últimos disponibles","Nota: Los datos corresponden a 2013 pues son los últimos disponibles","Nota: Los datos corresponden a 2013 pues son los últimos disponibles","Nota: Los datos corresponden a 2013 pues son los últimos disponibles","Nota: Los datos corresponden a 2013 pues son los últimos disponibles","Nota: Los datos corresponden a 2013 pues son los últimos disponibles","Nota: Los datos corresponden a 2013 pues son los últimos disponibles","Nota: Los datos corresponden a 2013 pues son los últimos disponibles","Nota: Los datos corresponden a 2013 pues son los últimos disponibles","Nota: Los datos corresponden a 2013 pues son los últimos disponibles","Nota: Los datos corresponden a 2013 pues son los últimos disponibles","Nota: Los datos corresponden a 2013 pues son los últimos disponibles","Nota: Los datos corresponden a 2013 pues son los últimos disponibles","Nota: Los datos corresponden a 2013 pues son los últimos disponibles","Nota: Los datos corresponden a 2013 pues son los últimos disponibles","Nota: Los datos corresponden a 2013 pues son los últimos disponibles","Nota: Los datos corresponden a 2013 pues son los últimos disponibles","Nota: Los datos corresponden a 2013 pues son los últimos disponibles","Nota: Los datos corresponden a 2013 pues son los últimos disponibles","Nota: Los datos corresponden a 2013 pues son los últimos disponibles","Nota: Los datos corresponden a 2013 pues son los últimos disponibles","Nota: Los datos corresponden a 2013 pues son los últimos disponibles","Nota: Los datos corresponden a 2013 pues son los últimos disponibles","Nota: Los datos corresponden a 2013 pues son los últimos disponibles","Nota: Los datos corresponden a 2013 pues son los últimos disponibles","Nota: Los datos corresponden a 2013 pues son los últimos disponibles","Nota: Los datos corresponden a 2013 pues son los últimos disponibles","Nota: Los datos corresponden a 2013 pues son los últimos disponibles","Nota: Los datos corresponden a 2013 pues son los últimos disponibles","Nota: Los datos corresponden a 2013 pues son los últimos disponibles","Nota: Los datos corresponden a 2013 pues son los últimos disponibles","Nota: Los datos corresponden a 2013 pues son los últimos disponibles","Nota: Los datos corresponden a 2013 pues son los últimos disponibles","Nota: Los datos corresponden a 2013 pues son los últimos disponibles","Nota: Los datos corresponden a 2013 pues son los últimos disponibles","Nota: Los datos corresponden a 2013 pues son los últimos disponibles","Nota: Los datos corresponden a 2013 pues son los últimos disponibles","Nota: Los datos corresponden a 2013 pues son los últimos disponibles","Nota: Los datos corresponden a 2013 pues son los últimos disponibles","Nota: Los datos corresponden a 2013 pues son los últimos disponibles","Nota: Los datos corresponden a 2013 pues son los últimos disponibles","Nota: Los datos corresponden a 2013 pues son los últimos disponibles","Nota: Los datos corresponden a 2013 pues son los últimos disponibles","Nota: Los datos corresponden a 2013 pues son los últimos disponibles","Nota: Los datos corresponden a 2013 pues son los últimos disponibles","Nota: Los datos corresponden a 2013 pues son los últimos disponibles","Nota: Los datos corresponden a 2013 pues son los últimos disponibles","Nota: Los datos corresponden a 2013 pues son los últimos disponibles","Nota: Los datos corresponden a 2013 pues son los últimos disponibles","Nota: Los datos corresponden a 2013 pues son los últimos disponibles","Nota: Los datos corresponden a 2013 pues son los últimos disponibles","Nota: Los datos corresponden a 2013 pues son los últimos disponibles","Nota: Los datos corresponden a 2013 pues son los últimos disponibles","Nota: Los datos corresponden a 2013 pues son los últimos disponibles","Nota: Los datos corresponden a 2013 pues son los últimos disponibles","Nota: Los datos corresponden a 2013 pues son los últimos disponibles","Nota: Los datos corresponden a 2013 pues son los últimos disponibles","Nota: Los datos corresponden a 2013 pues son los últimos disponibles","Nota: Los datos corresponden a 2013 pues son los últimos disponibles","Nota: Los datos corresponden a 2013 pues son los últimos disponibles","Nota: Los datos corresponden a 2013 pues son los últimos disponibles","Nota: Los datos corresponden a 2013 pues son los últimos disponibles","Nota: Los datos corresponden a 2013 pues son los últimos disponibles","Nota: Los datos corresponden a 2013 pues son los últimos disponibles","Nota: Los datos corresponden a 2013 pues son los últimos disponibles","Nota: Los datos corresponden a 2013 pues son los últimos disponibles","Nota: Los datos corresponden a 2013 pues son los últimos disponibles","Nota: Los datos corresponden a 2013 pues son los últimos disponibles","Nota: Los datos corresponden a 2013 pues son los últimos disponibles","Nota: Los datos corresponden a 2013 pues son los últimos disponibles","Nota: Los datos corresponden a 2013 pues son los últimos disponibles","Nota: Los datos corresponden a 2013 pues son los últimos disponibles","Nota: Los datos corresponden a 2013 pues son los últimos disponibles","Nota: Los datos corresponden a 2013 pues son los últimos disponibles","Nota: Los datos corresponden a 2013 pues son los últimos disponibles","Nota: Los datos corresponden a 2013 pues son los últimos disponibles","Nota: Los datos corresponden a 2013 pues son los últimos disponibles","Nota: Los datos corresponden a 2013 pues son los últimos disponibles","Nota: Los datos corresponden a 2013 pues son los últimos disponibles","Nota: Los datos corresponden a 2013 pues son los últimos disponibles","Nota: Los datos corresponden a 2013 pues son los últimos disponibles","Nota: Los datos corresponden a 2013 pues son los últimos disponibles","Nota: Los datos corresponden a 2013 pues son los últimos disponibles","Nota: Los datos corresponden a 2013 pues son los últimos disponibles","Nota: Los datos corresponden a 2013 pues son los últimos disponibles","Nota: Los datos corresponden a 2013 pues son los últimos disponibles","Nota: Los datos corresponden a 2013 pues son los últimos disponibles","Nota: Los datos corresponden a 2013 pues son los últimos disponibles","Nota: Los datos corresponden a 2013 pues son los últimos disponibles","Nota: Los datos corresponden a 2013 pues son los últimos disponibles","Nota: Los datos corresponden a 2013 pues son los últimos disponibles","Nota: Los datos corresponden a 2013 pues son los últimos disponibles","Nota: Los datos corresponden a 2013 pues son los últimos disponibles","Nota: Los datos corresponden a 2013 pues son los últimos disponibles","Nota: Los datos corresponden a 2013 pues son los últimos disponibles","Nota: Los datos corresponden a 2013 pues son los últimos disponibles","Nota: Los datos corresponden a 2013 pues son los últimos disponibles","Nota: Los datos corresponden a 2013 pues son los últimos disponibles","Nota: Los datos corresponden a 2013 pues son los últimos disponibles","Nota: Los datos corresponden a 2013 pues son los últimos disponibles","Nota: Los datos corresponden a 2013 pues son los últimos disponibles","Nota: Los datos corresponden a 2013 pues son los últimos disponibles","Nota: Los datos corresponden a 2013 pues son los últimos disponibles","Nota: Los datos corresponden a 2013 pues son los últimos disponibles","Nota: Los datos corresponden a 2013 pues son los últimos disponibles","Nota: Los datos corresponden a 2013 pues son los últimos disponibles","Nota: Los datos corresponden a 2013 pues son los últimos disponibles","Nota: Los datos corresponden a 2013 pues son los últimos disponibles","Nota: Los datos corresponden a 2013 pues son los últimos disponibles","Nota: Los datos corresponden a 2013 pues son los últimos disponibles","Nota: Los datos corresponden a 2013 pues son los últimos disponibles","Nota: Los datos corresponden a 2013 pues son los últimos disponibles","Nota: Los datos corresponden a 2013 pues son los últimos disponibles","Nota: Los datos corresponden a 2013 pues son los últimos disponibles","Nota: Los datos corresponden a 2013 pues son los últimos disponibles","Nota: Los datos corresponden a 2013 pues son los últimos disponibles","Nota: Los datos corresponden a 2013 pues son los últimos disponibles","Nota: Los datos corresponden a 2013 pues son los últimos disponibles","Nota: Los datos corresponden a 2013 pues son los últimos disponibles","Nota: Los datos corresponden a 2013 pues son los últimos disponibles","Nota: Los datos corresponden a 2013 pues son los últimos disponibles","Nota: Los datos corresponden a 2013 pues son los últimos disponibles","Nota: Los datos corresponden a 2013 pues son los últimos disponibles","Nota: Los datos corresponden a 2013 pues son los últimos disponibles","Nota: Los datos corresponden a 2013 pues son los últimos disponibles","Nota: Los datos corresponden a 2013 pues son los últimos disponibles","Nota: Los datos corresponden a 2013 pues son los últimos disponibles","Nota: Los datos corresponden a 2013 pues son los últimos disponibles","Nota: Los datos corresponden a 2013 pues son los últimos disponibles","Nota: Los datos corresponden a 2013 pues son los últimos disponibles","Nota: Los datos corresponden a 2013 pues son los últimos disponibles","Nota: Los datos corresponden a 2013 pues son los últimos disponibles","Nota: Los datos corresponden a 2013 pues son los últimos disponibles","Nota: Los datos corresponden a 2013 pues son los últimos disponibles","Nota: Los datos corresponden a 2013 pues son los últimos disponibles","Nota: Los datos corresponden a 2013 pues son los últimos disponibles","Nota: Los datos corresponden a 2013 pues son los últimos disponibles","Nota: Los datos corresponden a 2013 pues son los últimos disponibles","Nota: Los datos corresponden a 2013 pues son los últimos disponibles","Nota: Los datos corresponden a 2013 pues son los últimos disponibles","Nota: Los datos corresponden a 2013 pues son los últimos disponibles","Nota: Los datos corresponden a 2013 pues son los últimos disponibles","Nota: Los datos corresponden a 2013 pues son los últimos disponibles","Nota: Los datos corresponden a 2013 pues son los últimos disponibles","Nota: Los datos corresponden a 2013 pues son los últimos disponibles","Nota: Los datos corresponden a 2013 pues son los últimos disponibles","Nota: Los datos corresponden a 2013 pues son los últimos disponibles","Nota: Los datos corresponden a 2013 pues son los últimos disponibles","Nota: Los datos corresponden a 2013 pues son los últimos disponibles","Nota: Los datos corresponden a 2013 pues son los últimos disponibles","Nota: Los datos corresponden a 2013 pues son los últimos disponibles","Nota: Los datos corresponden a 2013 pues son los últimos disponibles","Nota: Los datos corresponden a 2013 pues son los últimos disponibles","Nota: Los datos corresponden a 2013 pues son los últimos disponibles","Nota: Los datos corresponden a 2013 pues son los últimos disponibles","Nota: Los datos corresponden a 2013 pues son los últimos disponibles","Nota: Los datos corresponden a 2013 pues son los últimos disponibles","Nota: Los datos corresponden a 2013 pues son los últimos disponibles","Nota: Los datos corresponden a 2013 pues son los últimos disponibles","Nota: Los datos corresponden a 2013 pues son los últimos disponibles","Nota: Los datos corresponden a 2013 pues son los últimos disponibles","Nota: Los datos corresponden a 2013 pues son los últimos disponibles","Nota: Los datos corresponden a 2013 pues son los últimos disponibles","Nota: Los datos corresponden a 2013 pues son los últimos disponibles","Nota: Los datos corresponden a 2013 pues son los últimos disponibles","Nota: Los datos corresponden a 2013 pues son los últimos disponibles","Nota: Los datos corresponden a 2013 pues son los últimos disponibles","Nota: Los datos corresponden a 2013 pues son los últimos disponibles","Nota: Los datos corresponden a 2013 pues son los últimos disponibles","Nota: Los datos corresponden a 2013 pues son los últimos disponibles","Nota: Los datos corresponden a 2013 pues son los últimos disponibles","Nota: Los datos corresponden a 2013 pues son los últimos disponibles","Nota: Los datos corresponden a 2013 pues son los últimos disponibles","Nota: Los datos corresponden a 2013 pues son los últimos disponibles","Nota: Los datos corresponden a 2013 pues son los últimos disponibles","Nota: Los datos corresponden a 2013 pues son los últimos disponibles","Nota: Los datos corresponden a 2013 pues son los últimos disponibles","Nota: Los datos corresponden a 2013 pues son los últimos disponibles","Nota: Los datos corresponden a 2013 pues son los últimos disponibles","Nota: Los datos corresponden a 2013 pues son los últimos disponibles","Nota: Los datos corresponden a 2013 pues son los últimos disponibles","Nota: Los datos corresponden a 2013 pues son los últimos disponibles","Nota: Los datos corresponden a 2013 pues son los últimos disponibles","Nota: Los datos corresponden a 2013 pues son los últimos disponibles","Nota: Los datos corresponden a 2013 pues son los últimos disponibles","Nota: Los datos corresponden a 2013 pues son los últimos disponibles","Nota: Los datos corresponden a 2013 pues son los últimos disponibles","Nota: Los datos corresponden a 2013 pues son los últimos disponibles","Nota: Los datos corresponden a 2013 pues son los últimos disponibles","Nota: Los datos corresponden a 2013 pues son los últimos disponibles","Nota: Los datos corresponden a 2013 pues son los últimos disponibles","Nota: Los datos corresponden a 2013 pues son los últimos disponibles","Nota: Los datos corresponden a 2013 pues son los últimos disponibles","Nota: Los datos corresponden a 2013 pues son los últimos disponibles","Nota: Los datos corresponden a 2013 pues son los últimos disponibles","Nota: Los datos corresponden a 2013 pues son los últimos disponibles","Nota: Los datos corresponden a 2013 pues son los últimos disponibles","Nota: Los datos corresponden a 2013 pues son los últimos disponibles","Nota: Los datos corresponden a 2013 pues son los últimos disponibles","Nota: Los datos corresponden a 2013 pues son los últimos disponibles","Nota: Los datos corresponden a 2013 pues son los últimos disponibles","Nota: Los datos corresponden a 2013 pues son los últimos disponibles","Nota: Los datos corresponden a 2013 pues son los últimos disponibles","Nota: Los datos corresponden a 2013 pues son los últimos disponibles","Nota: Los datos corresponden a 2013 pues son los últimos disponibles","Nota: Los datos corresponden a 2013 pues son los últimos disponibles","Nota: Los datos corresponden a 2013 pues son los últimos disponibles","Nota: Los datos corresponden a 2013 pues son los últimos disponibles","Nota: Los datos corresponden a 2013 pues son los últimos disponibles","Nota: Los datos corresponden a 2013 pues son los últimos disponibles","Nota: Los datos corresponden a 2013 pues son los últimos disponibles","Nota: Los datos corresponden a 2013 pues son los últimos disponibles","Nota: Los datos corresponden a 2013 pues son los últimos disponibles","Nota: Los datos corresponden a 2013 pues son los últimos disponibles","Nota: Los datos corresponden a 2013 pues son los últimos disponibles","Nota: Los datos corresponden a 2013 pues son los últimos disponibles","Nota: Los datos corresponden a 2013 pues son los últimos disponibles","Nota: Los datos corresponden a 2013 pues son los últimos disponibles","Nota: Los datos corresponden a 2013 pues son los últimos disponibles","Nota: Los datos corresponden a 2013 pues son los últimos disponibles","Nota: Los datos corresponden a 2013 pues son los últimos disponibles","Nota: Los datos corresponden a 2013 pues son los últimos disponibles","Nota: Los datos corresponden a 2013 pues son los últimos disponibles","Nota: Los datos corresponden a 2013 pues son los últimos disponibles","Nota: Los datos corresponden a 2013 pues son los últimos disponibles","Nota: Los datos corresponden a 2013 pues son los últimos disponibles","Nota: Los datos corresponden a 2013 pues son los últimos disponibles","Nota: Los datos corresponden a 2013 pues son los últimos disponibles","Nota: Los datos corresponden a 2013 pues son los últimos disponibles","Nota: Los datos corresponden a 2013 pues son los últimos disponibles","Nota: Los datos corresponden a 2013 pues son los últimos disponibles","Nota: Los datos corresponden a 2013 pues son los últimos disponibles","Nota: Los datos corresponden a 2013 pues son los últimos disponibles","Nota: Los datos corresponden a 2013 pues son los últimos disponibles","Nota: Los datos corresponden a 2013 pues son los últimos disponibles","Nota: Los datos corresponden a 2013 pues son los últimos disponibles","Nota: Los datos corresponden a 2013 pues son los últimos disponibles","Nota: Los datos corresponden a 2013 pues son los últimos disponibles","Nota: Los datos corresponden a 2013 pues son los últimos disponibles","Nota: Los datos corresponden a 2013 pues son los últimos disponibles","Nota: Los datos corresponden a 2013 pues son los últimos disponibles","Nota: Los datos corresponden a 2013 pues son los últimos disponibles","Nota: Los datos corresponden a 2013 pues son los últimos disponibles","Nota: Los datos corresponden a 2013 pues son los últimos disponibles","Nota: Los datos corresponden a 2013 pues son los últimos disponibles","Nota: Los datos corresponden a 2013 pues son los últimos disponibles","Nota: Los datos corresponden a 2013 pues son los últimos disponibles","Nota: Los datos corresponden a 2013 pues son los últimos disponibles","Nota: Los datos corresponden a 2013 pues son los últimos disponibles","Nota: Los datos corresponden a 2013 pues son los últimos disponibles","Nota: Los datos corresponden a 2013 pues son los últimos disponibles","Nota: Los datos corresponden a 2013 pues son los últimos disponibles","Nota: Los datos corresponden a 2013 pues son los últimos disponibles","Nota: Los datos corresponden a 2013 pues son los últimos disponibles","Nota: Los datos corresponden a 2013 pues son los últimos disponibles","Nota: Los datos corresponden a 2013 pues son los últimos disponibles","Nota: Los datos corresponden a 2013 pues son los últimos disponibles","Nota: Los datos corresponden a 2013 pues son los últimos disponibles","Nota: Los datos corresponden a 2013 pues son los últimos disponibles","Nota: Los datos corresponden a 2013 pues son los últimos disponibles","Nota: Los datos corresponden a 2013 pues son los últimos disponibles","Nota: Los datos corresponden a 2013 pues son los últimos disponibles","Nota: Los datos corresponden a 2013 pues son los últimos disponibles","Nota: Los datos corresponden a 2013 pues son los últimos disponibles","Nota: Los datos corresponden a 2013 pues son los últimos disponibles","Nota: Los datos corresponden a 2013 pues son los últimos disponibles","Nota: Los datos corresponden a 2013 pues son los últimos disponibles","Nota: Los datos corresponden a 2013 pues son los últimos disponibles","Nota: Los datos corresponden a 2013 pues son los últimos disponibles","Nota: Los datos corresponden a 2013 pues son los últimos disponibles","Nota: Los datos corresponden a 2013 pues son los últimos disponibles","Nota: Los datos corresponden a 2013 pues son los últimos disponibles","Nota: Los datos corresponden a 2013 pues son los últimos disponibles","Nota: Los datos corresponden a 2013 pues son los últimos disponibles","Nota: Los datos corresponden a 2013 pues son los últimos disponibles","Nota: Los datos corresponden a 2013 pues son los últimos disponibles","Nota: Los datos corresponden a 2013 pues son los últimos disponibles","Nota: Los datos corresponden a 2013 pues son los últimos disponibles","Nota: Los datos corresponden a 2013 pues son los últimos disponibles","Nota: Los datos corresponden a 2013 pues son los últimos disponibles","Nota: Los datos corresponden a 2013 pues son los últimos disponibles","Nota: Los datos corresponden a 2013 pues son los últimos disponibles","Nota: Los datos corresponden a 2013 pues son los últimos disponibles","Nota: Los datos corresponden a 2013 pues son los últimos disponibles","Nota: Los datos corresponden a 2013 pues son los últimos disponibles","Nota: Los datos corresponden a 2013 pues son los últimos disponibles","Nota: Los datos corresponden a 2013 pues son los últimos disponibles","Nota: Los datos corresponden a 2013 pues son los últimos disponibles","Nota: Los datos corresponden a 2013 pues son los últimos disponibles","Nota: Los datos corresponden a 2013 pues son los últimos disponibles","Nota: Los datos corresponden a 2013 pues son los últimos disponibles","Nota: Los datos corresponden a 2013 pues son los últimos disponibles","Nota: Los datos corresponden a 2013 pues son los últimos disponibles","Nota: Los datos corresponden a 2013 pues son los últimos disponibles","Nota: Los datos corresponden a 2013 pues son los últimos disponibles","Nota: Los datos corresponden a 2013 pues son los últimos disponibles","Nota: Los datos corresponden a 2013 pues son los últimos disponibles","Nota: Los datos corresponden a 2013 pues son los últimos disponibles","Nota: Los datos corresponden a 2013 pues son los últimos disponibles","Nota: Los datos corresponden a 2013 pues son los últimos disponibles","Nota: Los datos corresponden a 2013 pues son los últimos disponibles","Nota: Los datos corresponden a 2013 pues son los últimos disponibles","Nota: Los datos corresponden a 2013 pues son los últimos disponibles","Nota: Los datos corresponden a 2013 pues son los últimos disponibles","Nota: Los datos corresponden a 2013 pues son los últimos disponibles","Nota: Los datos corresponden a 2013 pues son los últimos disponibles","Nota: Los datos corresponden a 2013 pues son los últimos disponibles","Nota: Los datos corresponden a 2013 pues son los últimos disponibles","Nota: Los datos corresponden a 2013 pues son los últimos disponibles","Nota: Los datos corresponden a 2013 pues son los últimos disponibles","Nota: Los datos corresponden a 2013 pues son los últimos disponibles","Nota: Los datos corresponden a 2013 pues son los últimos disponibles","Nota: Los datos corresponden a 2013 pues son los últimos disponibles","Nota: Los datos corresponden a 2013 pues son los últimos disponibles","Nota: Los datos corresponden a 2013 pues son los últimos disponibles","Nota: Los datos corresponden a 2013 pues son los últimos disponibles","Nota: Los datos corresponden a 2013 pues son los últimos disponibles","Nota: Los datos corresponden a 2013 pues son los últimos disponibles","Nota: Los datos corresponden a 2013 pues son los últimos disponibles","Nota: Los datos corresponden a 2013 pues son los últimos disponibles","Nota: Los datos corresponden a 2013 pues son los últimos disponibles","Nota: Los datos corresponden a 2013 pues son los últimos disponibles","Nota: Los datos corresponden a 2013 pues son los últimos disponibles","Nota: Los datos corresponden a 2013 pues son los últimos disponibles","Nota: Los datos corresponden a 2013 pues son los últimos disponibles","Nota: Los datos corresponden a 2013 pues son los últimos disponibles","Nota: Los datos corresponden a 2013 pues son los últimos disponibles","Nota: Los datos corresponden a 2013 pues son los últimos disponibles","Nota: Los datos corresponden a 2013 pues son los últimos disponibles","Nota: Los datos corresponden a 2013 pues son los últimos disponibles","Nota: Los datos corresponden a 2013 pues son los últimos disponibles","Nota: Los datos corresponden a 2013 pues son los últimos disponibles","Nota: Los datos corresponden a 2013 pues son los últimos disponibles","Nota: Los datos corresponden a 2013 pues son los últimos disponibles","Nota: Los datos corresponden a 2013 pues son los últimos disponibles","Nota: Los datos corresponden a 2013 pues son los últimos disponibles","Nota: Los datos corresponden a 2013 pues son los últimos disponibles","Nota: Los datos corresponden a 2013 pues son los últimos disponibles","Nota: Los datos corresponden a 2013 pues son los últimos disponibles","Nota: Los datos corresponden a 2013 pues son los últimos disponibles","Nota: Los datos corresponden a 2013 pues son los últimos disponibles","Nota: Los datos corresponden a 2013 pues son los últimos disponibles","Nota: Los datos corresponden a 2013 pues son los últimos disponibles","Nota: Los datos corresponden a 2013 pues son los últimos disponibles","Nota: Los datos corresponden a 2013 pues son los últimos disponibles","Nota: Los datos corresponden a 2013 pues son los últimos disponibles","Nota: Los datos corresponden a 2013 pues son los últimos disponibles","Nota: Los datos corresponden a 2013 pues son los últimos disponibles","Nota: Los datos corresponden a 2013 pues son los últimos disponibles","Nota: Los datos corresponden a 2013 pues son los últimos disponibles","Nota: Los datos corresponden a 2013 pues son los últimos disponibles","Nota: Los datos corresponden a 2013 pues son los últimos disponibles","Nota: Los datos corresponden a 2013 pues son los últimos disponibles","Nota: Los datos corresponden a 2013 pues son los últimos disponibles","Nota: Los datos corresponden a 2013 pues son los últimos disponibles","Nota: Los datos corresponden a 2013 pues son los últimos disponibles","Nota: Los datos corresponden a 2013 pues son los últimos disponibles","Nota: Los datos corresponden a 2013 pues son los últimos disponibles","Nota: Los datos corresponden a 2013 pues son los últimos disponibles","Nota: Los datos corresponden a 2013 pues son los últimos disponibles","Nota: Los datos corresponden a 2013 pues son los últimos disponibles","Nota: Los datos corresponden a 2013 pues son los últimos disponibles","Nota: Los datos corresponden a 2013 pues son los últimos disponibles","Nota: Los datos corresponden a 2013 pues son los últimos disponibles","Nota: Los datos corresponden a 2013 pues son los últimos disponibles","Nota: Los datos corresponden a 2013 pues son los últimos disponibles","Nota: Los datos corresponden a 2013 pues son los últimos disponibles","Nota: Los datos corresponden a 2013 pues son los últimos disponibles","Nota: Los datos corresponden a 2013 pues son los últimos disponibles","Nota: Los datos corresponden a 2013 pues son los últimos disponibles","Nota: Los datos corresponden a 2013 pues son los últimos disponibles","Nota: Los datos corresponden a 2013 pues son los últimos disponibles","Nota: Los datos corresponden a 2013 pues son los últimos disponibles","Nota: Los datos corresponden a 2013 pues son los últimos disponibles","Nota: Los datos corresponden a 2013 pues son los últimos disponibles","Nota: Los datos corresponden a 2013 pues son los últimos disponibles","Nota: Los datos corresponden a 2013 pues son los últimos disponibles","Nota: Los datos corresponden a 2013 pues son los últimos disponibles","Nota: Los datos corresponden a 2013 pues son los últimos disponibles","Nota: Los datos corresponden a 2013 pues son los últimos disponibles","Nota: Los datos corresponden a 2013 pues son los últimos disponibles","Nota: Los datos corresponden a 2013 pues son los últimos disponibles","Nota: Los datos corresponden a 2013 pues son los últimos disponibles","Nota: Los datos corresponden a 2013 pues son los últimos disponibles","Nota: Los datos corresponden a 2013 pues son los últimos disponibles","Nota: Los datos corresponden a 2013 pues son los últimos disponibles","Nota: Los datos corresponden a 2013 pues son los últimos disponibles","Nota: Los datos corresponden a 2013 pues son los últimos disponibles","Nota: Los datos corresponden a 2013 pues son los últimos disponibles","Nota: Los datos corresponden a 2013 pues son los últimos disponibles","Nota: Los datos corresponden a 2013 pues son los últimos disponibles","Nota: Los datos corresponden a 2013 pues son los últimos disponibles","Nota: Los datos corresponden a 2013 pues son los últimos disponibles","Nota: Los datos corresponden a 2013 pues son los últimos disponibles","Nota: Los datos corresponden a 2013 pues son los últimos disponibles","Nota: Los datos corresponden a 2013 pues son los últimos disponibles","Nota: Los datos corresponden a 2013 pues son los últimos disponibles","Nota: Los datos corresponden a 2013 pues son los últimos disponibles","Nota: Los datos corresponden a 2013 pues son los últimos disponibles","Nota: Los datos corresponden a 2013 pues son los últimos disponibles","Nota: Los datos corresponden a 2013 pues son los últimos disponibles","Nota: Los datos corresponden a 2013 pues son los últimos disponibles","Nota: Los datos corresponden a 2013 pues son los últimos disponibles","Nota: Los datos corresponden a 2013 pues son los últimos disponibles","Nota: Los datos corresponden a 2013 pues son los últimos disponibles","Nota: Los datos corresponden a 2013 pues son los últimos disponibles","Nota: Los datos corresponden a 2013 pues son los últimos disponibles","Nota: Los datos corresponden a 2013 pues son los últimos disponibles","Nota: Los datos corresponden a 2013 pues son los últimos disponibles","Nota: Los datos corresponden a 2013 pues son los últimos disponibles","Nota: Los datos corresponden a 2013 pues son los últimos disponibles","Nota: Los datos corresponden a 2013 pues son los últimos disponibles","Nota: Los datos corresponden a 2013 pues son los últimos disponibles","Nota: Los datos corresponden a 2013 pues son los últimos disponibles","Nota: Los datos corresponden a 2013 pues son los últimos disponibles","Nota: Los datos corresponden a 2013 pues son los últimos disponibles","Nota: Los datos corresponden a 2013 pues son los últimos disponibles","Nota: Los datos corresponden a 2013 pues son los últimos disponibles","Nota: Los datos corresponden a 2013 pues son los últimos disponibles","Nota: Los datos corresponden a 2013 pues son los últimos disponibles","Nota: Los datos corresponden a 2013 pues son los últimos disponibles","Nota: Los datos corresponden a 2013 pues son los últimos disponibles","Nota: Los datos corresponden a 2013 pues son los últimos disponibles","Nota: Los datos corresponden a 2013 pues son los últimos disponibles","Nota: Los datos corresponden a 2013 pues son los últimos disponibles","Nota: Los datos corresponden a 2013 pues son los últimos disponibles","Nota: Los datos corresponden a 2013 pues son los últimos disponibles","Nota: Los datos corresponden a 2013 pues son los últimos disponibles","Nota: Los datos corresponden a 2013 pues son los últimos disponibles","Nota: Los datos corresponden a 2013 pues son los últimos disponibles","Nota: Los datos corresponden a 2013 pues son los últimos disponibles","Nota: Los datos corresponden a 2013 pues son los últimos disponibles","Nota: Los datos corresponden a 2013 pues son los últimos disponibles","Nota: Los datos corresponden a 2013 pues son los últimos disponibles","Nota: Los datos corresponden a 2013 pues son los últimos disponibles","Nota: Los datos corresponden a 2013 pues son los últimos disponibles","Nota: Los datos corresponden a 2013 pues son los últimos disponibles","Nota: Los datos corresponden a 2013 pues son los últimos disponibles","Nota: Los datos corresponden a 2013 pues son los últimos disponibles","Nota: Los datos corresponden a 2013 pues son los últimos disponibles","Nota: Los datos corresponden a 2013 pues son los últimos disponibles","Nota: Los datos corresponden a 2013 pues son los últimos disponibles","Nota: Los datos corresponden a 2013 pues son los últimos disponibles","Nota: Los datos corresponden a 2013 pues son los últimos disponibles","Nota: Los datos corresponden a 2013 pues son los últimos disponibles","Nota: Los datos corresponden a 2013 pues son los últimos disponibles","Nota: Los datos corresponden a 2013 pues son los últimos disponibles","Nota: Los datos corresponden a 2013 pues son los últimos disponibles","Nota: Los datos corresponden a 2013 pues son los últimos disponibles","Nota: Los datos corresponden a 2013 pues son los últimos disponibles","Nota: Los datos corresponden a 2013 pues son los últimos disponibles","Nota: Los datos corresponden a 2013 pues son los últimos disponibles","Nota: Los datos corresponden a 2013 pues son los últimos disponibles","Nota: Los datos corresponden a 2013 pues son los últimos disponibles","Nota: Los datos corresponden a 2013 pues son los últimos disponibles","Nota: Los datos corresponden a 2013 pues son los últimos disponibles","Nota: Los datos corresponden a 2013 pues son los últimos disponibles","Nota: Los datos corresponden a 2013 pues son los últimos disponibles","Nota: Los datos corresponden a 2013 pues son los últimos disponibles","Nota: Los datos corresponden a 2013 pues son los últimos disponibles","Nota: Los datos corresponden a 2013 pues son los últimos disponibles","Nota: Los datos corresponden a 2013 pues son los últimos disponibles","Nota: Los datos corresponden a 2013 pues son los últimos disponibles","Nota: Los datos corresponden a 2013 pues son los últimos disponibles","Nota: Los datos corresponden a 2013 pues son los últimos disponibles","Nota: Los datos corresponden a 2013 pues son los últimos disponibles","Nota: Los datos corresponden a 2013 pues son los últimos disponibles","Nota: Los datos corresponden a 2013 pues son los últimos disponibles","Nota: Los datos corresponden a 2013 pues son los últimos disponibles","Nota: Los datos corresponden a 2013 pues son los últimos disponibles","Nota: Los datos corresponden a 2013 pues son los últimos disponibles","Nota: Los datos corresponden a 2013 pues son los últimos disponibles","Nota: Los datos corresponden a 2013 pues son los últimos disponibles","Nota: Los datos corresponden a 2013 pues son los últimos disponibles","Nota: Los datos corresponden a 2013 pues son los últimos disponibles","Nota: Los datos corresponden a 2013 pues son los últimos disponibles","Nota: Los datos corresponden a 2013 pues son los últimos disponibles","Nota: Los datos corresponden a 2013 pues son los últimos disponibles","Nota: Los datos corresponden a 2013 pues son los últimos disponibles","Nota: Los datos corresponden a 2013 pues son los últimos disponibles","Nota: Los datos corresponden a 2013 pues son los últimos disponibles","Nota: Los datos corresponden a 2013 pues son los últimos disponibles","Nota: Los datos corresponden a 2013 pues son los últimos disponibles","Nota: Los datos corresponden a 2013 pues son los últimos disponibles","Nota: Los datos corresponden a 2013 pues son los últimos disponibles","Nota: Los datos corresponden a 2013 pues son los últimos disponibles","Nota: Los datos corresponden a 2013 pues son los últimos disponibles","Nota: Los datos corresponden a 2013 pues son los últimos disponibles","Nota: Los datos corresponden a 2013 pues son los últimos disponibles","Nota: Los datos corresponden a 2013 pues son los últimos disponibles","Nota: Los datos corresponden a 2013 pues son los últimos disponibles","Nota: Los datos corresponden a 2013 pues son los últimos disponibles","Nota: Los datos corresponden a 2013 pues son los últimos disponibles","Nota: Los datos corresponden a 2013 pues son los últimos disponibles","Nota: Los datos corresponden a 2013 pues son los últimos disponibles","Nota: Los datos corresponden a 2013 pues son los últimos disponibles","Nota: Los datos corresponden a 2013 pues son los últimos disponibles","Nota: Los datos corresponden a 2013 pues son los últimos disponibles","Nota: Los datos corresponden a 2013 pues son los últimos disponibles","Nota: Los datos corresponden a 2013 pues son los últimos disponibles","Nota: Los datos corresponden a 2013 pues son los últimos disponibles","Nota: Los datos corresponden a 2013 pues son los últimos disponibles","Nota: Los datos corresponden a 2013 pues son los últimos disponibles","Nota: Los datos corresponden a 2013 pues son los últimos disponibles","Nota: Los datos corresponden a 2013 pues son los últimos disponibles","Nota: Los datos corresponden a 2013 pues son los últimos disponibles","Nota: Los datos corresponden a 2013 pues son los últimos disponibles","Nota: Los datos corresponden a 2013 pues son los últimos disponibles","Nota: Los datos corresponden a 2013 pues son los últimos disponibles","Nota: Los datos corresponden a 2013 pues son los últimos disponibles","Nota: Los datos corresponden a 2013 pues son los últimos disponibles","Nota: Los datos corresponden a 2013 pues son los últimos disponibles","Nota: Los datos corresponden a 2013 pues son los últimos disponibles","Nota: Los datos corresponden a 2013 pues son los últimos disponibles","Nota: Los datos corresponden a 2013 pues son los últimos disponibles","Nota: Los datos corresponden a 2013 pues son los últimos disponibles","Nota: Los datos corresponden a 2013 pues son los últimos disponibles","Nota: Los datos corresponden a 2013 pues son los últimos disponibles","Nota: Los datos corresponden a 2013 pues son los últimos disponibles","Nota: Los datos corresponden a 2013 pues son los últimos disponibles","Nota: Los datos corresponden a 2013 pues son los últimos disponibles","Nota: Los datos corresponden a 2013 pues son los últimos disponibles","Nota: Los datos corresponden a 2013 pues son los últimos disponibles","Nota: Los datos corresponden a 2013 pues son los últimos disponibles","Nota: Los datos corresponden a 2013 pues son los últimos disponibles","Nota: Los datos corresponden a 2013 pues son los últimos disponibles","Nota: Los datos corresponden a 2013 pues son los últimos disponibles","Nota: Los datos corresponden a 2013 pues son los últimos disponibles","Nota: Los datos corresponden a 2013 pues son los últimos disponibles","Nota: Los datos corresponden a 2013 pues son los últimos disponibles","Nota: Los datos corresponden a 2013 pues son los últimos disponibles","Nota: Los datos corresponden a 2013 pues son los últimos disponibles","Nota: Los datos corresponden a 2013 pues son los últimos disponibles","Nota: Los datos corresponden a 2013 pues son los últimos disponibles","Nota: Los datos corresponden a 2013 pues son los últimos disponibles","Nota: Los datos corresponden a 2013 pues son los últimos disponibles","Nota: Los datos corresponden a 2013 pues son los últimos disponibles","Nota: Los datos corresponden a 2013 pues son los últimos disponibles","Nota: Los datos corresponden a 2013 pues son los últimos disponibles","Nota: Los datos corresponden a 2013 pues son los últimos disponibles","Nota: Los datos corresponden a 2013 pues son los últimos disponibles","Nota: Los datos corresponden a 2013 pues son los últimos disponibles","Nota: Los datos corresponden a 2013 pues son los últimos disponibles","Nota: Los datos corresponden a 2013 pues son los últimos disponibles","Nota: Los datos corresponden a 2013 pues son los últimos disponibles","Nota: Los datos corresponden a 2013 pues son los últimos disponibles","Nota: Los datos corresponden a 2013 pues son los últimos disponibles","Nota: Los datos corresponden a 2013 pues son los últimos disponibles","Nota: Los datos corresponden a 2013 pues son los últimos disponibles","Nota: Los datos corresponden a 2013 pues son los últimos disponibles","Nota: Los datos corresponden a 2013 pues son los últimos disponibles","Nota: Los datos corresponden a 2013 pues son los últimos disponibles","Nota: Los datos corresponden a 2013 pues son los últimos disponibles","Nota: Los datos corresponden a 2013 pues son los últimos disponibles","Nota: Los datos corresponden a 2013 pues son los últimos disponibles","Nota: Los datos corresponden a 2013 pues son los últimos disponibles","Nota: Los datos corresponden a 2013 pues son los últimos disponibles","Nota: Los datos corresponden a 2013 pues son los últimos disponibles","Nota: Los datos corresponden a 2013 pues son los últimos disponibles","Nota: Los datos corresponden a 2013 pues son los últimos disponibles","Nota: Los datos corresponden a 2013 pues son los últimos disponibles","Nota: Los datos corresponden a 2013 pues son los últimos disponibles","Nota: Los datos corresponden a 2013 pues son los últimos disponibles","Nota: Los datos corresponden a 2013 pues son los últimos disponibles","Nota: Los datos corresponden a 2013 pues son los últimos disponibles","Nota: Los datos corresponden a 2013 pues son los últimos disponibles","Nota: Los datos corresponden a 2013 pues son los últimos disponibles","Nota: Los datos corresponden a 2013 pues son los últimos disponibles","Nota: Los datos corresponden a 2013 pues son los últimos disponibles","Nota: Los datos corresponden a 2013 pues son los últimos disponibles","Nota: Los datos corresponden a 2013 pues son los últimos disponibles","Nota: Los datos corresponden a 2013 pues son los últimos disponibles","Nota: Los datos corresponden a 2013 pues son los últimos disponibles","Nota: Los datos corresponden a 2013 pues son los últimos disponibles","Nota: Los datos corresponden a 2013 pues son los últimos disponibles","Nota: Los datos corresponden a 2013 pues son los últimos disponibles","Nota: Los datos corresponden a 2013 pues son los últimos disponibles","Nota: Los datos corresponden a 2013 pues son los últimos disponibles","Nota: Los datos corresponden a 2013 pues son los últimos disponibles","Nota: Los datos corresponden a 2013 pues son los últimos disponibles","Nota: Los datos corresponden a 2013 pues son los últimos disponibles","Nota: Los datos corresponden a 2013 pues son los últimos disponibles","Nota: Los datos corresponden a 2013 pues son los últimos disponibles","Nota: Los datos corresponden a 2013 pues son los últimos disponibles","Nota: Los datos corresponden a 2013 pues son los últimos disponibles","Nota: Los datos corresponden a 2013 pues son los últimos disponibles","Nota: Los datos corresponden a 2013 pues son los últimos disponibles","Nota: Los datos corresponden a 2013 pues son los últimos disponibles","Nota: Los datos corresponden a 2013 pues son los últimos disponibles","Nota: Los datos corresponden a 2013 pues son los últimos disponibles","Nota: Los datos corresponden a 2013 pues son los últimos disponibles","Nota: Los datos corresponden a 2013 pues son los últimos disponibles","Nota: Los datos corresponden a 2013 pues son los últimos disponibles","Nota: Los datos corresponden a 2013 pues son los últimos disponibles","Nota: Los datos corresponden a 2013 pues son los últimos disponibles","Nota: Los datos corresponden a 2013 pues son los últimos disponibles","Nota: Los datos corresponden a 2013 pues son los últimos disponibles","Nota: Los datos corresponden a 2013 pues son los últimos disponibles","Nota: Los datos corresponden a 2013 pues son los últimos disponibles","Nota: Los datos corresponden a 2013 pues son los últimos disponibles","Nota: Los datos corresponden a 2013 pues son los últimos disponibles","Nota: Los datos corresponden a 2013 pues son los últimos disponibles","Nota: Los datos corresponden a 2013 pues son los últimos disponibles","Nota: Los datos corresponden a 2013 pues son los últimos disponibles","Nota: Los datos corresponden a 2013 pues son los últimos disponibles","Nota: Los datos corresponden a 2013 pues son los últimos disponibles","Nota: Los datos corresponden a 2013 pues son los últimos disponibles","Nota: Los datos corresponden a 2013 pues son los últimos disponibles","Nota: Los datos corresponden a 2013 pues son los últimos disponibles","Nota: Los datos corresponden a 2013 pues son los últimos disponibles","Nota: Los datos corresponden a 2013 pues son los últimos disponibles","Nota: Los datos corresponden a 2013 pues son los últimos disponibles","Nota: Los datos corresponden a 2013 pues son los últimos disponibles","Nota: Los datos corresponden a 2013 pues son los últimos disponibles","Nota: Los datos corresponden a 2013 pues son los últimos disponibles","Nota: Los datos corresponden a 2013 pues son los últimos disponibles","Nota: Los datos corresponden a 2013 pues son los últimos disponibles","Nota: Los datos corresponden a 2013 pues son los últimos disponibles","Nota: Los datos corresponden a 2013 pues son los últimos disponibles","Nota: Los datos corresponden a 2013 pues son los últimos disponibles","Nota: Los datos corresponden a 2013 pues son los últimos disponibles","Nota: Los datos corresponden a 2013 pues son los últimos disponibles","Nota: Los datos corresponden a 2013 pues son los últimos disponibles","Nota: Los datos corresponden a 2013 pues son los últimos disponibles","Nota: Los datos corresponden a 2013 pues son los últimos disponibles","Nota: Los datos corresponden a 2013 pues son los últimos disponibles","Nota: Los datos corresponden a 2013 pues son los últimos disponibles","Nota: Los datos corresponden a 2013 pues son los últimos disponibles","Nota: Los datos corresponden a 2013 pues son los últimos disponibles","Nota: Los datos corresponden a 2013 pues son los últimos disponibles","Nota: Los datos corresponden a 2013 pues son los últimos disponibles","Nota: Los datos corresponden a 2013 pues son los últimos disponibles","Nota: Los datos corresponden a 2013 pues son los últimos disponibles","Nota: Los datos corresponden a 2013 pues son los últimos disponibles","Nota: Los datos corresponden a 2013 pues son los últimos disponibles","Nota: Los datos corresponden a 2013 pues son los últimos disponibles","Nota: Los datos corresponden a 2013 pues son los últimos disponibles","Nota: Los datos corresponden a 2013 pues son los últimos disponibles","Nota: Los datos corresponden a 2013 pues son los últimos disponibles","Nota: Los datos corresponden a 2013 pues son los últimos disponibles","Nota: Los datos corresponden a 2013 pues son los últimos disponibles","Nota: Los datos corresponden a 2013 pues son los últimos disponibles","Nota: Los datos corresponden a 2013 pues son los últimos disponibles","Nota: Los datos corresponden a 2013 pues son los últimos disponibles","Nota: Los datos corresponden a 2013 pues son los últimos disponibles","Nota: Los datos corresponden a 2013 pues son los últimos disponibles","Nota: Los datos corresponden a 2013 pues son los últimos disponibles","Nota: Los datos corresponden a 2013 pues son los últimos disponibles","Nota: Los datos corresponden a 2013 pues son los últimos disponibles","Nota: Los datos corresponden a 2013 pues son los últimos disponibles","Nota: Los datos corresponden a 2013 pues son los últimos disponibles","Nota: Los datos corresponden a 2013 pues son los últimos disponibles","Nota: Los datos corresponden a 2013 pues son los últimos disponibles","Nota: Los datos corresponden a 2013 pues son los últimos disponibles","Nota: Los datos corresponden a 2013 pues son los últimos disponibles","Nota: Los datos corresponden a 2013 pues son los últimos disponibles","Nota: Los datos corresponden a 2013 pues son los últimos disponibles","Nota: Los datos corresponden a 2013 pues son los últimos disponibles","Nota: Los datos corresponden a 2013 pues son los últimos disponibles","Nota: Los datos corresponden a 2013 pues son los últimos disponibles","Nota: Los datos corresponden a 2013 pues son los últimos disponibles","Nota: Los datos corresponden a 2013 pues son los últimos disponibles","Nota: Los datos corresponden a 2013 pues son los últimos disponibles","Nota: Los datos corresponden a 2013 pues son los últimos disponibles","Nota: Los datos corresponden a 2013 pues son los últimos disponibles","Nota: Los datos corresponden a 2013 pues son los últimos disponibles","Nota: Los datos corresponden a 2013 pues son los últimos disponibles","Nota: Los datos corresponden a 2013 pues son los últimos disponibles","Nota: Los datos corresponden a 2013 pues son los últimos disponibles","Nota: Los datos corresponden a 2013 pues son los últimos disponibles","Nota: Los datos corresponden a 2013 pues son los últimos disponibles","Nota: Los datos corresponden a 2013 pues son los últimos disponibles","Nota: Los datos corresponden a 2013 pues son los últimos disponibles","Nota: Los datos corresponden a 2013 pues son los últimos disponibles","Nota: Los datos corresponden a 2013 pues son los últimos disponibles","Nota: Los datos corresponden a 2013 pues son los últimos disponibles","Nota: Los datos corresponden a 2013 pues son los últimos disponibles","Nota: Los datos corresponden a 2013 pues son los últimos disponibles","Nota: Los datos corresponden a 2013 pues son los últimos disponibles","Nota: Los datos corresponden a 2013 pues son los últimos disponibles","Nota: Los datos corresponden a 2013 pues son los últimos disponibles","Nota: Los datos corresponden a 2013 pues son los últimos disponibles","Nota: Los datos corresponden a 2013 pues son los últimos disponibles","Nota: Los datos corresponden a 2013 pues son los últimos disponibles","Nota: Los datos corresponden a 2013 pues son los últimos disponibles","Nota: Los datos corresponden a 2013 pues son los últimos disponibles","Nota: Los datos corresponden a 2013 pues son los últimos disponibles","Nota: Los datos corresponden a 2013 pues son los últimos disponibles","Nota: Los datos corresponden a 2013 pues son los últimos disponibles","Nota: Los datos corresponden a 2013 pues son los últimos disponibles","Nota: Los datos corresponden a 2013 pues son los últimos disponibles","Nota: Los datos corresponden a 2013 pues son los últimos disponibles","Nota: Los datos corresponden a 2013 pues son los últimos disponibles","Nota: Los datos corresponden a 2013 pues son los últimos disponibles","Nota: Los datos corresponden a 2013 pues son los últimos disponibles","Nota: Los datos corresponden a 2013 pues son los últimos disponibles","Nota: Los datos corresponden a 2013 pues son los últimos disponibles","Nota: Los datos corresponden a 2013 pues son los últimos disponibles","Nota: Los datos corresponden a 2013 pues son los últimos disponibles","Nota: Los datos corresponden a 2013 pues son los últimos disponibles","Nota: Los datos corresponden a 2013 pues son los últimos disponibles","Nota: Los datos corresponden a 2013 pues son los últimos disponibles","Nota: Los datos corresponden a 2013 pues son los últimos disponibles","Nota: Los datos corresponden a 2013 pues son los últimos disponibles","Nota: Los datos corresponden a 2013 pues son los últimos disponibles","Nota: Los datos corresponden a 2013 pues son los últimos disponibles","Nota: Los datos corresponden a 2013 pues son los últimos disponibles","Nota: Los datos corresponden a 2013 pues son los últimos disponibles","Nota: Los datos corresponden a 2013 pues son los últimos disponibles","Nota: Los datos corresponden a 2013 pues son los últimos disponibles","Nota: Los datos corresponden a 2013 pues son los últimos disponibles","Nota: Los datos corresponden a 2013 pues son los últimos disponibles","Nota: Los datos corresponden a 2013 pues son los últimos disponibles","Nota: Los datos corresponden a 2013 pues son los últimos disponibles","Nota: Los datos corresponden a 2013 pues son los últimos disponibles","Nota: Los datos corresponden a 2013 pues son los últimos disponibles","Nota: Los datos corresponden a 2013 pues son los últimos disponibles","Nota: Los datos corresponden a 2013 pues son los últimos disponibles","Nota: Los datos corresponden a 2013 pues son los últimos disponibles","Nota: Los datos corresponden a 2013 pues son los últimos disponibles","Nota: Los datos corresponden a 2013 pues son los últimos disponibles","Nota: Los datos corresponden a 2013 pues son los últimos disponibles","Nota: Los datos corresponden a 2013 pues son los últimos disponibles","Nota: Los datos corresponden a 2013 pues son los últimos disponibles","Nota: Los datos corresponden a 2013 pues son los últimos disponibles","Nota: Los datos corresponden a 2013 pues son los últimos disponibles","Nota: Los datos corresponden a 2013 pues son los últimos disponibles","Nota: Los datos corresponden a 2013 pues son los últimos disponibles","Nota: Los datos corresponden a 2013 pues son los últimos disponibles","Nota: Los datos corresponden a 2013 pues son los últimos disponibles","Nota: Los datos corresponden a 2013 pues son los últimos disponibles","Nota: Los datos corresponden a 2013 pues son los últimos disponibles","Nota: Los datos corresponden a 2013 pues son los últimos disponibles","Nota: Los datos corresponden a 2013 pues son los últimos disponibles","Nota: Los datos corresponden a 2013 pues son los últimos disponibles","Nota: Los datos corresponden a 2013 pues son los últimos disponibles","Nota: Los datos corresponden a 2013 pues son los últimos disponibles","Nota: Los datos corresponden a 2013 pues son los últimos disponibles","Nota: Los datos corresponden a 2013 pues son los últimos disponibles","Nota: Los datos corresponden a 2013 pues son los últimos disponibles","Nota: Los datos corresponden a 2013 pues son los últimos disponibles","Nota: Los datos corresponden a 2013 pues son los últimos disponibles","Nota: Los datos corresponden a 2013 pues son los últimos disponibles","Nota: Los datos corresponden a 2013 pues son los últimos disponibles","Nota: Los datos corresponden a 2013 pues son los últimos disponibles","Nota: Los datos corresponden a 2013 pues son los últimos disponibles","Nota: Los datos corresponden a 2013 pues son los últimos disponibles","Nota: Los datos corresponden a 2013 pues son los últimos disponibles","Nota: Los datos corresponden a 2013 pues son los últimos disponibles","Nota: Los datos corresponden a 2013 pues son los últimos disponibles","Nota: Los datos corresponden a 2013 pues son los últimos disponibles","Nota: Los datos corresponden a 2013 pues son los últimos disponibles","Nota: Los datos corresponden a 2013 pues son los últimos disponibles","Nota: Los datos corresponden a 2013 pues son los últimos disponibles","Nota: Los datos corresponden a 2013 pues son los últimos disponibles","Nota: Los datos corresponden a 2013 pues son los últimos disponibles","Nota: Los datos corresponden a 2013 pues son los últimos disponibles","Nota: Los datos corresponden a 2013 pues son los últimos disponibles","Nota: Los datos corresponden a 2013 pues son los últimos disponibles","Nota: Los datos corresponden a 2013 pues son los últimos disponibles","Nota: Los datos corresponden a 2013 pues son los últimos disponibles","Nota: Los datos corresponden a 2013 pues son los últimos disponibles","Nota: Los datos corresponden a 2013 pues son los últimos disponibles","Nota: Los datos corresponden a 2013 pues son los últimos disponibles","Nota: Los datos corresponden a 2013 pues son los últimos disponibles","Nota: Los datos corresponden a 2013 pues son los últimos disponibles","Nota: Los datos corresponden a 2013 pues son los últimos disponibles","Nota: Los datos corresponden a 2013 pues son los últimos disponibles","Nota: Los datos corresponden a 2013 pues son los últimos disponibles","Nota: Los datos corresponden a 2013 pues son los últimos disponibles","Nota: Los datos corresponden a 2013 pues son los últimos disponibles","Nota: Los datos corresponden a 2013 pues son los últimos disponibles","Nota: Los datos corresponden a 2013 pues son los últimos disponibles","Nota: Los datos corresponden a 2013 pues son los últimos disponibles","Nota: Los datos corresponden a 2013 pues son los últimos disponibles","Nota: Los datos corresponden a 2013 pues son los últimos disponibles","Nota: Los datos corresponden a 2013 pues son los últimos disponibles","Nota: Los datos corresponden a 2013 pues son los últimos disponibles","Nota: Los datos corresponden a 2013 pues son los últimos disponibles","Nota: Los datos corresponden a 2013 pues son los últimos disponibles","Nota: Los datos corresponden a 2013 pues son los últimos disponibles","Nota: Los datos corresponden a 2013 pues son los últimos disponibles","Nota: Los datos corresponden a 2013 pues son los últimos disponibles","Nota: Los datos corresponden a 2013 pues son los últimos disponibles","Nota: Los datos corresponden a 2013 pues son los últimos disponibles","Nota: Los datos corresponden a 2013 pues son los últimos disponibles","Nota: Los datos corresponden a 2013 pues son los últimos disponibles","Nota: Los datos corresponden a 2013 pues son los últimos disponibles","Nota: Los datos corresponden a 2013 pues son los últimos disponibles","Nota: Los datos corresponden a 2013 pues son los últimos disponibles","Nota: Los datos corresponden a 2013 pues son los últimos disponibles","Nota: Los datos corresponden a 2013 pues son los últimos disponibles","Nota: Los datos corresponden a 2013 pues son los últimos disponibles","Nota: Los datos corresponden a 2013 pues son los últimos disponibles","Nota: Los datos corresponden a 2013 pues son los últimos disponibles","Nota: Los datos corresponden a 2013 pues son los últimos disponibles","Nota: Los datos corresponden a 2013 pues son los últimos disponibles","Nota: Los datos corresponden a 2013 pues son los últimos disponibles","Nota: Los datos corresponden a 2013 pues son los últimos disponibles","Nota: Los datos corresponden a 2013 pues son los últimos disponibles","Nota: Los datos corresponden a 2013 pues son los últimos disponibles","Nota: Los datos corresponden a 2013 pues son los últimos disponibles","Nota: Los datos corresponden a 2013 pues son los últimos disponibles","Nota: Los datos corresponden a 2013 pues son los últimos disponibles","Nota: Los datos corresponden a 2013 pues son los últimos disponibles","Nota: Los datos corresponden a 2013 pues son los últimos disponibles","Nota: Los datos corresponden a 2013 pues son los últimos disponibles","Nota: Los datos corresponden a 2013 pues son los últimos disponibles","Nota: Los datos corresponden a 2013 pues son los últimos disponibles","Nota: Los datos corresponden a 2013 pues son los últimos disponibles","Nota: Los datos corresponden a 2013 pues son los últimos disponibles","Nota: Los datos corresponden a 2013 pues son los últimos disponibles","Nota: Los datos corresponden a 2013 pues son los últimos disponibles","Nota: Los datos corresponden a 2013 pues son los últimos disponibles","Nota: Los datos corresponden a 2013 pues son los últimos disponibles","Nota: Los datos corresponden a 2013 pues son los últimos disponibles","Nota: Los datos corresponden a 2013 pues son los últimos disponibles","Nota: Los datos corresponden a 2013 pues son los últimos disponibles","Nota: Los datos corresponden a 2013 pues son los últimos disponibles","Nota: Los datos corresponden a 2013 pues son los últimos disponibles","Nota: Los datos corresponden a 2013 pues son los últimos disponibles","Nota: Los datos corresponden a 2013 pues son los últimos disponibles","Nota: Los datos corresponden a 2013 pues son los últimos disponibles","Nota: Los datos corresponden a 2013 pues son los últimos disponibles","Nota: Los datos corresponden a 2013 pues son los últimos disponibles","Nota: Los datos corresponden a 2013 pues son los últimos disponibles","Nota: Los datos corresponden a 2013 pues son los últimos disponibles","Nota: Los datos corresponden a 2013 pues son los últimos disponibles","Nota: Los datos corresponden a 2013 pues son los últimos disponibles","Nota: Los datos corresponden a 2013 pues son los últimos disponibles","Nota: Los datos corresponden a 2013 pues son los últimos disponibles","Nota: Los datos corresponden a 2013 pues son los últimos disponibles","Nota: Los datos corresponden a 2013 pues son los últimos disponibles","Nota: Los datos corresponden a 2013 pues son los últimos disponibles","Nota: Los datos corresponden a 2013 pues son los últimos disponibles","Nota: Los datos corresponden a 2013 pues son los últimos disponibles","Nota: Los datos corresponden a 2013 pues son los últimos disponibles","Nota: Los datos corresponden a 2013 pues son los últimos disponibles","Nota: Los datos corresponden a 2013 pues son los últimos disponibles","Nota: Los datos corresponden a 2013 pues son los últimos disponibles","Nota: Los datos corresponden a 2013 pues son los últimos disponibles","Nota: Los datos corresponden a 2013 pues son los últimos disponibles","Nota: Los datos corresponden a 2013 pues son los últimos disponibles","Nota: Los datos corresponden a 2013 pues son los últimos disponibles","Nota: Los datos corresponden a 2013 pues son los últimos disponibles","Nota: Los datos corresponden a 2013 pues son los últimos disponibles","Nota: Los datos corresponden a 2013 pues son los últimos disponibles","Nota: Los datos corresponden a 2013 pues son los últimos disponibles","Nota: Los datos corresponden a 2013 pues son los últimos disponibles","Nota: Los datos corresponden a 2013 pues son los últimos disponibles","Nota: Los datos corresponden a 2013 pues son los últimos disponibles","Nota: Los datos corresponden a 2013 pues son los últimos disponibles","Nota: Los datos corresponden a 2013 pues son los últimos disponibles","Nota: Los datos corresponden a 2013 pues son los últimos disponibles","Nota: Los datos corresponden a 2013 pues son los últimos disponibles","Nota: Los datos corresponden a 2013 pues son los últimos disponibles","Nota: Los datos corresponden a 2013 pues son los últimos disponibles","Nota: Los datos corresponden a 2013 pues son los últimos disponibles","Nota: Los datos corresponden a 2013 pues son los últimos disponibles","Nota: Los datos corresponden a 2013 pues son los últimos disponibles"]
["Observaciones: "]
["Los departamentos de Artigas, Durazno, Florida Rocha, San José y Treinta y Tres no cuentan con docentes de Talleres en el período 2013"]

{"sheet":"II-8.1.3","index":98,"n_rows":30,"n_cols":4,"rows_kept":30,"cut":false,"hidden":false,"merged":[[0,3,0,4],[29,0,29,6],[31,0,31,6],[2,0,2,4],[3,0,3,3],[4,0,6,0],[4,1,6,1],[4,2,4,3],[5,2,5,3],[1,0,1,2]]}
["ANEP",null,null,"PRUEBAS DE ACREDITACIÓN"]
["CODICEN – DIRECCIÓN SECTORIAL DE EDUCACIÓN DE ADULTOS"]
["Cuadro Nº II-8.1.3"]
["CANTIDAD DE PRUEBAS DE ACREDITACIÓN SEGÚN SEXO, GRANDES ÁREAS Y DEPARTAMENTOS. AÑO 2014."]
["GRANDES ÁREAS Y DEPARTAMENTOS","TOTAL","Prueba de Acreditación"]
[null,null,"SEXO"]
[null,null,"M","F"]
["TOTAL",{"$f":"+B9+B10","v":1151},{"$f":"C9+C10","v":591},{"$f":"D9+D10","v":560}]
["MONTEVIDEO",{"$f":"C9+D9","v":263},134,129]
["RESTO DEL PAÍS",{"$f":"C10+D10","v":888},457,431]
["Artigas",{"$f":"C11+D11","v":34},4,30]
["Canelones",200,101,99]
["Cerro Largo",45,14,31]
["Colonia",21,9,12]
["Durazno",23,13,10]
["Flores",12,4,8]
["Florida",5,0,5]
["Lavalleja",9,2,7]
["Maldonado",61,39,22]
["Paysandú",82,31,51]
["Río Negro",17,7,10]
["Rivera",62,35,27]
["Rocha",26,7,19]
["Salto",18,5,13]
["San José",177,154,23]
["Soriano",34,12,22]
["Tacuarembó",44,12,32]
["Treinta y Tres",18,8,10]
["Fuente: ANEP - CODICEN - Dirección Sectorial de Educación de Adultos"]
["Nota: Los datos corresponden a 2013 pues son los últimos disponibles"]

{"sheet":"II-8.1.4","index":99,"n_rows":26,"n_cols":11,"rows_kept":26,"cut":false,"hidden":false,"merged":[[10,6,10,7],[10,9,10,10],[0,10,1,12],[7,0,11,0],[7,2,9,4],[7,5,8,10],[9,6,9,7],[9,9,9,10],[10,2,11,2],[10,3,10,4],[4,0,5,9]]}
["CONSEJO DE EDUCACIÓN TÉCNICO PROFESIONAL (U.T.U.)",null,null,null,null,null,null,null,null,null,"ALUMNOS MATRICULADOS"]
[]
["Cuadro Nº II-8.1.4"]
[]
["ALUMNOS MATRICULADOS EN CURSOS DE EDUCACIÓN TÉCNICA PARA JÓVENES Y ADULTOS POR GRANDES ÁREAS Y SEXO SEGÚN TIPO DE CURSO. AÑO 2015."]
[]
[]
["TIPO DE CURSO",null,"TOTAL",null,null,"GRANDES ÁREAS"]
[]
[null,"TOTAL ",null,null,null,null,"MONTEVIDEO ",null,null,"RESTO DEL PAÍS"]
[null,null,"Total","SEXO",null,null,"SEXO",null,null,"SEXO"]
[null,"Total ",null,"Masculino","Femenino","Total ","Masculino ","Femenino ","Total","Masculino ","Femenino"]
["TOTAL",null,{"$f":"SUM(C16:C26)","v":7302},3736,3566,4001,2004,1997,3301,1732,1569]
[]
["Nivel Formación profesional "]
["CAP. PROFUNDIZACION PROFESIONAL",null,{"$f":"+D16+E16","v":263},{"$f":"G16+J16","v":165},{"$f":"H16+K16","v":98},{"$f":"+G16+H16","v":158},104,54,{"$f":"+J16+K16","v":105},61,44]
["CAPACITACION PROFESIONAL",null,{"$f":"+D17+E17","v":112},{"$f":"G17+J17","v":72},{"$f":"H17+K17","v":40},{"$f":"+G17+H17","v":98},62,36,{"$f":"+J17+K17","v":14},10,4]
["CAPACITACION PROFESIONAL INICIAL",null,3723,1936,1787,1497,719,778,2226,1217,1009]
["CAPACITACION TECNICA",null,35,26,9,35,26,9,0,0,0]
["CURSO BASICO",null,509,236,273,436,165,271,73,71,2]
["CURSO BASICO ESPECIALIZACION",null,340,105,235,215,70,145,125,35,90]
["FORM. PROFES. EN ARTES Y ARTESANIAS",null,512,191,321,508,190,318,4,1,3]
["FORMACION PROFESIONAL ACELERADA",null,10,5,5,10,5,5,0,0,0]
["FORMACION PROFESIONAL BASICA",null,1211,577,634,580,334,246,631,243,388]
["FORMACION PROFESIONAL ESPECIALIZADA",null,129,113,16,129,113,16,0,0,0]
["PROGRAMA CENTROS EDUC. COMUNITARIOS",null,458,310,148,335,216,119,123,94,29]

{"sheet":"II-8.1.5.","index":100,"n_rows":20,"n_cols":13,"rows_kept":20,"cut":false,"hidden":false,"merged":[[0,12,1,13],[4,0,4,13],[5,0,6,0],[5,1,6,1],[5,2,5,12]]}
["CONSEJO DE EDUCACIÓN TÉCNICO PROFESIONAL (U.T.U.)",null,null,null,null,null,null,null,null,null,null,null,"ALUMNOS MATRICULADOS"]
[]
["Cuadro Nº II-8.1.5"]
[]
["ALUMNOS MATRICULADOS EN CURSOS DE EDUCACIÓN TÉCNICA PARA JÓVENES Y ADULTOS POR EDAD SEGÚN TIPO DE CURSO. AÑO 2015."]
["TIPO DE CURSO","TOTAL","EDAD"]
[null,null,"11 y 12 años","13 años","14 años","15 años","16 años","17 años","18años","19años","20 a 24 años","25 a 29 años","30 años y más"]
["TOTAL",{"$f":"SUM(B9:B19)","v":7302},{"$f":"SUM(C9:C19)","v":28},{"$f":"SUM(D9:D19)","v":262},{"$f":"SUM(E9:E19)","v":72},661,754,722,485,328,1032,610,2348]
["CAP. PROFUNDIZACION PROFESIONAL",{"$f":"SUM(C9:M9)","v":263},0,3,0,5,14,20,17,16,52,31,105]
["CAPACITACION PROFESIONAL",{"$f":"SUM(C10:M10)","v":112},0,28,0,7,1,4,4,3,10,18,37]
["CAPACITACION PROFESIONAL INICIAL",3723,0,66,0,292,355,378,277,183,577,319,1276]
["CAPACITACION TECNICA",35,0,0,0,0,0,1,2,1,12,3,16]
["CURSO BASICO",509,0,9,0,63,84,81,44,22,80,37,89]
["CURSO BASICO ESPECIALIZACION",340,0,3,0,7,38,51,37,10,50,31,113]
["FORM. PROFES. EN ARTES Y ARTESANIAS",512,0,1,0,8,9,15,17,23,85,55,299]
["FORMACION PROFESIONAL ACELERADA",10,0,0,0,0,0,0,0,1,2,1,6]
["FORMACION PROFESIONAL BASICA",1211,0,25,0,142,155,132,72,62,140,99,384]
["FORMACION PROFESIONAL ESPECIALIZADA",129,0,0,0,2,18,25,15,6,24,16,23]
["PROGRAMA CENTROS EDUC. COMUNITARIOS",458,28,127,72,135,80,15,0,1,0,0,0]
["Fuente: DE - CETP (UTU)"]

{"sheet":"II-8.1.6","index":101,"n_rows":29,"n_cols":5,"rows_kept":29,"cut":false,"hidden":false,"merged":[[4,0,5,0],[4,1,5,1],[3,0,3,2],[0,4,0,6]]}
["CONSEJO DE EDUCACIÓN TÉCNICO PROFESIONAL (U.T.U.)",null,null,null,"ALUMNOS MATRICULADOS"]
[]
["Cuadro Nº II-8.1.6"]
["ALUMNOS MATRICULADOS EN EDUCACIÓN TÉCNICA EN NIVEL DE FORMACION PROFESIONAL. AÑO 2015."]
["DEPARTAMENTO ","Total "]
[]
["TOTAL ",{"$f":"SUM(B8:B9)","v":7302}]
["MONTEVIDEO ",4001]
["RESTO DEL PAÍS",{"$f":"SUM(B10:B27)","v":3301}]
["Artigas",227]
["Canelones",656]
["Cerro Largo",168]
["Colonia",111]
["Durazno",61]
["Flores",56]
["Florida",56]
["Lavalleja",71]
["Maldonado",303]
["Paysandú",435]
["Rio Negro",52]
["Rivera",72]
["Rocha",51]
["Salto",373]
["San José",384]
["Soriano",65]
["Tacuarembó",137]
["Treinta y Tres",23]
[]
["Fuente: DE - CETP (UTU)"]

{"sheet":"II-8.1.7","index":102,"n_rows":47,"n_cols":3,"rows_kept":47,"cut":false,"hidden":false,"merged":[[0,0,1,1],[0,2,0,3],[4,0,4,3],[6,0,7,0],[6,1,7,1]]}
["CONSEJO DE EDUCACIÓN TÉCNICO PROFESIONAL (UTU)",null,"ALUMNOS MATRICULADOS"]
[]
["Cuadro Nº II-8.1.7"]
[]
["ALUMNOS MATRICULADOS EN EDUCACIÓN TÉCNICA POR TIPO DE CURSO SEGÚN ÁREAS Y SECTORES DE ESTUDIO. AÑO 2015."]
[]
["ÁREAS Y SECTOR DE ESTUDIO","Total"]
[]
["TOTAL",{"$f":"B10+B14+B28+B30+B32+B35+B40+B43","v":7302}]
["AGRICULTURA Y PESCA",{"$f":"B11+B12+B13","v":393}]
["Agropecuario",96]
["Hortifruticultura y jardinería",263]
["Nautica y Pesca",34]
["INDUSTRIA",{"$f":"SUM(B15:B27)","v":3002}]
["Caucho, Plástico y Fibra de Vidrio",44]
["Cerámica",68]
["Cuero y Calzado",75]
["Electricidad y Electrónica",202]
["Gráficos",33]
["Madera y Muebles",294]
["Mant. Rep. y Serv. a la Producción",36]
["Mantenimiento y Rep. de Vehículos",188]
["Metal - Mecánica",480]
["Producción de Alimentos",940]
["Química, Termodinámica y Agroener.",239]
["Comunicación optica",74]
["Textil y Confección de Vestimenta",329]
["PERIODISMO Y COMUNICACIÓN",22]
["Comunicación",22]
["CONSTRUCCIÓN",249]
["Construcción y Arquitectura",249]
["COMERCIO,ADMINIST,INFORM Y COMUNICACIÓN",{"$f":"B33+B34","v":1070}]
["Comercio y administración",354]
["Informática",716]
["SERVICIOS",{"$f":"B36+B37+B39","v":1128}]
["Hotelería",17]
["Gastronomía",867]
["Deportes y afines",0]
["Servicios personales",244]
["ARTES Y HUMANIDADES",{"$f":"B41+B42","v":980}]
["Artes y artesanías",916]
["Idiomas",64]
["SECTOR NO ESPECIFICADO ",458]
[]
["Fuente: DE - UTU"]
["Nota: El presente cuadro no incluye las Áreas y Sectores de Estudios contenidos en Educación "]
["      Media Básica y Superior, en tanto solo aplican para dichos niveles "]

{"sheet":"II-8.1.8","index":103,"n_rows":90,"n_cols":10,"rows_kept":90,"cut":false,"hidden":false,"merged":[[88,0,88,11],[89,0,89,13],[84,0,84,9],[0,5,1,7],[6,0,6,9],[7,0,9,0],[7,1,9,1],[7,2,7,3],[7,4,9,4],[7,5,7,6],[7,7,9,7],[7,8,7,9],[8,2,8,3],[8,5,8,6],[8,8,8,9]]}
["MEC - DIRECCIÓN DE EDUCACIÓN",null,null,null,null,"ALUMNOS MATRICULADOS"]
["ÁREA DE EDUCACIÓN NO FORMAL"]
[]
[]
["Cuadro Nº II-8.1.8"]
[]
["ALUMNOS INGRESADOS, MATRICULADOS Y EGRESADOS EN CECAP POR SEXO, SEGÚN DEPARTAMENTO Y EDAD. AÑO 2015."]
["DEPARTAMENTO Y EDAD","TOTAL ","INGRESADOS",null,"TOTAL ","MATRICULADOS",null,"TOTAL ","EGRESADOS"]
[null,null,"SEXO",null,null,"SEXO",null,null,"SEXO"]
[null,null,"M","F",null,"M","F",null,"M","F"]
["TOTAL",{"$f":"SUM(C11:D11)","v":1525},{"$f":"+C13+C21","v":858},{"$f":"+D13+D21","v":667},{"$f":"SUM(E13+E21)","v":2102},{"$f":"+F13+F21","v":1142},{"$f":"+G13+G21","v":960},{"$f":"I11+J11","v":453},{"$f":"+I13+I21","v":244},{"$f":"+J13+J21","v":209}]
[]
["MONTEVIDEO",{"$f":"SUM(C13:D13)","v":436},{"$f":"C14+C17","v":220},{"$f":"D14+D17","v":216},{"$f":"F13+G13","v":547},{"$f":"F14+F17","v":251},{"$f":"G14+G17","v":296},{"$f":"I13+J13","v":237},{"$f":"I14+I17","v":123},{"$f":"J14+J17","v":114}]
["Montevideo",{"$f":"SUM(C14:D14)","v":380},{"$f":"C15+C16","v":190},{"$f":"D15+D16","v":190},{"$f":"F14+G14","v":475},{"$f":"F15+F16","v":206},{"$f":"G15+G16","v":269},{"$f":"I14+J14","v":237},{"$f":"I15+I16","v":123},{"$f":"J15+J16","v":114}]
["    14 a 17 años",362,186,176,446,188,258,219,113,106]
["    18 años y más",18,4,14,29,18,11,18,10,8]
["Montevideo Oeste*",56,{"$f":"C18+C19","v":30},{"$f":"D18+D19","v":26},72,{"$f":"F18+F19","v":45},{"$f":"G18+G19","v":27},0,{"$f":"I18+I19","v":0},{"$f":"J18+J19","v":0}]
["    14 a 17 años",56,30,26,70,45,25,0,0,0]
["    18 años y más",0,0,0,2,0,2,0,0,0]
[]
["RESTO DEL PAÍS",{"$f":"C21+D21","v":1089},{"$f":"C22+C23","v":638},{"$f":"D22+D23","v":451},{"$f":"F21+G21","v":1555},{"$f":"F22+F23","v":891},{"$f":"G22+G23","v":664},{"$f":"I21+J21","v":216},{"$f":"I22+I23","v":121},{"$f":"J22+J23","v":95}]
["    14 a 17 años",{"$f":"C22+D22","v":989},{"$f":"C26+C31+C34+C37+C40+C43+C47+C51+C55+C59+C63+C67+C71+C75+C79+C83","v":582},{"$f":"D26+D31+D34+D37+D40+D43+D47+D51+D55+D59+D63+D67+D71+D75+D79+D83","v":407},{"$f":"F22+G22","v":1354},{"$f":"F26+F31+F34+F37+F40+F43+F47+F51+F55+F59+F63+F67+F71+F75+F79+F83","v":783},{"$f":"G26+G31+G34+G37+G40+G43+G47+G51+G55+G59+G63+G67+G71+G75+G79+G83","v":571},{"$f":"I22+J22","v":158},{"$f":"I26+I31+I34+I37+I40+I43+I47+I51+I55+I59+I63+I67+I71+I75+I79+I83","v":92},{"$f":"J26+J31+J34+J37+J40+J43+J47+J51+J55+J59+J63+J67+J71+J75+J79+J83","v":66}]
["    18 años y más",{"$f":"C23+D23","v":100},{"$f":"C27+C32+C35+C38+C41+C44+C48+C52+C56+C60+C64+C68+C72+C76+C80+C84","v":56},{"$f":"D27+D32+D35+D38+D41+D44+D48+D52+D56+D60+D64+D68+D72+D76+D80+D84","v":44},{"$f":"F23+G23","v":201},{"$f":"F27+F32+F35+F38+F41+F44+F48+F52+F56+F60+F64+F68+F72+F76+F80+F84","v":108},{"$f":"G27+G32+G35+G38+G41+G44+G48+G52+G56+G60+G64+G68+G72+G76+G80+G84","v":93},{"$f":"I23+J23","v":58},{"$f":"I27+I32+I35+I38+I41+I44+I48+I52+I56+I60+I64+I68+I72+I76+I80+I84","v":29},{"$f":"J27+J32+J35+J38+J41+J44+J48+J52+J56+J60+J64+J68+J72+J76+J80+J84","v":29}]
[]
["Artigas",{"$f":"C25+D25","v":88},{"$f":"C26+C27","v":49},{"$f":"D26+D27","v":39},{"$f":"F25+G25","v":122},{"$f":"F26+F27","v":67},{"$f":"G26+G27","v":55},{"$f":"I25+J25","v":30},{"$f":"I26+I27","v":15},{"$f":"J26+J27","v":15}]
["    14 a 17 años",80,45,35,106,61,45,{"$f":"I26+J26","v":24},14,10]
["    18 años y más",{"$f":"C27+D27","v":8},4,4,{"$f":"F27+G27","v":16},6,10,{"$f":"I27+J27","v":6},1,5]
[]
["Canelones",{"$f":"C29+D29","v":297},{"$f":"C30+C33+C36+C39+C42","v":168},{"$f":"D30+D33+D36+D39+D42","v":129},{"$f":"F29+G29","v":448},{"$f":"F30+F33+F36+F39+F42","v":249},{"$f":"G30+G33+G36+G39+G42","v":199},{"$f":"I29+J29","v":52},{"$f":"I30+I33+I36+I39+I42","v":23},{"$f":"J30+J33+J36+J39+J42","v":29}]
["   Barros Blancos",{"$f":"C30+D30","v":80},{"$f":"C31+C32","v":47},{"$f":"D31+D32","v":33},{"$f":"F30+G30","v":144},{"$f":"F31+F32","v":76},{"$f":"G31+G32","v":68},{"$f":"I30+J30","v":14},{"$f":"I31+I32","v":5},{"$f":"J31+J32","v":9}]
["    14 a 17 años",75,45,30,135,73,62,14,5,9]
["    18 años y más",5,2,3,9,3,6,0,0,0]
["   La Paz",53,{"$f":"C34+C35","v":27},{"$f":"D34+D35","v":26},84,{"$f":"F34+F35","v":44},{"$f":"G34+G35","v":40},7,{"$f":"I34+I35","v":2},{"$f":"J34+J35","v":5}]
["    14 a 17 años",48,24,24,68,39,29,1,1,0]
["    18 años y más",5,3,2,16,5,11,6,1,5]
["   Las Piedras",64,{"$f":"C37+C38","v":34},{"$f":"D37+D38","v":30},90,{"$f":"F37+F38","v":49},{"$f":"G37+G38","v":41},11,{"$f":"I37+I38","v":5},{"$f":"J37+J38","v":6}]
["    14 a 17 años",53,29,24,73,39,34,8,3,5]
["    18 años y más",11,5,6,17,10,7,3,2,1]
["   Paso Carrasco",54,{"$f":"C40+C41","v":33},{"$f":"D40+D41","v":21},58,{"$f":"F40+F41","v":39},{"$f":"G40+G41","v":19},4,{"$f":"I40+I41","v":2},{"$f":"J40+J41","v":2}]
["    14 a 17 años",50,31,19,58,39,19,0,0,0]
["    18 años y más",4,2,2,0,0,0,4,2,2]
["  Toledo",46,{"$f":"C43+C44","v":27},{"$f":"D43+D44","v":19},72,{"$f":"F43+F44","v":41},{"$f":"G43+G44","v":31},16,{"$f":"I43+I44","v":9},{"$f":"J43+J44","v":7}]
["    14 a 17 años",40,24,16,58,34,24,13,8,5]
["    18 años y más",6,3,3,14,7,7,3,1,2]
[]
["Colonia ",{"$f":"C46+D46","v":64},{"$f":"C47+C48","v":47},{"$f":"D47+D48","v":17},{"$f":"F46+G46","v":90},{"$f":"F47+F48","v":62},{"$f":"G47+G48","v":28},{"$f":"I46+J46","v":6},{"$f":"I47+I48","v":6},{"$f":"J47+J48","v":0}]
["    14 a 17 años",63,39,14,0,47,26,0,5,0]
["    18 años y más",4,8,3,0,15,2,0,1,0]
[]
["Durazno",{"$f":"C50+D50","v":53},{"$f":"C51+C52","v":46},{"$f":"D51+D52","v":7},{"$f":"F50+G50","v":61},{"$f":"F51+F52","v":47},{"$f":"G51+G52","v":14},{"$f":"I50+J50","v":9},{"$f":"SUM(I51:I52)","v":8},{"$f":"SUM(J51:J52)","v":1}]
["    14 a 17 años",48,41,7,49,38,11,{"$f":"I51+J51","v":6},5,1]
["    18 años y más",5,5,0,12,9,3,3,3,0]
[]
["Florida",{"$f":"C54+D54","v":53},{"$f":"C55+C56","v":23},{"$f":"D55+D56","v":30},{"$f":"F54+G54","v":88},{"$f":"F55+F56","v":34},{"$f":"G55+G56","v":54},{"$f":"I54+J54","v":10},{"$f":"I55+I56","v":4},{"$f":"J55+J56","v":6}]
["    14 a 17 años",{"$f":"C55+D55","v":51},22,29,{"$f":"F55+G55","v":84},32,52,{"$f":"I55+J55","v":4},0,4]
["    18 años y más",{"$f":"C56+D56","v":2},1,1,{"$f":"F56+G56","v":4},2,2,{"$f":"I56+J56","v":6},4,2]
[]
["Maldonado  ",{"$f":"SUM(C58:D58)","v":62},{"$f":"C59+C60","v":40},{"$f":"D59+D60","v":22},{"$f":"SUM(F58:G58)","v":79},{"$f":"F59+F60","v":48},{"$f":"G59+G60","v":31},{"$f":"SUM(I58:J58)","v":6},{"$f":"I59+I60","v":1},{"$f":"J59+J60","v":5}]
["    14 a 17 años",{"$f":"C59+D59","v":44},28,16,{"$f":"F59+G59","v":50},31,19,{"$f":"SUM(I59:J59)","v":3},0,3]
["    18 años y más",{"$f":"C60+D60","v":18},12,6,{"$f":"F60+G60","v":29},17,12,3,1,2]
[]
["Paysandú",{"$f":"C62+D62","v":70},{"$f":"C63+C64","v":40},{"$f":"D63+D64","v":30},{"$f":"F62+G62","v":106},{"$f":"F63+F64","v":59},{"$f":"G63+G64","v":47},{"$f":"I62+J62","v":9},{"$f":"I63+I64","v":5},{"$f":"J63+J64","v":4}]
["    14 a 17 años",{"$f":"C63+D63","v":69},40,29,{"$f":"F63+G63","v":102},56,46,{"$f":"I63+J63","v":7},4,3]
["    18 años y más",{"$f":"C64+D64","v":1},0,1,{"$f":"F64+G64","v":4},3,1,{"$f":"I64+J64","v":2},1,1]
[]
["Río Negro (Young)",{"$f":"C66+D66","v":73},{"$f":"C67+C68","v":49},{"$f":"D67+D68","v":24},{"$f":"F66+G66","v":85},{"$f":"F67+F68","v":58},{"$f":"G67+G68","v":27},{"$f":"I66+J66","v":19},{"$f":"I67+I68","v":14},{"$f":"J67+J68","v":5}]
["    14 a 17 años",{"$f":"C67+D67","v":72},48,24,{"$f":"F67+G67","v":84},57,27,{"$f":"I67+J67","v":18},14,4]
["    18 años y más",{"$f":"C68+D68","v":1},1,0,{"$f":"F68+G68","v":1},1,0,{"$f":"I68+J68","v":1},0,1]
[]
["Rocha",{"$f":"C70+D70","v":41},{"$f":"C71+C72","v":28},{"$f":"D71+D72","v":13},{"$f":"F70+G70","v":79},{"$f":"F71+F72","v":52},{"$f":"G71+G72","v":27},{"$f":"I70+J70","v":6},{"$f":"I71+I72","v":4},{"$f":"J71+J72","v":2}]
["14 a 17 años",38,25,13,71,48,23,{"$f":"I71+J71","v":3},1,2]
["18 años y más",3,3,0,8,4,4,3,3,0]
[]
["Rivera",{"$f":"C74+D74","v":93},{"$f":"C75+C76","v":50},{"$f":"D75+D76","v":43},{"$f":"F74+G74","v":165},{"$f":"F75+F76","v":96},{"$f":"G75+G76","v":69},{"$f":"I74+J74","v":30},{"$f":"I75+I76","v":23},{"$f":"J75+J76","v":7}]
["    14 a 17 años",{"$f":"C75+D75","v":84},48,36,{"$f":"F75+G75","v":127},80,47,{"$f":"I75+J75","v":19},17,2]
["    18 años y más",{"$f":"C76+D76","v":9},2,7,{"$f":"F76+G76","v":38},16,22,{"$f":"I76+J76","v":11},6,5]
[]
["Salto",{"$f":"C78+D78","v":90},{"$f":"C79+C80","v":41},{"$f":"D79+D80","v":49},{"$f":"F78+G78","v":115},{"$f":"F79+F80","v":55},{"$f":"G79+G80","v":60},{"$f":"I78+J78","v":13},{"$f":"I79+I80","v":4},{"$f":"J79+J80","v":9}]
["    14 a 17 años",{"$f":"C79+D79","v":84},39,45,{"$f":"F79+G79","v":110},52,58,{"$f":"I79+J79","v":11},3,8]
["    18 años y más",{"$f":"C80+D80","v":6},2,4,{"$f":"F80+G80","v":5},3,2,{"$f":"I80+J80","v":2},1,1]
[]
["Treinta y Tres",{"$f":"C82+D82","v":105},{"$f":"C83+C84","v":57},{"$f":"D83+D84","v":48},{"$f":"F82+G82","v":117},{"$f":"F83+F84","v":64},{"$f":"G83+G84","v":53},{"$f":"I82+J82","v":26},{"$f":"I83+I84","v":14},{"$f":"J83+J84","v":12}]
["    14 a 17 años",{"$f":"C83+D83","v":100},54,46,{"$f":"F83+G83","v":106},57,49,{"$f":"I83+J83","v":22},12,10]
["    18 años y más",{"$f":"C84+D84","v":5},3,2,{"$f":"F84+G84","v":11},7,4,{"$f":"I84+J84","v":4},2,2]
["Fuente:  Área de Educación No Formal, Dirección de Educación, MEC."]
["* En CECAP Montevideo Oeste aún no hay egresados de 4to. Semestre, lo están cursando."]
["Nota:"]
[" Ingresos: Todos los individuos que comenzaron a cursar la propuesta educativa en el primer o segundo semestre del año 2015.(1er. SEMESTRE MARZO 2015 /1 er. SEMESTRE JULIO 2015)"]
["Matriculados: Todos los individuos que durante el año 2015 cursaron la propuesta educativa. (1er. 2do. 3er. 4to. Y Redescubrir si corresponde) +  los estudiantes de 1er. Semestre de Julio 2015 "]
[" Egresos: Todos los individuos que culminaron durante el 2015 los cuatro semestres que prevee la propuesta educativa. (los que terminaron 4to semestre en Julio y Diciembre 2015)"]

{"sheet":"II-8.1.9 ","index":104,"n_rows":86,"n_cols":7,"rows_kept":86,"cut":false,"hidden":false,"merged":[[83,0,83,6],[84,0,84,6],[85,0,85,6],[0,5,1,7],[6,0,6,6],[7,0,9,0],[7,1,9,1],[7,2,7,3],[7,4,9,4],[7,5,7,6],[8,2,8,3],[8,5,8,6]]}
["MEC - DIRECCIÓN DE EDUCACIÓN",null,null,null,null,"ALUMNOS MATRICULADOS"]
["ÁREA DE EDUCACIÓN NO FORMAL"]
[]
[]
["Cuadro Nº II-8.1.9"]
[]
["ALUMNOS CON EGRESO ANTICIPADO Y DESVINCULADOS DE CECAP POR SEXO, SEGÚN DEPARTAMENTO Y EDAD. AÑO 2015."]
["DEPARTAMENTO Y EDAD","TOTAL ","EGRESO ANTICIPADO",null,"TOTAL ","DESVINCULADOS"]
[null,null,"SEXO",null,null,"SEXO"]
[null,null,"M","F",null,"M","F"]
["TOTAL",{"$f":"SUM(C11:D11)","v":180},{"$f":"+C13+C20","v":96},{"$f":"+D13+D20","v":84},{"$f":"SUM(F11:G11)","v":579},{"$f":"+F13+F20","v":327},{"$f":"+G13+G20","v":252}]
[]
["MONTEVIDEO",{"$f":"SUM(C13:D13)","v":66},{"$f":"C14+C17","v":32},{"$f":"D14+D17","v":34},150,{"$f":"F14+F17","v":69},{"$f":"G14+G17","v":81}]
["Montevideo",47,{"$f":"C15+C16","v":18},{"$f":"D15+D16","v":29},110,{"$f":"F15+F16","v":49},{"$f":"G15+G16","v":61}]
["    14 a 17 años",41,14,27,105,47,58]
["    18 años y más",6,4,2,5,2,3]
["Montevideo Oeste",19,{"$f":"C18+C19","v":14},{"$f":"D18+D19","v":5},40,{"$f":"F18+F19","v":20},{"$f":"G18+G19","v":20}]
["    14 a 17 años",12,10,2,36,20,16]
["    18 años y más",7,4,3,4,0,4]
["RESTO DEL PAÍS",{"$f":"+C20+D20","v":114},{"$f":"C21+C22","v":64},{"$f":"D21+D22","v":50},{"$f":"+F20+G20","v":429},{"$f":"F21+F22","v":258},{"$f":"G21+G22","v":171}]
["    14 a 17 años",{"$f":"+C21+D21","v":90},{"$f":"C25+C30+C33+C36+C39+C42+C46+C50+C54+C58+C62+C66+C70+C74+C78+C82","v":49},{"$f":"D25+D30+D33+D36+D39+D42+D46+D50+D54+D58+D62+D66+D70+D74+D78+D82","v":41},337,{"$f":"F25+F30+F33+F36+F39+F42+F46+F50+F54+F58+F62+F66+F70+F74+F78+F82","v":211},{"$f":"G25+G30+G33+G36+G39+G42+G46+G50+G54+G58+G62+G66+G70+G74+G78+G82","v":126}]
["    18 años y más",24,{"$f":"C26+C31+C34+C37+C40+C43+C47+C51+C55+C59+C63+C67+C71+C75+C79+C83","v":15},{"$f":"D26+D31+D34+D37+D40+D43+D47+D51+D55+D59+D63+D67+D71+D75+D79+D83","v":9},92,{"$f":"F26+F31+F34+F37+F40+F43+F47+F51+F55+F59+F63+F67+F71+F75+F79+F83","v":47},{"$f":"G26+G31+G34+G37+G40+G43+G47+G51+G55+G59+G63+G67+G71+G75+G79+G83","v":45}]
[]
["Artigas",{"$f":"SUM(C24:D24)","v":10},{"$f":"SUM(C25:C26)","v":4},{"$f":"SUM(D25:D26)","v":6},{"$f":"SUM(F24:G24)","v":33},{"$f":"SUM(F25:F26)","v":17},{"$f":"SUM(G25:G26)","v":16}]
["    14 a 17 años",{"$f":"SUM(C25:D25)","v":5},2,3,{"$f":"SUM(F25:G25)","v":27},15,12]
["    18 años y más",{"$f":"SUM(C26:D26)","v":5},2,3,{"$f":"SUM(F26:G26)","v":6},2,4]
[]
["Canelones",{"$f":"SUM(C28:D28)","v":35},{"$f":"C29+C32+C35+C38+C41","v":18},{"$f":"D29+D32+D35+D38+D41","v":17},{"$f":"SUM(F28:G28)","v":158},{"$f":"F29+F32+F35+F38+F41","v":94},{"$f":"G29+G32+G35+G38+G41","v":64}]
["  Barros Blancos",{"$f":"SUM(C29:D29)","v":1},{"$f":"SUM(C30:C31)","v":0},{"$f":"SUM(D30:D31)","v":1},46,{"$f":"SUM(F30:F31)","v":27},{"$f":"SUM(G30:G31)","v":19}]
["    14 a 17 años",0,0,0,42,24,18]
["    18 años y más",1,0,1,4,3,1]
["  La Paz",6,{"$f":"SUM(C33:C34)","v":4},{"$f":"SUM(D33:D34)","v":2},36,{"$f":"SUM(F33:F34)","v":18},{"$f":"SUM(G33:G34)","v":18}]
["    14 a 17 años",6,4,2,20,9,11]
["    18 años y más",0,0,0,16,9,7]
["Las Piedras",19,{"$f":"C36+C37","v":8},{"$f":"D36+D37","v":11},25,{"$f":"F36+F37","v":15},{"$f":"G36+G37","v":10}]
["    14 a 17 años",15,4,11,21,13,8]
["    18 años y más",4,4,0,4,2,2]
["Paso Carrasco",{"$f":"SUM(C38:D38)","v":2},{"$f":"C39+C40","v":2},{"$f":"D39+D40","v":0},{"$f":"SUM(F38:G38)","v":27},{"$f":"F39+F40","v":20},{"$f":"G39+G40","v":7}]
["    14 a 17 años",1,1,0,27,20,7]
["    18 años y más",1,1,0,0,0,0]
["Toledo",{"$f":"SUM(C41:D41)","v":7},{"$f":"C42+C43","v":4},{"$f":"D42+D43","v":3},{"$f":"SUM(F41:G41)","v":24},{"$f":"F42+F43","v":14},{"$f":"G42+G43","v":10}]
["    14 a 17 años",{"$f":"SUM(C42:D42)","v":3},1,2,{"$f":"SUM(F42:G42)","v":22},13,9]
["    18 años y más",{"$f":"SUM(C43:D43)","v":4},3,1,{"$f":"SUM(F43:G43)","v":2},1,1]
[]
["Colonia ",{"$f":"SUM(C45:D45)","v":0},{"$f":"C46+C47","v":0},{"$f":"D46+D47","v":0},{"$f":"SUM(F45:G45)","v":26},{"$f":"F46+F47","v":16},{"$f":"G46+G47","v":10}]
["    14 a 17 años",{"$f":"SUM(C46:D46)","v":0},0,0,{"$f":"SUM(F46:G46)","v":17},12,5]
["    18 años y más",{"$f":"SUM(C47:D47)","v":0},0,0,{"$f":"SUM(F47:G47)","v":9},4,5]
[]
["Durazno",{"$f":"SUM(C49:D49)","v":0},{"$f":"SUM(C50:C51)","v":0},{"$f":"SUM(D50:D51)","v":0},{"$f":"SUM(F49:G49)","v":23},{"$f":"SUM(F50:F51)","v":17},{"$f":"SUM(G50:G51)","v":6}]
["    14 a 17 años",{"$f":"SUM(C50:D50)","v":0},0,0,{"$f":"SUM(F50:G50)","v":19},14,5]
["    18 años y más",{"$f":"SUM(C51:D51)","v":0},0,0,{"$f":"SUM(F51:G51)","v":4},3,1]
[]
["Florida",{"$f":"SUM(C53:D53)","v":0},{"$f":"SUM(C54:C55)","v":0},{"$f":"SUM(D54:D55)","v":0},{"$f":"SUM(F53:G53)","v":10},{"$f":"SUM(F54:F55)","v":4},{"$f":"SUM(G54:G55)","v":6}]
["    14 a 17 años",{"$f":"SUM(C54:D54)","v":0},0,0,{"$f":"SUM(F54:G54)","v":4},0,4]
["    18 años y más",{"$f":"SUM(C55:D55)","v":0},0,0,{"$f":"SUM(F55:G55)","v":6},4,2]
[]
["Maldonado ",{"$f":"SUM(C57:D57)","v":6},{"$f":"SUM(C58:C59)","v":5},{"$f":"SUM(D58:D59)","v":1},{"$f":"SUM(F57:G57)","v":11},{"$f":"SUM(F58:F59)","v":6},{"$f":"SUM(G58:G59)","v":5}]
["    14 a 17 años",6,5,1,4,2,2]
["    18 años y más",0,0,0,7,4,3]
[]
["Paysandú",{"$f":"SUM(C61:D61)","v":21},{"$f":"C62+C63","v":10},{"$f":"D62+D63","v":11},{"$f":"SUM(F61:G61)","v":27},{"$f":"F62+F63","v":13},{"$f":"G62+G63","v":14}]
["    14 a 17 años",{"$f":"SUM(C62:D62)","v":20},9,11,{"$f":"SUM(F62:G62)","v":24},11,13]
["    18 años y más",{"$f":"SUM(C63:D63)","v":1},1,0,{"$f":"SUM(F63:G63)","v":3},2,1]
[]
["Río Negro (Young)",{"$f":"SUM(C65:D65)","v":0},{"$f":"C66+C67","v":0},{"$f":"D66+D67","v":0},{"$f":"SUM(F65:G65)","v":30},{"$f":"F66+F67","v":24},{"$f":"G66+G67","v":6}]
["    14 a 17 años",{"$f":"SUM(C66:D66)","v":0},0,0,{"$f":"SUM(F66:G66)","v":29},24,5]
["    18 años y más",{"$f":"SUM(C67:D67)","v":0},0,0,{"$f":"SUM(F67:G67)","v":1},0,1]
[]
["Rivera",{"$f":"SUM(C69:D69)","v":17},{"$f":"C70+C71","v":9},{"$f":"D70+D71","v":8},{"$f":"SUM(F69:G69)","v":27},{"$f":"F70+F71","v":15},{"$f":"G70+G71","v":12}]
["    14 a 17 años",{"$f":"SUM(C70:D70)","v":13},8,5,{"$f":"SUM(F70:G70)","v":10},8,2]
["    18 años y más",{"$f":"SUM(C71:D71)","v":4},1,3,{"$f":"SUM(F71:G71)","v":17},7,10]
[]
["Rocha",{"$f":"SUM(C73:D73)","v":0},{"$f":"C74+C75","v":0},{"$f":"D74+D75","v":0},{"$f":"SUM(F73:G73)","v":38},{"$f":"F74+F75","v":24},{"$f":"G74+G75","v":14}]
["14 a 17 años",0,0,0,33,23,10]
["18 años y más",0,0,0,5,1,4]
[]
["Salto",{"$f":"SUM(C77:D77)","v":13},{"$f":"C78+C79","v":9},{"$f":"D78+D79","v":4},{"$f":"SUM(F77:G77)","v":5},{"$f":"F78+F79","v":4},{"$f":"G78+G79","v":1}]
["    14 a 17 años",{"$f":"SUM(C78:D78)","v":11},7,4,{"$f":"SUM(F78:G78)","v":3},3,0]
["    18 años y más",{"$f":"SUM(C79:D79)","v":2},2,0,{"$f":"SUM(F79:G79)","v":2},1,1]
[]
["Treinta y Tres",{"$f":"SUM(C81:D81)","v":12},{"$f":"C82+C83","v":9},{"$f":"D82+D83","v":3},{"$f":"SUM(F81:G81)","v":41},{"$f":"F82+F83","v":24},{"$f":"G82+G83","v":17}]
["    14 a 17 años",{"$f":"SUM(C82:D82)","v":10},8,2,{"$f":"SUM(F82:G82)","v":35},20,15]
["    18 años y más",{"$f":"SUM(C83:D83)","v":2},1,1,{"$f":"SUM(F83:G83)","v":6},4,2]
["Fuente:  Área de Educación No Formal, Dirección de Educación, MEC."]
["Nota:                                                                                                                                            Egreso Anticipado: Todos los individuos que durante el 2015 egresaron de CECAP para incorporarse a otra propuesta educativa o al mundo del trabajo, habiendo cursado un período menor a cuatro semestres."]
["Desvinculados: Todos los individuos que durante el 2015 dejaron de asistir a la propuesta."]

{"sheet":"II-8.1.10","index":105,"n_rows":224,"n_cols":10,"rows_kept":224,"cut":false,"hidden":false,"merged":[[6,5,6,6],[6,8,6,9],[0,5,1,8],[4,0,4,9],[5,0,7,0],[5,1,7,1],[5,2,5,3],[5,4,7,4],[5,5,5,6],[5,7,7,7],[5,8,5,9],[6,2,6,3]]}
["UNIVERSIDADES PRIVADAS: OFERTAS EDUCATIVAS NO TERCIARIAS",null,null,null,null,"ALUMNOS MATRICULADOS"]
[]
["Cuadro Nº II- 8.1.10"]
[]
["ALUMNOS INGRESADOS, MATRICULADOS Y EGRESADOS EN OFERTAS EDUCATIVAS NO TERCIARIAS DE UNIVERSIDADES PRIVADAS POR SEXO. AÑO 2015."]
["UNIVERSIDAD / ACREDITACIÓN","TOTAL","INGRESADOS",null,"TOTAL","MATRICULADOS",null,"TOTAL","EGRESADOS"]
[null,null,"SEXO",null,null,"SEXO",null,null,"SEXO"]
[null,null,"M","F",null,"M","F",null,"M","F"]
["TOTAL",{"$f":"SUM(C9:D9)","v":7386},{"$f":"+C11+C39+C61+C172+C192+C219","v":2046},{"$f":"+D11+D39+D61+D172+D192+D219","v":5340},{"$f":"SUM(F9:G9)","v":9701},{"$f":"+F11+F39+F61+F172+F192+F219","v":3477},{"$f":"+G11+G39+G61+G172+G192+G219","v":6224},{"$f":"SUM(I9:J9)","v":4719},{"$f":"+I11+I39+I61+I172+I192+I219","v":1402},{"$f":"+J11+J39+J61+J172+J192+J219","v":3317}]
[]
["UNIVERSIDAD ORT URUGUAY ",{"$f":"SUM(C11:D11)","v":859},{"$f":"SUM(C12:C37)","v":577},{"$f":"SUM(D12:D37)","v":282},{"$f":"SUM(F11:G11)","v":2562},{"$f":"SUM(F12:F37)","v":1711},{"$f":"SUM(G12:G37)","v":851},{"$f":"SUM(I11:J11)","v":400},{"$f":"SUM(I12:I37)","v":272},{"$f":"SUM(J12:J37)","v":128}]
["Analista en Comercio Exterior",{"$f":"+C12+D12","v":37},19,18,{"$f":"+F12+G12","v":111},61,50,{"$f":"+I12+J12","v":26},11,15]
["Analista en Comunicación Corporativa y Relaciones Públicas",18,5,13,86,22,64,11,3,8]
["Analista en Marketing",120,64,56,340,173,167,54,20,34]
["Analista en Publicidad",15,6,9,42,21,21,10,6,4]
["Analista en Redes Sociales y Community Management",8,2,6,24,8,16,0,0,0]
["Analista en Tecnologías de la Información",109,87,22,359,302,57,9,9,0]
["Analista Programador",135,115,20,387,315,72,30,24,6]
["Analista Programador de Aplicaciones Web",0,0,0,11,9,2,2,1,1]
["Diseñador de Interiores",0,0,0,3,1,2,2,1,1]
["Diseñador Gráfico",70,28,42,162,72,90,16,6,10]
["Interiorista",0,0,0,14,1,13,10,0,10]
["Productor de Modas",0,0,0,28,1,27,4,0,4]
["Programador  Web",12,7,5,14,8,6,63,55,8]
["Técnico en Diseño de Sonido",33,31,2,97,90,7,14,11,3]
["Técnico en Diseño Web",23,12,11,70,42,28,11,8,3]
["Técnico en Electro Electrónica",14,12,2,41,39,2,6,6,0]
["Técnico en Electrónica Informática",3,3,0,15,14,1,25,24,1]
["Técnico en Gerencia",54,30,24,160,80,80,4,3,1]
["Técnico en Gerencia Comercial",28,20,8,87,61,26,7,4,3]
["Técnico en Gerencia Turística",18,9,9,56,26,30,6,2,4]
["Técnico en Producción Musical",6,6,0,22,22,0,19,19,0]
["Técnico en Realización Audiovisual",19,11,8,60,32,28,12,6,6]
["Técnico en Relaciones Públicas y Organización de Eventos",26,6,20,51,11,40,5,0,5]
["Técnico en Sistemas Eléctricos y Electrónicos",13,13,0,22,22,0,11,11,0]
["Técnico en Sistemas Operativos y Redes",69,65,4,237,224,13,23,22,1]
["Técnico en Soporte Informático",29,26,3,63,54,9,20,20,0]
[]
["UNIVERSIDAD DE LA EMPRESA",{"$f":"SUM(C39:D39)","v":543},{"$f":"C40+C56","v":274},{"$f":"D40+D56","v":269},{"$f":"SUM(F39:G39)","v":1074},{"$f":"F40+F56","v":536},{"$f":"G40+G56","v":538},{"$f":"SUM(I39:J39)","v":236},{"$f":"I40+I56","v":122},{"$f":"J40+J56","v":114}]
["Montevideo",{"$f":"SUM(C40:D40)","v":477},{"$f":"SUM(C41:C55)","v":240},{"$f":"SUM(D41:D55)","v":237},{"$f":"SUM(F40:G40)","v":917},{"$f":"SUM(F41:F55)","v":458},{"$f":"SUM(G41:G55)","v":459},{"$f":"SUM(I40:J40)","v":201},{"$f":"SUM(I41:I55)","v":106},{"$f":"SUM(J41:J55)","v":95}]
["Analista en Comercio Exterior",43,23,20,98,49,49,8,5,3]
["Analista en Marketing",99,51,48,217,114,103,37,19,18]
["Analista en Recursos Humanos",90,23,67,182,55,127,37,9,28]
["Analista en e-Negocios y Marketing Digital",13,10,3,26,21,5,6,4,2]
["Analista en Tecnología Informática",13,11,2,35,30,5,2,2,0]
["Técnico en Diseño Gráfico",4,3,1,50,16,34,8,6,2]
["Técnico en Diseño de Interiores",12,1,11,39,5,34,9,2,7]
["Técnico en Gerencia",42,28,14,42,28,14,4,4,0]
["Técnico Veterinario",21,4,17,39,12,27,4,0,4]
["Postgrado Ejecutivo Experto en Habilidades Gerenciales",14,8,6,14,8,6,13,9,4]
["Experto en Dirección de Marketing",21,9,12,21,9,12,33,13,20]
["Carrera Experto en Dirección de Personas",15,6,9,15,6,9,13,9,4]
["Técnico Agropecuario",50,44,6,98,86,12,18,16,2]
["Técnico en Ciencias Veterinarias",25,9,16,26,9,17,0,0,0]
["Técnico Forestal",15,10,5,15,10,5,9,8,1]
["Colonia",66,{"$f":"SUM(C57:C59)","v":34},{"$f":"SUM(D57:D59)","v":32},157,{"$f":"SUM(F57:F59)","v":78},{"$f":"SUM(G57:G59)","v":79},35,{"$f":"SUM(I57:I59)","v":16},{"$f":"SUM(J57:J59)","v":19}]
["Analista en Recursos Humanos",15,5,10,26,6,20,15,5,10]
["Técnico Agropecuario",37,28,9,101,69,32,17,10,7]
["Técnico en Diseño Gráfico",{"$f":"SUM(C59:D59)","v":14},1,13,30,3,27,3,1,2]
[]
["UCUDAL",{"$f":"C61+D61","v":2027},{"$f":"C62+C148+C151+C156+C159+C163+C168","v":823},{"$f":"D62+D148+D151+D156+D159+D163+D168","v":1204},{"$f":"F61+G61","v":2053},{"$f":"F62+F148+F151+F156+F159+F163+F168","v":832},{"$f":"G62+G148+G151+G156+G159+G163+G168","v":1221},{"$f":"I61+J61","v":1979},{"$f":"I62+I148+I151+I156+I159+I163+I168","v":809},{"$f":"J62+J148+J151+J156+J159+J163+J168","v":1170}]
["Montevideo",{"$f":"C62+D62","v":1794},{"$f":"SUM(C63:C146)","v":736},{"$f":"SUM(D63:D146)","v":1058},{"$f":"F62+G62","v":1820},{"$f":"SUM(F63:F146)","v":745},{"$f":"SUM(G63:G146)","v":1075},{"$f":"I62+J62","v":1771},{"$f":"SUM(I63:I146)","v":731},{"$f":"SUM(J63:J146)","v":1040}]
["Religiones del mundo en perspectiva interdisciplinaria",{"$f":"C63+D63","v":18},1,17,{"$f":"F63+G63","v":18},1,17,{"$f":"I63+J63","v":10},0,10]
["C.Judaismo \"La creatividad judía a través de las generaciones\"",{"$f":"C64+D64","v":33},7,26,{"$f":"F64+G64","v":33},7,26,{"$f":"I64+J64","v":31},7,24]
["C. Universo del Islam Módulo 1",10,3,7,10,3,7,10,3,7]
["C. Universo Módulo 2",10,3,7,10,3,7,9,2,7]
["Cátedra Islam Seminario de Coyuntura",13,0,13,13,0,13,10,0,10]
["El pluralismo cristiano en el Uruguay",10,2,8,10,2,8,10,2,8]
["Matemáticas para las Ciencias Sociales",19,7,12,19,7,12,19,7,12]
["Introducción a la programación en STATA",19,7,12,19,7,12,19,7,12]
["Introducción a la programación en R",30,19,11,30,19,11,30,19,11]
["Methods for Interpretation and Analysis of Regression Discontinuity Designs",15,9,6,15,9,6,15,9,6]
["Estadística Bayesiana para las Ciencias Sociales",9,7,2,9,7,2,9,7,2]
["Experimentos en Encuestas",7,2,5,7,2,5,7,2,5]
["Estudios de Caso Mediante 'Process Tracing'",19,9,10,19,9,10,19,9,10]
["Análisis Espacial con Sistemas de Información Geográfica",16,7,9,16,7,9,16,7,9]
["Matching for Adjustment and Causal Inference",9,5,4,9,5,4,9,5,4]
["Spatial data analysis",6,6,0,6,6,0,6,6,0]
["Introducción al análisis de redes sociales",20,4,16,20,4,16,20,4,16]
["Modelos Logit y Probit",7,4,3,7,4,3,7,4,3]
["Regresión Lineal y sus Aplicaciones",13,5,8,13,5,8,13,5,8]
["Administrativo Empresarial",10,5,5,10,5,5,4,1,3]
["Comercio Exterior ",13,4,9,13,4,9,11,3,8]
["Diseño de interiores ",10,0,10,10,0,10,8,0,8]
["Financiero contable ",8,5,3,8,5,3,5,3,2]
["Gestion de Clientes",9,5,4,9,5,4,9,5,4]
["Marketing Digital ",5,2,3,5,2,3,5,2,3]
["Recursos Humanos ",30,8,22,30,8,22,24,6,18]
["Visitador Medico ",75,36,39,75,36,39,66,32,34]
["Supervisor en Operaciones en Logistica ",10,8,2,10,8,2,10,8,2]
["Seminario Consejo de Salarios",10,3,7,10,3,7,10,3,7]
["Certificado en Prevención del Lavado de Dinero y Financiamiento al Terrorismo (CPLD)",34,12,22,34,12,22,34,12,22]
["Diploma de Formación en Logística (DFL)",9,8,1,9,8,1,9,8,1]
["Certificado de Formación en Logística (CFL)",5,5,0,5,5,0,5,5,0]
["Taller Diseño y Operación de Centros de Distribución",2,2,0,2,2,0,2,2,0]
["Taller Logística Internacional",4,2,2,4,2,2,4,2,2]
["Taller Planificación y Control de Operaciones",10,7,3,10,7,3,10,7,3]
["Seminario Internacional de Fideicomiso",60,28,32,60,28,32,60,28,32]
["Gestión de Organizaciones de Alto Desempeño (GAD)",10,3,7,10,3,7,10,3,7]
["Programa de Gestión Humana Estratégica (GHE)",11,5,6,11,5,6,11,5,6]
["Programa de Formación en Gestión de Proyectos (GP)",31,16,15,31,16,15,31,16,15]
["Programa de Habilidades Directivas (HHDD)",50,22,28,50,22,28,50,22,28]
["Certificado en Manejo de Inversiones Financieras (CMIF)",18,10,8,18,10,8,18,10,8]
["Programa de Desarrollo Directivo (PDD)",56,39,17,56,39,17,56,39,17]
["Programa de Dirección General (PDG)",14,12,2,14,12,2,14,12,2]
["Programa de Formación Comercial (PFC)",50,28,22,50,28,22,50,28,22]
["Programa de Gestión de la Innovación (PGI)",16,6,10,16,6,10,16,6,10]
["Profesionalice sus Presentaciones Orales (PPO)",44,19,25,44,19,25,44,19,25]
["Taller Calidad de Servicio",26,11,15,26,11,15,26,11,15]
["Taller Coaching",39,22,17,39,22,17,39,22,17]
["Taller Conversaciones Cruciales",16,6,10,16,6,10,16,6,10]
["Seminario Los 7 Hábitos de la Gente Altamente Efectiva",20,11,9,20,11,9,20,11,9]
["Taller Negociar",33,15,18,33,15,18,33,15,18]
["ToolBox: \"¿Cómo medir la satisfacción de sus clientes?",15,7,8,15,7,8,15,7,8]
["ToolBox: \"4 modelos\"",13,8,5,13,8,5,13,8,5]
["ToolBox: \"Como redactar mensajes claros, consisos y persuasivos\"",33,11,22,33,11,22,33,11,22]
["ToolBox: \"Conversaciones Productivas\"",10,5,5,10,5,5,10,5,5]
["ToolBox: \"Desarrollo de equipos\"",14,4,10,14,4,10,14,4,10]
["ToolBox: \"Evaluación de Riesgos en el Trabajo\"",36,21,15,36,21,15,36,21,15]
["ToolBox: \"Inteligencia emocional\"",17,8,9,17,8,9,17,8,9]
["ToolBox: \"Liderar desde la confianza\"",28,11,17,28,11,17,28,11,17]
["ToolBox: \"Modelo de atención al cliente\"",18,7,11,18,7,11,18,7,11]
["ToolBox: \"Neuromanagement\"",17,6,11,17,6,11,17,6,11]
["ToolBox: \"Rapport\"",20,7,13,20,7,13,20,7,13]
["ToolBox: \"Reuniones Efectivas\"",13,7,6,13,7,6,13,7,6]
["ToolBox: \"Técnicas para mejorar el manejo del tiempo\"",28,15,13,28,15,13,28,15,13]
["Taller Creatividad en Ventas (Universidad de San Andrés)",13,9,4,13,9,4,13,9,4]
["Workshop Negociación (Universidad de San Andrés)",22,16,6,22,16,6,22,16,6]
["Curso de Formación Profesional en Inversiones Bursátiles - Edición I",35,25,10,35,25,10,35,25,10]
["Diploma de Evaluación de los Aprendizajes",28,7,21,40,7,33,33,8,25]
["Diploma de diseño y desarrollo curricular en convenio con Unesco",44,12,32,44,12,32,44,12,32]
["Inicio a la actividad notarial",31,2,29,31,2,29,31,2,29]
["Contratos de la redacción al juzgado",26,7,19,26,7,19,26,7,19]
["Estudio de títulos, proceso dominial y partición",29,7,22,29,7,22,29,7,22]
["Temas de interés sobre indivisión hereditaria y partición",34,12,22,34,12,22,34,12,22]
["Taller teórico-práctico: la actividad notarial y las nuevas herramientas tecnológicas",33,6,27,33,6,27,33,6,27]
["Métodos de resolución alternativa de conflictos (mediación y otros)",14,3,11,14,3,11,14,3,11]
["Los derechos posesorios y la prescripción de la Ley 19.149",44,13,31,44,13,31,44,13,31]
["Contratos agrarios: nuevas formas de contratación",28,3,25,28,3,25,28,3,25]
["Argumentación jurídia",0,0,0,14,9,5,14,9,5]
["El caso privado internacional: problemas y soluciones",12,2,10,12,2,10,12,2,10]
["Cooperativas: sistema y derecho cooperativo",23,4,19,23,4,19,23,4,19]
["Derecho registral",23,2,21,23,2,21,23,2,21]
["Mediación en el ámbito educativo",22,2,20,22,2,20,22,2,20]
["Servidumbres. Medianerías de paso y luces y vista.",22,6,16,22,6,16,22,6,16]
["Responsabilidad civil profundizada",28,9,19,28,9,19,28,9,19]
[]
["Maldonado",{"$f":"C148+D148","v":12},{"$f":"C149","v":5},{"$f":"D149","v":7},{"$f":"F148+G148","v":12},{"$f":"F149","v":5},{"$f":"G149","v":7},{"$f":"I148+J148","v":10},{"$f":"I149","v":4},{"$f":"J149","v":6}]
["C. El Islam: religión, cultura y relaciones con Occidente",12,5,7,12,5,7,{"$f":"I149+J149","v":10},4,6]
[]
["Paysandú",53,{"$f":"C152+C153+C154","v":20},{"$f":"D152+D153+D154","v":33},53,{"$f":"F152+F153+F154","v":20},{"$f":"G152+G153+G154","v":33},{"$f":"I151+J151","v":42},{"$f":"I152+I153+I154","v":16},{"$f":"J152+J153+J154","v":26}]
["Recursos Humanos ",12,2,10,12,2,10,10,2,8]
["Seguridad Laboral ",6,4,2,6,4,2,6,4,2]
["Idoneo en Farmacia ",35,14,21,35,14,21,26,10,16]
[]
["Río Negro",26,{"$f":"C157","v":15},{"$f":"D157","v":11},26,{"$f":"F157","v":15},{"$f":"G157","v":11},23,{"$f":"I157","v":14},{"$f":"J157","v":9}]
["PSOL",26,15,11,26,15,11,23,14,9]
[null,0,null,null,0,null,null,0]
["Rivera",50,{"$f":"SUM(C160:C161)","v":12},{"$f":"SUM(D160:D161)","v":38},50,{"$f":"SUM(F160:F161)","v":12},{"$f":"SUM(G160:G161)","v":38},{"$f":"I159+J159","v":46},{"$f":"SUM(I160:I161)","v":11},{"$f":"SUM(J160:J161)","v":35}]
["Idoneo en Farmacia ",38,12,26,38,12,26,36,11,25]
["Diseño de Interiores",12,0,12,12,0,12,10,0,10]
[]
["Salto",54,{"$f":"C164+C165+C166","v":19},{"$f":"D164+D165+D166","v":35},54,{"$f":"F164+F165+F166","v":19},{"$f":"G164+G165+G166","v":35},51,{"$f":"I164+I165+I166","v":19},{"$f":"J164+J165+J166","v":32}]
["Idoneo en Farmacia ",23,4,19,23,4,19,20,4,16]
["PSOL",14,5,9,14,5,9,14,5,9]
["Seguridad Laboral",17,10,7,17,10,7,17,10,7]
[]
["Soriano",38,{"$f":"C169+C170","v":16},{"$f":"D169+D170","v":22},38,{"$f":"F169+F170","v":16},{"$f":"G169+G170","v":22},36,{"$f":"I169+I170","v":14},{"$f":"J169+J170","v":22}]
["Seguridad Ladoral",12,9,3,12,9,3,10,7,3]
["Idoneo en Farmacia ",26,7,19,26,7,19,26,7,19]
[]
["UNIVERSIDAD DE LA REPÚBLICA",1509,{"$f":"SUM(C173:C190)","v":301},{"$f":"SUM(D173:D190)","v":1208},1553,{"$f":"SUM(F173:F190)","v":327},{"$f":"SUM(G173:G190)","v":1226},201,{"$f":"SUM(I173:I190)","v":81},{"$f":"SUM(J173:J190)","v":120}]
["Preuniversitario Canto",19,15,4,19,15,4,0,0,0]
["Preuniversitario Clarinete",3,3,0,3,3,0,0,0,0]
["Preuniversitario Contrabajo",3,3,0,3,3,0,0,0,0]
["Preuniversitario Flauta",3,2,1,3,2,1,0,0,0]
["Preuniversitario Guitarra",16,11,5,16,11,5,0,0,0]
["Preuniversitario Órgano",1,1,0,1,1,0,0,0,0]
["Preuniversitario Percusión",6,6,0,6,6,0,0,0,0]
["Preuniversitario Piano",6,5,1,6,5,1,0,0,0]
["Preuniversitario Saxofón",4,2,2,4,2,2,0,0,0]
["Preuniversitario Trompeta",1,1,0,1,1,0,0,0,0]
["Preuniversitario Oboe",2,1,1,7,4,3,0,0,0]
["Preuniversitario Violin",5,3,2,44,26,18,0,0,0]
["Preuniversitario Violoncello",2,0,2,2,0,2,0,0,0]
["Guardavidas (Montevideo)",22,13,9,22,13,9,30,26,4]
["Guardavidas (Rocha)",42,38,4,42,38,4,39,35,4]
["Guardavidas (Paysandú)",0,0,0,0,0,0,3,3,0]
["Auxiliar de Farmacia Hospitalaria",203,29,174,203,29,174,93,13,80]
["Auxiliar de Enfermería",1171,168,1003,1171,168,1003,36,4,32]
[]
["IPES",2426,{"$f":"SUM(C193:C217)","v":70},{"$f":"SUM(D193:D217)","v":2356},2426,{"$f":"SUM(F193:F217)","v":70},{"$f":"SUM(G193:G217)","v":2356},1903,{"$f":"SUM(I193:I217)","v":118},{"$f":"SUM(J193:J217)","v":1785}]
["Procesos de Soldadura y sus diferentes metodologías y técnicas",15,15,0,15,15,0,14,14,0]
["Actualización para docentes del Área Inglés",18,18,0,18,18,0,18,4,14]
["Formación en Dirección de Centros Educativos",1200,37,1163,1200,37,1163,1137,37,1100]
["Didáctica para Formadores de Escuelas de Práctica",82,0,82,82,0,82,80,0,80]
["Didáctica para Formadores de Escuelas de Práctica",98,0,98,98,0,98,82,0,82]
["Didáctica para Formadores de Escuelas de Práctica",84,0,84,84,0,84,74,0,74]
["Didáctica para Formadores de Escuelas de Práctica",81,0,81,81,0,81,80,0,80]
["Didáctica para Formadores de Escuelas de Práctica",83,0,83,83,0,83,67,0,67]
["Didáctica para Formadores de Escuelas de Práctica",82,0,82,82,0,82,70,0,70]
["Certificado de Perfeccionamiento en Educación Inicial para maestros de Educación Primaria",117,0,117,117,0,117,0,0,0]
["Certificado de Perfeccionamiento en Educación Inicial para maestros de Educación Primaria",140,0,140,140,0,140,0,0,0]
["Actualización Disciplinar de Educación Musical. Encuentro y Taller. El proceso de ensamble polifónico en la Técnica de Ensayo en el Coro Liceal",12,0,12,12,0,12,5,3,2]
["Dificultades de Aprendizaje. Abordaje Pedagógico en el Marco de la Atención a la Diversidad.",34,0,34,34,0,34,23,6,17]
["Actualización Disciplinar Enseñanza de la Estadística en el Ciclo Básico y en el Primer Año del Bachillerato de Enseñanza Secundaria",25,0,25,25,0,25,14,5,9]
["Perfeccionamiento para docentes de Física",45,0,45,45,0,45,27,12,15]
["Perfeccionamiento para docentes de Física",30,0,30,30,0,30,19,5,14]
["Actualización Disciplinar y Didáctica en Biología",39,0,39,39,0,39,29,5,24]
["Actualización Disciplinar y Didáctica en Biología",26,0,26,26,0,26,24,4,20]
["Curso de Actualización Disciplinar en Química. ¿Qué es cocinar para un Químico?",20,0,20,20,0,20,13,2,11]
["Cooperación y Cooperativismo en la Educación",{"$f":"C212+D212","v":30},0,30,{"$f":"F212+G212","v":30},0,30,13,2,11]
["Cooperación y Cooperativismo en la Educación",30,0,30,30,0,30,18,4,14]
["Profundización en Psicología Social II. Adolescencia, Instituciones y Subjetividad",28,0,28,28,0,28,20,3,17]
["Introducción a la Investigación Cualitativa en Educación",28,0,28,28,0,28,{"$f":"I215+J215","v":19},4,15]
["Introducción a la Epistemología para la Enseñanza de la Ciencias",22,0,22,22,0,22,19,5,14]
["Perfeccionamiento Docente Discapacidad Visual",57,0,57,57,0,57,38,3,35]
[]
["Instituto Metodista Universitario Crandon",22,{"$f":"C220+C221","v":1},{"$f":"D220+D221","v":21},33,{"$f":"F220+F221","v":1},{"$f":"G220+G221","v":32},0,{"$f":"I220+I221","v":0},{"$f":"J220+J221","v":0}]
["Secretariado Ejecutivo",16,0,16,26,0,26,0,0,0]
["Asistente Ejecutivo",6,1,5,7,1,6,0,0,0]
[]
[]
["Fuente: Oficinas Productoras de cada una de las Instituciones. "]

{"sheet":"II-8.2.1","index":106,"n_rows":92,"n_cols":8,"rows_kept":92,"cut":false,"hidden":false,"merged":[[91,0,91,6],[0,4,1,5],[5,0,8,0],[5,1,8,1],[5,2,5,5],[5,6,7,7],[6,2,6,3],[6,4,6,5],[7,2,7,5],[4,0,4,8]]}
["MEC - DIRECCIÓN DE EDUCACIÓN",null,null,null,"PERSONAL DOCENTE"]
["ÁREA DE EDUCACIÓN NO FORMAL"]
[]
["Cuadro Nº II-8.2.1"]
["PERSONAL DOCENTE DE CECAP,TITULADO Y NO TITULADO, POR SEXO, REGIÓN Y DEPARTAMENTO SEGÚN CARGA HORARIA SEMANAL. AÑO 2015."]
["Dedicación","TOTAL DOCENTES","DOCENTES",null,null,null,"PERSONAL NO DOCENTE"]
[null,null,"TITULADOS",null,"NO TITULADOS"]
[null,null,"SEXO"]
[null,null,"M","F","M","F","M","F"]
["TOTAL",{"$f":"SUM(C10:F10)","v":282},{"$f":"+C12+C22","v":41},117,54,70,4,14]
[]
["MONTEVIDEO",{"$f":"SUM(C12:F12)","v":72},{"$f":"C13+C17","v":15},{"$f":"D13+D17","v":35},7,15,3,5]
["Montevideo",{"$f":"SUM(C13:F13)","v":61},{"$f":"C14+C15+C16","v":12},{"$f":"D14+D15+D16","v":33},5,11,3,4]
["Hasta 19 hs semanales",{"$f":"SUM(C14:F14)","v":4},1,2,1,0,0,0]
["De 20 hs a 39 hs semanales",55,10,31,3,11,3,4]
["De 40 hs y más semanales",2,1,0,1,0,0,0]
["Montevideo Oeste",11,{"$f":"C18+C19+C20","v":3},{"$f":"D18+D19+D20","v":2},2,4,0,1]
["Hasta 19 hs semanales",8,3,1,2,2,0,1]
["De 20 hs a 39 hs semanales",3,0,1,0,2,0,0]
["De 40 hs y más semanales",0,0,0,0,0,0,0]
[]
["RESTO DEL PAÍS",{"$f":"SUM(C22:F22)","v":210},{"$f":"SUM(C23:C25)","v":26},{"$f":"SUM(D23:D25)","v":82},{"$f":"SUM(E23:E25)","v":47},{"$f":"SUM(F23:F25)","v":55},{"$f":"SUM(G23:G25)","v":1},9]
["Hasta 19 hs semanales",{"$f":"SUM(C23:F23)","v":111},{"$f":"C27+C32+C36+C40+C44+C48+C52+C56+C60+C64+C68+C72+C76+C80+C84+C88","v":18},34,28,31,{"$f":"\n\nG27+G32+G36+G40+G44+G48+G52+G56+G60+G68+G72+G76+G80+G84+G88","v":0},{"$f":"H27+H32+H36+H40+H44+H48+H52+H56+H60+H68+H72+H76+H80+H84+H88","v":2}]
["De 20 hs a 39 hs semanales",{"$f":"SUM(C24:F24)","v":98},8,48,19,23,{"$f":"G28+G33+G37+G41+G45+G49+G53+G57+G61+G69+G73+G77+G81+G85+G89","v":1},{"$f":"H28+H33+H37+H41+H45+H49+H53+H57+H61+H69+H73+H77+H81+H85+H89","v":6}]
["De 40 hs y más semanales",1,{"$f":"C29+C34+C38+C42+C46+C50+C54+C58+C62+C66+C70+C74+C78+C82+C86+C90","v":0},0,0,1,{"$f":"G29+G34+G38+G42+G46+G50+G54+G58+G62+G70+G74+G78+G82+G86+G90","v":0},{"$f":"H29+H34+H38+H42+H46+H50+H54+H58+H62+H70+H74+H78+H82+H86+H90","v":1}]
["Artigas",16,{"$f":"SUM(C27:C29)","v":1},7,4,4,0,0]
["Hasta 19 hs semanales",11,0,3,4,4,0,0]
["De 20 hs a 39 hs semanales",5,1,4,0,0,0,0]
["De 40 hs y más semanales",0,0,0,0,0,0,0]
["Canelones",56,{"$f":"+C31+C35+C39+C43+C47","v":4},{"$f":"+D31+D35+D39+D43+D47","v":25},{"$f":"+E31+E35+E39+E43+E47","v":11},16,0,1]
["  Barros Blancos",12,{"$f":"SUM(C32:C34)","v":0},6,3,3,0,0]
["Hasta 19 hs semanales",7,0,3,1,3,0,0]
["De 20 hs a 39 hs semanales",5,0,3,2,0,0,0]
["De 40 hs y más semanales",0,0,0,0,0,0,0]
["  La Paz",11,{"$f":"SUM(C36:C38)","v":1},{"$f":"SUM(D36:D38)","v":5},{"$f":"SUM(E36:E38)","v":1},{"$f":"SUM(F36:F38)","v":4},{"$f":"SUM(G36:G38)","v":0},0]
["Hasta 19 hs semanales",5,1,1,1,2,0,0]
["De 20 hs a 39 hs semanales",6,0,4,0,2,0,0]
["De 40 hs y más semanales",0,0,0,0,0,0,0]
["  Las Piedras",12,{"$f":"SUM(C40:C42)","v":0},{"$f":"SUM(D40:D42)","v":5},{"$f":"SUM(E40:E42)","v":3},{"$f":"SUM(F40:F42)","v":4},{"$f":"SUM(G40:G42)","v":0},0]
["Hasta 19 hs semanales",7,0,2,3,2,0,0]
["De 20 hs a 39 hs semanales",5,0,3,0,2,0,0]
["De 40 hs y más semanales",0,0,0,0,0,0,0]
["Paso Carrasco",{"$f":"SUM(C43:F43)","v":8},{"$f":"SUM(C44:C46)","v":3},{"$f":"SUM(D44:D46)","v":5},{"$f":"SUM(E44:E46)","v":0},{"$f":"SUM(F44:F46)","v":0},{"$f":"SUM(G44:G46)","v":0},1]
["Hasta 19 hs semanales",5,1,4,0,0,0,1]
["De 20 hs a 39 hs semanales",3,2,1,0,0,0,0]
["De 40 hs y más semanales",0,0,0,0,0,0,0]
["  Toledo",13,{"$f":"SUM(C48:C50)","v":0},{"$f":"SUM(D48:D50)","v":4},{"$f":"SUM(E48:E50)","v":4},{"$f":"SUM(F48:F50)","v":5},{"$f":"SUM(G48:G50)","v":0},0]
["Hasta 19 hs semanales",9,0,2,3,4,0,0]
["De 20 hs a 39 hs semanales",4,0,2,1,1,0,0]
["De 40 hs y más semanales",0,0,0,0,0,0,0]
["Colonia ",{"$f":"SUM(C51:F51)","v":12},{"$f":"SUM(C52:C54)","v":4},{"$f":"SUM(D52:D54)","v":4},{"$f":"SUM(E52:E54)","v":2},{"$f":"SUM(F52:F54)","v":2},{"$f":"SUM(G52:G54)","v":0},0]
["Hasta 19 hs semanales",{"$f":"SUM(C52:F52)","v":7},2,1,2,2,0,0]
["De 20 hs a 39 hs semanales",5,2,3,0,0,0,0]
["De 40 hs y más semanales",0,0,0,0,0,0,0]
["Durazno",9,{"$f":"SUM(C56:C58)","v":3},3,2,1,0,0]
["Hasta 19 hs semanales",6,3,0,2,1,0,0]
["De 20 hs a 39 hs semanales",3,0,3,0,0,0,0]
["De 40 hs y más semanales",0,0,0,0,0,0,0]
["Florida",15,{"$f":"SUM(C60:C62)","v":5},{"$f":"SUM(D60:D62)","v":8},{"$f":"SUM(E60:E62)","v":2},{"$f":"SUM(F60:F62)","v":0},{"$f":"SUM(G60:G62)","v":0},0]
["Hasta 19 hs semanales",{"$f":"SUM(C60:F60)","v":11},4,5,2,0,0,0]
["De 20 hs a 39 hs semanales",4,1,3,0,0,0,0]
["De 40 hs y más semanales",0,0,0,0,0,0,0]
["Maldonado",10,{"$f":"C64+C65+C66","v":2},{"$f":"D64+D65+D66","v":2},{"$f":"E64+E65+E66","v":3},3,1,1]
["Hasta 19 hs semanales",6,2,0,2,2,0,0]
["De 20 hs a 39 hs semanales",4,0,2,1,1,0,0]
["De 40 hs y más semanales",0,0,0,0,0,0,0]
["Paysandú",14,{"$f":"SUM(C68:C70)","v":1},{"$f":"SUM(D68:D70)","v":5},{"$f":"SUM(E68:E70)","v":5},{"$f":"SUM(F68:F70)","v":3},0,1]
["Hasta 19 hs semanales",8,1,2,3,2,0,1]
["De 20 hs a 39 hs semanales",6,0,3,2,1,0,0]
["De 40 hs y más semanales",0,0,0,0,0,0,0]
["Río Negro (Young)",11,{"$f":"SUM(C72:C74)","v":0},{"$f":"SUM(D72:D74)","v":5},{"$f":"SUM(E72:E74)","v":1},{"$f":"SUM(F72:F74)","v":5},{"$f":"SUM(G72:G74)","v":0},0]
["Hasta 19 hs semanales",5,0,1,1,3,0,0]
["De 20 hs a 39 hs semanales",6,0,4,0,2,0,0]
["De 40 hs y más semanales",0,0,0,0,0,0,0]
["Rivera",25,{"$f":"SUM(C76:C78)","v":2},{"$f":"SUM(D76:D78)","v":8},{"$f":"SUM(E76:E78)","v":8},{"$f":"SUM(F76:F78)","v":7},{"$f":"SUM(G76:G78)","v":1},6]
["Hasta 19 hs semanales",1,0,0,0,1,0,0]
["De 20 hs a 39 hs semanales",23,2,8,8,5,1,6]
["De 40 hs y más semanales",1,0,0,0,1,0,0]
["Rocha",11,{"$f":"SUM(C80:C82)","v":1},{"$f":"SUM(D80:D82)","v":2},{"$f":"SUM(E80:E82)","v":3},{"$f":"SUM(F80:F82)","v":5},{"$f":"SUM(G80:G82)","v":0},0]
["Hasta 19 hs semanales",7,1,1,2,3,0,0]
["De 20 hs a 39 hs semanales",4,0,1,1,2,0,0]
["De 40 hs y más semanales",0,0,0,0,0,0,0]
["Salto",13,{"$f":"SUM(C84:C86)","v":1},{"$f":"SUM(D84:D86)","v":6},{"$f":"SUM(E84:E86)","v":1},{"$f":"SUM(F84:F86)","v":5},{"$f":"SUM(G84:G86)","v":0},1]
["Hasta 19 hs semanales",7,1,6,0,0,0,0]
["De 20 hs a 39 hs semanales",6,0,0,1,5,0,0]
["De 40 hs y más semanales",0,0,0,0,0,0,1]
["Treinta y Tres",18,{"$f":"SUM(C88:C90)","v":2},{"$f":"SUM(D88:D90)","v":7},{"$f":"SUM(E88:E90)","v":5},{"$f":"SUM(F88:F90)","v":4},{"$f":"SUM(G88:G90)","v":0},0]
["Hasta 19 hs semanales",9,2,3,2,2,0,0]
["De 20 hs a 39 hs semanales",9,0,4,3,2,0,0]
["De 40 hs y más semanales",0,0,0,0,0,0,0]
[]
["Fuente: Procesamiento propio en base a datos proporcionados por el  Área de Educación No Formal, Dirección de Educación, MEC."]

{"sheet":"ll-8.2.2","index":107,"n_rows":29,"n_cols":4,"rows_kept":29,"cut":false,"hidden":false,"merged":[[5,0,6,0],[5,1,6,1],[3,0,3,3],[5,2,5,3],[0,1,0,3],[1,0,1,2]]}
["ANEP","PERSONAL DOCENTE",null,"PRUEBAS DE ACREDITACIÓN"]
["CODICEN – DIRECCIÓN SECTORIAL DE EDUCACIÓN DE ADULTOS"]
["Cuadro Nº II-8.2.2"]
["DOCENTES POR SEXO SEGÚN GRANDES ÁREAS Y DEPARTAMENTO. AÑO 2013."]
[]
["GRANDES ÁREAS Y DEPARTAMENTOS",null,"DOCENTES"]
[null,null,"M","F"]
["TOTAL",{"$f":"+B9+B10","v":433},{"$f":"+C9+C10","v":91},342]
["MONTEVIDEO",{"$f":"C9+D9","v":261},59,202]
["RESTO DEL PAÍS",{"$f":"C10+D10","v":172},32,140]
["Artigas",{"$f":"C11+D11","v":5},0,5]
["Canelones",46,7,39]
["Cerro Largo",7,1,6]
["Colonia",8,0,8]
["Durazno",4,0,4]
["Flores",1,0,1]
["Florida",3,0,3]
["Lavalleja",7,2,5]
["Maldonado",9,4,5]
["Paysandú",12,2,10]
["Río Negro",5,1,4]
["Rivera",14,4,10]
["Rocha",3,1,2]
["Salto",13,4,9]
["San José",9,2,7]
["Soriano",12,2,10]
["Tacuarembó",13,2,11]
["Treinta y Tres",1,0,1]
["Fuente: ANEP - CODICEN - Dirección Sectorial de Educación de Adultos"]

{"sheet":"II-8.3.1  ","index":108,"n_rows":24,"n_cols":12,"rows_kept":24,"cut":false,"hidden":false,"merged":[[0,4,1,11],[6,0,6,11],[7,0,10,0],[7,1,8,2],[7,3,10,3],[7,4,8,5],[7,6,8,11],[9,1,10,1],[9,2,10,2],[9,4,9,5],[9,6,10,6],[9,7,9,8],[9,9,10,9],[9,10,9,11],[0,0,0,2]]}
["CONSEJO DE CAPACITACIÓN PROFESIONAL (COCAP)",null,null,null,"CURSOS, ALUMNOS MATRICULADOS Y RECURSOS HUMANOS"]
[]
[]
[]
["Cuadro Nº II-8.3.1"]
[]
["CANTIDAD DE CURSOS, DE HORAS Y DE ALUMNOS MATRICULADOS SEGÚN TIPO DE CURSO Y ÁREA DE FORMACIÓN COCAP. AÑO 2015."]
["TIPO DE CURSO Y ÁREA DE FORMACIÓN","CURSOS",null,"TOTAL","ALUMNOS MATRICULADOS",null,"RECURSOS HUMANOS"]
[]
[null,"CANTIDAD","HORAS",null,"SEXO",null,"TOTAL","DOCENTES",null,"TOTAL","FUNCIONARIOS"]
[null,null,null,null,"M","F",null,"M","F",null,"M","F"]
["TOTAL",{"$f":"B13+B18","v":116},{"$f":"SUM(C13+C18)","v":9823},{"$f":"E12+F12","v":1113},{"$f":"E13+E18","v":932},{"$f":"F13+F18","v":181},{"$f":"H12+I12","v":42},{"$f":"H13+H18","v":35},{"$f":"I13+I18","v":7},{"$f":"K12+L12","v":23},{"$f":"K13+K18","v":8},{"$f":"L13+L18","v":15}]
["   Cursos Abiertos",104,9081,{"$f":"E13+F13","v":854},837,17,{"$f":"H13+I13","v":26},19,7,{"$f":"K13+L13","v":23},8,15]
["    Industrial",0,0,0,0,0,{"$f":"H14+I14","v":0},0,0,0,0,0]
["    Hotelería / Gastronomía",0,0,0,0,0,0,0,0,0,0,0]
["    Administración y Servicios",0,0,0,0,0,0,0,0,0,0,0]
["    Agropecuario",0,0,0,0,0,0,0,0,0,0,0]
["   Cursos Cerrados",12,742,259,95,164,16,16,0,0,0,0]
["    Industrial",0,0,0,0,0,0,0,0,0,0,0]
["    Hotelería / Gastronomía",0,0,0,0,0,0,0,0,0,0,0]
["    Administración y Servicios",0,0,0,0,0,0,0,0,0,0,0]
["    Agropecuario",0,0,0,0,0,0,0,0,0,0,0]
[]
["Fuente: COCAP"]

{"sheet":"II-8.4.1  ","index":109,"n_rows":260,"n_cols":8,"rows_kept":260,"cut":false,"hidden":false,"merged":[[0,4,1,5],[4,0,4,6],[5,0,7,0],[5,1,7,1],[5,2,5,3],[5,4,7,4],[5,5,5,6],[6,2,6,3],[6,5,6,6]]}
["MEC",null,null,null,"CENSO EDUCACIÓN TÉCNICA Y TECNOLÓGICA"]
["Área de Investigación y Estadística"]
[]
["Cuadro Nº II.8.4.1"]
["MATRÍCULA Y PERSONAL DOCENTE DEL RELEVAMIENTO DE INSTITUCIONES DE FORMACIÓN TÉCNICO-PROFESIONAL POR SEXO SEGÚN TIPO DE INSTITUCIÓN, ÁREAS DE CONOCIMIENTO E INSTITUCIONES. AÑO 2015."]
["TIPO DE INSTITUCIÓN /  INSTITUCIONES","TOTAL","MATRÍCULA",null,"TOTAL","DOCENTES"]
[null,null,"SEXO",null,null,"SEXO"]
[null,null,"M","F",null,"M","F"]
["TOTAL PUBLICO Y PRIVADA",100496,47803,52693,4807,2161,2646]
["PÚBLICO TOTAL",9419,6892,2527,937,706,231]
["CENTRO DE ALTOS ESTUDIOS NACIONALES",342,165,177.00000000000003,89,71,18]
["CENTRO DE INSTRUCCIÓN DE LA ARMADA",3691.0000000000005,2971.0000000000005,719.99999999999989,32,26,6]
["COMANDO DE APOYO LOGÍSTICO DEL EJÉRCITO",33,25,8,8,7,1]
["DINACIA",325,257,68,65,53,12]
["ESCUELA DE BUCEO DE LA ARMADA",145,143,2,106,97,9]
["ESCUELA DE COMUNICACIONES DEL EJÉRCITO",313,214,99,38,28,10]
["ESCUELA DE ESPECIALIDADES DE LA ARMADA (ESESP)",1021,758,263,86,73,13]
["ESCUELA DE FUSILEROS NAVALES",946.99999999999966,937.99999999999966,8.9999999999999964,133,131,2]
["ESCUELA DE SANIDAD DE LAS FUERZAS ARMADAS",1173,425.00000000000006,747.99999999999989,125,41,84]
["ESCUELA TÉCNICA DE AERONÁUTICA",341,247,94,148,123,25]
["Instituto Militar de Estudios Superiores",343,204.00000000000003,139,12,2,10]
["Instituto Tecnologico del Uruguay ltda.",194,130,64,15,4,11]
["SERVICIO DE INTENDENCIA DEL EJÉRCITO",33,33,0,7,3,4]
["SERVICIO DE MATERIAL Y ARMAMENTO",118,116,1.9999999999999998,18,18,0]
["SERVICIO DE TRANSPOTE DE EJERCITO",99,95,4,8,8,0]
["SERVICIO DE VETERINARIA Y REMONTA",127.99999999999999,89.999999999999986,38,22,9,13]
["Servicio Geográfico Militar",35,18,17,14,10,4]
["Servicio Sanitario del Ejército",138,63,75,11,2,9]
["PRIVADO TOTAL",91077,40911,50166,3870,1455,2415]
["\"Eureka\" - Jonathan Miles Prentice Coe",162,69.999999999999986,92,29,15,14]
["4D -Content English",6813,3526,3287,36,11,25]
["A + Artes Visuales",226.99999999999994,155.99999999999994,71,16,13,3," "]
["Academia Alfa (nombre fantasia), razón social Gladys Ruglio, Guillermo Casalá y otros",347.99999999999994,124.99999999999999,222.99999999999997,16,6,10]
["ACADEMIA DE DANZA PAULA CASTERAN",121,19,102,1,0,1]
["Academia Mario Rodríguez Contabilidades S.C.I.",54,18.999999999999996,35,6,0,6]
["Academia Wolf",180.00000000000006,79.000000000000028,101.00000000000001,8,4,4]
["Acción Promocional 18 de Julio",978,471,506.99999999999994,28,15,13]
["ACP - ARLENUR S.A",710,60.000000000000007,650,16,0,16]
["Agencia de Desarrollo de Paysandú",532,272,260,15,10,5]
["AGOSTINO ASCIONE SILVIA CATALINA - Instituto de Idiomas IETI Pinar",493.00000000000006,241.00000000000003,252.00000000000003,5,0,5]
["Alianza Colonia",391,184,207.00000000000003,29,2,27]
["ALIANZA CULTURAL SAN RAMON",165.99999999999997,70.999999999999986,94.999999999999986,4,0,4]
["ALIANZA DURAZNO",99,35,63.999999999999993,5,0,5]
["Alianza Fray Bentos- Razón Social Sara Zulema Guelman Guigou",182,64,118,8,1,7]
["ALIANZA MELO",255.00000000000006,90.000000000000014,165.00000000000003,6,0,6]
["Alianza Minas",166,58,108,6,0,6]
["ALIANZA RIVERA  S.R.L.",137,48,89,4,1,3]
["Alianza Uruguay - Estados Unidos",1221,495.99999999999994,725,33,3,30]
["ALPHA SPORTS CENTER",515,202,313,15,8,7]
["AMERICAN LANGUAGUE INSTITUTE",143.00000000000003,60.000000000000021,83,5,0,5]
["Ametrano Reboledo Norma Iris",120,60,60,12,5,7]
["Anglo",1712,1056,656,82,8,74]
["ANGLO CERRO",159,63.999999999999993,95,8,1,7]
["ANGLO COLÓN",68,27.000000000000004,41,6,1,5]
["ANGLO LA BLANQUEADA SRL",225,112,113,12,2,10]
["Anglo Maldonado",483,211,272,30,0,30]
["ANGLO SAN CARLOS",154.99999999999997,72,82.999999999999972,7,0,7]
["ANGLO SARANDI GRANDE",173,42,131,8,1,7]
["Aquelarre Escuela de Fotografía",251,82,169,7,4,3]
["ARCUBA SRL",100,7,93,12,0,12]
["ARS escuela de interiorismo",13,0,13,2,0,2]
["ARTE Y CIENCIA",191,27,164,11,1,10]
["Asociacion Civil El Abrojo",1196,377.99999999999989,818.00000000000011,86,34,52]
["ASOCIACIÓN CIVIL SOCIEDAD DE CULTURA INGLESA ANGLO FLORIDA",649.99999999999989,255.00000000000003,394.99999999999989,33,1,32]
["Asociación Cristiana de Jóvenes",51,30,21,11,6,5]
["Asociación Cristiana de Jóvenes Club de Niños La Casita",64,40,24,12,3,9]
["ASOCIACION CULTURAL Y TECNICA",57,0,57,22,9,13]
["Asociación Cultural y Técnica - Los Pinos",294,286,8,26,21,5]
["Asociación Cultural y Técnica- Del Plata",35.999999999999993,1.9999999999999998,33.999999999999993,20,2,18]
["Asociación Damas Salesianas",37,2,35,3,0,3]
["Asociación de Enfermeras Católicas. Nuestra Señora de los Remedios",81,19,62,10,2,8]
["ASOCIACIÓN URUGUAYA DE ARTESANOS (AUDA)",73,17,56,11,3,8]
["Asociación Uruguaya de Barmen",91,68,23,12,11,1]
["ASOCIACIÓN URUGUAYA DE CEREMONIAL Y PROTOCOLO - AUCYP",78,9,69,21,11,10]
["Bécassine S.R.L.",98,35,63,2,0,2]
["Bentancor Perez Noemi y Sotés Castro Marcelo Gabriel    (INSTITUTO P.I.E.M.C.E.)",1232,460.99999999999989,771.00000000000011,20,6,14]
["BIZZOZERO GISELDA - MONTALDO PABLO SDH - COLEGIO DE COCINERO MONTEVIDEO (COLEGIO GATO DUMAS)",384,144.99999999999997,239.00000000000003,36,21,15]
["Blive",126,64,61.999999999999993,2,0,2]
["BRASIL CLUB S.R.L. - Club de Portugués",291,83,208,8,2,6]
["Britannia Centre",282,127,154.99999999999997,11,0,11]
["Capítulo Montevideo Uruguay PMI",215,131,84,9,5,4]
["Caprice",265,8,257,5,0,5]
["CASA  AMBIENTAL  DE   CASTILLOS",138,68,70,14,3,11]
["Castro Castro Luis Eduardo",30,15,15,3,0,3]
["CEAS - Centro Educativo en el Area de la salud",106,7,99,24,12,12]
["CECATCS",84,16,68,8,0,8]
["CEI",223,139,84.000000000000014,27,22,5]
["Centro Anglo La Teja",153,63,89.999999999999986,8,0,8]
["CENTRO COOPERATIVISTA URUGUAYO",112,97,15,8,5,3]
["Centro Cultural Anglo-Uruguayo - Pando",120,58,61.999999999999993,3,0,3]
["CENTRO CULTUTAL ANGLO URUGUAYO - ARTIGAS",125,43,82,8,2,6]
["Centro de Capacitación para la Salud",308,35,273,23,3,20]
["CENTRO DE CAPACITACION SERRANO",220,111,109.00000000000001,13,8,5]
["Centro de Entrenamiento Kalya",79,42,37,1,1,0]
["CENTRO DE ESTUDIOS AMADEUS",67,31,36,3,2,1]
["Centro de Navegación- Instituto de Capacitación",262,209,53.000000000000007,11,8,3]
["CENTRO INTEGRAL FORMACION ENFERMERIA",87,19,68,6,2,4]
["CENTRO INTEGRAL IGUAZU",31,14,17,6,0,6]
["CEPRIE",309,78,231,8,5,3]
["CEUTA",76,42.000000000000007,34,14,10,4]
["Chiquilladas Durazno",69,20,49,37,0,37]
["CIEDUR",3676.0000000000005,1478,2198.0000000000005,133,51,82]
["Círculo informático parque batlle",409.99999999999989,228.99999999999991,180.99999999999997,23,16,7]
["COLEGIO DE ENFERMERIA MONTEVIDEO",27,4,23,6,1,5]
["CRUZ ROJA URUGUAYA - FILIAL PAYSANDÚ",126,22,104,8,0,8]
["E.EDU.PRO.MER.Ltda",118,20,98,13,1,12]
["E.F.A.E.S. (Escuela de Formación de Auxiliar de Enfermería y Servicios)",77,12,65,12,0,12]
["EMI EDUCA",283,119,164,8,2,6]
["Emily Dickinson Educational Center",295,110,185,8,2,6]
["EMPIRE ENGLISH CENTER",92,41,50.999999999999993,5,1,4]
["ENEDUR",115,11,104,8,0,8]
["ENERIO",78,9,69,9,0,9]
["ESCUELA ACTUACION INTEGRAL",101,43,58,24,12,12]
["Escuela Antares",1409,249,1160,23,1,22]
["Escuela Centro-sur",74,8,66,8,1,7]
["Escuela de Capacitación SRL",355,9,346,11,0,11]
["ESCUELA DE CINE DEL URUGUAY",202,114,87.999999999999986,39,29,10]
["ESCUELA DE COMEDIA MUSICAL",744,71,673,32,12,20]
["Escuela de Enfermería Colón",574,70,503.99999999999994,10,0,10]
["ESCUELA DE ENFERMERIA DR. EDUARDO BLANCO ACEVEDO",202,48,154,15,1,14]
["Escuela de Enfermeria Humanizar",25,3,22,12,0,12]
["ESCUELA DE ENFERMERIA IDECAS",542,98,444,26,7,19]
["Escuela de Enfermería PROSALUD Florida",147,23,124,19,2,17]
["ESCUELA DE ENFERMERIA RIVERA",24,6,18,7,2,5]
["Escuela de Enfermería Tercer Milenio",132,32,100,12,12,0]
["Escuela de Enfermería Villa Regina",129,11,118,7,0,7]
["ESCUELA DE ENFERMERIA Y SERVICIOS TACUAREMBO",103,13,90,9,3,6]
["Escuela de Formación Profesional en Comercio Exterior y Aduana",308,193,115,55,32,23]
["Escuela Francesa de Negocios",84,42.000000000000007,41.999999999999993,16,8,8]
["Escuela Integral en Salud",58,11,47,3,0,3]
["Escuela Ma-pa",3124,1867.9999999999998,1256.0000000000002,91,59,32]
["Escuela Matriz de Enfermería S.R.L.",58,16,42,7,2,5]
["ESCUELA NACIONAL DE ENFERMERIA DE LAVALLEJA",100,5,95,10,10,0]
["ESCUELA NACIONAL DE ENFERMERIA TREINTA Y TRES.",246,27,219,15,0,15]
["ESCUELA PAYSANDÚ DE AUXILIARES DE ENFERMERÍA S.R.L.",94,14,80,5,1,4]
["ESCUELAS IADE",427,427,0,8,8,0]
["Espacio de Desarrollo Armónico Río Abierto Uruguay",321.00000000000006,32,289.00000000000006,11,3,8]
["EUFÓRIA ACADEMIA DE DANZA",67,4,63,1,0,1]
["EXCEL INSTITUTE",152,57.999999999999993,94,8,1,7]
["EXECUTIVE URUGUAY",215,97,118,9,0,9]
["FACULTAD DE CIENCIAS AGRARIAS - UDE",178,117,61,31,21,10]
["FCI Fundación de Cultura Informática",8,7,1,2,2,0]
["Fedu",599,417,182,4,2,2]
["FIGTHER SRL",45,30,15,2,2,0]
["FINITUR S.A. - ESCUELA DE NEGOCIOS INTERNACIONALES",398,187,211,55,26,29]
["FOTO CLUB URUGUAYO",483,178,305,16,15,1]
["FUNDACIÒN CENTRO DE EDUCACIÒN POPULAR",76,5,71,13,4,9]
["Fundación de Integración Socio Educativa",323,71,252,16,7,9]
["Fundación Dodecá",74,36,38,8,6,2]
["FUNDACIÓN PABLO DE TARSO",165,75,90,25,7,18]
["Fundación Plenario de Mujeres del Uruguay",609,105,504,86,10,76]
["Fundación ProMúsica",88,50,38,12,7,5]
["Fundasol",4787,2557,2229.9999999999995,27,10,17]
["GARBO IMAGEN",201,13,188,7,0,7]
["GIAZZU S.A.",8401.0000000000018,4259,4142.0000000000018,370,232,138]
["Giovannini",423,288,135,14,12,2]
["Goethe Institut Uruguay",1159,537,622,10,2,8]
["GRAMEEN Uruguay",142,53,89,5,3,2]
["Green Park",689,385,304,2,0,2]
["GREENWICH INSTITUTE",258.99999999999994,112,146.99999999999994,11,1,10]
["Gustavo Antonio Perdomo Perez",63,25,38,2,1,1]
["HEROL S.R.L.",189,79,110,15,6,9]
["High Flyers Institute",29,13,16,3,0,3]
["Highlands Maldonado",71,32,39,33,0,33]
["HIGHLANDS SCHOOL ARTIGAS",85,24,61,4,0,4]
["Highlands School Mercedes",52,18,34,1,0,1]
["Highlight Centre",137,64,73,2,1,1]
["Horacio Spingardi - Gastronomia integral",60,20,40,2,2,0]
["ide institute",70,34,36,3,1,2]
["IEAC Carmelo",54,26,28,2,0,2]
["IECO (Instituto de Estudios de Inglés Colón)",138,46,92.000000000000014,4,3,1]
["IMS",48,39,9,2,2,0]
["INADI - Instituto Nacional de Informática",374,183,191,4,3,1]
["Inc English Services",98,55,42.999999999999993,31,7,24]
["INSTCEE - INSTITUTO DE CIENCIAS EXACTAS Y EMPRESARIALES",1772,841,931,9,4,5]
["INSTITUCION KOLPING SA",268,98,170,23,12,11]
["Institución Teatral El Tinglado",106,32,74,6,4,2]
["INSTITUTO  MICHIGAN",189,84,105,13,1,12]
["INSTITUTO  UNIVERSITARIO ASOCIACION CRISTIANA DE JOVENES",335,291,44,25,14,11]
["INSTITUTO ALDEY",316,55,261,18,8,10]
["Instituto Brighton",178,76,102.00000000000001,4,0,4]
["Instituto Cultural Anglo Uruguayo - ANGLO ALBO",177,81,96,12,1,11]
["INSTITUTO CULTURAL ANGLO URUGUAYO DE DURAZNO",409,182,227,11,1,10]
["Instituto Cultural Anglo Uruguayo de Las Piedras",150.00000000000003,55.000000000000014,95.000000000000014,8,1,7]
["Instituto Cultural Anglo Uruguayo de Rivera",450,203,247.00000000000003,12,0,12]
["INSTITUTO CULTURAL GABOTO",204.99999999999997,3,201.99999999999997,34,12,22]
["Instituto de Actuación de Montevideo",185,57,128,28,12,16]
["Instituto de Alta Gastronomia Beatriz Marino",409,42,367,3,0,3]
["INSTITUTO DE CAPACITACION EMPRESARIAL DE URUGUAY (ICEDU)",160,82,78,8,2,6]
["Instituto de Capacitacion Interactiva",97,36,61,1,1,0]
["Instituto de Danzas Verónica Samurio",467,13,454,4,0,4]
["Instituto de Educación Centro DEI",71,19,52,2,1,1]
["INSTITUTO DE ESTUDIOS SOCIALES (IES)",162,75,87,25,15,10]
["Instituto de Formación & Capacitación del Centro de Viajantes y Vendedores de Plaza",50,37,13,4,1,3]
["Instituto de Inglés CEDI",130,62,68,2,0,2]
["INSTITUTO DICKENS",896,445,451.00000000000006,116,25,91]
["Instituto DISEG",69,1,68,2,1,1]
["INSTITUTO E FORMACIÓN TÉCNICA MATIAS GONZALEZ",162.99999999999997,15.000000000000002,147.99999999999997,3,0,3]
["INSTITUTO EDULAND",220,84,136,16,4,12]
["INSTITUTO FEC SRLP",175,89,86,5,4,1]
["INSTITUTO GANEM",150,54,96,6,2,4]
["Instituto LC",244.99999999999997,74,170.99999999999997,29,13,16]
["INSTITUTO MUNDO NUEVO",353.00000000000006,38.999999999999993,314.00000000000006,17,4,13]
["Instituto Musical Schuber",92,41,51,4,1,3]
["INSTITUTO PROFESIONAL DE ENSEÑANZA PERIODÍSTICA",284,189,95,21,14,7]
["Instituto Strasser",271.99999999999994,230.99999999999994,40.999999999999986,11,2,9]
["Instituto Superior de Informática",438,138,300,8,3,5]
["Instituto Tecnologico CTC Paysandú",68,36,32,19,10,9]
["INSTITUTO TECNOLOGICO DE INFORMATICA - ITI",36,14,22,3,1,2]
["Instituto Tecnológico del Pan",184,70,114,10,4,6]
["INSTITUTO TECNOLOGICO ECILDA PAULLIER",110,37,73,3,1,2]
["Instituto Universitario CEDIIAP",86,1,85,68,13,55]
["Instituto Universitario Mons. Mariano Soler Facultad de Teología del Uruguay",71,66,5,37,33,4]
["INSTITUTO URUBRIT",74,30.999999999999996,43,3,1,2]
["INSTITUTO URUGUAYO DE NORMAS TECNICAS - UNIT",4471,2085,2386,79,43,36]
["Instituto Uruguayo Gastronómico",46,25,21,17,7,10]
["Instituto Vinicius de Moraes- Língua & Cultura do Brasil",134,34,100,3,1,2]
["Instituto Viñales",286,122.00000000000001,163.99999999999997,4,1,3]
["Integra Escuela Pablo Giménez",60,4,56,4,1,3]
["ITEM",161,112,49,14,8,6]
["ITHU - INSTITUTO POLITÉCNICO DE MONTEVIDEO",346,169,177,32,19,13]
["JAVIER GUTIÉRREZ",47,5,42,2,1,1]
["Juventud para Cristo",39,7,32,4,0,4]
["KENT INSTITUTE",140,60,80,8,1,7]
["Kingston Language Centre",49,5.9999999999999991,43,1,0,1]
["La Herradura",200,75,125,4,2,2]
["La sociedad civil",260,130,130,3,0,3]
["LONDON MILENIUM SA",629,198,431.00000000000006,87,10,77]
["Lurama SRL",110,9,101,2,0,2]
["Madame Curie Escuela de Enfermería",191,19,172,18,0,18]
["MAGDALENA CAZARRE  AILOMA",116,67,49.000000000000007,20,9,11]
["Mirta Daniela Vidal Acosta Instituto de Inglés EPT",93,44,49,2,1,1]
["Mundo Informático",216,97.000000000000014,118.99999999999999,9,1,8]
["Patronato da Cultura Galega",194,46,148,15,3,12]
["Programa Cardijn",173,51.000000000000007,121.99999999999999,57,22,35]
["Qualitas Fray Bentos",2558,2280,278,2,1,1]
["QUALITAS RED TECNOLOGICA",265,149,116,6,2,4]
["QUEEN´S CENTRO DE LENGUAS",97,43,54,2,1,1]
["Recepcion BusinessEnglish",195,80,115,9,3,6]
["RED QUALITAS",147,57.999999999999993,89,14,10,4]
["REDQUALITAS TARARIRAS",99,32,67,4,2,2]
["REPAPEL",4144,1908,2236,4,0,4]
["Ricardo Ravotto",426,223.99999999999997,202,21,10,11]
["RODANZAS",237.99999999999997,24.999999999999996,212.99999999999997,32,21,11]
["ROMERO DEL PUP MARCELO , PRESUTTI SOSA MARTIN",296,148,148,17,10,7]
["SAINT MARY'S English School",57,22,35,1,0,1]
["Salados Escuela de Música",94,61,33,4,3,1]
["Seaside English Center",78,30,48,2,0,2]
["SERINF",344,107,237.00000000000003,58,12,46]
["SERVICIO PAZ Y JUSTICIA-URUGUAY",422,368,54,6,3,3]
["Somerset House ELS",42,19,23,6,1,5]
["Sosa Banchero, Ana Silvia",46,19,27,5,0,5]
["SUMMIT",208,98.000000000000014,110,9,5,4]
["TALLER AZABACHE (ARTE TALLER CELSA)",60,13,47,2,1,1]
["TALLER DE INFORMÁTICA",1039.9999999999998,482,557.99999999999977,14,6,8]
["The British Institute",258,107,151,6,1,5]
["The English Institute",61,21,40,3,0,3]
["We teach English",37,13,24,2,0,2]
["Fuente: Elaboración propia en base a la información del Relevamiento de Instituciones de Formación Técnico-Profesional. Realizado por el Área de Investigación y Estadística."]
["Nota: en las instituciones  se suman la totalidad de docentes, en el momento de su primera aparición en el presente cuadro, ya que no se tiene la desagregación de los mismos por área de conocimiento"]

{"sheet":"II-8.4.2 ","index":110,"n_rows":95,"n_cols":12,"rows_kept":95,"cut":false,"hidden":false,"merged":[[0,3,1,5],[2,3,3,5],[8,8,8,9],[9,2,9,3],[9,5,9,6],[9,8,9,9],[4,0,4,3],[5,0,5,3],[6,0,6,6],[8,2,8,3],[8,5,8,6],[2,7,3,7]]}
["MEC",null,null,"CENSO EDUCACIÓN TÉCNICA Y TECNOLÓGICA"]
["Área de Investigación y Estadística"]
[]
[]
[]
["Cuadro Nº II-8.4.2"]
["INGRESADOS, MATRÍCULA  Y EGRESADOS DEL RELEVAMIENTO DE INSTITUCIONES DE FORMACIÓN TÉCNICO-PROFESIONAL SEGÚN REGIÓN Y ÁREAS DE CONOCIMIENTO. AÑO 2015."]
[]
["REGIÓN/AREAS DE CONOCIMENTO",null,"INGRESO",null,null,"MATRÍCULA",null,null,"EGRESO"]
[null,"TOTAL","SEXO",null,"TOTAL","SEXO",null,"TOTAL","SEXO"]
[null,null,"M","F",null,"M","F",null,"M","F"]
["MONTEVIDEO",{"$f":"SUM(B13:B35)","v":60646},{"$f":"SUM(C13:C35)","v":29320},31326,68293,32771.000000000007,35522.000000000007,43421.000000000007,21280,22141]
["ADMINISTRACION -COMERCIALIZACION",5154.9999999999982,2149.9999999999982,3004.9999999999991,5275.9999999999991,2207.0000000000005,3068.9999999999995,4262.9999999999991,1704.0000000000005,2559.0000000000005]
["AERONÁUTICA",325,258,67,325,257,68,249,195,54]
["AGRARIA",461,187,274,528,237.00000000000003,290.99999999999994,217.99999999999997,70,148]
["ARTES-ARTESANIAS",2158,482.00000000000011,1675.9999999999998,2263,529,1733.9999999999995,736.00000000000023,227.00000000000003,509.00000000000017]
["COMUNICACIONES",1069,546.00000000000011,523,1104,562,541.99999999999977,788,414.99999999999994,373]
["CONSTRUCCION -ARQUITECTURA",1339,830.00000000000023,509.00000000000006,1355.9999999999998,836.00000000000034,520,895.00000000000023,585.99999999999989,309.00000000000006]
["DEPORTES Y AFINES",678,394.00000000000006,284,723,423,299.99999999999994,485.99999999999994,201.00000000000006,285]
["DISEÑOS",1306.9999999999998,657,650,1540,830.99999999999989,709,973,517,455.99999999999994]
["ELECTROTECNIA Y ELECTRONICA",259,235.99999999999997,23,269,239.99999999999997,29,181,167,14]
["GASTRONOMIA",2000.0000000000005,626.99999999999989,1372.9999999999998,2085,621,1464.0000000000002,1526.0000000000002,439,1086.9999999999998," "]
["GRAFICOS",21,15,6,21,15,6,20,15,5]
["HOTELERIA Y TURISMO",334,117,217,334,118,216,252,83.999999999999986,167.99999999999997]
["IDIOMAS",8933.0000000000109,3977.0000000000005,4956.0000000000009,11553.000000000015,5358.0000000000009,6195.0000000000018,6169,2540.9999999999964,3627.9999999999964]
["INFORMATICA",3931.0000000000014,1924.0000000000005,2007,4312,2067.0000000000005,2245.0000000000005,3141,1495.9999999999998,1645.0000000000005]
["MARITIMA",3696.0000000000005,2975.0000000000005,721,3696.0000000000005,2975.0000000000005,721,3183.0000000000018,2587.0000000000023,596]
["METAL-MECANICA",827.00000000000011,825,2.0000000000000004,827.00000000000011,825,2.0000000000000004,671,669,2.0000000000000004]
["LÚDICA",58,0,58,58,0,58,0,0,0]
["SALUD SEGURIDAD E HIGIENE",5052,1609.9999999999995,3441.9999999999991,5224.0000000000009,1618.0000000000005,3606.0000000000009,3947.9999999999991,1380.0000000000002,2568.0000000000009]
["SEGURIDAD Y DEFENSA",2831.0000000000014,2060.9999999999995,770.00000000000011,2848,2069.0000000000005,779.00000000000011,2668.9999999999982,1980.0000000000009,689]
["SERVICIOS PERSONALES -ESTETICA",1719.9999999999995,141,1578.9999999999998,1785.0000000000002,126.99999999999996,1657.9999999999993,1505.0000000000007,95.999999999999972,1408.9999999999995]
["TECNOLÓGICA",222.00000000000003,185.99999999999997,36,242,202,40,191,155,36]
["VESTIMENTA",418,251.99999999999991,166,418,251.99999999999991,166,237.99999999999997,35.000000000000007,202.99999999999997]
["OTROS",17851.999999999993,8870.0000000000036,8981.9999999999982,21505.999999999993,10402.000000000002,11104.000000000002,11119.000000000005,5720.9999999999982,5398.0000000000018]
["REGIÓN SUR",13354,{"$f":"SUM(C37:C54)","v":6304.9999999999982},7049.0000000000018,14639.000000000002,6849,7789.9999999999982,11069,5345.0000000000009,5724.0000000000009]
["ADMINISTRACION -COMERCIALIZACION",775,239,536,798.99999999999989,253.99999999999997,544.99999999999989,562.00000000000011,194,367.99999999999994]
["AERONÁUTICA",131,116,15,131,116,15,107,95,12]
["AGRARIA",248,183.99999999999997,63.999999999999993,248,183.99999999999997,63.999999999999993,193,141,51.999999999999993]
["ARTES-ARTESANIAS",28,10,18,134,47,87,51.999999999999993,10,42]
["COMUNICACIONES",25,3,22,25,3,22,13,0,13]
["CONSTRUCCION -ARQUITECTURA",87,51,36,87,51,36,85,49.999999999999993,35]
["DEPORTES Y AFINES",565,245,320,575,251.99999999999994,323,60,50,10]
["DISEÑOS",225,103,122,242,118,123.99999999999999,188,94,94]
["ELECTROTECNIA Y ELECTRONICA",52,49,3,52,49,3,52,49,3]
["GASTRONOMIA",175,143,32,175,143,32,83,58,25]
["HOTELERIA Y TURISMO",126,56,70,126,56,70,101,41,60]
["IDIOMAS",5965,2925.9999999999991,3039.0000000000018,6654.0000000000018,3259.9999999999991,3393.9999999999982,5616,2778.0000000000014,2838.0000000000009]
["INFORMATICA",987.99999999999989,505.99999999999983,481.99999999999972,1028.9999999999998,513.99999999999989,515.00000000000011,804.00000000000011,387,417.00000000000017]
["METAL-MECANICA",91,90,1,91,90,1,81,80,1]
["SALUD SEGURIDAD E HIGIENE",1239.0000000000005,150.00000000000006,1089,1490.0000000000002,191.00000000000003,1299.0000000000002,817.99999999999989,79.999999999999972,737.99999999999989]
["SERVICIOS PERSONALES -ESTETICA",2,0,2,2,0,2,0,0,0]
["TECNOLÓGICA",26,25,1,36,35,1,8,8,0]
["OTROS",2606.0000000000005,1408.9999999999995,1196.9999999999998,2742.9999999999995,1486.0000000000005,1256.9999999999995,2246,1229.9999999999998,1015.9999999999999]
["REGIÓN ESTE",1218,{"$f":"SUM(C56:C62)","v":493},725,1553,589,964,1016,400.00000000000006,616]
["ADMINISTRACION -COMERCIALIZACION",178,57.000000000000007,121,178,57.000000000000007,121,84.000000000000014,10,74.000000000000014]
["AGRARIA",101,54,47,101,54,47,73,36,37]
["ARTES-ARTESANIAS",44,23,21,44,23,21,0,0,0]
["CONSTRUCCION -ARQUITECTURA",4,4,0,4,4,0,4,4,0]
["IDIOMAS",211,93.000000000000014,118,353,143.00000000000003,210,280,114.00000000000003,166]
["SALUD SEGURIDAD E HIGIENE",224,21,203,346,32,314,158.99999999999997,7,152]
["OTROS",456,240.99999999999997,214.99999999999997,527,276,250.99999999999997,415.99999999999994,229.00000000000003,187]
["REGIÓN CENTRAL",3904,{"$f":"SUM(C64:C70)","v":1540},2364,3935.9999999999991,1542,2394.0000000000005,2189.0000000000005,959.00000000000011,1230]
["AGRARIA",40,14,26,40,14,26,36,13,23]
["ARTES-ARTESANIAS",22,4,18,22,4,18,22,4,18]
["CONSTRUCCION -ARQUITECTURA",41,12,29,41,12,29,34,9,25]
["IDIOMAS",1970.0000000000005,845.00000000000011,1125,2001.9999999999993,851.00000000000011,1151.0000000000005,866.00000000000034,402.00000000000011,463.99999999999989]
["INFORMATICA",286.00000000000006,122.00000000000001,163.99999999999997,286.00000000000006,122.00000000000001,163.99999999999997,269.00000000000006,112.00000000000001,157]
["SALUD SEGURIDAD E HIGIENE",389,56,333,388.99999999999994,53.999999999999993,335,82,12,70]
["OTROS",1156,486.99999999999994,669,1156,484.99999999999994,671,880.00000000000011,407,473.00000000000011]
["REGIÓN LITORAL",6704,{"$f":"SUM(C72:C82)","v":3915.9999999999995},2788,7696.9999999999991,4163,3533.9999999999995,6047,3723.0000000000005,2324]
["ADMINISTRACION -COMERCIALIZACION",365.99999999999989,145,220.99999999999997,365.99999999999989,144,221.99999999999997,288.99999999999994,111.00000000000003,178," "]
["AGRARIA",85,44,41,85,44,41,67,34,33]
["COMUNICACIONES",72,10,62,72,10,62,66,10,56]
["DISEÑOS",27,18,9,27,18,9,21,14,7]
["ELECTROTECNIA Y ELECTRONICA",10,10,0,10,10,0,10,10,0]
["GASTRONOMIA",74,21,53,74,21,53,74,21,53]
["IDIOMAS",1144.9999999999998,533,611.99999999999989,1391.9999999999998,623.00000000000011,768.99999999999966,1261.9999999999998,567,695.00000000000011,null," "]
["INFORMATICA",770.00000000000023,400.00000000000011,370.00000000000011,1131.9999999999998,547.99999999999966,584,569,296,273]
["METAL-MECANICA",18,18,0,18,18,0,13,13,0]
["SALUD SEGURIDAD E HIGIENE",3202.9999999999995,2453.9999999999995,749,3254,2463,790.99999999999989,2925.0000000000005,2406.0000000000005,518.99999999999989]
["OTROS",934.00000000000011,263,671,1267.0000000000002,264,1002.9999999999999,750.99999999999989,240.99999999999997,509.99999999999994]
["REGIÓN NORTE",4029,{"$f":"SUM(C84:C89)","v":1770.0000000000005},2259,4378,1889,2489,3789.9999999999986,1657,2133]
["ADMINISTRACION -COMERCIALIZACION",75,23,52,75,23,52,63,20,43]
["AGRARIA",41,29,12,41,29,12,37,26,11]
["IDIOMAS",2090.9999999999991,957.00000000000034,1134.0000000000002,2400,1070,1330,1891.9999999999986,861.99999999999989,1029.9999999999998]
["INFORMATICA",117,46,71,125,48.999999999999993,76,118,44,74]
["SALUD SEGURIDAD E HIGIENE",215,30,185,217,32,185,172,20,152]
["OTROS",1490.0000000000002,685,805,1520,686,834,1508,685,823]
["Fuente: Elaboración propia en base a la información del Relevamiento de Instituciones de Formación Técnico-Profesional. Realizado por el Área de Investigación y Estadística."]
["Nota: Región Sur: Canelones, Colonia, Maldonado y San José"]
["Región Este: Lavalleja, Rocha y Treinta y Tres"]
["Región Central: Durazno, Florida y Tacuarembó"]
["Región Litoral: Flores, Paysandú, Río Negro, Salto y Soriano"]
["Región Norte: Artigas, Cerro Largo y Rivera"]

{"sheet":"CONTROL","index":111,"n_rows":10,"n_cols":4,"rows_kept":10,"cut":false,"hidden":true,"merged":[]}
[null,"PRIMER CUADRO","SEGUNDO CUADRO"]
["MATRÍCULA","II-1.2.1","II-1.2.2",{"$f":"IF(#REF!, \"OK\", \"INCONSISTENCIA\")","v":{"$error":"#REF!"}}]
["MATRÍCULA","II-1.2.1","II-1.2.3",{"$f":"IF(#REF!=#REF!, \"OK\", \"INCONSISTENCIA\")","v":{"$error":"#REF!"}}]
["MATRÍCULA","II-1.2.1","II-1.2.5",{"$f":"IF(#REF!=#REF!, \"OK\", \"INCONSISTENCIA\")","v":{"$error":"#REF!"}}]
["MATRÍCULA","II-1.2.1","II-1.2.6",{"$f":"IF(#REF!=#REF!,\"OK\",\"INCONSISTENCIA\")","v":{"$error":"#REF!"}}]
["MATRÍCULA","II-1.2.4","II-1.2.5",{"$f":"IF(#REF!, \"OK\", \"INCONSISTENCIA\")","v":{"$error":"#REF!"}}]
["MATRÍCULA","II-1.2.4","II-1.2.6",{"$f":"IF(#REF!=#REF!, \"OK\", \"INCONSISTENCIA\")","v":{"$error":"#REF!"}}]
["MATRÍCULA","II-1.2.5","II-1.2.6",{"$f":"IF(#REF!=#REF!,\"OK\",\"INCONSISTENCIA\")","v":{"$error":"#REF!"}}]
["MATRÍCULA","II-1.2.5","II-1.2.7",{"$f":"IF(#REF! =#REF!, \"OK\", \"INCONSISTENCIA\")","v":{"$error":"#REF!"}}]
["PERSONAL","II-1.3.3","II-1.3.4",{"$f":"IF(#REF! =#REF!, \"OK\", \"INCONSISTENCIA\")","v":{"$error":"#REF!"}}]

{"sheet":"CONTROL ","index":112,"n_rows":23,"n_cols":11,"rows_kept":23,"cut":false,"hidden":true,"merged":[[0,0,0,5],[0,6,0,9]]}
["DENTRO DE PRIMARIA",null,null,null,null,null,"EN SINOPSIS"]
[null,"PRIMER CUADRO","SEGUNDO CUADRO","TERCER CUADRO",null,"Aclaración. ","PRIMER CUADRO","SEGUNDO CUADRO","TERCER CUADRO"]
["ESTABLEC.","II-2.1.1"," II-2.1.2 ",null,{"$f":"IF(SUM(#REF!+#REF!+#REF!+#REF!+#REF! +#REF! =#REF!),\"OK\",\"INCONSISTENCIA\")","v":{"$error":"#REF!"}}]
["ESTABLEC.","II-2.1.1","II-2.1.4",null,{"$f":"IF(#REF!=#REF!,\"OK\",\"INCONSISTENCIA\")","v":{"$error":"#REF!"}}]
["ESTABLEC.","II-2.1.1","II-2.1.4",null,{"$f":"IF(#REF!=#REF!,\"OK\",\"INCONSISTENCIA\")","v":{"$error":"#REF!"}},{"$f":"IF(E5=\"INCONSISTENCIA\",\"Número de establecimiento de especial\",\"\")","v":{"$error":"#REF!"}}]
["MATRÍCULA","II-2.2.1","II-2.2.2",null,{"$f":"IF(#REF!=#REF!,\"OK\",\"INCONSISTENCIA\")","v":{"$error":"#REF!"}},{"$f":"IF(E6=\"INCONSISTENCIA\",\"Matrícula de Primaria Pública\",\"\")","v":{"$error":"#REF!"}},null,null,null,{"$f":"IF((#REF!+#REF!)=#REF!,\"OK\",\"INCONSISTENCIA\")","v":{"$error":"#REF!"}},{"$f":"IF(J6=\"INCONSISTENCIA\",\"Matrícula de Primaria Pública\",\"\")","v":{"$error":"#REF!"}}]
["MATRÍCULA","II-2.2.2","II-2.2.3",null,{"$f":"IF(#REF!=SUM(#REF!-#REF!),\"OK\",\"INCONSISTENCIA\")","v":{"$error":"#REF!"}},null,null,null,null,{"$f":"IF((#REF!+#REF!)=#REF!,\"OK\",\"INCONSISTENCIA\")","v":{"$error":"#REF!"}}]
["MATRÍCULA","II-2.2.2","II-2.2.8",null,{"$f":"IF(#REF!=#REF!,\"OK\",\"INCONSISTENCIA\")","v":{"$error":"#REF!"}}]
["MATRÍCULA","II-2.2.1","II-2.2.6",null,{"$f":"IF(#REF!=#REF!,\"OK\",\"INCONSISTENCIA\")","v":{"$error":"#REF!"}}]
["MATRÍCULA","II-2.2.2","II-2.2.8",null,{"$f":"IF(#REF!=#REF!,\"OK\",\"INCONSISTENCIA\")","v":{"$error":"#REF!"}}]
["MATRÍCULA","II-2.2.1","II-2.2.8",null,{"$f":"IF(#REF!=#REF!,\"OK\",\"INCONSISTENCIA\")","v":{"$error":"#REF!"}}]
["MATRÍCULA","II-2.2.2","II-2.2.9",null,{"$f":"IF(#REF!=#REF!,\"OK\",\"INCONSISTENCIA\")","v":{"$error":"#REF!"}}]
["MATRÍCULA","II-2.2.1","II-2.2.10",null,{"$f":"IF(#REF!=#REF!,\"OK\",\"INCONSISTENCIA\")","v":{"$error":"#REF!"}}]
["MATRÍCULA","II-2.2.2","II-2.2.11",null,{"$f":"IF(#REF!=#REF!,\"OK\",\"INCONSISTENCIA\")","v":{"$error":"#REF!"}}]
["MATRÍCULA","II-2.2.1","II-2.2.11",null,{"$f":"IF(#REF!=#REF!,\"OK\",\"INCONSISTENCIA\")","v":{"$error":"#REF!"}}]
["MATRÍCULA","II-2.2.12","II-2.2.13",null,{"$f":"IF(#REF!=#REF!,\"OK\",\"INCONSISTENCIA\")","v":{"$error":"#REF!"}}]
["MATRÍCULA","II-2.2.10","II-2.2.12",null,{"$f":"IF(#REF!=#REF!,\"OK\",\"INCONSISTENCIA\")","v":{"$error":"#REF!"}}]
["MATRÍCULA","II-2.2.12","II-2.2.13",null,{"$f":"IF(#REF!=#REF!,\"OK\",\"INCONSISTENCIA\")","v":{"$error":"#REF!"}}]
["MATRÍCULA","II-2.2.13","II-2.2.14",null,{"$f":"IF(#REF!=#REF!,\"OK\",\"INCONSISTENCIA\")","v":{"$error":"#REF!"}}]
["MATRÍCULA","II-2.2.13","II-2.2.14",null,{"$f":"IF(#REF!=#REF!,\"OK\",\"INCONSISTENCIA\")","v":{"$error":"#REF!"}}]
["MATRÍCULA","II-2.2.1","II-2.2.15",null,{"$f":"IF(#REF!=#REF!+#REF!,\"OK\",\"INCONSISTENCIA\")","v":{"$error":"#REF!"}}]
["MATRÍCULA","II-2.2.16","II-2.2.17",null,{"$f":"IF(#REF!=#REF!,\"OK\",\"INCONSISTENCIA\")","v":{"$error":"#REF!"}}]
["MATRÍCULA","II-2.2.1","II-2.2.18",null,{"$f":"IF(#REF!=#REF!,\"OK\",\"INCONSISTENCIA\")","v":{"$error":"#REF!"}}]

{"sheet":"CONTROL Media Básica","index":113,"n_rows":15,"n_cols":4,"rows_kept":15,"cut":false,"hidden":true,"merged":[]}
[null,"PRIMER CUADRO","SEGUNDO CUADRO"]
["MATRÍCULA","II-3.2.1","II-3.2.4",{"$f":"IF('II-3.2.1'!C10 ='II-3.2.4'!B11, \"OK\", \"INCONSISTENCIA\")","v":"OK"}]
["MATRÍCULA","II-3.2.1","II-3.2.4",{"$f":"IF('II-3.2.1'!D10 = 'II-3.2.4'!D11, \"OK\", \"INCONSISTENCIA\")","v":"OK"}]
["MATRÍCULA","II-3.2.1","II-3.2.4",{"$f":"IF('II-3.2.1'!E10 = 'II-3.2.4'!F11, \"OK\", \"INCONSISTENCIA\")","v":"OK"}]
["MATRÍCULA","II-3.2.1","II-3.2.4",{"$f":"IF('II-3.2.1'!C13 = 'II-3.2.4'!C11, \"OK\", \"INCONSISTENCIA\")","v":"OK"}]
["MATRÍCULA","II-3.2.1","II-3.2.4",{"$f":"IF('II-3.2.1'!D13 = 'II-3.2.4'!E11, \"OK\", \"INCONSISTENCIA\")","v":"OK"}]
["MATRÍCULA","II-3.2.1","II-3.2.4",{"$f":"IF('II-3.2.1'!E13 = 'II-3.2.4'!G11, \"OK\", \"INCONSISTENCIA\")","v":"OK"}]
["MATRÍCULA","II-3.2.2","II-3.2.5",{"$f":"IF('[1]II-3.2.2'!C14='II-3.2.7'!F9, \"OK\", \"INCONSISTENCIA\")","v":"INCONSISTENCIA"}]
["MATRÍCULA","II-3.2.2","II-3.2.5",{"$f":"IF('[1]II-3.2.2'!F14='II-3.2.7'!C9, \"OK\", \"INCONSISTENCIA\")","v":"INCONSISTENCIA"}]
["MATRÍCULA","II-3.2.2","II-3.2.5",{"$f":"IF('[1]II-3.2.2'!I14='II-3.2.7'!D9, \"OK\", \"INCONSISTENCIA\")","v":"INCONSISTENCIA"}]
["MATRÍCULA","II-3.2.2","II-3.2.5",{"$f":"IF('[1]II-3.2.2'!L14='II-3.2.7'!E9, \"OK\", \"INCONSISTENCIA\")","v":"INCONSISTENCIA"}]
["MATRÍCULA","II-3.2.5","II-3.2.6",{"$f":"IF('II-3.2.7'!C9='II-3.2.8 '!E10, \"OK\", \"INCONSISTENCIA\")","v":"INCONSISTENCIA"}]
["MATRÍCULA","II-3.2.5","II-3.2.6",{"$f":"IF('II-3.2.7'!D9='II-3.2.8 '!C10, \"OK\", \"INCONSISTENCIA\")","v":"INCONSISTENCIA"}]
["MATRÍCULA","II-3.2.5","II-3.2.6",{"$f":"IF('II-3.2.7'!E9='II-3.2.8 '!D10, \"OK\", \"INCONSISTENCIA\")","v":"INCONSISTENCIA"}]
["MATRÍCULA","II-3.2.5","II-3.2.6",{"$f":"IF('II-3.2.7'!F9='II-3.2.8 '!F10, \"OK\", \"INCONSISTENCIA\")","v":"OK"}]

{"sheet":"CONTROL Media Superior","index":114,"n_rows":21,"n_cols":4,"rows_kept":21,"cut":false,"hidden":true,"merged":[]}
[null,"PRIMER CUADRO","SEGUNDO CUADRO"]
["MATRÍCULA","II-4.2.1","II-4.2.5",{"$f":"IF('II-4.2.1'!C10='II-4.2.5'!B10, \"OK\", \"INCONSISTENCIA\")","v":"OK"}]
["MATRÍCULA","II-4.2.1","II-4.2.5",{"$f":"IF('II-4.2.1'!D10='II-4.2.5'!D10,\"OK\",\"INCONSISTENCIA\")","v":"OK"}]
["MATRÍCULA","II-4.2.1","II-4.2.5",{"$f":"IF('II-4.2.1'!E10='II-4.2.5'!F10, \"OK\", \"INCONSISTENCIA\")","v":"OK"}]
["MATRÍCULA","II-4.2.1","II-4.2.5",{"$f":"IF('II-4.2.1'!C13='II-4.2.5'!C10, \"OK\", \"INCONSISTENCIA\")","v":"OK"}]
["MATRÍCULA","II-4.2.1","II-4.2.5",{"$f":"IF('II-4.2.1'!D13='II-4.2.5'!E10, \"OK\", \"INCONSISTENCIA\")","v":"OK"}]
["MATRÍCULA","II-4.2.1","II-4.2.5",{"$f":"IF('II-4.2.1'!E13='II-4.2.5'!G10, \"OK\", \"INCONSISTENCIA\")","v":"OK"}]
["MATRÍCULA","II-4.2.3","II-4.2.4",{"$f":"IF('II-4.2.3 '!C10='II-4.2.4 '!C8, \"OK\", \"INCONSISTENCIA\")","v":"OK"}]
["MATRÍCULA","II-4.2.3","II-4.2.4",{"$f":"IF('II-4.2.3 '!E10='II-4.2.4 '!D8, \"OK\", \"INCONSISTENCIA\")","v":"INCONSISTENCIA"}]
["MATRÍCULA","II-4.2.3","II-4.2.4",{"$f":"IF('II-4.2.3 '!F10='II-4.2.4 '!E8, \"OK\", \"INCONSISTENCIA\")","v":"INCONSISTENCIA"}]
["MATRÍCULA","II-4.2.3","II-4.2.4",{"$f":"IF('II-4.2.3 '!I10='II-4.2.4 '!H8, \"OK\", \"INCONSISTENCIA\")","v":"INCONSISTENCIA"}]
["MATRÍCULA","II-4.2.3","II-4.2.4",{"$f":"IF('II-4.2.3 '!K10='II-4.2.4 '!I8, \"OK\", \"INCONSISTENCIA\")","v":"INCONSISTENCIA"}]
["MATRÍCULA","II-4.2.1","II-4.2.6",{"$f":"IF('II-4.2.1'!D9=#REF!, \"OK\", \"INCONSISTENCIA\")","v":{"$error":"#REF!"}}]
["MATRÍCULA","II-4.2.5","II-4.2.9",{"$f":"IF('II-4.2.5'!F10=#REF!, \"OK\", \"INCONSISTENCIA\")","v":{"$error":"#REF!"}}]
["MATRÍCULA","II-4.2.5","II-4.2.9",{"$f":"IF('II-4.2.5'!G10=#REF!, \"OK\", \"INCONSISTENCIA\")","v":{"$error":"#REF!"}}]
["MATRÍCULA","II-4.2.6","II-4.2.7",{"$f":"IF(#REF!='II-4.2.6'!B11, \"OK\", \"INCONSISTENCIA\")","v":{"$error":"#REF!"}}]
["MATRÍCULA","II-4.2.6","II-4.2.8",{"$f":"IF(#REF!='II-4.2.7'!B13, \"OK\", \"INCONSISTENCIA\")","v":{"$error":"#REF!"}}]
["MATRÍCULA","II-4.2.9","II-4.2.10",{"$f":"IF(#REF!='II-4.2.8'!B12, \"OK\", \"INCONSISTENCIA\")","v":{"$error":"#REF!"}}]
["MATRÍCULA","II-4.2.9","II-4.2.10",{"$f":"IF(#REF!='II-4.2.8'!B13,\"OK\",\"INCONSISTENCIA\")","v":{"$error":"#REF!"}}]
["MATRÍCULA","II-4.2.9","II-4.2.10",{"$f":"IF(#REF!='II-4.2.8'!B14,\"OK\",\"INCONSISTENCIA\")","v":{"$error":"#REF!"}}]
["MATRÍCULA","II-4.2.9","II-4.2.11",{"$f":"IF(#REF!='II-4.2.9'!B8, \"OK\", \"INCONSISTENCIA\")","v":{"$error":"#REF!"}}]